{"text_format":"1","workbook":"xlsx","n_sheets":14,"sheets":["ASP Instructions","Contracting Instructions","Role Lookup","Form","Source","LMS_Users_H_Import","LMS_H_PersonalInfo_Import","LMS_Users_P_Import","LMS_P_PersonalInfo_Import","LMS Training Import","Ausgrid Training","CurriculaAssignment_Import","LearningEvent_Import","DeNormalise"],"not_rendered":{"charts":0,"images":1,"macros":1,"external_links":1,"defined_names":54,"comments":3,"pivot_tables":0},"unopened":[],"bounds":{"document_bytes":16777216,"sheet_cells":100000,"rows_first":2000,"rows_last":500,"rows_between":2000,"halvings":0,"cell_chars":16384,"cell_head_chars":4096},"cells_cut":0,"cells_raw":0,"read":"whole","date_system":"1900"}

{"sheet":"ASP Instructions","index":0,"n_rows":31,"n_cols":4,"rows_kept":31,"cut":false,"hidden":false,"merged":[[26,3,26,9],[27,3,27,9],[28,3,28,9],[29,3,29,9],[30,3,30,9],[25,3,25,9],[14,0,14,9],[15,3,15,9],[16,3,16,9],[17,3,17,9],[18,3,18,9],[19,3,19,9],[20,3,20,9],[21,3,21,9],[22,3,22,9],[23,3,23,9],[24,3,24,9],[12,1,12,9],[0,0,0,9],[1,0,1,9],[3,0,3,9],[4,0,4,9],[5,0,5,9],[6,0,6,9],[7,0,7,9],[8,1,8,9],[9,1,9,9],[10,1,10,9],[11,1,11,9]]}
[]
["Ausgrid Course Registration Instructions"]
[]
["Purpose of this Spreadsheet"]
["This spreadsheet is to be used to request and book training. For any questions or concerns, please contact Ausgrid Training via training@ausgrid.com.au"]
["Legal Statement - PLEASE READ"]
["All requirements for training and conditions for scheduling training are specified in your short term contract terms and conditions."]
["Instructions"]
[1,"Review the training that Ausgrid offers for each role on the 'Role Lookup' tab"]
[2,"Fill in your Company Name at the top of the form"]
[3,"To book training, use the \"Form\" tab. \nFill in the relevant details for each course and each person. If you are requesting multiple courses, you will need to complete a separate line per requested course.  The information provided will allow us to set-up system access to allow contractors to complete any online module requirements for the relevant courses and training to be recorded."]
[4,"Confirm participants details by sighting each person's photoID (drivers licence or passport)"]
[5,"Save a copy of the spreadsheet and Send it via email to: training@ausgrid.com.au."]
[]
["Field Descriptions"]
[1,"Course Required","Mandatory","Use the drop down menu to specify the training that you are requesting."]
[2,"Training Location","Mandatory","Use the drop down menu to pecify whether the training is to be at our Wallsend or Silverwater locations."]
[3,"Start Date","Mandatory","Specify the final date that training must be completed."]
[4,"'H' Number \nif available",null,"If training has been previously completed at Ausgrid, and has an Ausgrid Induction card or passport, please specify their existing H numbers. Leave blank if this is a first time training request"]
[5,"'Valid To' Date\nif available",null,"Please specify the date the Induction card is valid to. It must be formatted dd/mm/yyyy."]
[6,"Pegasus Number\nif available",null,"If an individual is registered in Pegasus, please provide their Pegasus ID number. Please note: the Pegasus ID is used to provide system access to allow the individual to complete training"]
[7,"First Name","Mandatory","Must be the name as it appears on their driver's licence"]
[8,"Last Name","Mandatory","Must be the name as it appears on their driver's licence"]
[9,"Middle Initial",null,"Must be the middle initial as it appears on their driver's licence"]
[10,"Gender",null,"Use the drop down menu to specify M/F"]
[11,"Date of Birth","Mandatory","Specify the DOB as dd/mm/yyyy format"]
[12,"Contact Email Address","Mandatory","Specify the individual's email address. System access notifications will be sent to the address specified"]
[13,"Contact Phone Number",null,"Specify the individual's phone number."]
[14,"Prerequisite 1:\nFirst Aid.Statement of Attainment.HLTAID001 - Perform CPR","Mandatory (if red)","If this is required as a pre-requisite to attend Ausgrid training, please specify the last date attained for the relevant qualification. "]
[15,"Prerequisite 2:\nElectrical.Statement of Attainment.UETTDRRF06 - Perform rescue from a live LV panel","Mandatory (if red)","If this is required as a pre-requisite to attend Ausgrid training, please specify the last date attained for the relevant qualification. "]
[16,"Prerequisite 3:\nElectrical.Statement of Attainment.UETTDRRF10 - First Aid in an ESI Environment","Mandatory (if red)","If this is required as a pre-requisite to attend Ausgrid training, please specify the last date attained for the relevant qualification. "]

{"sheet":"Contracting Instructions","index":1,"n_rows":31,"n_cols":4,"rows_kept":31,"cut":false,"hidden":true,"merged":[[24,3,24,9],[21,3,21,9],[30,3,30,9],[8,1,8,9],[26,3,26,9],[25,3,25,9],[14,0,14,9],[5,0,5,9],[6,0,6,9],[10,1,10,9],[11,1,11,9],[12,1,12,9],[9,1,9,9],[0,0,0,9],[7,0,7,9],[27,3,27,9],[28,3,28,9],[29,3,29,9],[15,3,15,9],[16,3,16,9],[17,3,17,9],[18,3,18,9],[19,3,19,9],[20,3,20,9],[23,3,23,9],[22,3,22,9],[3,0,3,9],[4,0,4,9],[1,0,1,9]]}
[]
["Ausgrid Course Registration Instructions"]
[]
["Purpose of this Spreadsheet"]
["This spreadsheet is to be used to request training for your contractors. For any questions of concerns, please contact Ausgrid Training via training@ausgrid.com.au"]
["Legal Statement - PLEASE READ"]
["All a) requirements for training and b) conditions for scheduling training are specified in your short term contract terms and conditions."]
["Instructions"]
[1,"Review the training that Ausgrid offers for each role on the 'Role Lookup' tab."]
[2,"Please fill in your Company Name at the top of the Form tab."]
[3,"To book training, use the \"Form\" tab. \nFill in the relevant details for each course and each person. If you are requesting multiple courses, you will need to complete a separate line per requested course.  The information provided will allow us to set-up system access to allow contractors to complete any online module requirements for the relevant courses and training to be recorded.\n\nContractor Induction\nContractors will no longer need to attend our Learning Centres to complete the Ausgrid Induction training. An online induction module will be automatically made available to all contractors who have not previously completed the induction, or who have not completed it within the last 3 years. If only Induction is needed, please specify \"Contractor Induction Only\". Otherwise, there is no need to specify Induction."]
[4,"Confirmation of the contractor's personal details, including prior pre-requisite training, is the responsibility of the contracting company."]
[5,"Save a copy of the spreadsheet and Send it via email to: training@ausgrid.com.au."]
[]
["Field Descriptions"]
[1,"Course Required","Mandatory","Use the drop down menu to specify the training that you are requesting."]
[2,"Training Location","Mandatory","Use the drop down menu to pecify whether the training is to be at our Wallsend or Silverwater locations."]
[3,"Start Date","Mandatory","Specify the final date that training must be completed."]
[4,"'H' Number \nif available",null,"If training has been previously completed at Ausgrid, and has an Ausgrid Induction card or passport, please specify their existing H numbers. Leave blank if this is a first time training request"]
[5,"'Valid To' Date\nif available",null,"Please specify the date the Induction card is valid to. It must be formatted dd/mm/yyyy."]
[6,"Pegasus Number\nif available",null,"If an individual is registered in Pegasus, please provide their Pegasus ID number. Please note: the Pegasus ID is used to provide system access to allow the individual to complete training"]
[7,"First Name","Mandatory","Must be the name as it appears on their driver's licence"]
[8,"Last Name","Mandatory","Must be the name as it appears on their driver's licence"]
[9,"Middle Initial",null,"Must be the middle initial as it appears on their driver's licence"]
[10,"Gender",null,"Use the drop down menu to specify M/F"]
[11,"Date of Birth","Mandatory","Specify the DOB as dd/mm/yyyy format"]
[12,"Contact Email Address","Mandatory","Specify the individual's email address. System access notifications will be sent to the address specified"]
[13,"Contact Phone Number",null,"Specify the individual's phone number."]
[14,"Prerequisite 1:\nFirst Aid.Statement of Attainment.HLTAID001 - Perform CPR","Mandatory (if red)","If this is required as a pre-requisite to attend Ausgrid training, please specify the last date attained for the relevant qualification. "]
[15,"Prerequisite 2:\nElectrical.Statement of Attainment.UETTDRRF06 - Perform rescue from a live LV panel","Mandatory (if red)","If this is required as a pre-requisite to attend Ausgrid training, please specify the last date attained for the relevant qualification. "]
[16,"Prerequisite 3:\nElectrical.Statement of Attainment.UETTDRRF10 - First Aid in an ESI Environment","Mandatory (if red)","If this is required as a pre-requisite to attend Ausgrid training, please specify the last date attained for the relevant qualification. "]

{"sheet":"Role Lookup","index":2,"n_rows":18,"n_cols":4,"rows_kept":18,"cut":false,"hidden":false,"merged":[[11,2,11,3],[12,1,14,1]]}
[]
[]
[]
[]
[]
[]
[]
[]
[null,null,"Pick a Role"]
[]
[]
[null,null,"General Role Information"]
[null,"Complete List of Role-based Training Units","Ausgrid Provided Training",{"$f":"(IF(ISBLANK(D9),\"\",VLOOKUP($D$9,'Ausgrid Training'!$A$1:$EA$129,131,FALSE)))","v":""}]
[null,null,"Training Prerequisites",{"$f":"(IF(ISBLANK(D9),\"\",VLOOKUP($D$9,'Ausgrid Training'!$A$1:$EA$129,129,FALSE)))","v":""}]
[null,null,"Other Required Competencies",{"$f":"(IF(ISBLANK(D9),\"\",VLOOKUP(D9,'Ausgrid Training'!$A$1:$DZ$6,127)))","v":""}]
[null,null,null,{"$f":"IF(ISBLANK(#REF!),VLOOKUP(D$9,'Ausgrid Training'!$A$1:$DY$6,2),\"\")","v":""}]
[null,null,null,{"$f":"IF(ISBLANK(#REF!),VLOOKUP(D$9,'Ausgrid Training'!$A$1:$DY$6,3),\"\")","v":""}]
[null,null,null,{"$f":"IF(ISBLANK(#REF!),VLOOKUP(D$9,'Ausgrid Training'!$A$1:$DY$6,4),\"\")","v":""}]

{"sheet":"Form","index":3,"n_rows":54,"n_cols":21,"rows_kept":54,"cut":false,"hidden":false,"merged":[[2,16,2,18],[1,16,1,18],[1,4,1,5],[1,9,1,11]]}
[]
[null,null,null,"Contracting Company Name",null,null,null,"Do any of the listed contractors require LLN assistance?",null,"If Yes, we will contact you to make appropriate arrangements",null,null,null,null,null,null,"For all electrical safety or substation entry requests a Date of Attainment MUST be provided"]
["H count","P count",null,"Mandatory","Mandatory","Mandatory",null,null,null,"Mandatory","Mandatory",null,null,"Mandatory","Mandatory & Unique","Mandatory","Please provide Date of Attainment"]
[0,0,"Count","Course Required\n(Please manually enter course if not shown in list.)","Training Location\n(Pick from dropdown list)","Start Date \n(dd/mm/yyyy)","\"H\" Number \nif available  \n(See front of Ausgrid Passport)",{"$f":"CONCATENATE(IF(ContractorOrASP=\"ASP\",\"Authorisation\",\"Induction Card\"),\"'Valid To' Date\nif available\n(dd/mm/yy)\")","v":"Authorisation'Valid To' Date\nif available\n(dd/mm/yy)"},"Pegasus Number\nif available","First Name","Last Name","Middle Initial","Gender","Date of Birth (dd/mm/yyyy)","Contact Email Address","Contact                     Phone Number","Prerequisite 1:\n\nFirst Aid.Statement of Attainment.HLTAID001 - Perform CPR\n(dd/mm/yyyy)","Prerequisite 2:\n\nElectrical.Statement of Attainment.UETTDRRF06 - Perform rescue from a live LV panel\n(dd/mm/yyyy)","Prerequisite 3:\n\nElectrical.Statement of Attainment.UETTDRRF10 - First Aid in an ESI Environment\n(dd/mm/yyyy)","Induction Required?","PreReqs Not Required?"]
[{"$f":"IF(ISBLANK(D5),A4,IF(ISBLANK(I5),IF(ISBLANK(G5),A4+1,A4),A4))","v":0},{"$f":"IF(ISBLANK(D5),B4,IF(ISBLANK(I5),B4,B4+1))","v":0},1,null,null,null,null,null,null,null,null,null,null,null,null,null,null,null,null,{"$f":"IF(AND(ISBLANK(G5),ISBLANK(I5)),\"Yes\",IF(H5>IF(ISBLANK(F5),TODAY()+365,F5),\"No\",\"Yes\"))","v":"Yes"},{"$f":"IF(ISBLANK(D5),\"TRUE\",IF(VLOOKUP(D5,CourseListExpandedASP,5,FALSE)=\"Yes\",\"FALSE\",\"TRUE\"))","v":"TRUE"}]
[{"$f":"IF(ISBLANK(D6),A5,IF(ISBLANK(I6),IF(ISBLANK(G6),A5+1,A5),A5))","v":0},{"$f":"IF(ISBLANK(D6),B5,IF(ISBLANK(I6),B5,B5+1))","v":0},2,null,null,null,null,null,null,null,null,null,null,null,null,null,null,null,null,"Yes","TRUE"]
[0,0,3,null,null,null,null,null,null,null,null,null,null,null,null,null,null,null,null,"Yes","TRUE"]
[0,0,4,null,null,null,null,null,null,null,null,null,null,null,null,null,null,null,null,"Yes","TRUE"]
[0,0,5,null,null,null,null,null,null,null,null,null,null,null,null,null,null,null,null,"Yes","TRUE"]
[0,0,6,null,null,null,null,null,null,null,null,null,null,null,null,null,null,null,null,"Yes","TRUE"]
[0,0,7,null,null,null,null,null,null,null,null,null,null,null,null,null,null,null,null,"Yes","TRUE"]
[0,0,8,null,null,null,null,null,null,null,null,null,null,null,null,null,null,null,null,"Yes","TRUE"]
[0,0,9,null,null,null,null,null,null,null,null,null,null,null,null,null,null,null,null,"Yes","TRUE"]
[0,0,10,null,null,null,null,null,null,null,null,null,null,null,null,null,null,null,null,"Yes","TRUE"]
[0,0,11,null,null,null,null,null,null,null,null,null,null,null,null,null,null,null,null,"Yes","TRUE"]
[0,0,12,null,null,null,null,null,null,null,null,null,null,null,null,null,null,null,null,"Yes","TRUE"]
[0,0,13,null,null,null,null,null,null,null,null,null,null,null,null,null,null,null,null,"Yes","TRUE"]
[0,0,14,null,null,null,null,null,null,null,null,null,null,null,null,null,null,null,null,"Yes","TRUE"]
[0,0,15,null,null,null,null,null,null,null,null,null,null,null,null,null,null,null,null,"Yes","TRUE"]
[0,0,16,null,null,null,null,null,null,null,null,null,null,null,null,null,null,null,null,"Yes","TRUE"]
[0,0,17,null,null,null,null,null,null,null,null,null,null,null,null,null,null,null,null,"Yes","TRUE"]
[0,0,18,null,null,null,null,null,null,null,null,null,null,null,null,null,null,null,null,"Yes","TRUE"]
[0,0,19,null,null,null,null,null,null,null,null,null,null,null,null,null,null,null,null,"Yes","TRUE"]
[0,0,20,null,null,null,null,null,null,null,null,null,null,null,null,null,null,null,null,"Yes","TRUE"]
[0,0,21,null,null,null,null,null,null,null,null,null,null,null,null,null,null,null,null,"Yes","TRUE"]
[0,0,22,null,null,null,null,null,null,null,null,null,null,null,null,null,null,null,null,"Yes","TRUE"]
[0,0,23,null,null,null,null,null,null,null,null,null,null,null,null,null,null,null,null,"Yes","TRUE"]
[0,0,24,null,null,null,null,null,null,null,null,null,null,null,null,null,null,null,null,"Yes","TRUE"]
[0,0,25,null,null,null,null,null,null,null,null,null,null,null,null,null,null,null,null,"Yes","TRUE"]
[0,0,26,null,null,null,null,null,null,null,null,null,null,null,null,null,null,null,null,"Yes","TRUE"]
[0,0,27,null,null,null,null,null,null,null,null,null,null,null,null,null,null,null,null,"Yes","TRUE"]
[0,0,28,null,null,null,null,null,null,null,null,null,null,null,null,null,null,null,null,"Yes","TRUE"]
[0,0,29,null,null,null,null,null,null,null,null,null,null,null,null,null,null,null,null,"Yes","TRUE"]
[0,0,30,null,null,null,null,null,null,null,null,null,null,null,null,null,null,null,null,"Yes","TRUE"]
[0,0,31,null,null,null,null,null,null,null,null,null,null,null,null,null,null,null,null,"Yes","TRUE"]
[0,0,32,null,null,null,null,null,null,null,null,null,null,null,null,null,null,null,null,"Yes","TRUE"]
[0,0,33,null,null,null,null,null,null,null,null,null,null,null,null,null,null,null,null,"Yes",{"$f":"IF(ISBLANK(D37),\"TRUE\",IF(VLOOKUP(D37,CourseListExpandedASP,5,FALSE)=\"Yes\",\"FALSE\",\"TRUE\"))","v":"TRUE"}]
[0,0,34,null,null,null,null,null,null,null,null,null,null,null,null,null,null,null,null,"Yes","TRUE"]
[0,0,35,null,null,null,null,null,null,null,null,null,null,null,null,null,null,null,null,"Yes","TRUE"]
[0,0,36,null,null,null,null,null,null,null,null,null,null,null,null,null,null,null,null,"Yes","TRUE"]
[0,0,37,null,null,null,null,null,null,null,null,null,null,null,null,null,null,null,null,"Yes","TRUE"]
[0,0,38,null,null,null,null,null,null,null,null,null,null,null,null,null,null,null,null,"Yes","TRUE"]
[0,0,39,null,null,null,null,null,null,null,null,null,null,null,null,null,null,null,null,"Yes","TRUE"]
[0,0,40,null,null,null,null,null,null,null,null,null,null,null,null,null,null,null,null,"Yes","TRUE"]
[0,0,41,null,null,null,null,null,null,null,null,null,null,null,null,null,null,null,null,"Yes","TRUE"]
[0,0,42,null,null,null,null,null,null,null,null,null,null,null,null,null,null,null,null,"Yes","TRUE"]
[0,0,43,null,null,null,null,null,null,null,null,null,null,null,null,null,null,null,null,"Yes","TRUE"]
[0,0,44,null,null,null,null,null,null,null,null,null,null,null,null,null,null,null,null,"Yes","TRUE"]
[0,0,45,null,null,null,null,null,null,null,null,null,null,null,null,null,null,null,null,"Yes","TRUE"]
[0,0,46,null,null,null,null,null,null,null,null,null,null,null,null,null,null,null,null,"Yes","TRUE"]
[0,0,47,null,null,null,null,null,null,null,null,null,null,null,null,null,null,null,null,"Yes","TRUE"]
[0,0,48,null,null,null,null,null,null,null,null,null,null,null,null,null,null,null,null,"Yes","TRUE"]
[0,0,49,null,null,null,null,null,null,null,null,null,null,null,null,null,null,null,null,"Yes","TRUE"]
[0,0,50,null,null,null,null,null,null,null,null,null,null,null,null,null,null,null,null,{"$f":"IF(AND(ISBLANK(G54),ISBLANK(I54)),\"Yes\",IF(H54>IF(ISBLANK(F54),TODAY()+365,F54),\"No\",\"Yes\"))","v":"Yes"},"TRUE"]

{"sheet":"Source","index":4,"n_rows":45,"n_cols":14,"rows_kept":45,"cut":false,"hidden":true,"merged":[[1,5,1,10],[20,1,20,2],[4,12,4,13],[31,5,31,10]]}
[]
[null,"Training Location",null,null,null,"List of CONTRACTOR Courses",null,null,null,null,null,null,"Save Directory"]
[null,"Silverwater Learning Centre",null,null,null,"Course selected","Item 1","Item 2","Item 3","Prerequisites","Curriculum ID",null,"C:\\temp"]
[null,"Wallsend Learning Centre",null,null,1,"SI2000 - Online Contractor Induction only","SI2000","-","-","No","CICONTIND"]
[null,null,null,null,2,"SE1000 - INITIAL - Ausgrid Electrical Safety Rules + Apply Access Procedures + Environmental","SE1000","-","-","Yes","CISE1000",null,"FileNames for CSVs"]
[null,null,null,null,3,"RF0003 - REFRESHER - Ausgrid Electrical Safety Rules + Apply Access Procedures + Environmental ","RF0003","-","-","No","CRRF0003",null,"Users_H_Import","LMS_Users_H_Import.csv"]
[null,"Gender List",null,null,4,"SC1000 - INITIAL - Ausgrid Electrical Safety Rules + Apply Access Procedures + Environmental + Substation entry","SE1000","SC1000A","-","Yes","CISC1000",null,"H_PersonalInfo_Import","LMS_H_PersonalInfo_Import.csv"]
[null,"M",null,null,5,"SC1100 - INITIAL - Ausgrid Electrical Safety Rules + Apply Access Procedures + Environmental + Working Near or Around U/G Cables","SE1000","SC1100A","-","Yes","CISC1100",null,"Users_P_Import","LMS_Users_P_Import.csv"]
[null,"F",null,null,6,"SC1200 - INITIAL - Ausgrid Electrical Safety Rules + Apply Access Procedures + Environmental + Working Near or Around U/G Cables + Substation Entry","SE1000","SC1000A","SC1100A","Yes","CISC1200",null,"P_PersonalInfo_Import","LMS_P_PersonalInfo_Import.csv"]
[null,null,null,null,7,"APR0068- INITIAL - Access Permit Recipient Restricted","APR0068","-","-","No","CIAPR68",null,"CurriculaAssignment_Import","CurriculaAssignment_Import.csv"]
[null,null,null,null,8,"APR REF - REFRESHER - Access Permit Recipient Restricted","APR REF","-","-","No","CRAPR",null,"LearningEvent_Import","LearningEvent_Import.csv"]
[null,"Initial / Refresher",null,null,9,"AMGS0001 - Field Recording of Network Assets","AMGS0001","-","-","No","CIAMGS001"]
[null,"Initial",null,null,10,"M1809 - Pole Inspection Procedure for Working on Poles NUS 146","M1809","-","-","No","CIM1809"]
[null,"Refresher",null,null,11,"M1809 - REFRESHER - Pole Inspection Procedure for Working on Poles NUS 146 (Refresher)","M1809","-","-","No","CRM1809REF"]
[null,null,null,null,12,"M1375 - Overhead Line Inspection","M1375","-","-","No","CITTDO1375"]
[null,null,null,null,13,"M1425 - Pole Inspection","M1425","-","-","No","CIM1425"]
[null,"Yes/No",null,null,14,"M1429 - Handling Burnt CCA and Wood Poles Training ","M1429","-","-","No","CIM1429"]
[null,"Yes",null,null,15,"M1806 - Safe Work Aloft","M1806","-","-","No","CIM1806"]
[null,"No",null,null,16,"M2352B - Triple End Sealing","M2325B","-","-","No","CIM2325B"]
[null,null,null,null,17,"P1210 - INITIAL - Crane and Electrical Plant Safety","P1210","-","-","No","CIP1210"]
[null,"Code Lookup",null,null,18,"P1210Ref - REFRESHER - Crane and Electrical Plant Safety","P1210Ref","-","-","No","CRP1210"]
[null,"Induction","SI2000",null,19,"QUAL0066 - GIS Map Reading","QUAL0066","-","-","No","CIQ0066"]
[null,"Prerequisite 1","HLTAID001",null,20,"TTDO1506 - Height Measurement using Telescopic Operating and Height Measurement Sticks","TTDO1506","-","-","No","CITTDO1506"]
[null,"Prerequisite 2","UETTDRRF06",null,21,"TTDO1570 - Application of Temporary Insulation (Electrically qualified)","M1570","-","-","No","CIM1570"]
[null,"Prerequisite 3","UETTDRRF10",null,22,"TTDO1653 - Application of Overhead Low Voltage Short Circuits","TTDO1653","-","-","No","CITTDO1653"]
[null,null,null,null,23,"TTDO1804E - Application of Overhead Access Permit and Working Earths (EWP)","TTDO1804E","-","-","No","CITTDO1804E"]
[null,null,null,null,24,"TTDO1804L - Application of Overhead Access Permit and Working Earths (Ladder)","TTDO1804L","-","-","No","CITTDO1804L"]
[null,null,null,null,25,"TTDU2170 - Pit Awareness","M2170","-","-","No","CIM2170"]
[]
[]
[]
[null,"Contractor or ASP?",null,null,null,"List of ASP Courses"]
[null,"ASP",null,null,null,"Course selected","Item 1","Item 2","Item 3","Prerequisites","Curriculum ID"]
[null,null,null,null,1,"SE1000 - INITIAL - Ausgrid Electrical Safety Rules + Apply Access Procedures + Environmental","SE1000","-","-","Yes","CISE1000"]
[null,"Authorisation \"Valid To\" Date\n\"Valid To\" Date if available\n(dd/mm/yy)",null,null,2,"RF0003 - REFRESHER - Ausgrid Electrical Safety Rules + Apply Access Procedures + Environmental ","RF0003","-","-","No","CRRF0003"]
[null,"Induction Card \"Valid To\" Date\n\"Valid To\" Date if available\n(dd/mm/yy)",null,null,3,"SC1000 - INITIAL - Ausgrid Electrical Safety Rules + Apply Access Procedures + Environmental + Substation entry","SE1000","SC1000A","-","Yes","CISC1000"]
[null,null,null,null,4,"SC1100 - INITIAL - Ausgrid Electrical Safety Rules + Apply Access Procedures + Environmental + Working Near or Around U/G Cables","SE1000","SC1100A","-","Yes","CISC1100"]
[null,null,null,null,5,"SC1200 - INITIAL - Ausgrid Electrical Safety Rules + Apply Access Procedures + Environmental + Working Near or Around U/G Cables + Substation Entry","SE1000","SC1000A","SC1100A","Yes","CISC1200"]
[null,null,null,null,6,"APR0068- INITIAL - Access Permit Recipient Restricted","APR0068","-","-","No","CIAPR68"]
[null,null,null,null,7,"APR REF - REFRESHER - Access Permit Recipient Restricted","APR REF","-","-","No","CRAPR"]
[null,null,null,null,8,"TTDO1653 - Application of Overhead Low Voltage Short Circuits","TTDO1653","-","-","No","CITTDO1653"]
[null,null,null,null,9,"M2352B - Triple End Sealing","M2325B","-","-","No","CIM2325B"]
[null,null,null,null,10,"TTDO1804E - Application of Overhead Access Permit and Working Earths (EWP)","TTDO1804E","-","-","No","CITTDO1804E"]
[null,null,null,null,11,"TTDO1804L - Application of Overhead Access Permit and Working Earths (Ladder)","TTDO1804L","-","-","No","CITTDO1804L"]
[null,null,null,null,12,"IT_CS Ausgrid Cyber Security","IT_CS","-","-","No","ITCS"]

{"sheet":"LMS_Users_H_Import","index":5,"n_rows":56,"n_cols":53,"rows_kept":56,"cut":false,"hidden":true,"merged":[[2,3,2,5],[0,0,0,7]]}
["LMS User Directory (H Numbers) Import Sheet"]
[]
[null,null,null,"Previous Max H number:",null,null,9000]
[]
[null,null,"STATUS","USERID","USERNAME","SALUTATION","FIRSTNAME","LASTNAME","MI","GENDER","EMAIL","MANAGER","HR","DIVISION","DEPARTMENT","LOCATION","JOBCODE","TIMEZONE","HIREDATE","EMPID","TITLE","BIZ_PHONE","FAX","ADDR1","ADDR2","CITY","STATE","ZIP","COUNTRY","REVIEW_FREQ","LAST_REVIEW_DATE","CUSTOM01","CUSTOM02","CUSTOM03","CUSTOM04","CUSTOM05","CUSTOM06","CUSTOM07","CUSTOM08","CUSTOM09","CUSTOM10","CUSTOM11","CUSTOM12","CUSTOM13","CUSTOM14","CUSTOM15","MATRIX_MANAGER","DEFAULT_LOCALE","PROXY","CUSTOM_MANAGER","SECOND_MANAGER","LOGIN_METHOD","PERSON_ID_EXTERNAL"]
[null,null,"STATUS","USERID","Username","Salutation","First Name","Last Name","Middle Name","Gender","Email","Manager","Human Resource","Division","Branch","Location","Job Code","Time Zone","Service Date","Employee Id","Position","Business Phone","Work Mobile","Address 1","Address 2","City","State","Post Code","Country","Review Frequency","Last Review Date","Org Unit","Section","Employee Subgroup","Manager Level","Employment Status","Customizable Field 6","Customizable Field 7","Customizable Field 8","Customizable Field 9","Customizable Field 10","Customizable Field 11","Customizable Field 12","Customizable Field 13","Customizable Field 14","Customizable Field 15","Matrix Manager","Default Locale","Proxy","Custom Manager","Second Manager","Login Method","PERSON_ID_EXTERNAL"]
[1,{"$f":"IF(ISNA(VLOOKUP($A7,Form!$A$5:$T$54,3,FALSE)),\"\",VLOOKUP($A7,Form!$A$5:$T$54,3,FALSE))","v":""},{"$f":"IF(LEN(B7)>0,\"ACTIVE\",\"\")","v":""},{"$f":"IF($C7=\"ACTIVE\",CONCATENATE(\"H\",$G$3+A7),\"\")","v":""},{"$f":"$D7","v":""},null,{"$f":"IF($C7=\"ACTIVE\",IF(ISTEXT(VLOOKUP($B7,Form!$C$5:$T$54,8,FALSE)),VLOOKUP($B7,Form!$C$5:$T$54,8,FALSE),\"\"),\"\")","v":""},{"$f":"IF($C7=\"ACTIVE\",IF(ISTEXT(VLOOKUP($B7,Form!$C$5:$T$54,9,FALSE)),VLOOKUP($B7,Form!$C$5:$T$54,9,FALSE),\"\"),\"\")","v":""},{"$f":"IF($C7=\"ACTIVE\",IF(ISTEXT(VLOOKUP($B7,Form!$C$5:$T$54,10,FALSE)),VLOOKUP($B7,Form!$C$5:$T$54,10,FALSE),\"\"),\"\")","v":""},{"$f":"IF($C7=\"ACTIVE\",IF(ISTEXT(VLOOKUP($A7,Form!$A$4:$T$54,13,FALSE)),VLOOKUP($A7,Form!$A$4:$T$54,13,FALSE),\"\"),\"\")","v":""},{"$f":"IF($C7=\"ACTIVE\",IF(ISTEXT(VLOOKUP($A7,Form!$A$4:$T$54,15,FALSE)),VLOOKUP($A7,Form!$A$4:$T$54,15,FALSE),\"\"),\"\")","v":""},{"$f":"IF($C7=\"ACTIVE\",\"NO_MANAGER\",\"\")","v":""},{"$f":"IF($C7=\"ACTIVE\",\"NO_HR\",\"\")","v":""},{"$f":"IF($C7=\"ACTIVE\",\"N/A\",\"\")","v":""},{"$f":"IF($C7=\"ACTIVE\",\"N/A\",\"\")","v":""},{"$f":"IF($C7=\"ACTIVE\",\"N/A\",\"\")","v":""},{"$f":"IF($C7=\"ACTIVE\",9999,\"\")","v":""},{"$f":"IF($C7=\"ACTIVE\",\"Australia/Sydney\",\"\")","v":""},null,null,null,null,null,{"$f":"IF($C7=\"ACTIVE\",\"570 George St\",\"\")","v":""},null,{"$f":"IF($C7=\"ACTIVE\",\"Sydney\",\"\")","v":""},{"$f":"IF($C7=\"ACTIVE\",\"NSW\",\"\")","v":""},{"$f":"IF($C7=\"ACTIVE\",2000,\"\")","v":""},{"$f":"IF($C7=\"ACTIVE\",\"Australia\",\"\")","v":""},null,null,null,null,null,null,null,null,null,null,null,null,null,null,null,null,null,null,{"$f":"IF($C7=\"ACTIVE\",\"en_GB\",\"\")","v":""},null,null,null,{"$f":"IF($C7=\"ACTIVE\",\"PWD\",\"\")","v":""}]
[2,{"$f":"IF(ISNA(VLOOKUP($A8,Form!$A$5:$T$54,3,FALSE)),\"\",VLOOKUP($A8,Form!$A$5:$T$54,3,FALSE))","v":""},{"$f":"IF(LEN(B8)>0,\"ACTIVE\",\"\")","v":""},{"$f":"IF($C8=\"ACTIVE\",CONCATENATE(\"H\",$G$3+A8),\"\")","v":""},{"$f":"$D8","v":""},null,{"$f":"IF($C8=\"ACTIVE\",IF(ISTEXT(VLOOKUP($B8,Form!$C$5:$T$54,8,FALSE)),VLOOKUP($B8,Form!$C$5:$T$54,8,FALSE),\"\"),\"\")","v":""},{"$f":"IF($C8=\"ACTIVE\",IF(ISTEXT(VLOOKUP($A8,Form!$A$4:$T$54,11,FALSE)),VLOOKUP($A8,Form!$A$4:$T$54,11,FALSE),\"\"),\"\")","v":""},{"$f":"IF($C8=\"ACTIVE\",IF(ISTEXT(VLOOKUP($A8,Form!$A$4:$T$54,12,FALSE)),VLOOKUP($A8,Form!$A$4:$T$54,12,FALSE),\"\"),\"\")","v":""},{"$f":"IF($C8=\"ACTIVE\",IF(ISTEXT(VLOOKUP($A8,Form!$A$4:$T$54,13,FALSE)),VLOOKUP($A8,Form!$A$4:$T$54,13,FALSE),\"\"),\"\")","v":""},{"$f":"IF($C8=\"ACTIVE\",IF(ISTEXT(VLOOKUP($A8,Form!$A$4:$T$54,15,FALSE)),VLOOKUP($A8,Form!$A$4:$T$54,15,FALSE),\"\"),\"\")","v":""},{"$f":"IF($C8=\"ACTIVE\",\"NO_MANAGER\",\"\")","v":""},{"$f":"IF($C8=\"ACTIVE\",\"NO_HR\",\"\")","v":""},{"$f":"IF($C8=\"ACTIVE\",\"N/A\",\"\")","v":""},"","",{"$f":"IF($C8=\"ACTIVE\",9999,\"\")","v":""},{"$f":"IF($C8=\"ACTIVE\",\"Australia/Sydney\",\"\")","v":""},null,null,null,null,null,{"$f":"IF($C8=\"ACTIVE\",\"570 George St\",\"\")","v":""},null,{"$f":"IF($C8=\"ACTIVE\",\"Sydney\",\"\")","v":""},{"$f":"IF($C8=\"ACTIVE\",\"NSW\",\"\")","v":""},{"$f":"IF($C8=\"ACTIVE\",2000,\"\")","v":""},{"$f":"IF($C8=\"ACTIVE\",\"Australia\",\"\")","v":""},null,null,null,null,null,null,null,null,null,null,null,null,null,null,null,null,null,null,{"$f":"IF($C8=\"ACTIVE\",\"en_GB\",\"\")","v":""},null,null,null,{"$f":"IF($C8=\"ACTIVE\",\"PWD\",\"\")","v":""}]
[3,{"$f":"IF(ISNA(VLOOKUP($A9,Form!$A$5:$T$54,3,FALSE)),\"\",VLOOKUP($A9,Form!$A$5:$T$54,3,FALSE))","v":""},"","","",null,{"$f":"IF($C9=\"ACTIVE\",IF(ISTEXT(VLOOKUP($B9,Form!$C$5:$T$54,8,FALSE)),VLOOKUP($B9,Form!$C$5:$T$54,8,FALSE),\"\"),\"\")","v":""},{"$f":"IF($C9=\"ACTIVE\",IF(ISTEXT(VLOOKUP($A9,Form!$A$4:$T$54,11,FALSE)),VLOOKUP($A9,Form!$A$4:$T$54,11,FALSE),\"\"),\"\")","v":""},{"$f":"IF($C9=\"ACTIVE\",IF(ISTEXT(VLOOKUP($A9,Form!$A$4:$T$54,12,FALSE)),VLOOKUP($A9,Form!$A$4:$T$54,12,FALSE),\"\"),\"\")","v":""},{"$f":"IF($C9=\"ACTIVE\",IF(ISTEXT(VLOOKUP($A9,Form!$A$4:$T$54,13,FALSE)),VLOOKUP($A9,Form!$A$4:$T$54,13,FALSE),\"\"),\"\")","v":""},{"$f":"IF($C9=\"ACTIVE\",IF(ISTEXT(VLOOKUP($A9,Form!$A$4:$T$54,15,FALSE)),VLOOKUP($A9,Form!$A$4:$T$54,15,FALSE),\"\"),\"\")","v":""},"","","","","","","",null,null,null,null,null,"",null,"","","","",null,null,null,null,null,null,null,null,null,null,null,null,null,null,null,null,null,null,"",null,null,null,""]
[4,{"$f":"IF(ISNA(VLOOKUP($A10,Form!$A$5:$T$54,3,FALSE)),\"\",VLOOKUP($A10,Form!$A$5:$T$54,3,FALSE))","v":""},"","","",null,{"$f":"IF($C10=\"ACTIVE\",IF(ISTEXT(VLOOKUP($B10,Form!$C$5:$T$54,8,FALSE)),VLOOKUP($B10,Form!$C$5:$T$54,8,FALSE),\"\"),\"\")","v":""},{"$f":"IF($C10=\"ACTIVE\",IF(ISTEXT(VLOOKUP($A10,Form!$A$4:$T$54,11,FALSE)),VLOOKUP($A10,Form!$A$4:$T$54,11,FALSE),\"\"),\"\")","v":""},{"$f":"IF($C10=\"ACTIVE\",IF(ISTEXT(VLOOKUP($A10,Form!$A$4:$T$54,12,FALSE)),VLOOKUP($A10,Form!$A$4:$T$54,12,FALSE),\"\"),\"\")","v":""},{"$f":"IF($C10=\"ACTIVE\",IF(ISTEXT(VLOOKUP($A10,Form!$A$4:$T$54,13,FALSE)),VLOOKUP($A10,Form!$A$4:$T$54,13,FALSE),\"\"),\"\")","v":""},{"$f":"IF($C10=\"ACTIVE\",IF(ISTEXT(VLOOKUP($A10,Form!$A$4:$T$54,15,FALSE)),VLOOKUP($A10,Form!$A$4:$T$54,15,FALSE),\"\"),\"\")","v":""},"","","","","","","",null,null,null,null,null,"",null,"","","","",null,null,null,null,null,null,null,null,null,null,null,null,null,null,null,null,null,null,"",null,null,null,""]
[5,{"$f":"IF(ISNA(VLOOKUP($A11,Form!$A$5:$T$54,3,FALSE)),\"\",VLOOKUP($A11,Form!$A$5:$T$54,3,FALSE))","v":""},"","","",null,{"$f":"IF($C11=\"ACTIVE\",IF(ISTEXT(VLOOKUP($B11,Form!$C$5:$T$54,8,FALSE)),VLOOKUP($B11,Form!$C$5:$T$54,8,FALSE),\"\"),\"\")","v":""},{"$f":"IF($C11=\"ACTIVE\",IF(ISTEXT(VLOOKUP($A11,Form!$A$4:$T$54,11,FALSE)),VLOOKUP($A11,Form!$A$4:$T$54,11,FALSE),\"\"),\"\")","v":""},{"$f":"IF($C11=\"ACTIVE\",IF(ISTEXT(VLOOKUP($A11,Form!$A$4:$T$54,12,FALSE)),VLOOKUP($A11,Form!$A$4:$T$54,12,FALSE),\"\"),\"\")","v":""},{"$f":"IF($C11=\"ACTIVE\",IF(ISTEXT(VLOOKUP($A11,Form!$A$4:$T$54,13,FALSE)),VLOOKUP($A11,Form!$A$4:$T$54,13,FALSE),\"\"),\"\")","v":""},{"$f":"IF($C11=\"ACTIVE\",IF(ISTEXT(VLOOKUP($A11,Form!$A$4:$T$54,15,FALSE)),VLOOKUP($A11,Form!$A$4:$T$54,15,FALSE),\"\"),\"\")","v":""},"","","","","","","",null,null,null,null,null,"",null,"","","","",null,null,null,null,null,null,null,null,null,null,null,null,null,null,null,null,null,null,"",null,null,null,""]
[6,{"$f":"IF(ISNA(VLOOKUP($A12,Form!$A$5:$T$54,3,FALSE)),\"\",VLOOKUP($A12,Form!$A$5:$T$54,3,FALSE))","v":""},"","","",null,{"$f":"IF($C12=\"ACTIVE\",IF(ISTEXT(VLOOKUP($B12,Form!$C$5:$T$54,8,FALSE)),VLOOKUP($B12,Form!$C$5:$T$54,8,FALSE),\"\"),\"\")","v":""},{"$f":"IF($C12=\"ACTIVE\",IF(ISTEXT(VLOOKUP($A12,Form!$A$4:$T$54,11,FALSE)),VLOOKUP($A12,Form!$A$4:$T$54,11,FALSE),\"\"),\"\")","v":""},{"$f":"IF($C12=\"ACTIVE\",IF(ISTEXT(VLOOKUP($A12,Form!$A$4:$T$54,12,FALSE)),VLOOKUP($A12,Form!$A$4:$T$54,12,FALSE),\"\"),\"\")","v":""},{"$f":"IF($C12=\"ACTIVE\",IF(ISTEXT(VLOOKUP($A12,Form!$A$4:$T$54,13,FALSE)),VLOOKUP($A12,Form!$A$4:$T$54,13,FALSE),\"\"),\"\")","v":""},{"$f":"IF($C12=\"ACTIVE\",IF(ISTEXT(VLOOKUP($A12,Form!$A$4:$T$54,15,FALSE)),VLOOKUP($A12,Form!$A$4:$T$54,15,FALSE),\"\"),\"\")","v":""},"","","","","","","",null,null,null,null,null,"",null,"","","","",null,null,null,null,null,null,null,null,null,null,null,null,null,null,null,null,null,null,"",null,null,null,""]
[7,{"$f":"IF(ISNA(VLOOKUP($A13,Form!$A$5:$T$54,3,FALSE)),\"\",VLOOKUP($A13,Form!$A$5:$T$54,3,FALSE))","v":""},"","","",null,{"$f":"IF($C13=\"ACTIVE\",IF(ISTEXT(VLOOKUP($B13,Form!$C$5:$T$54,8,FALSE)),VLOOKUP($B13,Form!$C$5:$T$54,8,FALSE),\"\"),\"\")","v":""},{"$f":"IF($C13=\"ACTIVE\",IF(ISTEXT(VLOOKUP($A13,Form!$A$4:$T$54,11,FALSE)),VLOOKUP($A13,Form!$A$4:$T$54,11,FALSE),\"\"),\"\")","v":""},{"$f":"IF($C13=\"ACTIVE\",IF(ISTEXT(VLOOKUP($A13,Form!$A$4:$T$54,12,FALSE)),VLOOKUP($A13,Form!$A$4:$T$54,12,FALSE),\"\"),\"\")","v":""},{"$f":"IF($C13=\"ACTIVE\",IF(ISTEXT(VLOOKUP($A13,Form!$A$4:$T$54,13,FALSE)),VLOOKUP($A13,Form!$A$4:$T$54,13,FALSE),\"\"),\"\")","v":""},{"$f":"IF($C13=\"ACTIVE\",IF(ISTEXT(VLOOKUP($A13,Form!$A$4:$T$54,15,FALSE)),VLOOKUP($A13,Form!$A$4:$T$54,15,FALSE),\"\"),\"\")","v":""},"","","","","","","",null,null,null,null,null,"",null,"","","","",null,null,null,null,null,null,null,null,null,null,null,null,null,null,null,null,null,null,"",null,null,null,""]
[8,{"$f":"IF(ISNA(VLOOKUP($A14,Form!$A$5:$T$54,3,FALSE)),\"\",VLOOKUP($A14,Form!$A$5:$T$54,3,FALSE))","v":""},"","","",null,{"$f":"IF($C14=\"ACTIVE\",IF(ISTEXT(VLOOKUP($B14,Form!$C$5:$T$54,8,FALSE)),VLOOKUP($B14,Form!$C$5:$T$54,8,FALSE),\"\"),\"\")","v":""},{"$f":"IF($C14=\"ACTIVE\",IF(ISTEXT(VLOOKUP($A14,Form!$A$4:$T$54,11,FALSE)),VLOOKUP($A14,Form!$A$4:$T$54,11,FALSE),\"\"),\"\")","v":""},{"$f":"IF($C14=\"ACTIVE\",IF(ISTEXT(VLOOKUP($A14,Form!$A$4:$T$54,12,FALSE)),VLOOKUP($A14,Form!$A$4:$T$54,12,FALSE),\"\"),\"\")","v":""},{"$f":"IF($C14=\"ACTIVE\",IF(ISTEXT(VLOOKUP($A14,Form!$A$4:$T$54,13,FALSE)),VLOOKUP($A14,Form!$A$4:$T$54,13,FALSE),\"\"),\"\")","v":""},{"$f":"IF($C14=\"ACTIVE\",IF(ISTEXT(VLOOKUP($A14,Form!$A$4:$T$54,15,FALSE)),VLOOKUP($A14,Form!$A$4:$T$54,15,FALSE),\"\"),\"\")","v":""},"","","","","","","",null,null,null,null,null,"",null,"","","","",null,null,null,null,null,null,null,null,null,null,null,null,null,null,null,null,null,null,"",null,null,null,""]
[9,{"$f":"IF(ISNA(VLOOKUP($A15,Form!$A$5:$T$54,3,FALSE)),\"\",VLOOKUP($A15,Form!$A$5:$T$54,3,FALSE))","v":""},"","","",null,{"$f":"IF($C15=\"ACTIVE\",IF(ISTEXT(VLOOKUP($B15,Form!$C$5:$T$54,8,FALSE)),VLOOKUP($B15,Form!$C$5:$T$54,8,FALSE),\"\"),\"\")","v":""},{"$f":"IF($C15=\"ACTIVE\",IF(ISTEXT(VLOOKUP($A15,Form!$A$4:$T$54,11,FALSE)),VLOOKUP($A15,Form!$A$4:$T$54,11,FALSE),\"\"),\"\")","v":""},{"$f":"IF($C15=\"ACTIVE\",IF(ISTEXT(VLOOKUP($A15,Form!$A$4:$T$54,12,FALSE)),VLOOKUP($A15,Form!$A$4:$T$54,12,FALSE),\"\"),\"\")","v":""},{"$f":"IF($C15=\"ACTIVE\",IF(ISTEXT(VLOOKUP($A15,Form!$A$4:$T$54,13,FALSE)),VLOOKUP($A15,Form!$A$4:$T$54,13,FALSE),\"\"),\"\")","v":""},{"$f":"IF($C15=\"ACTIVE\",IF(ISTEXT(VLOOKUP($A15,Form!$A$4:$T$54,15,FALSE)),VLOOKUP($A15,Form!$A$4:$T$54,15,FALSE),\"\"),\"\")","v":""},"","","","","","","",null,null,null,null,null,"",null,"","","","",null,null,null,null,null,null,null,null,null,null,null,null,null,null,null,null,null,null,"",null,null,null,""]
[10,{"$f":"IF(ISNA(VLOOKUP($A16,Form!$A$5:$T$54,3,FALSE)),\"\",VLOOKUP($A16,Form!$A$5:$T$54,3,FALSE))","v":""},"","","",null,{"$f":"IF($C16=\"ACTIVE\",IF(ISTEXT(VLOOKUP($B16,Form!$C$5:$T$54,8,FALSE)),VLOOKUP($B16,Form!$C$5:$T$54,8,FALSE),\"\"),\"\")","v":""},{"$f":"IF($C16=\"ACTIVE\",IF(ISTEXT(VLOOKUP($A16,Form!$A$4:$T$54,11,FALSE)),VLOOKUP($A16,Form!$A$4:$T$54,11,FALSE),\"\"),\"\")","v":""},{"$f":"IF($C16=\"ACTIVE\",IF(ISTEXT(VLOOKUP($A16,Form!$A$4:$T$54,12,FALSE)),VLOOKUP($A16,Form!$A$4:$T$54,12,FALSE),\"\"),\"\")","v":""},{"$f":"IF($C16=\"ACTIVE\",IF(ISTEXT(VLOOKUP($A16,Form!$A$4:$T$54,13,FALSE)),VLOOKUP($A16,Form!$A$4:$T$54,13,FALSE),\"\"),\"\")","v":""},{"$f":"IF($C16=\"ACTIVE\",IF(ISTEXT(VLOOKUP($A16,Form!$A$4:$T$54,15,FALSE)),VLOOKUP($A16,Form!$A$4:$T$54,15,FALSE),\"\"),\"\")","v":""},"","","","","","","",null,null,null,null,null,"",null,"","","","",null,null,null,null,null,null,null,null,null,null,null,null,null,null,null,null,null,null,"",null,null,null,""]
[11,{"$f":"IF(ISNA(VLOOKUP($A17,Form!$A$5:$T$54,3,FALSE)),\"\",VLOOKUP($A17,Form!$A$5:$T$54,3,FALSE))","v":""},"","","",null,{"$f":"IF($C17=\"ACTIVE\",IF(ISTEXT(VLOOKUP($B17,Form!$C$5:$T$54,8,FALSE)),VLOOKUP($B17,Form!$C$5:$T$54,8,FALSE),\"\"),\"\")","v":""},{"$f":"IF($C17=\"ACTIVE\",IF(ISTEXT(VLOOKUP($A17,Form!$A$4:$T$54,11,FALSE)),VLOOKUP($A17,Form!$A$4:$T$54,11,FALSE),\"\"),\"\")","v":""},{"$f":"IF($C17=\"ACTIVE\",IF(ISTEXT(VLOOKUP($A17,Form!$A$4:$T$54,12,FALSE)),VLOOKUP($A17,Form!$A$4:$T$54,12,FALSE),\"\"),\"\")","v":""},{"$f":"IF($C17=\"ACTIVE\",IF(ISTEXT(VLOOKUP($A17,Form!$A$4:$T$54,13,FALSE)),VLOOKUP($A17,Form!$A$4:$T$54,13,FALSE),\"\"),\"\")","v":""},{"$f":"IF($C17=\"ACTIVE\",IF(ISTEXT(VLOOKUP($A17,Form!$A$4:$T$54,15,FALSE)),VLOOKUP($A17,Form!$A$4:$T$54,15,FALSE),\"\"),\"\")","v":""},"","","","","","","",null,null,null,null,null,"",null,"","","","",null,null,null,null,null,null,null,null,null,null,null,null,null,null,null,null,null,null,"",null,null,null,""]
[12,{"$f":"IF(ISNA(VLOOKUP($A18,Form!$A$5:$T$54,3,FALSE)),\"\",VLOOKUP($A18,Form!$A$5:$T$54,3,FALSE))","v":""},"","","",null,{"$f":"IF($C18=\"ACTIVE\",IF(ISTEXT(VLOOKUP($B18,Form!$C$5:$T$54,8,FALSE)),VLOOKUP($B18,Form!$C$5:$T$54,8,FALSE),\"\"),\"\")","v":""},{"$f":"IF($C18=\"ACTIVE\",IF(ISTEXT(VLOOKUP($A18,Form!$A$4:$T$54,11,FALSE)),VLOOKUP($A18,Form!$A$4:$T$54,11,FALSE),\"\"),\"\")","v":""},{"$f":"IF($C18=\"ACTIVE\",IF(ISTEXT(VLOOKUP($A18,Form!$A$4:$T$54,12,FALSE)),VLOOKUP($A18,Form!$A$4:$T$54,12,FALSE),\"\"),\"\")","v":""},{"$f":"IF($C18=\"ACTIVE\",IF(ISTEXT(VLOOKUP($A18,Form!$A$4:$T$54,13,FALSE)),VLOOKUP($A18,Form!$A$4:$T$54,13,FALSE),\"\"),\"\")","v":""},{"$f":"IF($C18=\"ACTIVE\",IF(ISTEXT(VLOOKUP($A18,Form!$A$4:$T$54,15,FALSE)),VLOOKUP($A18,Form!$A$4:$T$54,15,FALSE),\"\"),\"\")","v":""},"","","","","","","",null,null,null,null,null,"",null,"","","","",null,null,null,null,null,null,null,null,null,null,null,null,null,null,null,null,null,null,"",null,null,null,""]
[13,{"$f":"IF(ISNA(VLOOKUP($A19,Form!$A$5:$T$54,3,FALSE)),\"\",VLOOKUP($A19,Form!$A$5:$T$54,3,FALSE))","v":""},"","","",null,{"$f":"IF($C19=\"ACTIVE\",IF(ISTEXT(VLOOKUP($B19,Form!$C$5:$T$54,8,FALSE)),VLOOKUP($B19,Form!$C$5:$T$54,8,FALSE),\"\"),\"\")","v":""},{"$f":"IF($C19=\"ACTIVE\",IF(ISTEXT(VLOOKUP($A19,Form!$A$4:$T$54,11,FALSE)),VLOOKUP($A19,Form!$A$4:$T$54,11,FALSE),\"\"),\"\")","v":""},{"$f":"IF($C19=\"ACTIVE\",IF(ISTEXT(VLOOKUP($A19,Form!$A$4:$T$54,12,FALSE)),VLOOKUP($A19,Form!$A$4:$T$54,12,FALSE),\"\"),\"\")","v":""},{"$f":"IF($C19=\"ACTIVE\",IF(ISTEXT(VLOOKUP($A19,Form!$A$4:$T$54,13,FALSE)),VLOOKUP($A19,Form!$A$4:$T$54,13,FALSE),\"\"),\"\")","v":""},{"$f":"IF($C19=\"ACTIVE\",IF(ISTEXT(VLOOKUP($A19,Form!$A$4:$T$54,15,FALSE)),VLOOKUP($A19,Form!$A$4:$T$54,15,FALSE),\"\"),\"\")","v":""},"","","","","","","",null,null,null,null,null,"",null,"","","","",null,null,null,null,null,null,null,null,null,null,null,null,null,null,null,null,null,null,"",null,null,null,""]
[14,{"$f":"IF(ISNA(VLOOKUP($A20,Form!$A$5:$T$54,3,FALSE)),\"\",VLOOKUP($A20,Form!$A$5:$T$54,3,FALSE))","v":""},"","","",null,{"$f":"IF($C20=\"ACTIVE\",IF(ISTEXT(VLOOKUP($B20,Form!$C$5:$T$54,8,FALSE)),VLOOKUP($B20,Form!$C$5:$T$54,8,FALSE),\"\"),\"\")","v":""},{"$f":"IF($C20=\"ACTIVE\",IF(ISTEXT(VLOOKUP($A20,Form!$A$4:$T$54,11,FALSE)),VLOOKUP($A20,Form!$A$4:$T$54,11,FALSE),\"\"),\"\")","v":""},{"$f":"IF($C20=\"ACTIVE\",IF(ISTEXT(VLOOKUP($A20,Form!$A$4:$T$54,12,FALSE)),VLOOKUP($A20,Form!$A$4:$T$54,12,FALSE),\"\"),\"\")","v":""},{"$f":"IF($C20=\"ACTIVE\",IF(ISTEXT(VLOOKUP($A20,Form!$A$4:$T$54,13,FALSE)),VLOOKUP($A20,Form!$A$4:$T$54,13,FALSE),\"\"),\"\")","v":""},{"$f":"IF($C20=\"ACTIVE\",IF(ISTEXT(VLOOKUP($A20,Form!$A$4:$T$54,15,FALSE)),VLOOKUP($A20,Form!$A$4:$T$54,15,FALSE),\"\"),\"\")","v":""},"","","","","","","",null,null,null,null,null,"",null,"","","","",null,null,null,null,null,null,null,null,null,null,null,null,null,null,null,null,null,null,"",null,null,null,""]
[15,{"$f":"IF(ISNA(VLOOKUP($A21,Form!$A$5:$T$54,3,FALSE)),\"\",VLOOKUP($A21,Form!$A$5:$T$54,3,FALSE))","v":""},"","","",null,{"$f":"IF($C21=\"ACTIVE\",IF(ISTEXT(VLOOKUP($B21,Form!$C$5:$T$54,8,FALSE)),VLOOKUP($B21,Form!$C$5:$T$54,8,FALSE),\"\"),\"\")","v":""},{"$f":"IF($C21=\"ACTIVE\",IF(ISTEXT(VLOOKUP($A21,Form!$A$4:$T$54,11,FALSE)),VLOOKUP($A21,Form!$A$4:$T$54,11,FALSE),\"\"),\"\")","v":""},{"$f":"IF($C21=\"ACTIVE\",IF(ISTEXT(VLOOKUP($A21,Form!$A$4:$T$54,12,FALSE)),VLOOKUP($A21,Form!$A$4:$T$54,12,FALSE),\"\"),\"\")","v":""},{"$f":"IF($C21=\"ACTIVE\",IF(ISTEXT(VLOOKUP($A21,Form!$A$4:$T$54,13,FALSE)),VLOOKUP($A21,Form!$A$4:$T$54,13,FALSE),\"\"),\"\")","v":""},{"$f":"IF($C21=\"ACTIVE\",IF(ISTEXT(VLOOKUP($A21,Form!$A$4:$T$54,15,FALSE)),VLOOKUP($A21,Form!$A$4:$T$54,15,FALSE),\"\"),\"\")","v":""},"","","","","","","",null,null,null,null,null,"",null,"","","","",null,null,null,null,null,null,null,null,null,null,null,null,null,null,null,null,null,null,"",null,null,null,""]
[16,{"$f":"IF(ISNA(VLOOKUP($A22,Form!$A$5:$T$54,3,FALSE)),\"\",VLOOKUP($A22,Form!$A$5:$T$54,3,FALSE))","v":""},"","","",null,{"$f":"IF($C22=\"ACTIVE\",IF(ISTEXT(VLOOKUP($B22,Form!$C$5:$T$54,8,FALSE)),VLOOKUP($B22,Form!$C$5:$T$54,8,FALSE),\"\"),\"\")","v":""},{"$f":"IF($C22=\"ACTIVE\",IF(ISTEXT(VLOOKUP($A22,Form!$A$4:$T$54,11,FALSE)),VLOOKUP($A22,Form!$A$4:$T$54,11,FALSE),\"\"),\"\")","v":""},{"$f":"IF($C22=\"ACTIVE\",IF(ISTEXT(VLOOKUP($A22,Form!$A$4:$T$54,12,FALSE)),VLOOKUP($A22,Form!$A$4:$T$54,12,FALSE),\"\"),\"\")","v":""},{"$f":"IF($C22=\"ACTIVE\",IF(ISTEXT(VLOOKUP($A22,Form!$A$4:$T$54,13,FALSE)),VLOOKUP($A22,Form!$A$4:$T$54,13,FALSE),\"\"),\"\")","v":""},{"$f":"IF($C22=\"ACTIVE\",IF(ISTEXT(VLOOKUP($A22,Form!$A$4:$T$54,15,FALSE)),VLOOKUP($A22,Form!$A$4:$T$54,15,FALSE),\"\"),\"\")","v":""},"","","","","","","",null,null,null,null,null,"",null,"","","","",null,null,null,null,null,null,null,null,null,null,null,null,null,null,null,null,null,null,"",null,null,null,""]
[17,{"$f":"IF(ISNA(VLOOKUP($A23,Form!$A$5:$T$54,3,FALSE)),\"\",VLOOKUP($A23,Form!$A$5:$T$54,3,FALSE))","v":""},"","","",null,{"$f":"IF($C23=\"ACTIVE\",IF(ISTEXT(VLOOKUP($B23,Form!$C$5:$T$54,8,FALSE)),VLOOKUP($B23,Form!$C$5:$T$54,8,FALSE),\"\"),\"\")","v":""},{"$f":"IF($C23=\"ACTIVE\",IF(ISTEXT(VLOOKUP($A23,Form!$A$4:$T$54,11,FALSE)),VLOOKUP($A23,Form!$A$4:$T$54,11,FALSE),\"\"),\"\")","v":""},{"$f":"IF($C23=\"ACTIVE\",IF(ISTEXT(VLOOKUP($A23,Form!$A$4:$T$54,12,FALSE)),VLOOKUP($A23,Form!$A$4:$T$54,12,FALSE),\"\"),\"\")","v":""},{"$f":"IF($C23=\"ACTIVE\",IF(ISTEXT(VLOOKUP($A23,Form!$A$4:$T$54,13,FALSE)),VLOOKUP($A23,Form!$A$4:$T$54,13,FALSE),\"\"),\"\")","v":""},{"$f":"IF($C23=\"ACTIVE\",IF(ISTEXT(VLOOKUP($A23,Form!$A$4:$T$54,15,FALSE)),VLOOKUP($A23,Form!$A$4:$T$54,15,FALSE),\"\"),\"\")","v":""},"","","","","","","",null,null,null,null,null,"",null,"","","","",null,null,null,null,null,null,null,null,null,null,null,null,null,null,null,null,null,null,"",null,null,null,""]
[18,{"$f":"IF(ISNA(VLOOKUP($A24,Form!$A$5:$T$54,3,FALSE)),\"\",VLOOKUP($A24,Form!$A$5:$T$54,3,FALSE))","v":""},"","","",null,{"$f":"IF($C24=\"ACTIVE\",IF(ISTEXT(VLOOKUP($B24,Form!$C$5:$T$54,8,FALSE)),VLOOKUP($B24,Form!$C$5:$T$54,8,FALSE),\"\"),\"\")","v":""},{"$f":"IF($C24=\"ACTIVE\",IF(ISTEXT(VLOOKUP($A24,Form!$A$4:$T$54,11,FALSE)),VLOOKUP($A24,Form!$A$4:$T$54,11,FALSE),\"\"),\"\")","v":""},{"$f":"IF($C24=\"ACTIVE\",IF(ISTEXT(VLOOKUP($A24,Form!$A$4:$T$54,12,FALSE)),VLOOKUP($A24,Form!$A$4:$T$54,12,FALSE),\"\"),\"\")","v":""},{"$f":"IF($C24=\"ACTIVE\",IF(ISTEXT(VLOOKUP($A24,Form!$A$4:$T$54,13,FALSE)),VLOOKUP($A24,Form!$A$4:$T$54,13,FALSE),\"\"),\"\")","v":""},{"$f":"IF($C24=\"ACTIVE\",IF(ISTEXT(VLOOKUP($A24,Form!$A$4:$T$54,15,FALSE)),VLOOKUP($A24,Form!$A$4:$T$54,15,FALSE),\"\"),\"\")","v":""},"","","","","","","",null,null,null,null,null,"",null,"","","","",null,null,null,null,null,null,null,null,null,null,null,null,null,null,null,null,null,null,"",null,null,null,""]
[19,{"$f":"IF(ISNA(VLOOKUP($A25,Form!$A$5:$T$54,3,FALSE)),\"\",VLOOKUP($A25,Form!$A$5:$T$54,3,FALSE))","v":""},"","","",null,{"$f":"IF($C25=\"ACTIVE\",IF(ISTEXT(VLOOKUP($B25,Form!$C$5:$T$54,8,FALSE)),VLOOKUP($B25,Form!$C$5:$T$54,8,FALSE),\"\"),\"\")","v":""},{"$f":"IF($C25=\"ACTIVE\",IF(ISTEXT(VLOOKUP($A25,Form!$A$4:$T$54,11,FALSE)),VLOOKUP($A25,Form!$A$4:$T$54,11,FALSE),\"\"),\"\")","v":""},{"$f":"IF($C25=\"ACTIVE\",IF(ISTEXT(VLOOKUP($A25,Form!$A$4:$T$54,12,FALSE)),VLOOKUP($A25,Form!$A$4:$T$54,12,FALSE),\"\"),\"\")","v":""},{"$f":"IF($C25=\"ACTIVE\",IF(ISTEXT(VLOOKUP($A25,Form!$A$4:$T$54,13,FALSE)),VLOOKUP($A25,Form!$A$4:$T$54,13,FALSE),\"\"),\"\")","v":""},{"$f":"IF($C25=\"ACTIVE\",IF(ISTEXT(VLOOKUP($A25,Form!$A$4:$T$54,15,FALSE)),VLOOKUP($A25,Form!$A$4:$T$54,15,FALSE),\"\"),\"\")","v":""},"","","","","","","",null,null,null,null,null,"",null,"","","","",null,null,null,null,null,null,null,null,null,null,null,null,null,null,null,null,null,null,"",null,null,null,""]
[20,{"$f":"IF(ISNA(VLOOKUP($A26,Form!$A$5:$T$54,3,FALSE)),\"\",VLOOKUP($A26,Form!$A$5:$T$54,3,FALSE))","v":""},"","","",null,{"$f":"IF($C26=\"ACTIVE\",IF(ISTEXT(VLOOKUP($B26,Form!$C$5:$T$54,8,FALSE)),VLOOKUP($B26,Form!$C$5:$T$54,8,FALSE),\"\"),\"\")","v":""},{"$f":"IF($C26=\"ACTIVE\",IF(ISTEXT(VLOOKUP($A26,Form!$A$4:$T$54,11,FALSE)),VLOOKUP($A26,Form!$A$4:$T$54,11,FALSE),\"\"),\"\")","v":""},{"$f":"IF($C26=\"ACTIVE\",IF(ISTEXT(VLOOKUP($A26,Form!$A$4:$T$54,12,FALSE)),VLOOKUP($A26,Form!$A$4:$T$54,12,FALSE),\"\"),\"\")","v":""},{"$f":"IF($C26=\"ACTIVE\",IF(ISTEXT(VLOOKUP($A26,Form!$A$4:$T$54,13,FALSE)),VLOOKUP($A26,Form!$A$4:$T$54,13,FALSE),\"\"),\"\")","v":""},{"$f":"IF($C26=\"ACTIVE\",IF(ISTEXT(VLOOKUP($A26,Form!$A$4:$T$54,15,FALSE)),VLOOKUP($A26,Form!$A$4:$T$54,15,FALSE),\"\"),\"\")","v":""},"","","","","","","",null,null,null,null,null,"",null,"","","","",null,null,null,null,null,null,null,null,null,null,null,null,null,null,null,null,null,null,"",null,null,null,""]
[21,{"$f":"IF(ISNA(VLOOKUP($A27,Form!$A$5:$T$54,3,FALSE)),\"\",VLOOKUP($A27,Form!$A$5:$T$54,3,FALSE))","v":""},"","","",null,{"$f":"IF($C27=\"ACTIVE\",IF(ISTEXT(VLOOKUP($B27,Form!$C$5:$T$54,8,FALSE)),VLOOKUP($B27,Form!$C$5:$T$54,8,FALSE),\"\"),\"\")","v":""},{"$f":"IF($C27=\"ACTIVE\",IF(ISTEXT(VLOOKUP($A27,Form!$A$4:$T$54,11,FALSE)),VLOOKUP($A27,Form!$A$4:$T$54,11,FALSE),\"\"),\"\")","v":""},{"$f":"IF($C27=\"ACTIVE\",IF(ISTEXT(VLOOKUP($A27,Form!$A$4:$T$54,12,FALSE)),VLOOKUP($A27,Form!$A$4:$T$54,12,FALSE),\"\"),\"\")","v":""},{"$f":"IF($C27=\"ACTIVE\",IF(ISTEXT(VLOOKUP($A27,Form!$A$4:$T$54,13,FALSE)),VLOOKUP($A27,Form!$A$4:$T$54,13,FALSE),\"\"),\"\")","v":""},{"$f":"IF($C27=\"ACTIVE\",IF(ISTEXT(VLOOKUP($A27,Form!$A$4:$T$54,15,FALSE)),VLOOKUP($A27,Form!$A$4:$T$54,15,FALSE),\"\"),\"\")","v":""},"","","","","","","",null,null,null,null,null,"",null,"","","","",null,null,null,null,null,null,null,null,null,null,null,null,null,null,null,null,null,null,"",null,null,null,""]
[22,{"$f":"IF(ISNA(VLOOKUP($A28,Form!$A$5:$T$54,3,FALSE)),\"\",VLOOKUP($A28,Form!$A$5:$T$54,3,FALSE))","v":""},"","","",null,{"$f":"IF($C28=\"ACTIVE\",IF(ISTEXT(VLOOKUP($B28,Form!$C$5:$T$54,8,FALSE)),VLOOKUP($B28,Form!$C$5:$T$54,8,FALSE),\"\"),\"\")","v":""},{"$f":"IF($C28=\"ACTIVE\",IF(ISTEXT(VLOOKUP($A28,Form!$A$4:$T$54,11,FALSE)),VLOOKUP($A28,Form!$A$4:$T$54,11,FALSE),\"\"),\"\")","v":""},{"$f":"IF($C28=\"ACTIVE\",IF(ISTEXT(VLOOKUP($A28,Form!$A$4:$T$54,12,FALSE)),VLOOKUP($A28,Form!$A$4:$T$54,12,FALSE),\"\"),\"\")","v":""},{"$f":"IF($C28=\"ACTIVE\",IF(ISTEXT(VLOOKUP($A28,Form!$A$4:$T$54,13,FALSE)),VLOOKUP($A28,Form!$A$4:$T$54,13,FALSE),\"\"),\"\")","v":""},{"$f":"IF($C28=\"ACTIVE\",IF(ISTEXT(VLOOKUP($A28,Form!$A$4:$T$54,15,FALSE)),VLOOKUP($A28,Form!$A$4:$T$54,15,FALSE),\"\"),\"\")","v":""},"","","","","","","",null,null,null,null,null,"",null,"","","","",null,null,null,null,null,null,null,null,null,null,null,null,null,null,null,null,null,null,"",null,null,null,""]
[23,{"$f":"IF(ISNA(VLOOKUP($A29,Form!$A$5:$T$54,3,FALSE)),\"\",VLOOKUP($A29,Form!$A$5:$T$54,3,FALSE))","v":""},"","","",null,{"$f":"IF($C29=\"ACTIVE\",IF(ISTEXT(VLOOKUP($B29,Form!$C$5:$T$54,8,FALSE)),VLOOKUP($B29,Form!$C$5:$T$54,8,FALSE),\"\"),\"\")","v":""},{"$f":"IF($C29=\"ACTIVE\",IF(ISTEXT(VLOOKUP($A29,Form!$A$4:$T$54,11,FALSE)),VLOOKUP($A29,Form!$A$4:$T$54,11,FALSE),\"\"),\"\")","v":""},{"$f":"IF($C29=\"ACTIVE\",IF(ISTEXT(VLOOKUP($A29,Form!$A$4:$T$54,12,FALSE)),VLOOKUP($A29,Form!$A$4:$T$54,12,FALSE),\"\"),\"\")","v":""},{"$f":"IF($C29=\"ACTIVE\",IF(ISTEXT(VLOOKUP($A29,Form!$A$4:$T$54,13,FALSE)),VLOOKUP($A29,Form!$A$4:$T$54,13,FALSE),\"\"),\"\")","v":""},{"$f":"IF($C29=\"ACTIVE\",IF(ISTEXT(VLOOKUP($A29,Form!$A$4:$T$54,15,FALSE)),VLOOKUP($A29,Form!$A$4:$T$54,15,FALSE),\"\"),\"\")","v":""},"","","","","","","",null,null,null,null,null,"",null,"","","","",null,null,null,null,null,null,null,null,null,null,null,null,null,null,null,null,null,null,"",null,null,null,""]
[24,{"$f":"IF(ISNA(VLOOKUP($A30,Form!$A$5:$T$54,3,FALSE)),\"\",VLOOKUP($A30,Form!$A$5:$T$54,3,FALSE))","v":""},"","","",null,{"$f":"IF($C30=\"ACTIVE\",IF(ISTEXT(VLOOKUP($B30,Form!$C$5:$T$54,8,FALSE)),VLOOKUP($B30,Form!$C$5:$T$54,8,FALSE),\"\"),\"\")","v":""},{"$f":"IF($C30=\"ACTIVE\",IF(ISTEXT(VLOOKUP($A30,Form!$A$4:$T$54,11,FALSE)),VLOOKUP($A30,Form!$A$4:$T$54,11,FALSE),\"\"),\"\")","v":""},{"$f":"IF($C30=\"ACTIVE\",IF(ISTEXT(VLOOKUP($A30,Form!$A$4:$T$54,12,FALSE)),VLOOKUP($A30,Form!$A$4:$T$54,12,FALSE),\"\"),\"\")","v":""},{"$f":"IF($C30=\"ACTIVE\",IF(ISTEXT(VLOOKUP($A30,Form!$A$4:$T$54,13,FALSE)),VLOOKUP($A30,Form!$A$4:$T$54,13,FALSE),\"\"),\"\")","v":""},{"$f":"IF($C30=\"ACTIVE\",IF(ISTEXT(VLOOKUP($A30,Form!$A$4:$T$54,15,FALSE)),VLOOKUP($A30,Form!$A$4:$T$54,15,FALSE),\"\"),\"\")","v":""},"","","","","","","",null,null,null,null,null,"",null,"","","","",null,null,null,null,null,null,null,null,null,null,null,null,null,null,null,null,null,null,"",null,null,null,""]
[25,{"$f":"IF(ISNA(VLOOKUP($A31,Form!$A$5:$T$54,3,FALSE)),\"\",VLOOKUP($A31,Form!$A$5:$T$54,3,FALSE))","v":""},"","","",null,{"$f":"IF($C31=\"ACTIVE\",IF(ISTEXT(VLOOKUP($B31,Form!$C$5:$T$54,8,FALSE)),VLOOKUP($B31,Form!$C$5:$T$54,8,FALSE),\"\"),\"\")","v":""},{"$f":"IF($C31=\"ACTIVE\",IF(ISTEXT(VLOOKUP($A31,Form!$A$4:$T$54,11,FALSE)),VLOOKUP($A31,Form!$A$4:$T$54,11,FALSE),\"\"),\"\")","v":""},{"$f":"IF($C31=\"ACTIVE\",IF(ISTEXT(VLOOKUP($A31,Form!$A$4:$T$54,12,FALSE)),VLOOKUP($A31,Form!$A$4:$T$54,12,FALSE),\"\"),\"\")","v":""},{"$f":"IF($C31=\"ACTIVE\",IF(ISTEXT(VLOOKUP($A31,Form!$A$4:$T$54,13,FALSE)),VLOOKUP($A31,Form!$A$4:$T$54,13,FALSE),\"\"),\"\")","v":""},{"$f":"IF($C31=\"ACTIVE\",IF(ISTEXT(VLOOKUP($A31,Form!$A$4:$T$54,15,FALSE)),VLOOKUP($A31,Form!$A$4:$T$54,15,FALSE),\"\"),\"\")","v":""},"","","","","","","",null,null,null,null,null,"",null,"","","","",null,null,null,null,null,null,null,null,null,null,null,null,null,null,null,null,null,null,"",null,null,null,""]
[26,{"$f":"IF(ISNA(VLOOKUP($A32,Form!$A$5:$T$54,3,FALSE)),\"\",VLOOKUP($A32,Form!$A$5:$T$54,3,FALSE))","v":""},"","","",null,{"$f":"IF($C32=\"ACTIVE\",IF(ISTEXT(VLOOKUP($B32,Form!$C$5:$T$54,8,FALSE)),VLOOKUP($B32,Form!$C$5:$T$54,8,FALSE),\"\"),\"\")","v":""},{"$f":"IF($C32=\"ACTIVE\",IF(ISTEXT(VLOOKUP($A32,Form!$A$4:$T$54,11,FALSE)),VLOOKUP($A32,Form!$A$4:$T$54,11,FALSE),\"\"),\"\")","v":""},{"$f":"IF($C32=\"ACTIVE\",IF(ISTEXT(VLOOKUP($A32,Form!$A$4:$T$54,12,FALSE)),VLOOKUP($A32,Form!$A$4:$T$54,12,FALSE),\"\"),\"\")","v":""},{"$f":"IF($C32=\"ACTIVE\",IF(ISTEXT(VLOOKUP($A32,Form!$A$4:$T$54,13,FALSE)),VLOOKUP($A32,Form!$A$4:$T$54,13,FALSE),\"\"),\"\")","v":""},{"$f":"IF($C32=\"ACTIVE\",IF(ISTEXT(VLOOKUP($A32,Form!$A$4:$T$54,15,FALSE)),VLOOKUP($A32,Form!$A$4:$T$54,15,FALSE),\"\"),\"\")","v":""},"","","","","","","",null,null,null,null,null,"",null,"","","","",null,null,null,null,null,null,null,null,null,null,null,null,null,null,null,null,null,null,"",null,null,null,""]
[27,{"$f":"IF(ISNA(VLOOKUP($A33,Form!$A$5:$T$54,3,FALSE)),\"\",VLOOKUP($A33,Form!$A$5:$T$54,3,FALSE))","v":""},"","","",null,{"$f":"IF($C33=\"ACTIVE\",IF(ISTEXT(VLOOKUP($B33,Form!$C$5:$T$54,8,FALSE)),VLOOKUP($B33,Form!$C$5:$T$54,8,FALSE),\"\"),\"\")","v":""},{"$f":"IF($C33=\"ACTIVE\",IF(ISTEXT(VLOOKUP($A33,Form!$A$4:$T$54,11,FALSE)),VLOOKUP($A33,Form!$A$4:$T$54,11,FALSE),\"\"),\"\")","v":""},{"$f":"IF($C33=\"ACTIVE\",IF(ISTEXT(VLOOKUP($A33,Form!$A$4:$T$54,12,FALSE)),VLOOKUP($A33,Form!$A$4:$T$54,12,FALSE),\"\"),\"\")","v":""},{"$f":"IF($C33=\"ACTIVE\",IF(ISTEXT(VLOOKUP($A33,Form!$A$4:$T$54,13,FALSE)),VLOOKUP($A33,Form!$A$4:$T$54,13,FALSE),\"\"),\"\")","v":""},{"$f":"IF($C33=\"ACTIVE\",IF(ISTEXT(VLOOKUP($A33,Form!$A$4:$T$54,15,FALSE)),VLOOKUP($A33,Form!$A$4:$T$54,15,FALSE),\"\"),\"\")","v":""},"","","","","","","",null,null,null,null,null,"",null,"","","","",null,null,null,null,null,null,null,null,null,null,null,null,null,null,null,null,null,null,"",null,null,null,""]
[28,{"$f":"IF(ISNA(VLOOKUP($A34,Form!$A$5:$T$54,3,FALSE)),\"\",VLOOKUP($A34,Form!$A$5:$T$54,3,FALSE))","v":""},"","","",null,{"$f":"IF($C34=\"ACTIVE\",IF(ISTEXT(VLOOKUP($B34,Form!$C$5:$T$54,8,FALSE)),VLOOKUP($B34,Form!$C$5:$T$54,8,FALSE),\"\"),\"\")","v":""},{"$f":"IF($C34=\"ACTIVE\",IF(ISTEXT(VLOOKUP($A34,Form!$A$4:$T$54,11,FALSE)),VLOOKUP($A34,Form!$A$4:$T$54,11,FALSE),\"\"),\"\")","v":""},{"$f":"IF($C34=\"ACTIVE\",IF(ISTEXT(VLOOKUP($A34,Form!$A$4:$T$54,12,FALSE)),VLOOKUP($A34,Form!$A$4:$T$54,12,FALSE),\"\"),\"\")","v":""},{"$f":"IF($C34=\"ACTIVE\",IF(ISTEXT(VLOOKUP($A34,Form!$A$4:$T$54,13,FALSE)),VLOOKUP($A34,Form!$A$4:$T$54,13,FALSE),\"\"),\"\")","v":""},{"$f":"IF($C34=\"ACTIVE\",IF(ISTEXT(VLOOKUP($A34,Form!$A$4:$T$54,15,FALSE)),VLOOKUP($A34,Form!$A$4:$T$54,15,FALSE),\"\"),\"\")","v":""},"","","","","","","",null,null,null,null,null,"",null,"","","","",null,null,null,null,null,null,null,null,null,null,null,null,null,null,null,null,null,null,"",null,null,null,""]
[29,{"$f":"IF(ISNA(VLOOKUP($A35,Form!$A$5:$T$54,3,FALSE)),\"\",VLOOKUP($A35,Form!$A$5:$T$54,3,FALSE))","v":""},"","","",null,{"$f":"IF($C35=\"ACTIVE\",IF(ISTEXT(VLOOKUP($B35,Form!$C$5:$T$54,8,FALSE)),VLOOKUP($B35,Form!$C$5:$T$54,8,FALSE),\"\"),\"\")","v":""},{"$f":"IF($C35=\"ACTIVE\",IF(ISTEXT(VLOOKUP($A35,Form!$A$4:$T$54,11,FALSE)),VLOOKUP($A35,Form!$A$4:$T$54,11,FALSE),\"\"),\"\")","v":""},{"$f":"IF($C35=\"ACTIVE\",IF(ISTEXT(VLOOKUP($A35,Form!$A$4:$T$54,12,FALSE)),VLOOKUP($A35,Form!$A$4:$T$54,12,FALSE),\"\"),\"\")","v":""},{"$f":"IF($C35=\"ACTIVE\",IF(ISTEXT(VLOOKUP($A35,Form!$A$4:$T$54,13,FALSE)),VLOOKUP($A35,Form!$A$4:$T$54,13,FALSE),\"\"),\"\")","v":""},{"$f":"IF($C35=\"ACTIVE\",IF(ISTEXT(VLOOKUP($A35,Form!$A$4:$T$54,15,FALSE)),VLOOKUP($A35,Form!$A$4:$T$54,15,FALSE),\"\"),\"\")","v":""},"","","","","","","",null,null,null,null,null,"",null,"","","","",null,null,null,null,null,null,null,null,null,null,null,null,null,null,null,null,null,null,"",null,null,null,""]
[30,{"$f":"IF(ISNA(VLOOKUP($A36,Form!$A$5:$T$54,3,FALSE)),\"\",VLOOKUP($A36,Form!$A$5:$T$54,3,FALSE))","v":""},"","","",null,{"$f":"IF($C36=\"ACTIVE\",IF(ISTEXT(VLOOKUP($B36,Form!$C$5:$T$54,8,FALSE)),VLOOKUP($B36,Form!$C$5:$T$54,8,FALSE),\"\"),\"\")","v":""},{"$f":"IF($C36=\"ACTIVE\",IF(ISTEXT(VLOOKUP($A36,Form!$A$4:$T$54,11,FALSE)),VLOOKUP($A36,Form!$A$4:$T$54,11,FALSE),\"\"),\"\")","v":""},{"$f":"IF($C36=\"ACTIVE\",IF(ISTEXT(VLOOKUP($A36,Form!$A$4:$T$54,12,FALSE)),VLOOKUP($A36,Form!$A$4:$T$54,12,FALSE),\"\"),\"\")","v":""},{"$f":"IF($C36=\"ACTIVE\",IF(ISTEXT(VLOOKUP($A36,Form!$A$4:$T$54,13,FALSE)),VLOOKUP($A36,Form!$A$4:$T$54,13,FALSE),\"\"),\"\")","v":""},{"$f":"IF($C36=\"ACTIVE\",IF(ISTEXT(VLOOKUP($A36,Form!$A$4:$T$54,15,FALSE)),VLOOKUP($A36,Form!$A$4:$T$54,15,FALSE),\"\"),\"\")","v":""},"","","","","","","",null,null,null,null,null,"",null,"","","","",null,null,null,null,null,null,null,null,null,null,null,null,null,null,null,null,null,null,"",null,null,null,""]
[31,{"$f":"IF(ISNA(VLOOKUP($A37,Form!$A$5:$T$54,3,FALSE)),\"\",VLOOKUP($A37,Form!$A$5:$T$54,3,FALSE))","v":""},"","","",null,{"$f":"IF($C37=\"ACTIVE\",IF(ISTEXT(VLOOKUP($B37,Form!$C$5:$T$54,8,FALSE)),VLOOKUP($B37,Form!$C$5:$T$54,8,FALSE),\"\"),\"\")","v":""},{"$f":"IF($C37=\"ACTIVE\",IF(ISTEXT(VLOOKUP($A37,Form!$A$4:$T$54,11,FALSE)),VLOOKUP($A37,Form!$A$4:$T$54,11,FALSE),\"\"),\"\")","v":""},{"$f":"IF($C37=\"ACTIVE\",IF(ISTEXT(VLOOKUP($A37,Form!$A$4:$T$54,12,FALSE)),VLOOKUP($A37,Form!$A$4:$T$54,12,FALSE),\"\"),\"\")","v":""},{"$f":"IF($C37=\"ACTIVE\",IF(ISTEXT(VLOOKUP($A37,Form!$A$4:$T$54,13,FALSE)),VLOOKUP($A37,Form!$A$4:$T$54,13,FALSE),\"\"),\"\")","v":""},{"$f":"IF($C37=\"ACTIVE\",IF(ISTEXT(VLOOKUP($A37,Form!$A$4:$T$54,15,FALSE)),VLOOKUP($A37,Form!$A$4:$T$54,15,FALSE),\"\"),\"\")","v":""},"","","","","","","",null,null,null,null,null,"",null,"","","","",null,null,null,null,null,null,null,null,null,null,null,null,null,null,null,null,null,null,"",null,null,null,""]
[32,{"$f":"IF(ISNA(VLOOKUP($A38,Form!$A$5:$T$54,3,FALSE)),\"\",VLOOKUP($A38,Form!$A$5:$T$54,3,FALSE))","v":""},"","","",null,{"$f":"IF($C38=\"ACTIVE\",IF(ISTEXT(VLOOKUP($B38,Form!$C$5:$T$54,8,FALSE)),VLOOKUP($B38,Form!$C$5:$T$54,8,FALSE),\"\"),\"\")","v":""},{"$f":"IF($C38=\"ACTIVE\",IF(ISTEXT(VLOOKUP($A38,Form!$A$4:$T$54,11,FALSE)),VLOOKUP($A38,Form!$A$4:$T$54,11,FALSE),\"\"),\"\")","v":""},{"$f":"IF($C38=\"ACTIVE\",IF(ISTEXT(VLOOKUP($A38,Form!$A$4:$T$54,12,FALSE)),VLOOKUP($A38,Form!$A$4:$T$54,12,FALSE),\"\"),\"\")","v":""},{"$f":"IF($C38=\"ACTIVE\",IF(ISTEXT(VLOOKUP($A38,Form!$A$4:$T$54,13,FALSE)),VLOOKUP($A38,Form!$A$4:$T$54,13,FALSE),\"\"),\"\")","v":""},{"$f":"IF($C38=\"ACTIVE\",IF(ISTEXT(VLOOKUP($A38,Form!$A$4:$T$54,15,FALSE)),VLOOKUP($A38,Form!$A$4:$T$54,15,FALSE),\"\"),\"\")","v":""},"","","","","","","",null,null,null,null,null,"",null,"","","","",null,null,null,null,null,null,null,null,null,null,null,null,null,null,null,null,null,null,"",null,null,null,""]
[33,{"$f":"IF(ISNA(VLOOKUP($A39,Form!$A$5:$T$54,3,FALSE)),\"\",VLOOKUP($A39,Form!$A$5:$T$54,3,FALSE))","v":""},"","","",null,{"$f":"IF($C39=\"ACTIVE\",IF(ISTEXT(VLOOKUP($B39,Form!$C$5:$T$54,8,FALSE)),VLOOKUP($B39,Form!$C$5:$T$54,8,FALSE),\"\"),\"\")","v":""},{"$f":"IF($C39=\"ACTIVE\",IF(ISTEXT(VLOOKUP($A39,Form!$A$4:$T$54,11,FALSE)),VLOOKUP($A39,Form!$A$4:$T$54,11,FALSE),\"\"),\"\")","v":""},{"$f":"IF($C39=\"ACTIVE\",IF(ISTEXT(VLOOKUP($A39,Form!$A$4:$T$54,12,FALSE)),VLOOKUP($A39,Form!$A$4:$T$54,12,FALSE),\"\"),\"\")","v":""},{"$f":"IF($C39=\"ACTIVE\",IF(ISTEXT(VLOOKUP($A39,Form!$A$4:$T$54,13,FALSE)),VLOOKUP($A39,Form!$A$4:$T$54,13,FALSE),\"\"),\"\")","v":""},{"$f":"IF($C39=\"ACTIVE\",IF(ISTEXT(VLOOKUP($A39,Form!$A$4:$T$54,15,FALSE)),VLOOKUP($A39,Form!$A$4:$T$54,15,FALSE),\"\"),\"\")","v":""},"","","","","","","",null,null,null,null,null,"",null,"","","","",null,null,null,null,null,null,null,null,null,null,null,null,null,null,null,null,null,null,"",null,null,null,""]
[34,{"$f":"IF(ISNA(VLOOKUP($A40,Form!$A$5:$T$54,3,FALSE)),\"\",VLOOKUP($A40,Form!$A$5:$T$54,3,FALSE))","v":""},"","","",null,{"$f":"IF($C40=\"ACTIVE\",IF(ISTEXT(VLOOKUP($B40,Form!$C$5:$T$54,8,FALSE)),VLOOKUP($B40,Form!$C$5:$T$54,8,FALSE),\"\"),\"\")","v":""},{"$f":"IF($C40=\"ACTIVE\",IF(ISTEXT(VLOOKUP($A40,Form!$A$4:$T$54,11,FALSE)),VLOOKUP($A40,Form!$A$4:$T$54,11,FALSE),\"\"),\"\")","v":""},{"$f":"IF($C40=\"ACTIVE\",IF(ISTEXT(VLOOKUP($A40,Form!$A$4:$T$54,12,FALSE)),VLOOKUP($A40,Form!$A$4:$T$54,12,FALSE),\"\"),\"\")","v":""},{"$f":"IF($C40=\"ACTIVE\",IF(ISTEXT(VLOOKUP($A40,Form!$A$4:$T$54,13,FALSE)),VLOOKUP($A40,Form!$A$4:$T$54,13,FALSE),\"\"),\"\")","v":""},{"$f":"IF($C40=\"ACTIVE\",IF(ISTEXT(VLOOKUP($A40,Form!$A$4:$T$54,15,FALSE)),VLOOKUP($A40,Form!$A$4:$T$54,15,FALSE),\"\"),\"\")","v":""},"","",{"$f":"IF($C40=\"ACTIVE\",\"N/A\",\"\")","v":""},"","","","",null,null,null,null,null,"",null,"","","","",null,null,null,null,null,null,null,null,null,null,null,null,null,null,null,null,null,null,"",null,null,null,""]
[35,{"$f":"IF(ISNA(VLOOKUP($A41,Form!$A$5:$T$54,3,FALSE)),\"\",VLOOKUP($A41,Form!$A$5:$T$54,3,FALSE))","v":""},"","","",null,{"$f":"IF($C41=\"ACTIVE\",IF(ISTEXT(VLOOKUP($B41,Form!$C$5:$T$54,8,FALSE)),VLOOKUP($B41,Form!$C$5:$T$54,8,FALSE),\"\"),\"\")","v":""},{"$f":"IF($C41=\"ACTIVE\",IF(ISTEXT(VLOOKUP($A41,Form!$A$4:$T$54,11,FALSE)),VLOOKUP($A41,Form!$A$4:$T$54,11,FALSE),\"\"),\"\")","v":""},{"$f":"IF($C41=\"ACTIVE\",IF(ISTEXT(VLOOKUP($A41,Form!$A$4:$T$54,12,FALSE)),VLOOKUP($A41,Form!$A$4:$T$54,12,FALSE),\"\"),\"\")","v":""},{"$f":"IF($C41=\"ACTIVE\",IF(ISTEXT(VLOOKUP($A41,Form!$A$4:$T$54,13,FALSE)),VLOOKUP($A41,Form!$A$4:$T$54,13,FALSE),\"\"),\"\")","v":""},{"$f":"IF($C41=\"ACTIVE\",IF(ISTEXT(VLOOKUP($A41,Form!$A$4:$T$54,15,FALSE)),VLOOKUP($A41,Form!$A$4:$T$54,15,FALSE),\"\"),\"\")","v":""},"","","","","","","",null,null,null,null,null,"",null,"","","","",null,null,null,null,null,null,null,null,null,null,null,null,null,null,null,null,null,null,"",null,null,null,""]
[36,{"$f":"IF(ISNA(VLOOKUP($A42,Form!$A$5:$T$54,3,FALSE)),\"\",VLOOKUP($A42,Form!$A$5:$T$54,3,FALSE))","v":""},"","","",null,{"$f":"IF($C42=\"ACTIVE\",IF(ISTEXT(VLOOKUP($B42,Form!$C$5:$T$54,8,FALSE)),VLOOKUP($B42,Form!$C$5:$T$54,8,FALSE),\"\"),\"\")","v":""},{"$f":"IF($C42=\"ACTIVE\",IF(ISTEXT(VLOOKUP($A42,Form!$A$4:$T$54,11,FALSE)),VLOOKUP($A42,Form!$A$4:$T$54,11,FALSE),\"\"),\"\")","v":""},{"$f":"IF($C42=\"ACTIVE\",IF(ISTEXT(VLOOKUP($A42,Form!$A$4:$T$54,12,FALSE)),VLOOKUP($A42,Form!$A$4:$T$54,12,FALSE),\"\"),\"\")","v":""},{"$f":"IF($C42=\"ACTIVE\",IF(ISTEXT(VLOOKUP($A42,Form!$A$4:$T$54,13,FALSE)),VLOOKUP($A42,Form!$A$4:$T$54,13,FALSE),\"\"),\"\")","v":""},{"$f":"IF($C42=\"ACTIVE\",IF(ISTEXT(VLOOKUP($A42,Form!$A$4:$T$54,15,FALSE)),VLOOKUP($A42,Form!$A$4:$T$54,15,FALSE),\"\"),\"\")","v":""},"","","","","","","",null,null,null,null,null,"",null,"","","","",null,null,null,null,null,null,null,null,null,null,null,null,null,null,null,null,null,null,"",null,null,null,""]
[37,{"$f":"IF(ISNA(VLOOKUP($A43,Form!$A$5:$T$54,3,FALSE)),\"\",VLOOKUP($A43,Form!$A$5:$T$54,3,FALSE))","v":""},"","","",null,{"$f":"IF($C43=\"ACTIVE\",IF(ISTEXT(VLOOKUP($B43,Form!$C$5:$T$54,8,FALSE)),VLOOKUP($B43,Form!$C$5:$T$54,8,FALSE),\"\"),\"\")","v":""},{"$f":"IF($C43=\"ACTIVE\",IF(ISTEXT(VLOOKUP($A43,Form!$A$4:$T$54,11,FALSE)),VLOOKUP($A43,Form!$A$4:$T$54,11,FALSE),\"\"),\"\")","v":""},{"$f":"IF($C43=\"ACTIVE\",IF(ISTEXT(VLOOKUP($A43,Form!$A$4:$T$54,12,FALSE)),VLOOKUP($A43,Form!$A$4:$T$54,12,FALSE),\"\"),\"\")","v":""},{"$f":"IF($C43=\"ACTIVE\",IF(ISTEXT(VLOOKUP($A43,Form!$A$4:$T$54,13,FALSE)),VLOOKUP($A43,Form!$A$4:$T$54,13,FALSE),\"\"),\"\")","v":""},{"$f":"IF($C43=\"ACTIVE\",IF(ISTEXT(VLOOKUP($A43,Form!$A$4:$T$54,15,FALSE)),VLOOKUP($A43,Form!$A$4:$T$54,15,FALSE),\"\"),\"\")","v":""},"","","","","","","",null,null,null,null,null,"",null,"","","","",null,null,null,null,null,null,null,null,null,null,null,null,null,null,null,null,null,null,"",null,null,null,""]
[38,{"$f":"IF(ISNA(VLOOKUP($A44,Form!$A$5:$T$54,3,FALSE)),\"\",VLOOKUP($A44,Form!$A$5:$T$54,3,FALSE))","v":""},"","","",null,{"$f":"IF($C44=\"ACTIVE\",IF(ISTEXT(VLOOKUP($B44,Form!$C$5:$T$54,8,FALSE)),VLOOKUP($B44,Form!$C$5:$T$54,8,FALSE),\"\"),\"\")","v":""},{"$f":"IF($C44=\"ACTIVE\",IF(ISTEXT(VLOOKUP($A44,Form!$A$4:$T$54,11,FALSE)),VLOOKUP($A44,Form!$A$4:$T$54,11,FALSE),\"\"),\"\")","v":""},{"$f":"IF($C44=\"ACTIVE\",IF(ISTEXT(VLOOKUP($A44,Form!$A$4:$T$54,12,FALSE)),VLOOKUP($A44,Form!$A$4:$T$54,12,FALSE),\"\"),\"\")","v":""},{"$f":"IF($C44=\"ACTIVE\",IF(ISTEXT(VLOOKUP($A44,Form!$A$4:$T$54,13,FALSE)),VLOOKUP($A44,Form!$A$4:$T$54,13,FALSE),\"\"),\"\")","v":""},{"$f":"IF($C44=\"ACTIVE\",IF(ISTEXT(VLOOKUP($A44,Form!$A$4:$T$54,15,FALSE)),VLOOKUP($A44,Form!$A$4:$T$54,15,FALSE),\"\"),\"\")","v":""},"","","","","","","",null,null,null,null,null,"",null,"","","","",null,null,null,null,null,null,null,null,null,null,null,null,null,null,null,null,null,null,"",null,null,null,""]
[39,{"$f":"IF(ISNA(VLOOKUP($A45,Form!$A$5:$T$54,3,FALSE)),\"\",VLOOKUP($A45,Form!$A$5:$T$54,3,FALSE))","v":""},"","","",null,{"$f":"IF($C45=\"ACTIVE\",IF(ISTEXT(VLOOKUP($B45,Form!$C$5:$T$54,8,FALSE)),VLOOKUP($B45,Form!$C$5:$T$54,8,FALSE),\"\"),\"\")","v":""},{"$f":"IF($C45=\"ACTIVE\",IF(ISTEXT(VLOOKUP($A45,Form!$A$4:$T$54,11,FALSE)),VLOOKUP($A45,Form!$A$4:$T$54,11,FALSE),\"\"),\"\")","v":""},{"$f":"IF($C45=\"ACTIVE\",IF(ISTEXT(VLOOKUP($A45,Form!$A$4:$T$54,12,FALSE)),VLOOKUP($A45,Form!$A$4:$T$54,12,FALSE),\"\"),\"\")","v":""},{"$f":"IF($C45=\"ACTIVE\",IF(ISTEXT(VLOOKUP($A45,Form!$A$4:$T$54,13,FALSE)),VLOOKUP($A45,Form!$A$4:$T$54,13,FALSE),\"\"),\"\")","v":""},{"$f":"IF($C45=\"ACTIVE\",IF(ISTEXT(VLOOKUP($A45,Form!$A$4:$T$54,15,FALSE)),VLOOKUP($A45,Form!$A$4:$T$54,15,FALSE),\"\"),\"\")","v":""},"","","","","","","",null,null,null,null,null,"",null,"","","","",null,null,null,null,null,null,null,null,null,null,null,null,null,null,null,null,null,null,"",null,null,null,""]
[40,{"$f":"IF(ISNA(VLOOKUP($A46,Form!$A$5:$T$54,3,FALSE)),\"\",VLOOKUP($A46,Form!$A$5:$T$54,3,FALSE))","v":""},"","","",null,{"$f":"IF($C46=\"ACTIVE\",IF(ISTEXT(VLOOKUP($B46,Form!$C$5:$T$54,8,FALSE)),VLOOKUP($B46,Form!$C$5:$T$54,8,FALSE),\"\"),\"\")","v":""},{"$f":"IF($C46=\"ACTIVE\",IF(ISTEXT(VLOOKUP($A46,Form!$A$4:$T$54,11,FALSE)),VLOOKUP($A46,Form!$A$4:$T$54,11,FALSE),\"\"),\"\")","v":""},{"$f":"IF($C46=\"ACTIVE\",IF(ISTEXT(VLOOKUP($A46,Form!$A$4:$T$54,12,FALSE)),VLOOKUP($A46,Form!$A$4:$T$54,12,FALSE),\"\"),\"\")","v":""},{"$f":"IF($C46=\"ACTIVE\",IF(ISTEXT(VLOOKUP($A46,Form!$A$4:$T$54,13,FALSE)),VLOOKUP($A46,Form!$A$4:$T$54,13,FALSE),\"\"),\"\")","v":""},{"$f":"IF($C46=\"ACTIVE\",IF(ISTEXT(VLOOKUP($A46,Form!$A$4:$T$54,15,FALSE)),VLOOKUP($A46,Form!$A$4:$T$54,15,FALSE),\"\"),\"\")","v":""},"","","","","","","",null,null,null,null,null,"",null,"","","","",null,null,null,null,null,null,null,null,null,null,null,null,null,null,null,null,null,null,"",null,null,null,""]
[41,{"$f":"IF(ISNA(VLOOKUP($A47,Form!$A$5:$T$54,3,FALSE)),\"\",VLOOKUP($A47,Form!$A$5:$T$54,3,FALSE))","v":""},"","","",null,{"$f":"IF($C47=\"ACTIVE\",IF(ISTEXT(VLOOKUP($B47,Form!$C$5:$T$54,8,FALSE)),VLOOKUP($B47,Form!$C$5:$T$54,8,FALSE),\"\"),\"\")","v":""},{"$f":"IF($C47=\"ACTIVE\",IF(ISTEXT(VLOOKUP($A47,Form!$A$4:$T$54,11,FALSE)),VLOOKUP($A47,Form!$A$4:$T$54,11,FALSE),\"\"),\"\")","v":""},{"$f":"IF($C47=\"ACTIVE\",IF(ISTEXT(VLOOKUP($A47,Form!$A$4:$T$54,12,FALSE)),VLOOKUP($A47,Form!$A$4:$T$54,12,FALSE),\"\"),\"\")","v":""},{"$f":"IF($C47=\"ACTIVE\",IF(ISTEXT(VLOOKUP($A47,Form!$A$4:$T$54,13,FALSE)),VLOOKUP($A47,Form!$A$4:$T$54,13,FALSE),\"\"),\"\")","v":""},{"$f":"IF($C47=\"ACTIVE\",IF(ISTEXT(VLOOKUP($A47,Form!$A$4:$T$54,15,FALSE)),VLOOKUP($A47,Form!$A$4:$T$54,15,FALSE),\"\"),\"\")","v":""},"","","","","","","",null,null,null,null,null,"",null,"","","","",null,null,null,null,null,null,null,null,null,null,null,null,null,null,null,null,null,null,"",null,null,null,""]
[42,{"$f":"IF(ISNA(VLOOKUP($A48,Form!$A$5:$T$54,3,FALSE)),\"\",VLOOKUP($A48,Form!$A$5:$T$54,3,FALSE))","v":""},"","","",null,{"$f":"IF($C48=\"ACTIVE\",IF(ISTEXT(VLOOKUP($B48,Form!$C$5:$T$54,8,FALSE)),VLOOKUP($B48,Form!$C$5:$T$54,8,FALSE),\"\"),\"\")","v":""},{"$f":"IF($C48=\"ACTIVE\",IF(ISTEXT(VLOOKUP($A48,Form!$A$4:$T$54,11,FALSE)),VLOOKUP($A48,Form!$A$4:$T$54,11,FALSE),\"\"),\"\")","v":""},{"$f":"IF($C48=\"ACTIVE\",IF(ISTEXT(VLOOKUP($A48,Form!$A$4:$T$54,12,FALSE)),VLOOKUP($A48,Form!$A$4:$T$54,12,FALSE),\"\"),\"\")","v":""},{"$f":"IF($C48=\"ACTIVE\",IF(ISTEXT(VLOOKUP($A48,Form!$A$4:$T$54,13,FALSE)),VLOOKUP($A48,Form!$A$4:$T$54,13,FALSE),\"\"),\"\")","v":""},{"$f":"IF($C48=\"ACTIVE\",IF(ISTEXT(VLOOKUP($A48,Form!$A$4:$T$54,15,FALSE)),VLOOKUP($A48,Form!$A$4:$T$54,15,FALSE),\"\"),\"\")","v":""},"","","","","","","",null,null,null,null,null,"",null,"","","","",null,null,null,null,null,null,null,null,null,null,null,null,null,null,null,null,null,null,"",null,null,null,""]
[43,{"$f":"IF(ISNA(VLOOKUP($A49,Form!$A$5:$T$54,3,FALSE)),\"\",VLOOKUP($A49,Form!$A$5:$T$54,3,FALSE))","v":""},"","","",null,{"$f":"IF($C49=\"ACTIVE\",IF(ISTEXT(VLOOKUP($B49,Form!$C$5:$T$54,8,FALSE)),VLOOKUP($B49,Form!$C$5:$T$54,8,FALSE),\"\"),\"\")","v":""},{"$f":"IF($C49=\"ACTIVE\",IF(ISTEXT(VLOOKUP($A49,Form!$A$4:$T$54,11,FALSE)),VLOOKUP($A49,Form!$A$4:$T$54,11,FALSE),\"\"),\"\")","v":""},{"$f":"IF($C49=\"ACTIVE\",IF(ISTEXT(VLOOKUP($A49,Form!$A$4:$T$54,12,FALSE)),VLOOKUP($A49,Form!$A$4:$T$54,12,FALSE),\"\"),\"\")","v":""},{"$f":"IF($C49=\"ACTIVE\",IF(ISTEXT(VLOOKUP($A49,Form!$A$4:$T$54,13,FALSE)),VLOOKUP($A49,Form!$A$4:$T$54,13,FALSE),\"\"),\"\")","v":""},{"$f":"IF($C49=\"ACTIVE\",IF(ISTEXT(VLOOKUP($A49,Form!$A$4:$T$54,15,FALSE)),VLOOKUP($A49,Form!$A$4:$T$54,15,FALSE),\"\"),\"\")","v":""},"","","","","","","",null,null,null,null,null,"",null,"","","","",null,null,null,null,null,null,null,null,null,null,null,null,null,null,null,null,null,null,"",null,null,null,""]
[44,{"$f":"IF(ISNA(VLOOKUP($A50,Form!$A$5:$T$54,3,FALSE)),\"\",VLOOKUP($A50,Form!$A$5:$T$54,3,FALSE))","v":""},"","","",null,{"$f":"IF($C50=\"ACTIVE\",IF(ISTEXT(VLOOKUP($B50,Form!$C$5:$T$54,8,FALSE)),VLOOKUP($B50,Form!$C$5:$T$54,8,FALSE),\"\"),\"\")","v":""},{"$f":"IF($C50=\"ACTIVE\",IF(ISTEXT(VLOOKUP($A50,Form!$A$4:$T$54,11,FALSE)),VLOOKUP($A50,Form!$A$4:$T$54,11,FALSE),\"\"),\"\")","v":""},{"$f":"IF($C50=\"ACTIVE\",IF(ISTEXT(VLOOKUP($A50,Form!$A$4:$T$54,12,FALSE)),VLOOKUP($A50,Form!$A$4:$T$54,12,FALSE),\"\"),\"\")","v":""},{"$f":"IF($C50=\"ACTIVE\",IF(ISTEXT(VLOOKUP($A50,Form!$A$4:$T$54,13,FALSE)),VLOOKUP($A50,Form!$A$4:$T$54,13,FALSE),\"\"),\"\")","v":""},{"$f":"IF($C50=\"ACTIVE\",IF(ISTEXT(VLOOKUP($A50,Form!$A$4:$T$54,15,FALSE)),VLOOKUP($A50,Form!$A$4:$T$54,15,FALSE),\"\"),\"\")","v":""},"","","","","","","",null,null,null,null,null,"",null,"","","","",null,null,null,null,null,null,null,null,null,null,null,null,null,null,null,null,null,null,"",null,null,null,""]
[45,{"$f":"IF(ISNA(VLOOKUP($A51,Form!$A$5:$T$54,3,FALSE)),\"\",VLOOKUP($A51,Form!$A$5:$T$54,3,FALSE))","v":""},"","","",null,{"$f":"IF($C51=\"ACTIVE\",IF(ISTEXT(VLOOKUP($B51,Form!$C$5:$T$54,8,FALSE)),VLOOKUP($B51,Form!$C$5:$T$54,8,FALSE),\"\"),\"\")","v":""},{"$f":"IF($C51=\"ACTIVE\",IF(ISTEXT(VLOOKUP($A51,Form!$A$4:$T$54,11,FALSE)),VLOOKUP($A51,Form!$A$4:$T$54,11,FALSE),\"\"),\"\")","v":""},{"$f":"IF($C51=\"ACTIVE\",IF(ISTEXT(VLOOKUP($A51,Form!$A$4:$T$54,12,FALSE)),VLOOKUP($A51,Form!$A$4:$T$54,12,FALSE),\"\"),\"\")","v":""},{"$f":"IF($C51=\"ACTIVE\",IF(ISTEXT(VLOOKUP($A51,Form!$A$4:$T$54,13,FALSE)),VLOOKUP($A51,Form!$A$4:$T$54,13,FALSE),\"\"),\"\")","v":""},{"$f":"IF($C51=\"ACTIVE\",IF(ISTEXT(VLOOKUP($A51,Form!$A$4:$T$54,15,FALSE)),VLOOKUP($A51,Form!$A$4:$T$54,15,FALSE),\"\"),\"\")","v":""},"","","","","","","",null,null,null,null,null,"",null,"","","","",null,null,null,null,null,null,null,null,null,null,null,null,null,null,null,null,null,null,"",null,null,null,""]
[46,{"$f":"IF(ISNA(VLOOKUP($A52,Form!$A$5:$T$54,3,FALSE)),\"\",VLOOKUP($A52,Form!$A$5:$T$54,3,FALSE))","v":""},"","","",null,{"$f":"IF($C52=\"ACTIVE\",IF(ISTEXT(VLOOKUP($B52,Form!$C$5:$T$54,8,FALSE)),VLOOKUP($B52,Form!$C$5:$T$54,8,FALSE),\"\"),\"\")","v":""},{"$f":"IF($C52=\"ACTIVE\",IF(ISTEXT(VLOOKUP($A52,Form!$A$4:$T$54,11,FALSE)),VLOOKUP($A52,Form!$A$4:$T$54,11,FALSE),\"\"),\"\")","v":""},{"$f":"IF($C52=\"ACTIVE\",IF(ISTEXT(VLOOKUP($A52,Form!$A$4:$T$54,12,FALSE)),VLOOKUP($A52,Form!$A$4:$T$54,12,FALSE),\"\"),\"\")","v":""},{"$f":"IF($C52=\"ACTIVE\",IF(ISTEXT(VLOOKUP($A52,Form!$A$4:$T$54,13,FALSE)),VLOOKUP($A52,Form!$A$4:$T$54,13,FALSE),\"\"),\"\")","v":""},{"$f":"IF($C52=\"ACTIVE\",IF(ISTEXT(VLOOKUP($A52,Form!$A$4:$T$54,15,FALSE)),VLOOKUP($A52,Form!$A$4:$T$54,15,FALSE),\"\"),\"\")","v":""},"","","","","","","",null,null,null,null,null,"",null,"","","","",null,null,null,null,null,null,null,null,null,null,null,null,null,null,null,null,null,null,"",null,null,null,""]
[47,{"$f":"IF(ISNA(VLOOKUP($A53,Form!$A$5:$T$54,3,FALSE)),\"\",VLOOKUP($A53,Form!$A$5:$T$54,3,FALSE))","v":""},"","","",null,{"$f":"IF($C53=\"ACTIVE\",IF(ISTEXT(VLOOKUP($B53,Form!$C$5:$T$54,8,FALSE)),VLOOKUP($B53,Form!$C$5:$T$54,8,FALSE),\"\"),\"\")","v":""},{"$f":"IF($C53=\"ACTIVE\",IF(ISTEXT(VLOOKUP($A53,Form!$A$4:$T$54,11,FALSE)),VLOOKUP($A53,Form!$A$4:$T$54,11,FALSE),\"\"),\"\")","v":""},{"$f":"IF($C53=\"ACTIVE\",IF(ISTEXT(VLOOKUP($A53,Form!$A$4:$T$54,12,FALSE)),VLOOKUP($A53,Form!$A$4:$T$54,12,FALSE),\"\"),\"\")","v":""},{"$f":"IF($C53=\"ACTIVE\",IF(ISTEXT(VLOOKUP($A53,Form!$A$4:$T$54,13,FALSE)),VLOOKUP($A53,Form!$A$4:$T$54,13,FALSE),\"\"),\"\")","v":""},{"$f":"IF($C53=\"ACTIVE\",IF(ISTEXT(VLOOKUP($A53,Form!$A$4:$T$54,15,FALSE)),VLOOKUP($A53,Form!$A$4:$T$54,15,FALSE),\"\"),\"\")","v":""},"","","","","","","",null,null,null,null,null,"",null,"","","","",null,null,null,null,null,null,null,null,null,null,null,null,null,null,null,null,null,null,"",null,null,null,""]
[48,{"$f":"IF(ISNA(VLOOKUP($A54,Form!$A$5:$T$54,3,FALSE)),\"\",VLOOKUP($A54,Form!$A$5:$T$54,3,FALSE))","v":""},"","","",null,{"$f":"IF($C54=\"ACTIVE\",IF(ISTEXT(VLOOKUP($B54,Form!$C$5:$T$54,8,FALSE)),VLOOKUP($B54,Form!$C$5:$T$54,8,FALSE),\"\"),\"\")","v":""},{"$f":"IF($C54=\"ACTIVE\",IF(ISTEXT(VLOOKUP($A54,Form!$A$4:$T$54,11,FALSE)),VLOOKUP($A54,Form!$A$4:$T$54,11,FALSE),\"\"),\"\")","v":""},{"$f":"IF($C54=\"ACTIVE\",IF(ISTEXT(VLOOKUP($A54,Form!$A$4:$T$54,12,FALSE)),VLOOKUP($A54,Form!$A$4:$T$54,12,FALSE),\"\"),\"\")","v":""},{"$f":"IF($C54=\"ACTIVE\",IF(ISTEXT(VLOOKUP($A54,Form!$A$4:$T$54,13,FALSE)),VLOOKUP($A54,Form!$A$4:$T$54,13,FALSE),\"\"),\"\")","v":""},{"$f":"IF($C54=\"ACTIVE\",IF(ISTEXT(VLOOKUP($A54,Form!$A$4:$T$54,15,FALSE)),VLOOKUP($A54,Form!$A$4:$T$54,15,FALSE),\"\"),\"\")","v":""},"","","","","","","",null,null,null,null,null,"",null,"","","","",null,null,null,null,null,null,null,null,null,null,null,null,null,null,null,null,null,null,"",null,null,null,""]
[49,{"$f":"IF(ISNA(VLOOKUP($A55,Form!$A$5:$T$54,3,FALSE)),\"\",VLOOKUP($A55,Form!$A$5:$T$54,3,FALSE))","v":""},"","","",null,{"$f":"IF($C55=\"ACTIVE\",IF(ISTEXT(VLOOKUP($B55,Form!$C$5:$T$54,8,FALSE)),VLOOKUP($B55,Form!$C$5:$T$54,8,FALSE),\"\"),\"\")","v":""},{"$f":"IF($C55=\"ACTIVE\",IF(ISTEXT(VLOOKUP($A55,Form!$A$4:$T$54,11,FALSE)),VLOOKUP($A55,Form!$A$4:$T$54,11,FALSE),\"\"),\"\")","v":""},{"$f":"IF($C55=\"ACTIVE\",IF(ISTEXT(VLOOKUP($A55,Form!$A$4:$T$54,12,FALSE)),VLOOKUP($A55,Form!$A$4:$T$54,12,FALSE),\"\"),\"\")","v":""},{"$f":"IF($C55=\"ACTIVE\",IF(ISTEXT(VLOOKUP($A55,Form!$A$4:$T$54,13,FALSE)),VLOOKUP($A55,Form!$A$4:$T$54,13,FALSE),\"\"),\"\")","v":""},{"$f":"IF($C55=\"ACTIVE\",IF(ISTEXT(VLOOKUP($A55,Form!$A$4:$T$54,15,FALSE)),VLOOKUP($A55,Form!$A$4:$T$54,15,FALSE),\"\"),\"\")","v":""},"","","","","","","",null,null,null,null,null,"",null,"","","","",null,null,null,null,null,null,null,null,null,null,null,null,null,null,null,null,null,null,"",null,null,null,""]
[50,{"$f":"IF(ISNA(VLOOKUP($A56,Form!$A$5:$T$54,3,FALSE)),\"\",VLOOKUP($A56,Form!$A$5:$T$54,3,FALSE))","v":""},"","","",null,{"$f":"IF($C56=\"ACTIVE\",IF(ISTEXT(VLOOKUP($B56,Form!$C$5:$T$54,8,FALSE)),VLOOKUP($B56,Form!$C$5:$T$54,8,FALSE),\"\"),\"\")","v":""},{"$f":"IF($C56=\"ACTIVE\",IF(ISTEXT(VLOOKUP($A56,Form!$A$4:$T$54,11,FALSE)),VLOOKUP($A56,Form!$A$4:$T$54,11,FALSE),\"\"),\"\")","v":""},{"$f":"IF($C56=\"ACTIVE\",IF(ISTEXT(VLOOKUP($A56,Form!$A$4:$T$54,12,FALSE)),VLOOKUP($A56,Form!$A$4:$T$54,12,FALSE),\"\"),\"\")","v":""},{"$f":"IF($C56=\"ACTIVE\",IF(ISTEXT(VLOOKUP($A56,Form!$A$4:$T$54,13,FALSE)),VLOOKUP($A56,Form!$A$4:$T$54,13,FALSE),\"\"),\"\")","v":""},{"$f":"IF($C56=\"ACTIVE\",IF(ISTEXT(VLOOKUP($A56,Form!$A$4:$T$54,15,FALSE)),VLOOKUP($A56,Form!$A$4:$T$54,15,FALSE),\"\"),\"\")","v":""},"","","","","","","",null,null,null,null,null,"",null,"","","","",null,null,null,null,null,null,null,null,null,null,null,null,null,null,null,null,null,null,"",null,null,null,""]

{"sheet":"LMS_H_PersonalInfo_Import","index":6,"n_rows":53,"n_cols":43,"rows_kept":53,"cut":false,"hidden":true,"merged":[[0,0,0,5]]}
["LMS Personal Info Import Sheet"]
[]
["^UserId","ssn","dateOfBirth","citizenship","nationality","ethnicity","married","minority","businessSegment","serviceDate","level","photo","function","performance","potential","objective","competency","talentPool","riskOfLoss","impactOfLoss","benchStrength","reasonForLeaving","newToPosition","dateOfPosition","keyPosition","futureLeader","matrixManaged","companyCode","personnelSubArea","ausgridJobFamily","ausgridJobRole","costCentre","substationKey","datekeyIssue","sealingPliers","elecLicNo","elecLicNoExpDate","contLicNo","contLicNoExpDate","primaryCompandABN","secondaryCompandABN","ESINo","Domain"]
[{"$f":"IF(ISBLANK(LMS_Users_H_Import!D7),\"\",LMS_Users_H_Import!D7)","v":""},null,null,null,null,null,null,null,null,null,null,null,null,null,null,null,null,null,null,null,null,null,null,null,null,null,null,{"$f":"IF(LEN(LMS_Users_H_Import!D7)>0,CompanyCode,\"\")","v":""},null,null,null,null,null,null,null,null,null,null,null,null,null,null,{"$f":"IF(LEN(LMS_Users_H_Import!D7)>0,\"Externals\",\"\")","v":""}]
[{"$f":"IF(ISBLANK(LMS_Users_H_Import!D8),\"\",LMS_Users_H_Import!D8)","v":""},null,null,null,null,null,null,null,null,null,null,null,null,null,null,null,null,null,null,null,null,null,null,null,null,null,null,{"$f":"IF(LEN(LMS_Users_H_Import!D8)>0,CompanyCode,\"\")","v":""},null,null,null,null,null,null,null,null,null,null,null,null,null,null,{"$f":"IF(LEN(LMS_Users_H_Import!D8)>0,\"Externals\",\"\")","v":""}]
[{"$f":"IF(ISBLANK(LMS_Users_H_Import!D9),\"\",LMS_Users_H_Import!D9)","v":""},null,null,null,null,null,null,null,null,null,null,null,null,null,null,null,null,null,null,null,null,null,null,null,null,null,null,{"$f":"IF(LEN(LMS_Users_H_Import!D9)>0,CompanyCode,\"\")","v":""},null,null,null,null,null,null,null,null,null,null,null,null,null,null,{"$f":"IF(LEN(LMS_Users_H_Import!D9)>0,\"Externals\",\"\")","v":""}]
[{"$f":"IF(ISBLANK(LMS_Users_H_Import!D10),\"\",LMS_Users_H_Import!D10)","v":""},null,null,null,null,null,null,null,null,null,null,null,null,null,null,null,null,null,null,null,null,null,null,null,null,null,null,{"$f":"IF(LEN(LMS_Users_H_Import!D10)>0,CompanyCode,\"\")","v":""},null,null,null,null,null,null,null,null,null,null,null,null,null,null,{"$f":"IF(LEN(LMS_Users_H_Import!D10)>0,\"Externals\",\"\")","v":""}]
[{"$f":"IF(ISBLANK(LMS_Users_H_Import!D11),\"\",LMS_Users_H_Import!D11)","v":""},null,null,null,null,null,null,null,null,null,null,null,null,null,null,null,null,null,null,null,null,null,null,null,null,null,null,{"$f":"IF(LEN(LMS_Users_H_Import!D11)>0,CompanyCode,\"\")","v":""},null,null,null,null,null,null,null,null,null,null,null,null,null,null,{"$f":"IF(LEN(LMS_Users_H_Import!D11)>0,\"Externals\",\"\")","v":""}]
[{"$f":"IF(ISBLANK(LMS_Users_H_Import!D12),\"\",LMS_Users_H_Import!D12)","v":""},null,null,null,null,null,null,null,null,null,null,null,null,null,null,null,null,null,null,null,null,null,null,null,null,null,null,{"$f":"IF(LEN(LMS_Users_H_Import!D12)>0,CompanyCode,\"\")","v":""},null,null,null,null,null,null,null,null,null,null,null,null,null,null,{"$f":"IF(LEN(LMS_Users_H_Import!D12)>0,\"Externals\",\"\")","v":""}]
[{"$f":"IF(ISBLANK(LMS_Users_H_Import!D13),\"\",LMS_Users_H_Import!D13)","v":""},null,null,null,null,null,null,null,null,null,null,null,null,null,null,null,null,null,null,null,null,null,null,null,null,null,null,{"$f":"IF(LEN(LMS_Users_H_Import!D13)>0,CompanyCode,\"\")","v":""},null,null,null,null,null,null,null,null,null,null,null,null,null,null,{"$f":"IF(LEN(LMS_Users_H_Import!D13)>0,\"Externals\",\"\")","v":""}]
[{"$f":"IF(ISBLANK(LMS_Users_H_Import!D14),\"\",LMS_Users_H_Import!D14)","v":""},null,null,null,null,null,null,null,null,null,null,null,null,null,null,null,null,null,null,null,null,null,null,null,null,null,null,{"$f":"IF(LEN(LMS_Users_H_Import!D14)>0,CompanyCode,\"\")","v":""},null,null,null,null,null,null,null,null,null,null,null,null,null,null,{"$f":"IF(LEN(LMS_Users_H_Import!D14)>0,\"Externals\",\"\")","v":""}]
[{"$f":"IF(ISBLANK(LMS_Users_H_Import!D15),\"\",LMS_Users_H_Import!D15)","v":""},null,null,null,null,null,null,null,null,null,null,null,null,null,null,null,null,null,null,null,null,null,null,null,null,null,null,{"$f":"IF(LEN(LMS_Users_H_Import!D15)>0,CompanyCode,\"\")","v":""},null,null,null,null,null,null,null,null,null,null,null,null,null,null,{"$f":"IF(LEN(LMS_Users_H_Import!D15)>0,\"Externals\",\"\")","v":""}]
[{"$f":"IF(ISBLANK(LMS_Users_H_Import!D16),\"\",LMS_Users_H_Import!D16)","v":""},null,null,null,null,null,null,null,null,null,null,null,null,null,null,null,null,null,null,null,null,null,null,null,null,null,null,{"$f":"IF(LEN(LMS_Users_H_Import!D16)>0,CompanyCode,\"\")","v":""},null,null,null,null,null,null,null,null,null,null,null,null,null,null,{"$f":"IF(LEN(LMS_Users_H_Import!D16)>0,\"Externals\",\"\")","v":""}]
[{"$f":"IF(ISBLANK(LMS_Users_H_Import!D17),\"\",LMS_Users_H_Import!D17)","v":""},null,null,null,null,null,null,null,null,null,null,null,null,null,null,null,null,null,null,null,null,null,null,null,null,null,null,{"$f":"IF(LEN(LMS_Users_H_Import!D17)>0,CompanyCode,\"\")","v":""},null,null,null,null,null,null,null,null,null,null,null,null,null,null,{"$f":"IF(LEN(LMS_Users_H_Import!D17)>0,\"Externals\",\"\")","v":""}]
[{"$f":"IF(ISBLANK(LMS_Users_H_Import!D18),\"\",LMS_Users_H_Import!D18)","v":""},null,null,null,null,null,null,null,null,null,null,null,null,null,null,null,null,null,null,null,null,null,null,null,null,null,null,{"$f":"IF(LEN(LMS_Users_H_Import!D18)>0,CompanyCode,\"\")","v":""},null,null,null,null,null,null,null,null,null,null,null,null,null,null,{"$f":"IF(LEN(LMS_Users_H_Import!D18)>0,\"Externals\",\"\")","v":""}]
[{"$f":"IF(ISBLANK(LMS_Users_H_Import!D19),\"\",LMS_Users_H_Import!D19)","v":""},null,null,null,null,null,null,null,null,null,null,null,null,null,null,null,null,null,null,null,null,null,null,null,null,null,null,{"$f":"IF(LEN(LMS_Users_H_Import!D19)>0,CompanyCode,\"\")","v":""},null,null,null,null,null,null,null,null,null,null,null,null,null,null,{"$f":"IF(LEN(LMS_Users_H_Import!D19)>0,\"Externals\",\"\")","v":""}]
[{"$f":"IF(ISBLANK(LMS_Users_H_Import!D20),\"\",LMS_Users_H_Import!D20)","v":""},null,null,null,null,null,null,null,null,null,null,null,null,null,null,null,null,null,null,null,null,null,null,null,null,null,null,{"$f":"IF(LEN(LMS_Users_H_Import!D20)>0,CompanyCode,\"\")","v":""},null,null,null,null,null,null,null,null,null,null,null,null,null,null,{"$f":"IF(LEN(LMS_Users_H_Import!D20)>0,\"Externals\",\"\")","v":""}]
[{"$f":"IF(ISBLANK(LMS_Users_H_Import!D21),\"\",LMS_Users_H_Import!D21)","v":""},null,null,null,null,null,null,null,null,null,null,null,null,null,null,null,null,null,null,null,null,null,null,null,null,null,null,{"$f":"IF(LEN(LMS_Users_H_Import!D21)>0,CompanyCode,\"\")","v":""},null,null,null,null,null,null,null,null,null,null,null,null,null,null,{"$f":"IF(LEN(LMS_Users_H_Import!D21)>0,\"Externals\",\"\")","v":""}]
[{"$f":"IF(ISBLANK(LMS_Users_H_Import!D22),\"\",LMS_Users_H_Import!D22)","v":""},null,null,null,null,null,null,null,null,null,null,null,null,null,null,null,null,null,null,null,null,null,null,null,null,null,null,{"$f":"IF(LEN(LMS_Users_H_Import!D22)>0,CompanyCode,\"\")","v":""},null,null,null,null,null,null,null,null,null,null,null,null,null,null,{"$f":"IF(LEN(LMS_Users_H_Import!D22)>0,\"Externals\",\"\")","v":""}]
[{"$f":"IF(ISBLANK(LMS_Users_H_Import!D23),\"\",LMS_Users_H_Import!D23)","v":""},null,null,null,null,null,null,null,null,null,null,null,null,null,null,null,null,null,null,null,null,null,null,null,null,null,null,{"$f":"IF(LEN(LMS_Users_H_Import!D23)>0,CompanyCode,\"\")","v":""},null,null,null,null,null,null,null,null,null,null,null,null,null,null,{"$f":"IF(LEN(LMS_Users_H_Import!D23)>0,\"Externals\",\"\")","v":""}]
[{"$f":"IF(ISBLANK(LMS_Users_H_Import!D24),\"\",LMS_Users_H_Import!D24)","v":""},null,null,null,null,null,null,null,null,null,null,null,null,null,null,null,null,null,null,null,null,null,null,null,null,null,null,{"$f":"IF(LEN(LMS_Users_H_Import!D24)>0,CompanyCode,\"\")","v":""},null,null,null,null,null,null,null,null,null,null,null,null,null,null,{"$f":"IF(LEN(LMS_Users_H_Import!D24)>0,\"Externals\",\"\")","v":""}]
[{"$f":"IF(ISBLANK(LMS_Users_H_Import!D25),\"\",LMS_Users_H_Import!D25)","v":""},null,null,null,null,null,null,null,null,null,null,null,null,null,null,null,null,null,null,null,null,null,null,null,null,null,null,{"$f":"IF(LEN(LMS_Users_H_Import!D25)>0,CompanyCode,\"\")","v":""},null,null,null,null,null,null,null,null,null,null,null,null,null,null,{"$f":"IF(LEN(LMS_Users_H_Import!D25)>0,\"Externals\",\"\")","v":""}]
[{"$f":"IF(ISBLANK(LMS_Users_H_Import!D26),\"\",LMS_Users_H_Import!D26)","v":""},null,null,null,null,null,null,null,null,null,null,null,null,null,null,null,null,null,null,null,null,null,null,null,null,null,null,{"$f":"IF(LEN(LMS_Users_H_Import!D26)>0,CompanyCode,\"\")","v":""},null,null,null,null,null,null,null,null,null,null,null,null,null,null,{"$f":"IF(LEN(LMS_Users_H_Import!D26)>0,\"Externals\",\"\")","v":""}]
[{"$f":"IF(ISBLANK(LMS_Users_H_Import!D27),\"\",LMS_Users_H_Import!D27)","v":""},null,null,null,null,null,null,null,null,null,null,null,null,null,null,null,null,null,null,null,null,null,null,null,null,null,null,{"$f":"IF(LEN(LMS_Users_H_Import!D27)>0,CompanyCode,\"\")","v":""},null,null,null,null,null,null,null,null,null,null,null,null,null,null,{"$f":"IF(LEN(LMS_Users_H_Import!D27)>0,\"Externals\",\"\")","v":""}]
[{"$f":"IF(ISBLANK(LMS_Users_H_Import!D28),\"\",LMS_Users_H_Import!D28)","v":""},null,null,null,null,null,null,null,null,null,null,null,null,null,null,null,null,null,null,null,null,null,null,null,null,null,null,{"$f":"IF(LEN(LMS_Users_H_Import!D28)>0,CompanyCode,\"\")","v":""},null,null,null,null,null,null,null,null,null,null,null,null,null,null,{"$f":"IF(LEN(LMS_Users_H_Import!D28)>0,\"Externals\",\"\")","v":""}]
[{"$f":"IF(ISBLANK(LMS_Users_H_Import!D29),\"\",LMS_Users_H_Import!D29)","v":""},null,null,null,null,null,null,null,null,null,null,null,null,null,null,null,null,null,null,null,null,null,null,null,null,null,null,{"$f":"IF(LEN(LMS_Users_H_Import!D29)>0,CompanyCode,\"\")","v":""},null,null,null,null,null,null,null,null,null,null,null,null,null,null,{"$f":"IF(LEN(LMS_Users_H_Import!D29)>0,\"Externals\",\"\")","v":""}]
[{"$f":"IF(ISBLANK(LMS_Users_H_Import!D30),\"\",LMS_Users_H_Import!D30)","v":""},null,null,null,null,null,null,null,null,null,null,null,null,null,null,null,null,null,null,null,null,null,null,null,null,null,null,{"$f":"IF(LEN(LMS_Users_H_Import!D30)>0,CompanyCode,\"\")","v":""},null,null,null,null,null,null,null,null,null,null,null,null,null,null,{"$f":"IF(LEN(LMS_Users_H_Import!D30)>0,\"Externals\",\"\")","v":""}]
[{"$f":"IF(ISBLANK(LMS_Users_H_Import!D31),\"\",LMS_Users_H_Import!D31)","v":""},null,null,null,null,null,null,null,null,null,null,null,null,null,null,null,null,null,null,null,null,null,null,null,null,null,null,{"$f":"IF(LEN(LMS_Users_H_Import!D31)>0,CompanyCode,\"\")","v":""},null,null,null,null,null,null,null,null,null,null,null,null,null,null,{"$f":"IF(LEN(LMS_Users_H_Import!D31)>0,\"Externals\",\"\")","v":""}]
[{"$f":"IF(ISBLANK(LMS_Users_H_Import!D32),\"\",LMS_Users_H_Import!D32)","v":""},null,null,null,null,null,null,null,null,null,null,null,null,null,null,null,null,null,null,null,null,null,null,null,null,null,null,{"$f":"IF(LEN(LMS_Users_H_Import!D32)>0,CompanyCode,\"\")","v":""},null,null,null,null,null,null,null,null,null,null,null,null,null,null,{"$f":"IF(LEN(LMS_Users_H_Import!D32)>0,\"Externals\",\"\")","v":""}]
[{"$f":"IF(ISBLANK(LMS_Users_H_Import!D33),\"\",LMS_Users_H_Import!D33)","v":""},null,null,null,null,null,null,null,null,null,null,null,null,null,null,null,null,null,null,null,null,null,null,null,null,null,null,{"$f":"IF(LEN(LMS_Users_H_Import!D33)>0,CompanyCode,\"\")","v":""},null,null,null,null,null,null,null,null,null,null,null,null,null,null,{"$f":"IF(LEN(LMS_Users_H_Import!D33)>0,\"Externals\",\"\")","v":""}]
[{"$f":"IF(ISBLANK(LMS_Users_H_Import!D34),\"\",LMS_Users_H_Import!D34)","v":""},null,null,null,null,null,null,null,null,null,null,null,null,null,null,null,null,null,null,null,null,null,null,null,null,null,null,{"$f":"IF(LEN(LMS_Users_H_Import!D34)>0,CompanyCode,\"\")","v":""},null,null,null,null,null,null,null,null,null,null,null,null,null,null,{"$f":"IF(LEN(LMS_Users_H_Import!D34)>0,\"Externals\",\"\")","v":""}]
[{"$f":"IF(ISBLANK(LMS_Users_H_Import!D35),\"\",LMS_Users_H_Import!D35)","v":""},null,null,null,null,null,null,null,null,null,null,null,null,null,null,null,null,null,null,null,null,null,null,null,null,null,null,{"$f":"IF(LEN(LMS_Users_H_Import!D35)>0,CompanyCode,\"\")","v":""},null,null,null,null,null,null,null,null,null,null,null,null,null,null,{"$f":"IF(LEN(LMS_Users_H_Import!D35)>0,\"Externals\",\"\")","v":""}]
[{"$f":"IF(ISBLANK(LMS_Users_H_Import!D36),\"\",LMS_Users_H_Import!D36)","v":""},null,null,null,null,null,null,null,null,null,null,null,null,null,null,null,null,null,null,null,null,null,null,null,null,null,null,{"$f":"IF(LEN(LMS_Users_H_Import!D36)>0,CompanyCode,\"\")","v":""},null,null,null,null,null,null,null,null,null,null,null,null,null,null,{"$f":"IF(LEN(LMS_Users_H_Import!D36)>0,\"Externals\",\"\")","v":""}]
[{"$f":"IF(ISBLANK(LMS_Users_H_Import!D37),\"\",LMS_Users_H_Import!D37)","v":""},null,null,null,null,null,null,null,null,null,null,null,null,null,null,null,null,null,null,null,null,null,null,null,null,null,null,{"$f":"IF(LEN(LMS_Users_H_Import!D37)>0,CompanyCode,\"\")","v":""},null,null,null,null,null,null,null,null,null,null,null,null,null,null,{"$f":"IF(LEN(LMS_Users_H_Import!D37)>0,\"Externals\",\"\")","v":""}]
[{"$f":"IF(ISBLANK(LMS_Users_H_Import!D38),\"\",LMS_Users_H_Import!D38)","v":""},null,null,null,null,null,null,null,null,null,null,null,null,null,null,null,null,null,null,null,null,null,null,null,null,null,null,{"$f":"IF(LEN(LMS_Users_H_Import!D38)>0,CompanyCode,\"\")","v":""},null,null,null,null,null,null,null,null,null,null,null,null,null,null,{"$f":"IF(LEN(LMS_Users_H_Import!D38)>0,\"Externals\",\"\")","v":""}]
[{"$f":"IF(ISBLANK(LMS_Users_H_Import!D39),\"\",LMS_Users_H_Import!D39)","v":""},null,null,null,null,null,null,null,null,null,null,null,null,null,null,null,null,null,null,null,null,null,null,null,null,null,null,{"$f":"IF(LEN(LMS_Users_H_Import!D39)>0,CompanyCode,\"\")","v":""},null,null,null,null,null,null,null,null,null,null,null,null,null,null,{"$f":"IF(LEN(LMS_Users_H_Import!D39)>0,\"Externals\",\"\")","v":""}]
[{"$f":"IF(ISBLANK(LMS_Users_H_Import!D40),\"\",LMS_Users_H_Import!D40)","v":""},null,null,null,null,null,null,null,null,null,null,null,null,null,null,null,null,null,null,null,null,null,null,null,null,null,null,{"$f":"IF(LEN(LMS_Users_H_Import!D40)>0,CompanyCode,\"\")","v":""},null,null,null,null,null,null,null,null,null,null,null,null,null,null,{"$f":"IF(LEN(LMS_Users_H_Import!D40)>0,\"Externals\",\"\")","v":""}]
[{"$f":"IF(ISBLANK(LMS_Users_H_Import!D41),\"\",LMS_Users_H_Import!D41)","v":""},null,null,null,null,null,null,null,null,null,null,null,null,null,null,null,null,null,null,null,null,null,null,null,null,null,null,{"$f":"IF(LEN(LMS_Users_H_Import!D41)>0,CompanyCode,\"\")","v":""},null,null,null,null,null,null,null,null,null,null,null,null,null,null,{"$f":"IF(LEN(LMS_Users_H_Import!D41)>0,\"Externals\",\"\")","v":""}]
[{"$f":"IF(ISBLANK(LMS_Users_H_Import!D42),\"\",LMS_Users_H_Import!D42)","v":""},null,null,null,null,null,null,null,null,null,null,null,null,null,null,null,null,null,null,null,null,null,null,null,null,null,null,{"$f":"IF(LEN(LMS_Users_H_Import!D42)>0,CompanyCode,\"\")","v":""},null,null,null,null,null,null,null,null,null,null,null,null,null,null,{"$f":"IF(LEN(LMS_Users_H_Import!D42)>0,\"Externals\",\"\")","v":""}]
[{"$f":"IF(ISBLANK(LMS_Users_H_Import!D43),\"\",LMS_Users_H_Import!D43)","v":""},null,null,null,null,null,null,null,null,null,null,null,null,null,null,null,null,null,null,null,null,null,null,null,null,null,null,{"$f":"IF(LEN(LMS_Users_H_Import!D43)>0,CompanyCode,\"\")","v":""},null,null,null,null,null,null,null,null,null,null,null,null,null,null,{"$f":"IF(LEN(LMS_Users_H_Import!D43)>0,\"Externals\",\"\")","v":""}]
[{"$f":"IF(ISBLANK(LMS_Users_H_Import!D44),\"\",LMS_Users_H_Import!D44)","v":""},null,null,null,null,null,null,null,null,null,null,null,null,null,null,null,null,null,null,null,null,null,null,null,null,null,null,{"$f":"IF(LEN(LMS_Users_H_Import!D44)>0,CompanyCode,\"\")","v":""},null,null,null,null,null,null,null,null,null,null,null,null,null,null,{"$f":"IF(LEN(LMS_Users_H_Import!D44)>0,\"Externals\",\"\")","v":""}]
[{"$f":"IF(ISBLANK(LMS_Users_H_Import!D45),\"\",LMS_Users_H_Import!D45)","v":""},null,null,null,null,null,null,null,null,null,null,null,null,null,null,null,null,null,null,null,null,null,null,null,null,null,null,{"$f":"IF(LEN(LMS_Users_H_Import!D45)>0,CompanyCode,\"\")","v":""},null,null,null,null,null,null,null,null,null,null,null,null,null,null,{"$f":"IF(LEN(LMS_Users_H_Import!D45)>0,\"Externals\",\"\")","v":""}]
[{"$f":"IF(ISBLANK(LMS_Users_H_Import!D46),\"\",LMS_Users_H_Import!D46)","v":""},null,null,null,null,null,null,null,null,null,null,null,null,null,null,null,null,null,null,null,null,null,null,null,null,null,null,{"$f":"IF(LEN(LMS_Users_H_Import!D46)>0,CompanyCode,\"\")","v":""},null,null,null,null,null,null,null,null,null,null,null,null,null,null,{"$f":"IF(LEN(LMS_Users_H_Import!D46)>0,\"Externals\",\"\")","v":""}]
[{"$f":"IF(ISBLANK(LMS_Users_H_Import!D47),\"\",LMS_Users_H_Import!D47)","v":""},null,null,null,null,null,null,null,null,null,null,null,null,null,null,null,null,null,null,null,null,null,null,null,null,null,null,{"$f":"IF(LEN(LMS_Users_H_Import!D47)>0,CompanyCode,\"\")","v":""},null,null,null,null,null,null,null,null,null,null,null,null,null,null,{"$f":"IF(LEN(LMS_Users_H_Import!D47)>0,\"Externals\",\"\")","v":""}]
[{"$f":"IF(ISBLANK(LMS_Users_H_Import!D48),\"\",LMS_Users_H_Import!D48)","v":""},null,null,null,null,null,null,null,null,null,null,null,null,null,null,null,null,null,null,null,null,null,null,null,null,null,null,{"$f":"IF(LEN(LMS_Users_H_Import!D48)>0,CompanyCode,\"\")","v":""},null,null,null,null,null,null,null,null,null,null,null,null,null,null,{"$f":"IF(LEN(LMS_Users_H_Import!D48)>0,\"Externals\",\"\")","v":""}]
[{"$f":"IF(ISBLANK(LMS_Users_H_Import!D49),\"\",LMS_Users_H_Import!D49)","v":""},null,null,null,null,null,null,null,null,null,null,null,null,null,null,null,null,null,null,null,null,null,null,null,null,null,null,{"$f":"IF(LEN(LMS_Users_H_Import!D49)>0,CompanyCode,\"\")","v":""},null,null,null,null,null,null,null,null,null,null,null,null,null,null,{"$f":"IF(LEN(LMS_Users_H_Import!D49)>0,\"Externals\",\"\")","v":""}]
[{"$f":"IF(ISBLANK(LMS_Users_H_Import!D50),\"\",LMS_Users_H_Import!D50)","v":""},null,null,null,null,null,null,null,null,null,null,null,null,null,null,null,null,null,null,null,null,null,null,null,null,null,null,{"$f":"IF(LEN(LMS_Users_H_Import!D50)>0,CompanyCode,\"\")","v":""},null,null,null,null,null,null,null,null,null,null,null,null,null,null,{"$f":"IF(LEN(LMS_Users_H_Import!D50)>0,\"Externals\",\"\")","v":""}]
[{"$f":"IF(ISBLANK(LMS_Users_H_Import!D51),\"\",LMS_Users_H_Import!D51)","v":""},null,null,null,null,null,null,null,null,null,null,null,null,null,null,null,null,null,null,null,null,null,null,null,null,null,null,{"$f":"IF(LEN(LMS_Users_H_Import!D51)>0,CompanyCode,\"\")","v":""},null,null,null,null,null,null,null,null,null,null,null,null,null,null,{"$f":"IF(LEN(LMS_Users_H_Import!D51)>0,\"Externals\",\"\")","v":""}]
[{"$f":"IF(ISBLANK(LMS_Users_H_Import!D52),\"\",LMS_Users_H_Import!D52)","v":""},null,null,null,null,null,null,null,null,null,null,null,null,null,null,null,null,null,null,null,null,null,null,null,null,null,null,{"$f":"IF(LEN(LMS_Users_H_Import!D52)>0,CompanyCode,\"\")","v":""},null,null,null,null,null,null,null,null,null,null,null,null,null,null,{"$f":"IF(LEN(LMS_Users_H_Import!D52)>0,\"Externals\",\"\")","v":""}]
[{"$f":"IF(ISBLANK(LMS_Users_H_Import!D53),\"\",LMS_Users_H_Import!D53)","v":""},null,null,null,null,null,null,null,null,null,null,null,null,null,null,null,null,null,null,null,null,null,null,null,null,null,null,{"$f":"IF(LEN(LMS_Users_H_Import!D53)>0,CompanyCode,\"\")","v":""},null,null,null,null,null,null,null,null,null,null,null,null,null,null,{"$f":"IF(LEN(LMS_Users_H_Import!D53)>0,\"Externals\",\"\")","v":""}]
[{"$f":"IF(ISBLANK(LMS_Users_H_Import!D54),\"\",LMS_Users_H_Import!D54)","v":""},null,null,null,null,null,null,null,null,null,null,null,null,null,null,null,null,null,null,null,null,null,null,null,null,null,null,{"$f":"IF(LEN(LMS_Users_H_Import!D54)>0,CompanyCode,\"\")","v":""},null,null,null,null,null,null,null,null,null,null,null,null,null,null,{"$f":"IF(LEN(LMS_Users_H_Import!D54)>0,\"Externals\",\"\")","v":""}]
[{"$f":"IF(ISBLANK(LMS_Users_H_Import!D55),\"\",LMS_Users_H_Import!D55)","v":""},null,null,null,null,null,null,null,null,null,null,null,null,null,null,null,null,null,null,null,null,null,null,null,null,null,null,{"$f":"IF(LEN(LMS_Users_H_Import!D55)>0,CompanyCode,\"\")","v":""},null,null,null,null,null,null,null,null,null,null,null,null,null,null,{"$f":"IF(LEN(LMS_Users_H_Import!D55)>0,\"Externals\",\"\")","v":""}]
[{"$f":"IF(ISBLANK(LMS_Users_H_Import!D56),\"\",LMS_Users_H_Import!D56)","v":""},null,null,null,null,null,null,null,null,null,null,null,null,null,null,null,null,null,null,null,null,null,null,null,null,null,null,{"$f":"IF(LEN(LMS_Users_H_Import!D56)>0,CompanyCode,\"\")","v":""},null,null,null,null,null,null,null,null,null,null,null,null,null,null,{"$f":"IF(LEN(LMS_Users_H_Import!D56)>0,\"Externals\",\"\")","v":""}]

{"sheet":"LMS_Users_P_Import","index":7,"n_rows":55,"n_cols":53,"rows_kept":55,"cut":false,"hidden":true,"merged":[[0,0,0,7]]}
["LMS User Directory (P Numbers) Import Sheet"]
[]
[]
[null,null,"STATUS","USERID","USERNAME","SALUTATION","FIRSTNAME","LASTNAME","MI","GENDER","EMAIL","MANAGER","HR","DIVISION","DEPARTMENT","LOCATION","JOBCODE","TIMEZONE","HIREDATE","EMPID","TITLE","BIZ_PHONE","FAX","ADDR1","ADDR2","CITY","STATE","ZIP","COUNTRY","REVIEW_FREQ","LAST_REVIEW_DATE","CUSTOM01","CUSTOM02","CUSTOM03","CUSTOM04","CUSTOM05","CUSTOM06","CUSTOM07","CUSTOM08","CUSTOM09","CUSTOM10","CUSTOM11","CUSTOM12","CUSTOM13","CUSTOM14","CUSTOM15","MATRIX_MANAGER","DEFAULT_LOCALE","PROXY","CUSTOM_MANAGER","SECOND_MANAGER","LOGIN_METHOD","PERSON_ID_EXTERNAL"]
[null,null,"STATUS","USERID","Username","Salutation","First Name","Last Name","Middle Name","Gender","Email","Manager","Human Resource","Division","Branch","Location","Job Code","Time Zone","Service Date","Employee Id","Position","Business Phone","Work Mobile","Address 1","Address 2","City","State","Post Code","Country","Review Frequency","Last Review Date","Org Unit","Section","Employee Subgroup","Manager Level","Employment Status","Customizable Field 6","Customizable Field 7","Customizable Field 8","Customizable Field 9","Customizable Field 10","Customizable Field 11","Customizable Field 12","Customizable Field 13","Customizable Field 14","Customizable Field 15","Matrix Manager","Default Locale","Proxy","Custom Manager","Second Manager","Login Method","PERSON_ID_EXTERNAL"]
[1,{"$f":"IF(ISNA(VLOOKUP($A6,Form!$B$5:$T$54,2,FALSE)),\"\",VLOOKUP($A6,Form!$B$5:$T$54,2,FALSE))","v":""},{"$f":"IF(LEN(B6)>0,\"ACTIVE\",\"\")","v":""},{"$f":"IF($C6=\"ACTIVE\",IF(ISTEXT(VLOOKUP($B6,Form!$C$5:$T$54,7,FALSE)),VLOOKUP($B6,Form!$C$5:$T$54,7,FALSE),\"\"),\"\")","v":""},{"$f":"$D6","v":""},null,{"$f":"IF($C6=\"ACTIVE\",IF(ISTEXT(VLOOKUP($B6,Form!$C$5:$T$54,8,FALSE)),VLOOKUP($B6,Form!$C$5:$T$54,8,FALSE),\"\"),\"\")","v":""},{"$f":"IF($C6=\"ACTIVE\",IF(ISTEXT(VLOOKUP($B6,Form!$C$5:$T$54,9,FALSE)),VLOOKUP($B6,Form!$C$5:$T$54,9,FALSE),\"\"),\"\")","v":""},{"$f":"IF($C6=\"ACTIVE\",IF(ISTEXT(VLOOKUP($B6,Form!$C$5:$T$54,10,FALSE)),VLOOKUP($B6,Form!$C$5:$T$54,10,FALSE),\"\"),\"\")","v":""},{"$f":"IF($C6=\"ACTIVE\",IF(ISTEXT(VLOOKUP($B6,Form!$C$5:$T$54,11,FALSE)),VLOOKUP($B6,Form!$C$5:$T$54,11,FALSE),\"\"),\"\")","v":""},{"$f":"IF($C6=\"ACTIVE\",IF(ISTEXT(VLOOKUP($B6,Form!$C$5:$T$54,13,FALSE)),VLOOKUP($B6,Form!$C$5:$T$54,13,FALSE),\"\"),\"\")","v":""},{"$f":"IF($C6=\"ACTIVE\",\"NO_MANAGER\",\"\")","v":""},{"$f":"IF($C6=\"ACTIVE\",\"NO_HR\",\"\")","v":""},{"$f":"IF($C6=\"ACTIVE\",\"N/A\",\"\")","v":""},{"$f":"IF($C6=\"ACTIVE\",\"N/A\",\"\")","v":""},{"$f":"IF($C6=\"ACTIVE\",\"N/A\",\"\")","v":""},{"$f":"IF($C6=\"ACTIVE\",9999,\"\")","v":""},{"$f":"IF($C6=\"ACTIVE\",\"Australia/Sydney\",\"\")","v":""},null,null,null,null,null,{"$f":"IF($C6=\"ACTIVE\",\"570 George St\",\"\")","v":""},null,{"$f":"IF($C6=\"ACTIVE\",\"Sydney\",\"\")","v":""},{"$f":"IF($C6=\"ACTIVE\",\"NSW\",\"\")","v":""},{"$f":"IF($C6=\"ACTIVE\",2000,\"\")","v":""},{"$f":"IF($C6=\"ACTIVE\",\"Australia\",\"\")","v":""},null,null,null,null,null,null,null,null,null,null,null,null,null,null,null,null,null,null,{"$f":"IF($C6=\"ACTIVE\",\"en_GB\",\"\")","v":""},null,null,null,{"$f":"IF($C6=\"ACTIVE\",\"PWD\",\"\")","v":""}]
[2,{"$f":"IF(ISNA(VLOOKUP($A7,Form!$B$5:$T$54,2,FALSE)),\"\",VLOOKUP($A7,Form!$B$5:$T$54,2,FALSE))","v":""},{"$f":"IF(LEN(B7)>0,\"ACTIVE\",\"\")","v":""},{"$f":"IF($C7=\"ACTIVE\",IF(ISTEXT(VLOOKUP($B7,Form!$C$5:$T$54,7,FALSE)),VLOOKUP($B7,Form!$C$5:$T$54,7,FALSE),\"\"),\"\")","v":""},{"$f":"$D7","v":""},null,{"$f":"IF($C7=\"ACTIVE\",IF(ISTEXT(VLOOKUP($B7,Form!$C$5:$T$54,8,FALSE)),VLOOKUP($B7,Form!$C$5:$T$54,8,FALSE),\"\"),\"\")","v":""},{"$f":"IF($C7=\"ACTIVE\",IF(ISTEXT(VLOOKUP($B7,Form!$C$5:$T$54,9,FALSE)),VLOOKUP($B7,Form!$C$5:$T$54,9,FALSE),\"\"),\"\")","v":""},{"$f":"IF($C7=\"ACTIVE\",IF(ISTEXT(VLOOKUP($B7,Form!$C$5:$T$54,10,FALSE)),VLOOKUP($B7,Form!$C$5:$T$54,10,FALSE),\"\"),\"\")","v":""},{"$f":"IF($C7=\"ACTIVE\",IF(ISTEXT(VLOOKUP($B7,Form!$C$5:$T$54,11,FALSE)),VLOOKUP($B7,Form!$C$5:$T$54,11,FALSE),\"\"),\"\")","v":""},{"$f":"IF($C7=\"ACTIVE\",IF(ISTEXT(VLOOKUP($B7,Form!$C$5:$T$54,13,FALSE)),VLOOKUP($B7,Form!$C$5:$T$54,13,FALSE),\"\"),\"\")","v":""},{"$f":"IF($C7=\"ACTIVE\",\"NO_MANAGER\",\"\")","v":""},{"$f":"IF($C7=\"ACTIVE\",\"NO_HR\",\"\")","v":""},{"$f":"IF($C7=\"ACTIVE\",\"N/A\",\"\")","v":""},"","",{"$f":"IF($C7=\"ACTIVE\",9999,\"\")","v":""},{"$f":"IF($C7=\"ACTIVE\",\"Australia/Sydney\",\"\")","v":""},null,null,null,null,null,{"$f":"IF($C7=\"ACTIVE\",\"570 George St\",\"\")","v":""},null,{"$f":"IF($C7=\"ACTIVE\",\"Sydney\",\"\")","v":""},{"$f":"IF($C7=\"ACTIVE\",\"NSW\",\"\")","v":""},{"$f":"IF($C7=\"ACTIVE\",2000,\"\")","v":""},{"$f":"IF($C7=\"ACTIVE\",\"Australia\",\"\")","v":""},null,null,null,null,null,null,null,null,null,null,null,null,null,null,null,null,null,null,{"$f":"IF($C7=\"ACTIVE\",\"en_GB\",\"\")","v":""},null,null,null,{"$f":"IF($C7=\"ACTIVE\",\"PWD\",\"\")","v":""}]
[3,{"$f":"IF(ISNA(VLOOKUP($A8,Form!$B$5:$T$54,2,FALSE)),\"\",VLOOKUP($A8,Form!$B$5:$T$54,2,FALSE))","v":""},"",{"$f":"IF($C8=\"ACTIVE\",IF(ISTEXT(VLOOKUP($B8,Form!$C$5:$T$54,7,FALSE)),VLOOKUP($B8,Form!$C$5:$T$54,7,FALSE),\"\"),\"\")","v":""},"",null,{"$f":"IF($C8=\"ACTIVE\",IF(ISTEXT(VLOOKUP($B8,Form!$C$5:$T$54,8,FALSE)),VLOOKUP($B8,Form!$C$5:$T$54,8,FALSE),\"\"),\"\")","v":""},{"$f":"IF($C8=\"ACTIVE\",IF(ISTEXT(VLOOKUP($B8,Form!$C$5:$T$54,9,FALSE)),VLOOKUP($B8,Form!$C$5:$T$54,9,FALSE),\"\"),\"\")","v":""},{"$f":"IF($C8=\"ACTIVE\",IF(ISTEXT(VLOOKUP($B8,Form!$C$5:$T$54,10,FALSE)),VLOOKUP($B8,Form!$C$5:$T$54,10,FALSE),\"\"),\"\")","v":""},{"$f":"IF($C8=\"ACTIVE\",IF(ISTEXT(VLOOKUP($B8,Form!$C$5:$T$54,11,FALSE)),VLOOKUP($B8,Form!$C$5:$T$54,11,FALSE),\"\"),\"\")","v":""},{"$f":"IF($C8=\"ACTIVE\",IF(ISTEXT(VLOOKUP($B8,Form!$C$5:$T$54,13,FALSE)),VLOOKUP($B8,Form!$C$5:$T$54,13,FALSE),\"\"),\"\")","v":""},"","","","","","","",null,null,null,null,null,"",null,"","","","",null,null,null,null,null,null,null,null,null,null,null,null,null,null,null,null,null,null,"",null,null,null,""]
[4,{"$f":"IF(ISNA(VLOOKUP($A9,Form!$B$5:$T$54,2,FALSE)),\"\",VLOOKUP($A9,Form!$B$5:$T$54,2,FALSE))","v":""},"",{"$f":"IF($C9=\"ACTIVE\",IF(ISTEXT(VLOOKUP($B9,Form!$C$5:$T$54,7,FALSE)),VLOOKUP($B9,Form!$C$5:$T$54,7,FALSE),\"\"),\"\")","v":""},"",null,{"$f":"IF($C9=\"ACTIVE\",IF(ISTEXT(VLOOKUP($B9,Form!$C$5:$T$54,8,FALSE)),VLOOKUP($B9,Form!$C$5:$T$54,8,FALSE),\"\"),\"\")","v":""},{"$f":"IF($C9=\"ACTIVE\",IF(ISTEXT(VLOOKUP($B9,Form!$C$5:$T$54,9,FALSE)),VLOOKUP($B9,Form!$C$5:$T$54,9,FALSE),\"\"),\"\")","v":""},{"$f":"IF($C9=\"ACTIVE\",IF(ISTEXT(VLOOKUP($B9,Form!$C$5:$T$54,10,FALSE)),VLOOKUP($B9,Form!$C$5:$T$54,10,FALSE),\"\"),\"\")","v":""},{"$f":"IF($C9=\"ACTIVE\",IF(ISTEXT(VLOOKUP($B9,Form!$C$5:$T$54,11,FALSE)),VLOOKUP($B9,Form!$C$5:$T$54,11,FALSE),\"\"),\"\")","v":""},{"$f":"IF($C9=\"ACTIVE\",IF(ISTEXT(VLOOKUP($B9,Form!$C$5:$T$54,13,FALSE)),VLOOKUP($B9,Form!$C$5:$T$54,13,FALSE),\"\"),\"\")","v":""},"","","","","","","",null,null,null,null,null,"",null,"","","","",null,null,null,null,null,null,null,null,null,null,null,null,null,null,null,null,null,null,"",null,null,null,""]
[5,{"$f":"IF(ISNA(VLOOKUP($A10,Form!$B$5:$T$54,2,FALSE)),\"\",VLOOKUP($A10,Form!$B$5:$T$54,2,FALSE))","v":""},"",{"$f":"IF($C10=\"ACTIVE\",IF(ISTEXT(VLOOKUP($B10,Form!$C$5:$T$54,7,FALSE)),VLOOKUP($B10,Form!$C$5:$T$54,7,FALSE),\"\"),\"\")","v":""},"",null,{"$f":"IF($C10=\"ACTIVE\",IF(ISTEXT(VLOOKUP($B10,Form!$C$5:$T$54,8,FALSE)),VLOOKUP($B10,Form!$C$5:$T$54,8,FALSE),\"\"),\"\")","v":""},{"$f":"IF($C10=\"ACTIVE\",IF(ISTEXT(VLOOKUP($B10,Form!$C$5:$T$54,9,FALSE)),VLOOKUP($B10,Form!$C$5:$T$54,9,FALSE),\"\"),\"\")","v":""},{"$f":"IF($C10=\"ACTIVE\",IF(ISTEXT(VLOOKUP($B10,Form!$C$5:$T$54,10,FALSE)),VLOOKUP($B10,Form!$C$5:$T$54,10,FALSE),\"\"),\"\")","v":""},{"$f":"IF($C10=\"ACTIVE\",IF(ISTEXT(VLOOKUP($B10,Form!$C$5:$T$54,11,FALSE)),VLOOKUP($B10,Form!$C$5:$T$54,11,FALSE),\"\"),\"\")","v":""},{"$f":"IF($C10=\"ACTIVE\",IF(ISTEXT(VLOOKUP($B10,Form!$C$5:$T$54,13,FALSE)),VLOOKUP($B10,Form!$C$5:$T$54,13,FALSE),\"\"),\"\")","v":""},"","","","","","","",null,null,null,null,null,"",null,"","","","",null,null,null,null,null,null,null,null,null,null,null,null,null,null,null,null,null,null,"",null,null,null,""]
[6,{"$f":"IF(ISNA(VLOOKUP($A11,Form!$B$5:$T$54,2,FALSE)),\"\",VLOOKUP($A11,Form!$B$5:$T$54,2,FALSE))","v":""},"",{"$f":"IF($C11=\"ACTIVE\",IF(ISTEXT(VLOOKUP($B11,Form!$C$5:$T$54,7,FALSE)),VLOOKUP($B11,Form!$C$5:$T$54,7,FALSE),\"\"),\"\")","v":""},"",null,{"$f":"IF($C11=\"ACTIVE\",IF(ISTEXT(VLOOKUP($B11,Form!$C$5:$T$54,8,FALSE)),VLOOKUP($B11,Form!$C$5:$T$54,8,FALSE),\"\"),\"\")","v":""},{"$f":"IF($C11=\"ACTIVE\",IF(ISTEXT(VLOOKUP($B11,Form!$C$5:$T$54,9,FALSE)),VLOOKUP($B11,Form!$C$5:$T$54,9,FALSE),\"\"),\"\")","v":""},{"$f":"IF($C11=\"ACTIVE\",IF(ISTEXT(VLOOKUP($B11,Form!$C$5:$T$54,10,FALSE)),VLOOKUP($B11,Form!$C$5:$T$54,10,FALSE),\"\"),\"\")","v":""},{"$f":"IF($C11=\"ACTIVE\",IF(ISTEXT(VLOOKUP($B11,Form!$C$5:$T$54,11,FALSE)),VLOOKUP($B11,Form!$C$5:$T$54,11,FALSE),\"\"),\"\")","v":""},{"$f":"IF($C11=\"ACTIVE\",IF(ISTEXT(VLOOKUP($B11,Form!$C$5:$T$54,13,FALSE)),VLOOKUP($B11,Form!$C$5:$T$54,13,FALSE),\"\"),\"\")","v":""},"","","","","","","",null,null,null,null,null,"",null,"","","","",null,null,null,null,null,null,null,null,null,null,null,null,null,null,null,null,null,null,"",null,null,null,""]
[7,{"$f":"IF(ISNA(VLOOKUP($A12,Form!$B$5:$T$54,2,FALSE)),\"\",VLOOKUP($A12,Form!$B$5:$T$54,2,FALSE))","v":""},"",{"$f":"IF($C12=\"ACTIVE\",IF(ISTEXT(VLOOKUP($B12,Form!$C$5:$T$54,7,FALSE)),VLOOKUP($B12,Form!$C$5:$T$54,7,FALSE),\"\"),\"\")","v":""},"",null,{"$f":"IF($C12=\"ACTIVE\",IF(ISTEXT(VLOOKUP($B12,Form!$C$5:$T$54,8,FALSE)),VLOOKUP($B12,Form!$C$5:$T$54,8,FALSE),\"\"),\"\")","v":""},{"$f":"IF($C12=\"ACTIVE\",IF(ISTEXT(VLOOKUP($B12,Form!$C$5:$T$54,9,FALSE)),VLOOKUP($B12,Form!$C$5:$T$54,9,FALSE),\"\"),\"\")","v":""},{"$f":"IF($C12=\"ACTIVE\",IF(ISTEXT(VLOOKUP($B12,Form!$C$5:$T$54,10,FALSE)),VLOOKUP($B12,Form!$C$5:$T$54,10,FALSE),\"\"),\"\")","v":""},{"$f":"IF($C12=\"ACTIVE\",IF(ISTEXT(VLOOKUP($B12,Form!$C$5:$T$54,11,FALSE)),VLOOKUP($B12,Form!$C$5:$T$54,11,FALSE),\"\"),\"\")","v":""},{"$f":"IF($C12=\"ACTIVE\",IF(ISTEXT(VLOOKUP($B12,Form!$C$5:$T$54,13,FALSE)),VLOOKUP($B12,Form!$C$5:$T$54,13,FALSE),\"\"),\"\")","v":""},"","","","","","","",null,null,null,null,null,"",null,"","","","",null,null,null,null,null,null,null,null,null,null,null,null,null,null,null,null,null,null,"",null,null,null,""]
[8,{"$f":"IF(ISNA(VLOOKUP($A13,Form!$B$5:$T$54,2,FALSE)),\"\",VLOOKUP($A13,Form!$B$5:$T$54,2,FALSE))","v":""},"",{"$f":"IF($C13=\"ACTIVE\",IF(ISTEXT(VLOOKUP($B13,Form!$C$5:$T$54,7,FALSE)),VLOOKUP($B13,Form!$C$5:$T$54,7,FALSE),\"\"),\"\")","v":""},"",null,{"$f":"IF($C13=\"ACTIVE\",IF(ISTEXT(VLOOKUP($B13,Form!$C$5:$T$54,8,FALSE)),VLOOKUP($B13,Form!$C$5:$T$54,8,FALSE),\"\"),\"\")","v":""},{"$f":"IF($C13=\"ACTIVE\",IF(ISTEXT(VLOOKUP($B13,Form!$C$5:$T$54,9,FALSE)),VLOOKUP($B13,Form!$C$5:$T$54,9,FALSE),\"\"),\"\")","v":""},{"$f":"IF($C13=\"ACTIVE\",IF(ISTEXT(VLOOKUP($B13,Form!$C$5:$T$54,10,FALSE)),VLOOKUP($B13,Form!$C$5:$T$54,10,FALSE),\"\"),\"\")","v":""},{"$f":"IF($C13=\"ACTIVE\",IF(ISTEXT(VLOOKUP($B13,Form!$C$5:$T$54,11,FALSE)),VLOOKUP($B13,Form!$C$5:$T$54,11,FALSE),\"\"),\"\")","v":""},{"$f":"IF($C13=\"ACTIVE\",IF(ISTEXT(VLOOKUP($B13,Form!$C$5:$T$54,13,FALSE)),VLOOKUP($B13,Form!$C$5:$T$54,13,FALSE),\"\"),\"\")","v":""},"","","","","","","",null,null,null,null,null,"",null,"","","","",null,null,null,null,null,null,null,null,null,null,null,null,null,null,null,null,null,null,"",null,null,null,""]
[9,{"$f":"IF(ISNA(VLOOKUP($A14,Form!$B$5:$T$54,2,FALSE)),\"\",VLOOKUP($A14,Form!$B$5:$T$54,2,FALSE))","v":""},"",{"$f":"IF($C14=\"ACTIVE\",IF(ISTEXT(VLOOKUP($B14,Form!$C$5:$T$54,7,FALSE)),VLOOKUP($B14,Form!$C$5:$T$54,7,FALSE),\"\"),\"\")","v":""},"",null,{"$f":"IF($C14=\"ACTIVE\",IF(ISTEXT(VLOOKUP($B14,Form!$C$5:$T$54,8,FALSE)),VLOOKUP($B14,Form!$C$5:$T$54,8,FALSE),\"\"),\"\")","v":""},{"$f":"IF($C14=\"ACTIVE\",IF(ISTEXT(VLOOKUP($B14,Form!$C$5:$T$54,9,FALSE)),VLOOKUP($B14,Form!$C$5:$T$54,9,FALSE),\"\"),\"\")","v":""},{"$f":"IF($C14=\"ACTIVE\",IF(ISTEXT(VLOOKUP($B14,Form!$C$5:$T$54,10,FALSE)),VLOOKUP($B14,Form!$C$5:$T$54,10,FALSE),\"\"),\"\")","v":""},{"$f":"IF($C14=\"ACTIVE\",IF(ISTEXT(VLOOKUP($B14,Form!$C$5:$T$54,11,FALSE)),VLOOKUP($B14,Form!$C$5:$T$54,11,FALSE),\"\"),\"\")","v":""},{"$f":"IF($C14=\"ACTIVE\",IF(ISTEXT(VLOOKUP($B14,Form!$C$5:$T$54,13,FALSE)),VLOOKUP($B14,Form!$C$5:$T$54,13,FALSE),\"\"),\"\")","v":""},"","","","","","","",null,null,null,null,null,"",null,"","","","",null,null,null,null,null,null,null,null,null,null,null,null,null,null,null,null,null,null,"",null,null,null,""]
[10,{"$f":"IF(ISNA(VLOOKUP($A15,Form!$B$5:$T$54,2,FALSE)),\"\",VLOOKUP($A15,Form!$B$5:$T$54,2,FALSE))","v":""},"",{"$f":"IF($C15=\"ACTIVE\",IF(ISTEXT(VLOOKUP($B15,Form!$C$5:$T$54,7,FALSE)),VLOOKUP($B15,Form!$C$5:$T$54,7,FALSE),\"\"),\"\")","v":""},"",null,{"$f":"IF($C15=\"ACTIVE\",IF(ISTEXT(VLOOKUP($B15,Form!$C$5:$T$54,8,FALSE)),VLOOKUP($B15,Form!$C$5:$T$54,8,FALSE),\"\"),\"\")","v":""},{"$f":"IF($C15=\"ACTIVE\",IF(ISTEXT(VLOOKUP($B15,Form!$C$5:$T$54,9,FALSE)),VLOOKUP($B15,Form!$C$5:$T$54,9,FALSE),\"\"),\"\")","v":""},{"$f":"IF($C15=\"ACTIVE\",IF(ISTEXT(VLOOKUP($B15,Form!$C$5:$T$54,10,FALSE)),VLOOKUP($B15,Form!$C$5:$T$54,10,FALSE),\"\"),\"\")","v":""},{"$f":"IF($C15=\"ACTIVE\",IF(ISTEXT(VLOOKUP($B15,Form!$C$5:$T$54,11,FALSE)),VLOOKUP($B15,Form!$C$5:$T$54,11,FALSE),\"\"),\"\")","v":""},{"$f":"IF($C15=\"ACTIVE\",IF(ISTEXT(VLOOKUP($B15,Form!$C$5:$T$54,13,FALSE)),VLOOKUP($B15,Form!$C$5:$T$54,13,FALSE),\"\"),\"\")","v":""},"","","","","","","",null,null,null,null,null,"",null,"","","","",null,null,null,null,null,null,null,null,null,null,null,null,null,null,null,null,null,null,"",null,null,null,""]
[11,{"$f":"IF(ISNA(VLOOKUP($A16,Form!$B$5:$T$54,2,FALSE)),\"\",VLOOKUP($A16,Form!$B$5:$T$54,2,FALSE))","v":""},"",{"$f":"IF($C16=\"ACTIVE\",IF(ISTEXT(VLOOKUP($B16,Form!$C$5:$T$54,7,FALSE)),VLOOKUP($B16,Form!$C$5:$T$54,7,FALSE),\"\"),\"\")","v":""},"",null,{"$f":"IF($C16=\"ACTIVE\",IF(ISTEXT(VLOOKUP($B16,Form!$C$5:$T$54,8,FALSE)),VLOOKUP($B16,Form!$C$5:$T$54,8,FALSE),\"\"),\"\")","v":""},{"$f":"IF($C16=\"ACTIVE\",IF(ISTEXT(VLOOKUP($B16,Form!$C$5:$T$54,9,FALSE)),VLOOKUP($B16,Form!$C$5:$T$54,9,FALSE),\"\"),\"\")","v":""},{"$f":"IF($C16=\"ACTIVE\",IF(ISTEXT(VLOOKUP($B16,Form!$C$5:$T$54,10,FALSE)),VLOOKUP($B16,Form!$C$5:$T$54,10,FALSE),\"\"),\"\")","v":""},{"$f":"IF($C16=\"ACTIVE\",IF(ISTEXT(VLOOKUP($B16,Form!$C$5:$T$54,11,FALSE)),VLOOKUP($B16,Form!$C$5:$T$54,11,FALSE),\"\"),\"\")","v":""},{"$f":"IF($C16=\"ACTIVE\",IF(ISTEXT(VLOOKUP($B16,Form!$C$5:$T$54,13,FALSE)),VLOOKUP($B16,Form!$C$5:$T$54,13,FALSE),\"\"),\"\")","v":""},"","","","","","","",null,null,null,null,null,"",null,"","","","",null,null,null,null,null,null,null,null,null,null,null,null,null,null,null,null,null,null,"",null,null,null,""]
[12,{"$f":"IF(ISNA(VLOOKUP($A17,Form!$B$5:$T$54,2,FALSE)),\"\",VLOOKUP($A17,Form!$B$5:$T$54,2,FALSE))","v":""},"",{"$f":"IF($C17=\"ACTIVE\",IF(ISTEXT(VLOOKUP($B17,Form!$C$5:$T$54,7,FALSE)),VLOOKUP($B17,Form!$C$5:$T$54,7,FALSE),\"\"),\"\")","v":""},"",null,{"$f":"IF($C17=\"ACTIVE\",IF(ISTEXT(VLOOKUP($B17,Form!$C$5:$T$54,8,FALSE)),VLOOKUP($B17,Form!$C$5:$T$54,8,FALSE),\"\"),\"\")","v":""},{"$f":"IF($C17=\"ACTIVE\",IF(ISTEXT(VLOOKUP($B17,Form!$C$5:$T$54,9,FALSE)),VLOOKUP($B17,Form!$C$5:$T$54,9,FALSE),\"\"),\"\")","v":""},{"$f":"IF($C17=\"ACTIVE\",IF(ISTEXT(VLOOKUP($B17,Form!$C$5:$T$54,10,FALSE)),VLOOKUP($B17,Form!$C$5:$T$54,10,FALSE),\"\"),\"\")","v":""},{"$f":"IF($C17=\"ACTIVE\",IF(ISTEXT(VLOOKUP($B17,Form!$C$5:$T$54,11,FALSE)),VLOOKUP($B17,Form!$C$5:$T$54,11,FALSE),\"\"),\"\")","v":""},{"$f":"IF($C17=\"ACTIVE\",IF(ISTEXT(VLOOKUP($B17,Form!$C$5:$T$54,13,FALSE)),VLOOKUP($B17,Form!$C$5:$T$54,13,FALSE),\"\"),\"\")","v":""},"","","","","","","",null,null,null,null,null,"",null,"","","","",null,null,null,null,null,null,null,null,null,null,null,null,null,null,null,null,null,null,"",null,null,null,""]
[13,{"$f":"IF(ISNA(VLOOKUP($A18,Form!$B$5:$T$54,2,FALSE)),\"\",VLOOKUP($A18,Form!$B$5:$T$54,2,FALSE))","v":""},"",{"$f":"IF($C18=\"ACTIVE\",IF(ISTEXT(VLOOKUP($B18,Form!$C$5:$T$54,7,FALSE)),VLOOKUP($B18,Form!$C$5:$T$54,7,FALSE),\"\"),\"\")","v":""},"",null,{"$f":"IF($C18=\"ACTIVE\",IF(ISTEXT(VLOOKUP($B18,Form!$C$5:$T$54,8,FALSE)),VLOOKUP($B18,Form!$C$5:$T$54,8,FALSE),\"\"),\"\")","v":""},{"$f":"IF($C18=\"ACTIVE\",IF(ISTEXT(VLOOKUP($B18,Form!$C$5:$T$54,9,FALSE)),VLOOKUP($B18,Form!$C$5:$T$54,9,FALSE),\"\"),\"\")","v":""},{"$f":"IF($C18=\"ACTIVE\",IF(ISTEXT(VLOOKUP($B18,Form!$C$5:$T$54,10,FALSE)),VLOOKUP($B18,Form!$C$5:$T$54,10,FALSE),\"\"),\"\")","v":""},{"$f":"IF($C18=\"ACTIVE\",IF(ISTEXT(VLOOKUP($B18,Form!$C$5:$T$54,11,FALSE)),VLOOKUP($B18,Form!$C$5:$T$54,11,FALSE),\"\"),\"\")","v":""},{"$f":"IF($C18=\"ACTIVE\",IF(ISTEXT(VLOOKUP($B18,Form!$C$5:$T$54,13,FALSE)),VLOOKUP($B18,Form!$C$5:$T$54,13,FALSE),\"\"),\"\")","v":""},"","","","","","","",null,null,null,null,null,"",null,"","","","",null,null,null,null,null,null,null,null,null,null,null,null,null,null,null,null,null,null,"",null,null,null,""]
[14,{"$f":"IF(ISNA(VLOOKUP($A19,Form!$B$5:$T$54,2,FALSE)),\"\",VLOOKUP($A19,Form!$B$5:$T$54,2,FALSE))","v":""},"",{"$f":"IF($C19=\"ACTIVE\",IF(ISTEXT(VLOOKUP($B19,Form!$C$5:$T$54,7,FALSE)),VLOOKUP($B19,Form!$C$5:$T$54,7,FALSE),\"\"),\"\")","v":""},"",null,{"$f":"IF($C19=\"ACTIVE\",IF(ISTEXT(VLOOKUP($B19,Form!$C$5:$T$54,8,FALSE)),VLOOKUP($B19,Form!$C$5:$T$54,8,FALSE),\"\"),\"\")","v":""},{"$f":"IF($C19=\"ACTIVE\",IF(ISTEXT(VLOOKUP($B19,Form!$C$5:$T$54,9,FALSE)),VLOOKUP($B19,Form!$C$5:$T$54,9,FALSE),\"\"),\"\")","v":""},{"$f":"IF($C19=\"ACTIVE\",IF(ISTEXT(VLOOKUP($B19,Form!$C$5:$T$54,10,FALSE)),VLOOKUP($B19,Form!$C$5:$T$54,10,FALSE),\"\"),\"\")","v":""},{"$f":"IF($C19=\"ACTIVE\",IF(ISTEXT(VLOOKUP($B19,Form!$C$5:$T$54,11,FALSE)),VLOOKUP($B19,Form!$C$5:$T$54,11,FALSE),\"\"),\"\")","v":""},{"$f":"IF($C19=\"ACTIVE\",IF(ISTEXT(VLOOKUP($B19,Form!$C$5:$T$54,13,FALSE)),VLOOKUP($B19,Form!$C$5:$T$54,13,FALSE),\"\"),\"\")","v":""},"","","","","","","",null,null,null,null,null,"",null,"","","","",null,null,null,null,null,null,null,null,null,null,null,null,null,null,null,null,null,null,"",null,null,null,""]
[15,{"$f":"IF(ISNA(VLOOKUP($A20,Form!$B$5:$T$54,2,FALSE)),\"\",VLOOKUP($A20,Form!$B$5:$T$54,2,FALSE))","v":""},"",{"$f":"IF($C20=\"ACTIVE\",IF(ISTEXT(VLOOKUP($B20,Form!$C$5:$T$54,7,FALSE)),VLOOKUP($B20,Form!$C$5:$T$54,7,FALSE),\"\"),\"\")","v":""},"",null,{"$f":"IF($C20=\"ACTIVE\",IF(ISTEXT(VLOOKUP($B20,Form!$C$5:$T$54,8,FALSE)),VLOOKUP($B20,Form!$C$5:$T$54,8,FALSE),\"\"),\"\")","v":""},{"$f":"IF($C20=\"ACTIVE\",IF(ISTEXT(VLOOKUP($B20,Form!$C$5:$T$54,9,FALSE)),VLOOKUP($B20,Form!$C$5:$T$54,9,FALSE),\"\"),\"\")","v":""},{"$f":"IF($C20=\"ACTIVE\",IF(ISTEXT(VLOOKUP($B20,Form!$C$5:$T$54,10,FALSE)),VLOOKUP($B20,Form!$C$5:$T$54,10,FALSE),\"\"),\"\")","v":""},{"$f":"IF($C20=\"ACTIVE\",IF(ISTEXT(VLOOKUP($B20,Form!$C$5:$T$54,11,FALSE)),VLOOKUP($B20,Form!$C$5:$T$54,11,FALSE),\"\"),\"\")","v":""},{"$f":"IF($C20=\"ACTIVE\",IF(ISTEXT(VLOOKUP($B20,Form!$C$5:$T$54,13,FALSE)),VLOOKUP($B20,Form!$C$5:$T$54,13,FALSE),\"\"),\"\")","v":""},"","","","","","","",null,null,null,null,null,"",null,"","","","",null,null,null,null,null,null,null,null,null,null,null,null,null,null,null,null,null,null,"",null,null,null,""]
[16,{"$f":"IF(ISNA(VLOOKUP($A21,Form!$B$5:$T$54,2,FALSE)),\"\",VLOOKUP($A21,Form!$B$5:$T$54,2,FALSE))","v":""},"",{"$f":"IF($C21=\"ACTIVE\",IF(ISTEXT(VLOOKUP($B21,Form!$C$5:$T$54,7,FALSE)),VLOOKUP($B21,Form!$C$5:$T$54,7,FALSE),\"\"),\"\")","v":""},"",null,{"$f":"IF($C21=\"ACTIVE\",IF(ISTEXT(VLOOKUP($B21,Form!$C$5:$T$54,8,FALSE)),VLOOKUP($B21,Form!$C$5:$T$54,8,FALSE),\"\"),\"\")","v":""},{"$f":"IF($C21=\"ACTIVE\",IF(ISTEXT(VLOOKUP($B21,Form!$C$5:$T$54,9,FALSE)),VLOOKUP($B21,Form!$C$5:$T$54,9,FALSE),\"\"),\"\")","v":""},{"$f":"IF($C21=\"ACTIVE\",IF(ISTEXT(VLOOKUP($B21,Form!$C$5:$T$54,10,FALSE)),VLOOKUP($B21,Form!$C$5:$T$54,10,FALSE),\"\"),\"\")","v":""},{"$f":"IF($C21=\"ACTIVE\",IF(ISTEXT(VLOOKUP($B21,Form!$C$5:$T$54,11,FALSE)),VLOOKUP($B21,Form!$C$5:$T$54,11,FALSE),\"\"),\"\")","v":""},{"$f":"IF($C21=\"ACTIVE\",IF(ISTEXT(VLOOKUP($B21,Form!$C$5:$T$54,13,FALSE)),VLOOKUP($B21,Form!$C$5:$T$54,13,FALSE),\"\"),\"\")","v":""},"","","","","","","",null,null,null,null,null,"",null,"","","","",null,null,null,null,null,null,null,null,null,null,null,null,null,null,null,null,null,null,"",null,null,null,""]
[17,{"$f":"IF(ISNA(VLOOKUP($A22,Form!$B$5:$T$54,2,FALSE)),\"\",VLOOKUP($A22,Form!$B$5:$T$54,2,FALSE))","v":""},"",{"$f":"IF($C22=\"ACTIVE\",IF(ISTEXT(VLOOKUP($B22,Form!$C$5:$T$54,7,FALSE)),VLOOKUP($B22,Form!$C$5:$T$54,7,FALSE),\"\"),\"\")","v":""},"",null,{"$f":"IF($C22=\"ACTIVE\",IF(ISTEXT(VLOOKUP($B22,Form!$C$5:$T$54,8,FALSE)),VLOOKUP($B22,Form!$C$5:$T$54,8,FALSE),\"\"),\"\")","v":""},{"$f":"IF($C22=\"ACTIVE\",IF(ISTEXT(VLOOKUP($B22,Form!$C$5:$T$54,9,FALSE)),VLOOKUP($B22,Form!$C$5:$T$54,9,FALSE),\"\"),\"\")","v":""},{"$f":"IF($C22=\"ACTIVE\",IF(ISTEXT(VLOOKUP($B22,Form!$C$5:$T$54,10,FALSE)),VLOOKUP($B22,Form!$C$5:$T$54,10,FALSE),\"\"),\"\")","v":""},{"$f":"IF($C22=\"ACTIVE\",IF(ISTEXT(VLOOKUP($B22,Form!$C$5:$T$54,11,FALSE)),VLOOKUP($B22,Form!$C$5:$T$54,11,FALSE),\"\"),\"\")","v":""},{"$f":"IF($C22=\"ACTIVE\",IF(ISTEXT(VLOOKUP($B22,Form!$C$5:$T$54,13,FALSE)),VLOOKUP($B22,Form!$C$5:$T$54,13,FALSE),\"\"),\"\")","v":""},"","","","","","","",null,null,null,null,null,"",null,"","","","",null,null,null,null,null,null,null,null,null,null,null,null,null,null,null,null,null,null,"",null,null,null,""]
[18,{"$f":"IF(ISNA(VLOOKUP($A23,Form!$B$5:$T$54,2,FALSE)),\"\",VLOOKUP($A23,Form!$B$5:$T$54,2,FALSE))","v":""},"",{"$f":"IF($C23=\"ACTIVE\",IF(ISTEXT(VLOOKUP($B23,Form!$C$5:$T$54,7,FALSE)),VLOOKUP($B23,Form!$C$5:$T$54,7,FALSE),\"\"),\"\")","v":""},"",null,{"$f":"IF($C23=\"ACTIVE\",IF(ISTEXT(VLOOKUP($B23,Form!$C$5:$T$54,8,FALSE)),VLOOKUP($B23,Form!$C$5:$T$54,8,FALSE),\"\"),\"\")","v":""},{"$f":"IF($C23=\"ACTIVE\",IF(ISTEXT(VLOOKUP($B23,Form!$C$5:$T$54,9,FALSE)),VLOOKUP($B23,Form!$C$5:$T$54,9,FALSE),\"\"),\"\")","v":""},{"$f":"IF($C23=\"ACTIVE\",IF(ISTEXT(VLOOKUP($B23,Form!$C$5:$T$54,10,FALSE)),VLOOKUP($B23,Form!$C$5:$T$54,10,FALSE),\"\"),\"\")","v":""},{"$f":"IF($C23=\"ACTIVE\",IF(ISTEXT(VLOOKUP($B23,Form!$C$5:$T$54,11,FALSE)),VLOOKUP($B23,Form!$C$5:$T$54,11,FALSE),\"\"),\"\")","v":""},{"$f":"IF($C23=\"ACTIVE\",IF(ISTEXT(VLOOKUP($B23,Form!$C$5:$T$54,13,FALSE)),VLOOKUP($B23,Form!$C$5:$T$54,13,FALSE),\"\"),\"\")","v":""},"","","","","","","",null,null,null,null,null,"",null,"","","","",null,null,null,null,null,null,null,null,null,null,null,null,null,null,null,null,null,null,"",null,null,null,""]
[19,{"$f":"IF(ISNA(VLOOKUP($A24,Form!$B$5:$T$54,2,FALSE)),\"\",VLOOKUP($A24,Form!$B$5:$T$54,2,FALSE))","v":""},"",{"$f":"IF($C24=\"ACTIVE\",IF(ISTEXT(VLOOKUP($B24,Form!$C$5:$T$54,7,FALSE)),VLOOKUP($B24,Form!$C$5:$T$54,7,FALSE),\"\"),\"\")","v":""},"",null,{"$f":"IF($C24=\"ACTIVE\",IF(ISTEXT(VLOOKUP($B24,Form!$C$5:$T$54,8,FALSE)),VLOOKUP($B24,Form!$C$5:$T$54,8,FALSE),\"\"),\"\")","v":""},{"$f":"IF($C24=\"ACTIVE\",IF(ISTEXT(VLOOKUP($B24,Form!$C$5:$T$54,9,FALSE)),VLOOKUP($B24,Form!$C$5:$T$54,9,FALSE),\"\"),\"\")","v":""},{"$f":"IF($C24=\"ACTIVE\",IF(ISTEXT(VLOOKUP($B24,Form!$C$5:$T$54,10,FALSE)),VLOOKUP($B24,Form!$C$5:$T$54,10,FALSE),\"\"),\"\")","v":""},{"$f":"IF($C24=\"ACTIVE\",IF(ISTEXT(VLOOKUP($B24,Form!$C$5:$T$54,11,FALSE)),VLOOKUP($B24,Form!$C$5:$T$54,11,FALSE),\"\"),\"\")","v":""},{"$f":"IF($C24=\"ACTIVE\",IF(ISTEXT(VLOOKUP($B24,Form!$C$5:$T$54,13,FALSE)),VLOOKUP($B24,Form!$C$5:$T$54,13,FALSE),\"\"),\"\")","v":""},"","","","","","","",null,null,null,null,null,"",null,"","","","",null,null,null,null,null,null,null,null,null,null,null,null,null,null,null,null,null,null,"",null,null,null,""]
[20,{"$f":"IF(ISNA(VLOOKUP($A25,Form!$B$5:$T$54,2,FALSE)),\"\",VLOOKUP($A25,Form!$B$5:$T$54,2,FALSE))","v":""},"",{"$f":"IF($C25=\"ACTIVE\",IF(ISTEXT(VLOOKUP($B25,Form!$C$5:$T$54,7,FALSE)),VLOOKUP($B25,Form!$C$5:$T$54,7,FALSE),\"\"),\"\")","v":""},"",null,{"$f":"IF($C25=\"ACTIVE\",IF(ISTEXT(VLOOKUP($B25,Form!$C$5:$T$54,8,FALSE)),VLOOKUP($B25,Form!$C$5:$T$54,8,FALSE),\"\"),\"\")","v":""},{"$f":"IF($C25=\"ACTIVE\",IF(ISTEXT(VLOOKUP($B25,Form!$C$5:$T$54,9,FALSE)),VLOOKUP($B25,Form!$C$5:$T$54,9,FALSE),\"\"),\"\")","v":""},{"$f":"IF($C25=\"ACTIVE\",IF(ISTEXT(VLOOKUP($B25,Form!$C$5:$T$54,10,FALSE)),VLOOKUP($B25,Form!$C$5:$T$54,10,FALSE),\"\"),\"\")","v":""},{"$f":"IF($C25=\"ACTIVE\",IF(ISTEXT(VLOOKUP($B25,Form!$C$5:$T$54,11,FALSE)),VLOOKUP($B25,Form!$C$5:$T$54,11,FALSE),\"\"),\"\")","v":""},{"$f":"IF($C25=\"ACTIVE\",IF(ISTEXT(VLOOKUP($B25,Form!$C$5:$T$54,13,FALSE)),VLOOKUP($B25,Form!$C$5:$T$54,13,FALSE),\"\"),\"\")","v":""},"","","","","","","",null,null,null,null,null,"",null,"","","","",null,null,null,null,null,null,null,null,null,null,null,null,null,null,null,null,null,null,"",null,null,null,""]
[21,{"$f":"IF(ISNA(VLOOKUP($A26,Form!$B$5:$T$54,2,FALSE)),\"\",VLOOKUP($A26,Form!$B$5:$T$54,2,FALSE))","v":""},"",{"$f":"IF($C26=\"ACTIVE\",IF(ISTEXT(VLOOKUP($B26,Form!$C$5:$T$54,7,FALSE)),VLOOKUP($B26,Form!$C$5:$T$54,7,FALSE),\"\"),\"\")","v":""},"",null,{"$f":"IF($C26=\"ACTIVE\",IF(ISTEXT(VLOOKUP($B26,Form!$C$5:$T$54,8,FALSE)),VLOOKUP($B26,Form!$C$5:$T$54,8,FALSE),\"\"),\"\")","v":""},{"$f":"IF($C26=\"ACTIVE\",IF(ISTEXT(VLOOKUP($B26,Form!$C$5:$T$54,9,FALSE)),VLOOKUP($B26,Form!$C$5:$T$54,9,FALSE),\"\"),\"\")","v":""},{"$f":"IF($C26=\"ACTIVE\",IF(ISTEXT(VLOOKUP($B26,Form!$C$5:$T$54,10,FALSE)),VLOOKUP($B26,Form!$C$5:$T$54,10,FALSE),\"\"),\"\")","v":""},{"$f":"IF($C26=\"ACTIVE\",IF(ISTEXT(VLOOKUP($B26,Form!$C$5:$T$54,11,FALSE)),VLOOKUP($B26,Form!$C$5:$T$54,11,FALSE),\"\"),\"\")","v":""},{"$f":"IF($C26=\"ACTIVE\",IF(ISTEXT(VLOOKUP($B26,Form!$C$5:$T$54,13,FALSE)),VLOOKUP($B26,Form!$C$5:$T$54,13,FALSE),\"\"),\"\")","v":""},"","","","","","","",null,null,null,null,null,"",null,"","","","",null,null,null,null,null,null,null,null,null,null,null,null,null,null,null,null,null,null,"",null,null,null,""]
[22,{"$f":"IF(ISNA(VLOOKUP($A27,Form!$B$5:$T$54,2,FALSE)),\"\",VLOOKUP($A27,Form!$B$5:$T$54,2,FALSE))","v":""},"",{"$f":"IF($C27=\"ACTIVE\",IF(ISTEXT(VLOOKUP($B27,Form!$C$5:$T$54,7,FALSE)),VLOOKUP($B27,Form!$C$5:$T$54,7,FALSE),\"\"),\"\")","v":""},"",null,{"$f":"IF($C27=\"ACTIVE\",IF(ISTEXT(VLOOKUP($B27,Form!$C$5:$T$54,8,FALSE)),VLOOKUP($B27,Form!$C$5:$T$54,8,FALSE),\"\"),\"\")","v":""},{"$f":"IF($C27=\"ACTIVE\",IF(ISTEXT(VLOOKUP($B27,Form!$C$5:$T$54,9,FALSE)),VLOOKUP($B27,Form!$C$5:$T$54,9,FALSE),\"\"),\"\")","v":""},{"$f":"IF($C27=\"ACTIVE\",IF(ISTEXT(VLOOKUP($B27,Form!$C$5:$T$54,10,FALSE)),VLOOKUP($B27,Form!$C$5:$T$54,10,FALSE),\"\"),\"\")","v":""},{"$f":"IF($C27=\"ACTIVE\",IF(ISTEXT(VLOOKUP($B27,Form!$C$5:$T$54,11,FALSE)),VLOOKUP($B27,Form!$C$5:$T$54,11,FALSE),\"\"),\"\")","v":""},{"$f":"IF($C27=\"ACTIVE\",IF(ISTEXT(VLOOKUP($B27,Form!$C$5:$T$54,13,FALSE)),VLOOKUP($B27,Form!$C$5:$T$54,13,FALSE),\"\"),\"\")","v":""},"","","","","","","",null,null,null,null,null,"",null,"","","","",null,null,null,null,null,null,null,null,null,null,null,null,null,null,null,null,null,null,"",null,null,null,""]
[23,{"$f":"IF(ISNA(VLOOKUP($A28,Form!$B$5:$T$54,2,FALSE)),\"\",VLOOKUP($A28,Form!$B$5:$T$54,2,FALSE))","v":""},"",{"$f":"IF($C28=\"ACTIVE\",IF(ISTEXT(VLOOKUP($B28,Form!$C$5:$T$54,7,FALSE)),VLOOKUP($B28,Form!$C$5:$T$54,7,FALSE),\"\"),\"\")","v":""},"",null,{"$f":"IF($C28=\"ACTIVE\",IF(ISTEXT(VLOOKUP($B28,Form!$C$5:$T$54,8,FALSE)),VLOOKUP($B28,Form!$C$5:$T$54,8,FALSE),\"\"),\"\")","v":""},{"$f":"IF($C28=\"ACTIVE\",IF(ISTEXT(VLOOKUP($B28,Form!$C$5:$T$54,9,FALSE)),VLOOKUP($B28,Form!$C$5:$T$54,9,FALSE),\"\"),\"\")","v":""},{"$f":"IF($C28=\"ACTIVE\",IF(ISTEXT(VLOOKUP($B28,Form!$C$5:$T$54,10,FALSE)),VLOOKUP($B28,Form!$C$5:$T$54,10,FALSE),\"\"),\"\")","v":""},{"$f":"IF($C28=\"ACTIVE\",IF(ISTEXT(VLOOKUP($B28,Form!$C$5:$T$54,11,FALSE)),VLOOKUP($B28,Form!$C$5:$T$54,11,FALSE),\"\"),\"\")","v":""},{"$f":"IF($C28=\"ACTIVE\",IF(ISTEXT(VLOOKUP($B28,Form!$C$5:$T$54,13,FALSE)),VLOOKUP($B28,Form!$C$5:$T$54,13,FALSE),\"\"),\"\")","v":""},"","","","","","","",null,null,null,null,null,"",null,"","","","",null,null,null,null,null,null,null,null,null,null,null,null,null,null,null,null,null,null,"",null,null,null,""]
[24,{"$f":"IF(ISNA(VLOOKUP($A29,Form!$B$5:$T$54,2,FALSE)),\"\",VLOOKUP($A29,Form!$B$5:$T$54,2,FALSE))","v":""},"",{"$f":"IF($C29=\"ACTIVE\",IF(ISTEXT(VLOOKUP($B29,Form!$C$5:$T$54,7,FALSE)),VLOOKUP($B29,Form!$C$5:$T$54,7,FALSE),\"\"),\"\")","v":""},"",null,{"$f":"IF($C29=\"ACTIVE\",IF(ISTEXT(VLOOKUP($B29,Form!$C$5:$T$54,8,FALSE)),VLOOKUP($B29,Form!$C$5:$T$54,8,FALSE),\"\"),\"\")","v":""},{"$f":"IF($C29=\"ACTIVE\",IF(ISTEXT(VLOOKUP($B29,Form!$C$5:$T$54,9,FALSE)),VLOOKUP($B29,Form!$C$5:$T$54,9,FALSE),\"\"),\"\")","v":""},{"$f":"IF($C29=\"ACTIVE\",IF(ISTEXT(VLOOKUP($B29,Form!$C$5:$T$54,10,FALSE)),VLOOKUP($B29,Form!$C$5:$T$54,10,FALSE),\"\"),\"\")","v":""},{"$f":"IF($C29=\"ACTIVE\",IF(ISTEXT(VLOOKUP($B29,Form!$C$5:$T$54,11,FALSE)),VLOOKUP($B29,Form!$C$5:$T$54,11,FALSE),\"\"),\"\")","v":""},{"$f":"IF($C29=\"ACTIVE\",IF(ISTEXT(VLOOKUP($B29,Form!$C$5:$T$54,13,FALSE)),VLOOKUP($B29,Form!$C$5:$T$54,13,FALSE),\"\"),\"\")","v":""},"","","","","","","",null,null,null,null,null,"",null,"","","","",null,null,null,null,null,null,null,null,null,null,null,null,null,null,null,null,null,null,"",null,null,null,""]
[25,{"$f":"IF(ISNA(VLOOKUP($A30,Form!$B$5:$T$54,2,FALSE)),\"\",VLOOKUP($A30,Form!$B$5:$T$54,2,FALSE))","v":""},"",{"$f":"IF($C30=\"ACTIVE\",IF(ISTEXT(VLOOKUP($B30,Form!$C$5:$T$54,7,FALSE)),VLOOKUP($B30,Form!$C$5:$T$54,7,FALSE),\"\"),\"\")","v":""},"",null,{"$f":"IF($C30=\"ACTIVE\",IF(ISTEXT(VLOOKUP($B30,Form!$C$5:$T$54,8,FALSE)),VLOOKUP($B30,Form!$C$5:$T$54,8,FALSE),\"\"),\"\")","v":""},{"$f":"IF($C30=\"ACTIVE\",IF(ISTEXT(VLOOKUP($B30,Form!$C$5:$T$54,9,FALSE)),VLOOKUP($B30,Form!$C$5:$T$54,9,FALSE),\"\"),\"\")","v":""},{"$f":"IF($C30=\"ACTIVE\",IF(ISTEXT(VLOOKUP($B30,Form!$C$5:$T$54,10,FALSE)),VLOOKUP($B30,Form!$C$5:$T$54,10,FALSE),\"\"),\"\")","v":""},{"$f":"IF($C30=\"ACTIVE\",IF(ISTEXT(VLOOKUP($B30,Form!$C$5:$T$54,11,FALSE)),VLOOKUP($B30,Form!$C$5:$T$54,11,FALSE),\"\"),\"\")","v":""},{"$f":"IF($C30=\"ACTIVE\",IF(ISTEXT(VLOOKUP($B30,Form!$C$5:$T$54,13,FALSE)),VLOOKUP($B30,Form!$C$5:$T$54,13,FALSE),\"\"),\"\")","v":""},"","","","","","","",null,null,null,null,null,"",null,"","","","",null,null,null,null,null,null,null,null,null,null,null,null,null,null,null,null,null,null,"",null,null,null,""]
[26,{"$f":"IF(ISNA(VLOOKUP($A31,Form!$B$5:$T$54,2,FALSE)),\"\",VLOOKUP($A31,Form!$B$5:$T$54,2,FALSE))","v":""},"",{"$f":"IF($C31=\"ACTIVE\",IF(ISTEXT(VLOOKUP($B31,Form!$C$5:$T$54,7,FALSE)),VLOOKUP($B31,Form!$C$5:$T$54,7,FALSE),\"\"),\"\")","v":""},"",null,{"$f":"IF($C31=\"ACTIVE\",IF(ISTEXT(VLOOKUP($B31,Form!$C$5:$T$54,8,FALSE)),VLOOKUP($B31,Form!$C$5:$T$54,8,FALSE),\"\"),\"\")","v":""},{"$f":"IF($C31=\"ACTIVE\",IF(ISTEXT(VLOOKUP($B31,Form!$C$5:$T$54,9,FALSE)),VLOOKUP($B31,Form!$C$5:$T$54,9,FALSE),\"\"),\"\")","v":""},{"$f":"IF($C31=\"ACTIVE\",IF(ISTEXT(VLOOKUP($B31,Form!$C$5:$T$54,10,FALSE)),VLOOKUP($B31,Form!$C$5:$T$54,10,FALSE),\"\"),\"\")","v":""},{"$f":"IF($C31=\"ACTIVE\",IF(ISTEXT(VLOOKUP($B31,Form!$C$5:$T$54,11,FALSE)),VLOOKUP($B31,Form!$C$5:$T$54,11,FALSE),\"\"),\"\")","v":""},{"$f":"IF($C31=\"ACTIVE\",IF(ISTEXT(VLOOKUP($B31,Form!$C$5:$T$54,13,FALSE)),VLOOKUP($B31,Form!$C$5:$T$54,13,FALSE),\"\"),\"\")","v":""},"","","","","","","",null,null,null,null,null,"",null,"","","","",null,null,null,null,null,null,null,null,null,null,null,null,null,null,null,null,null,null,"",null,null,null,""]
[27,{"$f":"IF(ISNA(VLOOKUP($A32,Form!$B$5:$T$54,2,FALSE)),\"\",VLOOKUP($A32,Form!$B$5:$T$54,2,FALSE))","v":""},"",{"$f":"IF($C32=\"ACTIVE\",IF(ISTEXT(VLOOKUP($B32,Form!$C$5:$T$54,7,FALSE)),VLOOKUP($B32,Form!$C$5:$T$54,7,FALSE),\"\"),\"\")","v":""},"",null,{"$f":"IF($C32=\"ACTIVE\",IF(ISTEXT(VLOOKUP($B32,Form!$C$5:$T$54,8,FALSE)),VLOOKUP($B32,Form!$C$5:$T$54,8,FALSE),\"\"),\"\")","v":""},{"$f":"IF($C32=\"ACTIVE\",IF(ISTEXT(VLOOKUP($B32,Form!$C$5:$T$54,9,FALSE)),VLOOKUP($B32,Form!$C$5:$T$54,9,FALSE),\"\"),\"\")","v":""},{"$f":"IF($C32=\"ACTIVE\",IF(ISTEXT(VLOOKUP($B32,Form!$C$5:$T$54,10,FALSE)),VLOOKUP($B32,Form!$C$5:$T$54,10,FALSE),\"\"),\"\")","v":""},{"$f":"IF($C32=\"ACTIVE\",IF(ISTEXT(VLOOKUP($B32,Form!$C$5:$T$54,11,FALSE)),VLOOKUP($B32,Form!$C$5:$T$54,11,FALSE),\"\"),\"\")","v":""},{"$f":"IF($C32=\"ACTIVE\",IF(ISTEXT(VLOOKUP($B32,Form!$C$5:$T$54,13,FALSE)),VLOOKUP($B32,Form!$C$5:$T$54,13,FALSE),\"\"),\"\")","v":""},"","","","","","","",null,null,null,null,null,"",null,"","","","",null,null,null,null,null,null,null,null,null,null,null,null,null,null,null,null,null,null,"",null,null,null,""]
[28,{"$f":"IF(ISNA(VLOOKUP($A33,Form!$B$5:$T$54,2,FALSE)),\"\",VLOOKUP($A33,Form!$B$5:$T$54,2,FALSE))","v":""},"",{"$f":"IF($C33=\"ACTIVE\",IF(ISTEXT(VLOOKUP($B33,Form!$C$5:$T$54,7,FALSE)),VLOOKUP($B33,Form!$C$5:$T$54,7,FALSE),\"\"),\"\")","v":""},"",null,{"$f":"IF($C33=\"ACTIVE\",IF(ISTEXT(VLOOKUP($B33,Form!$C$5:$T$54,8,FALSE)),VLOOKUP($B33,Form!$C$5:$T$54,8,FALSE),\"\"),\"\")","v":""},{"$f":"IF($C33=\"ACTIVE\",IF(ISTEXT(VLOOKUP($B33,Form!$C$5:$T$54,9,FALSE)),VLOOKUP($B33,Form!$C$5:$T$54,9,FALSE),\"\"),\"\")","v":""},{"$f":"IF($C33=\"ACTIVE\",IF(ISTEXT(VLOOKUP($B33,Form!$C$5:$T$54,10,FALSE)),VLOOKUP($B33,Form!$C$5:$T$54,10,FALSE),\"\"),\"\")","v":""},{"$f":"IF($C33=\"ACTIVE\",IF(ISTEXT(VLOOKUP($B33,Form!$C$5:$T$54,11,FALSE)),VLOOKUP($B33,Form!$C$5:$T$54,11,FALSE),\"\"),\"\")","v":""},{"$f":"IF($C33=\"ACTIVE\",IF(ISTEXT(VLOOKUP($B33,Form!$C$5:$T$54,13,FALSE)),VLOOKUP($B33,Form!$C$5:$T$54,13,FALSE),\"\"),\"\")","v":""},"","","","","","","",null,null,null,null,null,"",null,"","","","",null,null,null,null,null,null,null,null,null,null,null,null,null,null,null,null,null,null,"",null,null,null,""]
[29,{"$f":"IF(ISNA(VLOOKUP($A34,Form!$B$5:$T$54,2,FALSE)),\"\",VLOOKUP($A34,Form!$B$5:$T$54,2,FALSE))","v":""},"",{"$f":"IF($C34=\"ACTIVE\",IF(ISTEXT(VLOOKUP($B34,Form!$C$5:$T$54,7,FALSE)),VLOOKUP($B34,Form!$C$5:$T$54,7,FALSE),\"\"),\"\")","v":""},"",null,{"$f":"IF($C34=\"ACTIVE\",IF(ISTEXT(VLOOKUP($B34,Form!$C$5:$T$54,8,FALSE)),VLOOKUP($B34,Form!$C$5:$T$54,8,FALSE),\"\"),\"\")","v":""},{"$f":"IF($C34=\"ACTIVE\",IF(ISTEXT(VLOOKUP($B34,Form!$C$5:$T$54,9,FALSE)),VLOOKUP($B34,Form!$C$5:$T$54,9,FALSE),\"\"),\"\")","v":""},{"$f":"IF($C34=\"ACTIVE\",IF(ISTEXT(VLOOKUP($B34,Form!$C$5:$T$54,10,FALSE)),VLOOKUP($B34,Form!$C$5:$T$54,10,FALSE),\"\"),\"\")","v":""},{"$f":"IF($C34=\"ACTIVE\",IF(ISTEXT(VLOOKUP($B34,Form!$C$5:$T$54,11,FALSE)),VLOOKUP($B34,Form!$C$5:$T$54,11,FALSE),\"\"),\"\")","v":""},{"$f":"IF($C34=\"ACTIVE\",IF(ISTEXT(VLOOKUP($B34,Form!$C$5:$T$54,13,FALSE)),VLOOKUP($B34,Form!$C$5:$T$54,13,FALSE),\"\"),\"\")","v":""},"","","","","","","",null,null,null,null,null,"",null,"","","","",null,null,null,null,null,null,null,null,null,null,null,null,null,null,null,null,null,null,"",null,null,null,""]
[30,{"$f":"IF(ISNA(VLOOKUP($A35,Form!$B$5:$T$54,2,FALSE)),\"\",VLOOKUP($A35,Form!$B$5:$T$54,2,FALSE))","v":""},"",{"$f":"IF($C35=\"ACTIVE\",IF(ISTEXT(VLOOKUP($B35,Form!$C$5:$T$54,7,FALSE)),VLOOKUP($B35,Form!$C$5:$T$54,7,FALSE),\"\"),\"\")","v":""},"",null,{"$f":"IF($C35=\"ACTIVE\",IF(ISTEXT(VLOOKUP($B35,Form!$C$5:$T$54,8,FALSE)),VLOOKUP($B35,Form!$C$5:$T$54,8,FALSE),\"\"),\"\")","v":""},{"$f":"IF($C35=\"ACTIVE\",IF(ISTEXT(VLOOKUP($B35,Form!$C$5:$T$54,9,FALSE)),VLOOKUP($B35,Form!$C$5:$T$54,9,FALSE),\"\"),\"\")","v":""},{"$f":"IF($C35=\"ACTIVE\",IF(ISTEXT(VLOOKUP($B35,Form!$C$5:$T$54,10,FALSE)),VLOOKUP($B35,Form!$C$5:$T$54,10,FALSE),\"\"),\"\")","v":""},{"$f":"IF($C35=\"ACTIVE\",IF(ISTEXT(VLOOKUP($B35,Form!$C$5:$T$54,11,FALSE)),VLOOKUP($B35,Form!$C$5:$T$54,11,FALSE),\"\"),\"\")","v":""},{"$f":"IF($C35=\"ACTIVE\",IF(ISTEXT(VLOOKUP($B35,Form!$C$5:$T$54,13,FALSE)),VLOOKUP($B35,Form!$C$5:$T$54,13,FALSE),\"\"),\"\")","v":""},"","","","","","","",null,null,null,null,null,"",null,"","","","",null,null,null,null,null,null,null,null,null,null,null,null,null,null,null,null,null,null,"",null,null,null,""]
[31,{"$f":"IF(ISNA(VLOOKUP($A36,Form!$B$5:$T$54,2,FALSE)),\"\",VLOOKUP($A36,Form!$B$5:$T$54,2,FALSE))","v":""},"",{"$f":"IF($C36=\"ACTIVE\",IF(ISTEXT(VLOOKUP($B36,Form!$C$5:$T$54,7,FALSE)),VLOOKUP($B36,Form!$C$5:$T$54,7,FALSE),\"\"),\"\")","v":""},"",null,{"$f":"IF($C36=\"ACTIVE\",IF(ISTEXT(VLOOKUP($B36,Form!$C$5:$T$54,8,FALSE)),VLOOKUP($B36,Form!$C$5:$T$54,8,FALSE),\"\"),\"\")","v":""},{"$f":"IF($C36=\"ACTIVE\",IF(ISTEXT(VLOOKUP($B36,Form!$C$5:$T$54,9,FALSE)),VLOOKUP($B36,Form!$C$5:$T$54,9,FALSE),\"\"),\"\")","v":""},{"$f":"IF($C36=\"ACTIVE\",IF(ISTEXT(VLOOKUP($B36,Form!$C$5:$T$54,10,FALSE)),VLOOKUP($B36,Form!$C$5:$T$54,10,FALSE),\"\"),\"\")","v":""},{"$f":"IF($C36=\"ACTIVE\",IF(ISTEXT(VLOOKUP($B36,Form!$C$5:$T$54,11,FALSE)),VLOOKUP($B36,Form!$C$5:$T$54,11,FALSE),\"\"),\"\")","v":""},{"$f":"IF($C36=\"ACTIVE\",IF(ISTEXT(VLOOKUP($B36,Form!$C$5:$T$54,13,FALSE)),VLOOKUP($B36,Form!$C$5:$T$54,13,FALSE),\"\"),\"\")","v":""},"","","","","","","",null,null,null,null,null,"",null,"","","","",null,null,null,null,null,null,null,null,null,null,null,null,null,null,null,null,null,null,"",null,null,null,""]
[32,{"$f":"IF(ISNA(VLOOKUP($A37,Form!$B$5:$T$54,2,FALSE)),\"\",VLOOKUP($A37,Form!$B$5:$T$54,2,FALSE))","v":""},"",{"$f":"IF($C37=\"ACTIVE\",IF(ISTEXT(VLOOKUP($B37,Form!$C$5:$T$54,7,FALSE)),VLOOKUP($B37,Form!$C$5:$T$54,7,FALSE),\"\"),\"\")","v":""},"",null,{"$f":"IF($C37=\"ACTIVE\",IF(ISTEXT(VLOOKUP($B37,Form!$C$5:$T$54,8,FALSE)),VLOOKUP($B37,Form!$C$5:$T$54,8,FALSE),\"\"),\"\")","v":""},{"$f":"IF($C37=\"ACTIVE\",IF(ISTEXT(VLOOKUP($B37,Form!$C$5:$T$54,9,FALSE)),VLOOKUP($B37,Form!$C$5:$T$54,9,FALSE),\"\"),\"\")","v":""},{"$f":"IF($C37=\"ACTIVE\",IF(ISTEXT(VLOOKUP($B37,Form!$C$5:$T$54,10,FALSE)),VLOOKUP($B37,Form!$C$5:$T$54,10,FALSE),\"\"),\"\")","v":""},{"$f":"IF($C37=\"ACTIVE\",IF(ISTEXT(VLOOKUP($B37,Form!$C$5:$T$54,11,FALSE)),VLOOKUP($B37,Form!$C$5:$T$54,11,FALSE),\"\"),\"\")","v":""},{"$f":"IF($C37=\"ACTIVE\",IF(ISTEXT(VLOOKUP($B37,Form!$C$5:$T$54,13,FALSE)),VLOOKUP($B37,Form!$C$5:$T$54,13,FALSE),\"\"),\"\")","v":""},"","","","","","","",null,null,null,null,null,"",null,"","","","",null,null,null,null,null,null,null,null,null,null,null,null,null,null,null,null,null,null,"",null,null,null,""]
[33,{"$f":"IF(ISNA(VLOOKUP($A38,Form!$B$5:$T$54,2,FALSE)),\"\",VLOOKUP($A38,Form!$B$5:$T$54,2,FALSE))","v":""},"",{"$f":"IF($C38=\"ACTIVE\",IF(ISTEXT(VLOOKUP($B38,Form!$C$5:$T$54,7,FALSE)),VLOOKUP($B38,Form!$C$5:$T$54,7,FALSE),\"\"),\"\")","v":""},"",null,{"$f":"IF($C38=\"ACTIVE\",IF(ISTEXT(VLOOKUP($B38,Form!$C$5:$T$54,8,FALSE)),VLOOKUP($B38,Form!$C$5:$T$54,8,FALSE),\"\"),\"\")","v":""},{"$f":"IF($C38=\"ACTIVE\",IF(ISTEXT(VLOOKUP($B38,Form!$C$5:$T$54,9,FALSE)),VLOOKUP($B38,Form!$C$5:$T$54,9,FALSE),\"\"),\"\")","v":""},{"$f":"IF($C38=\"ACTIVE\",IF(ISTEXT(VLOOKUP($B38,Form!$C$5:$T$54,10,FALSE)),VLOOKUP($B38,Form!$C$5:$T$54,10,FALSE),\"\"),\"\")","v":""},{"$f":"IF($C38=\"ACTIVE\",IF(ISTEXT(VLOOKUP($B38,Form!$C$5:$T$54,11,FALSE)),VLOOKUP($B38,Form!$C$5:$T$54,11,FALSE),\"\"),\"\")","v":""},{"$f":"IF($C38=\"ACTIVE\",IF(ISTEXT(VLOOKUP($B38,Form!$C$5:$T$54,13,FALSE)),VLOOKUP($B38,Form!$C$5:$T$54,13,FALSE),\"\"),\"\")","v":""},"","","","","","","",null,null,null,null,null,"",null,"","","","",null,null,null,null,null,null,null,null,null,null,null,null,null,null,null,null,null,null,"",null,null,null,""]
[34,{"$f":"IF(ISNA(VLOOKUP($A39,Form!$B$5:$T$54,2,FALSE)),\"\",VLOOKUP($A39,Form!$B$5:$T$54,2,FALSE))","v":""},"",{"$f":"IF($C39=\"ACTIVE\",IF(ISTEXT(VLOOKUP($B39,Form!$C$5:$T$54,7,FALSE)),VLOOKUP($B39,Form!$C$5:$T$54,7,FALSE),\"\"),\"\")","v":""},"",null,{"$f":"IF($C39=\"ACTIVE\",IF(ISTEXT(VLOOKUP($B39,Form!$C$5:$T$54,8,FALSE)),VLOOKUP($B39,Form!$C$5:$T$54,8,FALSE),\"\"),\"\")","v":""},{"$f":"IF($C39=\"ACTIVE\",IF(ISTEXT(VLOOKUP($B39,Form!$C$5:$T$54,9,FALSE)),VLOOKUP($B39,Form!$C$5:$T$54,9,FALSE),\"\"),\"\")","v":""},{"$f":"IF($C39=\"ACTIVE\",IF(ISTEXT(VLOOKUP($B39,Form!$C$5:$T$54,10,FALSE)),VLOOKUP($B39,Form!$C$5:$T$54,10,FALSE),\"\"),\"\")","v":""},{"$f":"IF($C39=\"ACTIVE\",IF(ISTEXT(VLOOKUP($B39,Form!$C$5:$T$54,11,FALSE)),VLOOKUP($B39,Form!$C$5:$T$54,11,FALSE),\"\"),\"\")","v":""},{"$f":"IF($C39=\"ACTIVE\",IF(ISTEXT(VLOOKUP($B39,Form!$C$5:$T$54,13,FALSE)),VLOOKUP($B39,Form!$C$5:$T$54,13,FALSE),\"\"),\"\")","v":""},"","",{"$f":"IF($C39=\"ACTIVE\",\"N/A\",\"\")","v":""},"","","","",null,null,null,null,null,"",null,"","","","",null,null,null,null,null,null,null,null,null,null,null,null,null,null,null,null,null,null,"",null,null,null,""]
[35,{"$f":"IF(ISNA(VLOOKUP($A40,Form!$B$5:$T$54,2,FALSE)),\"\",VLOOKUP($A40,Form!$B$5:$T$54,2,FALSE))","v":""},"",{"$f":"IF($C40=\"ACTIVE\",IF(ISTEXT(VLOOKUP($B40,Form!$C$5:$T$54,7,FALSE)),VLOOKUP($B40,Form!$C$5:$T$54,7,FALSE),\"\"),\"\")","v":""},"",null,{"$f":"IF($C40=\"ACTIVE\",IF(ISTEXT(VLOOKUP($B40,Form!$C$5:$T$54,8,FALSE)),VLOOKUP($B40,Form!$C$5:$T$54,8,FALSE),\"\"),\"\")","v":""},{"$f":"IF($C40=\"ACTIVE\",IF(ISTEXT(VLOOKUP($B40,Form!$C$5:$T$54,9,FALSE)),VLOOKUP($B40,Form!$C$5:$T$54,9,FALSE),\"\"),\"\")","v":""},{"$f":"IF($C40=\"ACTIVE\",IF(ISTEXT(VLOOKUP($B40,Form!$C$5:$T$54,10,FALSE)),VLOOKUP($B40,Form!$C$5:$T$54,10,FALSE),\"\"),\"\")","v":""},{"$f":"IF($C40=\"ACTIVE\",IF(ISTEXT(VLOOKUP($B40,Form!$C$5:$T$54,11,FALSE)),VLOOKUP($B40,Form!$C$5:$T$54,11,FALSE),\"\"),\"\")","v":""},{"$f":"IF($C40=\"ACTIVE\",IF(ISTEXT(VLOOKUP($B40,Form!$C$5:$T$54,13,FALSE)),VLOOKUP($B40,Form!$C$5:$T$54,13,FALSE),\"\"),\"\")","v":""},"","","","","","","",null,null,null,null,null,"",null,"","","","",null,null,null,null,null,null,null,null,null,null,null,null,null,null,null,null,null,null,"",null,null,null,""]
[36,{"$f":"IF(ISNA(VLOOKUP($A41,Form!$B$5:$T$54,2,FALSE)),\"\",VLOOKUP($A41,Form!$B$5:$T$54,2,FALSE))","v":""},"",{"$f":"IF($C41=\"ACTIVE\",IF(ISTEXT(VLOOKUP($B41,Form!$C$5:$T$54,7,FALSE)),VLOOKUP($B41,Form!$C$5:$T$54,7,FALSE),\"\"),\"\")","v":""},"",null,{"$f":"IF($C41=\"ACTIVE\",IF(ISTEXT(VLOOKUP($B41,Form!$C$5:$T$54,8,FALSE)),VLOOKUP($B41,Form!$C$5:$T$54,8,FALSE),\"\"),\"\")","v":""},{"$f":"IF($C41=\"ACTIVE\",IF(ISTEXT(VLOOKUP($B41,Form!$C$5:$T$54,9,FALSE)),VLOOKUP($B41,Form!$C$5:$T$54,9,FALSE),\"\"),\"\")","v":""},{"$f":"IF($C41=\"ACTIVE\",IF(ISTEXT(VLOOKUP($B41,Form!$C$5:$T$54,10,FALSE)),VLOOKUP($B41,Form!$C$5:$T$54,10,FALSE),\"\"),\"\")","v":""},{"$f":"IF($C41=\"ACTIVE\",IF(ISTEXT(VLOOKUP($B41,Form!$C$5:$T$54,11,FALSE)),VLOOKUP($B41,Form!$C$5:$T$54,11,FALSE),\"\"),\"\")","v":""},{"$f":"IF($C41=\"ACTIVE\",IF(ISTEXT(VLOOKUP($B41,Form!$C$5:$T$54,13,FALSE)),VLOOKUP($B41,Form!$C$5:$T$54,13,FALSE),\"\"),\"\")","v":""},"","","","","","","",null,null,null,null,null,"",null,"","","","",null,null,null,null,null,null,null,null,null,null,null,null,null,null,null,null,null,null,"",null,null,null,""]
[37,{"$f":"IF(ISNA(VLOOKUP($A42,Form!$B$5:$T$54,2,FALSE)),\"\",VLOOKUP($A42,Form!$B$5:$T$54,2,FALSE))","v":""},"",{"$f":"IF($C42=\"ACTIVE\",IF(ISTEXT(VLOOKUP($B42,Form!$C$5:$T$54,7,FALSE)),VLOOKUP($B42,Form!$C$5:$T$54,7,FALSE),\"\"),\"\")","v":""},"",null,{"$f":"IF($C42=\"ACTIVE\",IF(ISTEXT(VLOOKUP($B42,Form!$C$5:$T$54,8,FALSE)),VLOOKUP($B42,Form!$C$5:$T$54,8,FALSE),\"\"),\"\")","v":""},{"$f":"IF($C42=\"ACTIVE\",IF(ISTEXT(VLOOKUP($B42,Form!$C$5:$T$54,9,FALSE)),VLOOKUP($B42,Form!$C$5:$T$54,9,FALSE),\"\"),\"\")","v":""},{"$f":"IF($C42=\"ACTIVE\",IF(ISTEXT(VLOOKUP($B42,Form!$C$5:$T$54,10,FALSE)),VLOOKUP($B42,Form!$C$5:$T$54,10,FALSE),\"\"),\"\")","v":""},{"$f":"IF($C42=\"ACTIVE\",IF(ISTEXT(VLOOKUP($B42,Form!$C$5:$T$54,11,FALSE)),VLOOKUP($B42,Form!$C$5:$T$54,11,FALSE),\"\"),\"\")","v":""},{"$f":"IF($C42=\"ACTIVE\",IF(ISTEXT(VLOOKUP($B42,Form!$C$5:$T$54,13,FALSE)),VLOOKUP($B42,Form!$C$5:$T$54,13,FALSE),\"\"),\"\")","v":""},"","","","","","","",null,null,null,null,null,"",null,"","","","",null,null,null,null,null,null,null,null,null,null,null,null,null,null,null,null,null,null,"",null,null,null,""]
[38,{"$f":"IF(ISNA(VLOOKUP($A43,Form!$B$5:$T$54,2,FALSE)),\"\",VLOOKUP($A43,Form!$B$5:$T$54,2,FALSE))","v":""},"",{"$f":"IF($C43=\"ACTIVE\",IF(ISTEXT(VLOOKUP($B43,Form!$C$5:$T$54,7,FALSE)),VLOOKUP($B43,Form!$C$5:$T$54,7,FALSE),\"\"),\"\")","v":""},"",null,{"$f":"IF($C43=\"ACTIVE\",IF(ISTEXT(VLOOKUP($B43,Form!$C$5:$T$54,8,FALSE)),VLOOKUP($B43,Form!$C$5:$T$54,8,FALSE),\"\"),\"\")","v":""},{"$f":"IF($C43=\"ACTIVE\",IF(ISTEXT(VLOOKUP($B43,Form!$C$5:$T$54,9,FALSE)),VLOOKUP($B43,Form!$C$5:$T$54,9,FALSE),\"\"),\"\")","v":""},{"$f":"IF($C43=\"ACTIVE\",IF(ISTEXT(VLOOKUP($B43,Form!$C$5:$T$54,10,FALSE)),VLOOKUP($B43,Form!$C$5:$T$54,10,FALSE),\"\"),\"\")","v":""},{"$f":"IF($C43=\"ACTIVE\",IF(ISTEXT(VLOOKUP($B43,Form!$C$5:$T$54,11,FALSE)),VLOOKUP($B43,Form!$C$5:$T$54,11,FALSE),\"\"),\"\")","v":""},{"$f":"IF($C43=\"ACTIVE\",IF(ISTEXT(VLOOKUP($B43,Form!$C$5:$T$54,13,FALSE)),VLOOKUP($B43,Form!$C$5:$T$54,13,FALSE),\"\"),\"\")","v":""},"","","","","","","",null,null,null,null,null,"",null,"","","","",null,null,null,null,null,null,null,null,null,null,null,null,null,null,null,null,null,null,"",null,null,null,""]
[39,{"$f":"IF(ISNA(VLOOKUP($A44,Form!$B$5:$T$54,2,FALSE)),\"\",VLOOKUP($A44,Form!$B$5:$T$54,2,FALSE))","v":""},"",{"$f":"IF($C44=\"ACTIVE\",IF(ISTEXT(VLOOKUP($B44,Form!$C$5:$T$54,7,FALSE)),VLOOKUP($B44,Form!$C$5:$T$54,7,FALSE),\"\"),\"\")","v":""},"",null,{"$f":"IF($C44=\"ACTIVE\",IF(ISTEXT(VLOOKUP($B44,Form!$C$5:$T$54,8,FALSE)),VLOOKUP($B44,Form!$C$5:$T$54,8,FALSE),\"\"),\"\")","v":""},{"$f":"IF($C44=\"ACTIVE\",IF(ISTEXT(VLOOKUP($B44,Form!$C$5:$T$54,9,FALSE)),VLOOKUP($B44,Form!$C$5:$T$54,9,FALSE),\"\"),\"\")","v":""},{"$f":"IF($C44=\"ACTIVE\",IF(ISTEXT(VLOOKUP($B44,Form!$C$5:$T$54,10,FALSE)),VLOOKUP($B44,Form!$C$5:$T$54,10,FALSE),\"\"),\"\")","v":""},{"$f":"IF($C44=\"ACTIVE\",IF(ISTEXT(VLOOKUP($B44,Form!$C$5:$T$54,11,FALSE)),VLOOKUP($B44,Form!$C$5:$T$54,11,FALSE),\"\"),\"\")","v":""},{"$f":"IF($C44=\"ACTIVE\",IF(ISTEXT(VLOOKUP($B44,Form!$C$5:$T$54,13,FALSE)),VLOOKUP($B44,Form!$C$5:$T$54,13,FALSE),\"\"),\"\")","v":""},"","","","","","","",null,null,null,null,null,"",null,"","","","",null,null,null,null,null,null,null,null,null,null,null,null,null,null,null,null,null,null,"",null,null,null,""]
[40,{"$f":"IF(ISNA(VLOOKUP($A45,Form!$B$5:$T$54,2,FALSE)),\"\",VLOOKUP($A45,Form!$B$5:$T$54,2,FALSE))","v":""},"",{"$f":"IF($C45=\"ACTIVE\",IF(ISTEXT(VLOOKUP($B45,Form!$C$5:$T$54,7,FALSE)),VLOOKUP($B45,Form!$C$5:$T$54,7,FALSE),\"\"),\"\")","v":""},"",null,{"$f":"IF($C45=\"ACTIVE\",IF(ISTEXT(VLOOKUP($B45,Form!$C$5:$T$54,8,FALSE)),VLOOKUP($B45,Form!$C$5:$T$54,8,FALSE),\"\"),\"\")","v":""},{"$f":"IF($C45=\"ACTIVE\",IF(ISTEXT(VLOOKUP($B45,Form!$C$5:$T$54,9,FALSE)),VLOOKUP($B45,Form!$C$5:$T$54,9,FALSE),\"\"),\"\")","v":""},{"$f":"IF($C45=\"ACTIVE\",IF(ISTEXT(VLOOKUP($B45,Form!$C$5:$T$54,10,FALSE)),VLOOKUP($B45,Form!$C$5:$T$54,10,FALSE),\"\"),\"\")","v":""},{"$f":"IF($C45=\"ACTIVE\",IF(ISTEXT(VLOOKUP($B45,Form!$C$5:$T$54,11,FALSE)),VLOOKUP($B45,Form!$C$5:$T$54,11,FALSE),\"\"),\"\")","v":""},{"$f":"IF($C45=\"ACTIVE\",IF(ISTEXT(VLOOKUP($B45,Form!$C$5:$T$54,13,FALSE)),VLOOKUP($B45,Form!$C$5:$T$54,13,FALSE),\"\"),\"\")","v":""},"","","","","","","",null,null,null,null,null,"",null,"","","","",null,null,null,null,null,null,null,null,null,null,null,null,null,null,null,null,null,null,"",null,null,null,""]
[41,{"$f":"IF(ISNA(VLOOKUP($A46,Form!$B$5:$T$54,2,FALSE)),\"\",VLOOKUP($A46,Form!$B$5:$T$54,2,FALSE))","v":""},"",{"$f":"IF($C46=\"ACTIVE\",IF(ISTEXT(VLOOKUP($B46,Form!$C$5:$T$54,7,FALSE)),VLOOKUP($B46,Form!$C$5:$T$54,7,FALSE),\"\"),\"\")","v":""},"",null,{"$f":"IF($C46=\"ACTIVE\",IF(ISTEXT(VLOOKUP($B46,Form!$C$5:$T$54,8,FALSE)),VLOOKUP($B46,Form!$C$5:$T$54,8,FALSE),\"\"),\"\")","v":""},{"$f":"IF($C46=\"ACTIVE\",IF(ISTEXT(VLOOKUP($B46,Form!$C$5:$T$54,9,FALSE)),VLOOKUP($B46,Form!$C$5:$T$54,9,FALSE),\"\"),\"\")","v":""},{"$f":"IF($C46=\"ACTIVE\",IF(ISTEXT(VLOOKUP($B46,Form!$C$5:$T$54,10,FALSE)),VLOOKUP($B46,Form!$C$5:$T$54,10,FALSE),\"\"),\"\")","v":""},{"$f":"IF($C46=\"ACTIVE\",IF(ISTEXT(VLOOKUP($B46,Form!$C$5:$T$54,11,FALSE)),VLOOKUP($B46,Form!$C$5:$T$54,11,FALSE),\"\"),\"\")","v":""},{"$f":"IF($C46=\"ACTIVE\",IF(ISTEXT(VLOOKUP($B46,Form!$C$5:$T$54,13,FALSE)),VLOOKUP($B46,Form!$C$5:$T$54,13,FALSE),\"\"),\"\")","v":""},"","","","","","","",null,null,null,null,null,"",null,"","","","",null,null,null,null,null,null,null,null,null,null,null,null,null,null,null,null,null,null,"",null,null,null,""]
[42,{"$f":"IF(ISNA(VLOOKUP($A47,Form!$B$5:$T$54,2,FALSE)),\"\",VLOOKUP($A47,Form!$B$5:$T$54,2,FALSE))","v":""},"",{"$f":"IF($C47=\"ACTIVE\",IF(ISTEXT(VLOOKUP($B47,Form!$C$5:$T$54,7,FALSE)),VLOOKUP($B47,Form!$C$5:$T$54,7,FALSE),\"\"),\"\")","v":""},"",null,{"$f":"IF($C47=\"ACTIVE\",IF(ISTEXT(VLOOKUP($B47,Form!$C$5:$T$54,8,FALSE)),VLOOKUP($B47,Form!$C$5:$T$54,8,FALSE),\"\"),\"\")","v":""},{"$f":"IF($C47=\"ACTIVE\",IF(ISTEXT(VLOOKUP($B47,Form!$C$5:$T$54,9,FALSE)),VLOOKUP($B47,Form!$C$5:$T$54,9,FALSE),\"\"),\"\")","v":""},{"$f":"IF($C47=\"ACTIVE\",IF(ISTEXT(VLOOKUP($B47,Form!$C$5:$T$54,10,FALSE)),VLOOKUP($B47,Form!$C$5:$T$54,10,FALSE),\"\"),\"\")","v":""},{"$f":"IF($C47=\"ACTIVE\",IF(ISTEXT(VLOOKUP($B47,Form!$C$5:$T$54,11,FALSE)),VLOOKUP($B47,Form!$C$5:$T$54,11,FALSE),\"\"),\"\")","v":""},{"$f":"IF($C47=\"ACTIVE\",IF(ISTEXT(VLOOKUP($B47,Form!$C$5:$T$54,13,FALSE)),VLOOKUP($B47,Form!$C$5:$T$54,13,FALSE),\"\"),\"\")","v":""},"","","","","","","",null,null,null,null,null,"",null,"","","","",null,null,null,null,null,null,null,null,null,null,null,null,null,null,null,null,null,null,"",null,null,null,""]
[43,{"$f":"IF(ISNA(VLOOKUP($A48,Form!$B$5:$T$54,2,FALSE)),\"\",VLOOKUP($A48,Form!$B$5:$T$54,2,FALSE))","v":""},"",{"$f":"IF($C48=\"ACTIVE\",IF(ISTEXT(VLOOKUP($B48,Form!$C$5:$T$54,7,FALSE)),VLOOKUP($B48,Form!$C$5:$T$54,7,FALSE),\"\"),\"\")","v":""},"",null,{"$f":"IF($C48=\"ACTIVE\",IF(ISTEXT(VLOOKUP($B48,Form!$C$5:$T$54,8,FALSE)),VLOOKUP($B48,Form!$C$5:$T$54,8,FALSE),\"\"),\"\")","v":""},{"$f":"IF($C48=\"ACTIVE\",IF(ISTEXT(VLOOKUP($B48,Form!$C$5:$T$54,9,FALSE)),VLOOKUP($B48,Form!$C$5:$T$54,9,FALSE),\"\"),\"\")","v":""},{"$f":"IF($C48=\"ACTIVE\",IF(ISTEXT(VLOOKUP($B48,Form!$C$5:$T$54,10,FALSE)),VLOOKUP($B48,Form!$C$5:$T$54,10,FALSE),\"\"),\"\")","v":""},{"$f":"IF($C48=\"ACTIVE\",IF(ISTEXT(VLOOKUP($B48,Form!$C$5:$T$54,11,FALSE)),VLOOKUP($B48,Form!$C$5:$T$54,11,FALSE),\"\"),\"\")","v":""},{"$f":"IF($C48=\"ACTIVE\",IF(ISTEXT(VLOOKUP($B48,Form!$C$5:$T$54,13,FALSE)),VLOOKUP($B48,Form!$C$5:$T$54,13,FALSE),\"\"),\"\")","v":""},"","","","","","","",null,null,null,null,null,"",null,"","","","",null,null,null,null,null,null,null,null,null,null,null,null,null,null,null,null,null,null,"",null,null,null,""]
[44,{"$f":"IF(ISNA(VLOOKUP($A49,Form!$B$5:$T$54,2,FALSE)),\"\",VLOOKUP($A49,Form!$B$5:$T$54,2,FALSE))","v":""},"",{"$f":"IF($C49=\"ACTIVE\",IF(ISTEXT(VLOOKUP($B49,Form!$C$5:$T$54,7,FALSE)),VLOOKUP($B49,Form!$C$5:$T$54,7,FALSE),\"\"),\"\")","v":""},"",null,{"$f":"IF($C49=\"ACTIVE\",IF(ISTEXT(VLOOKUP($B49,Form!$C$5:$T$54,8,FALSE)),VLOOKUP($B49,Form!$C$5:$T$54,8,FALSE),\"\"),\"\")","v":""},{"$f":"IF($C49=\"ACTIVE\",IF(ISTEXT(VLOOKUP($B49,Form!$C$5:$T$54,9,FALSE)),VLOOKUP($B49,Form!$C$5:$T$54,9,FALSE),\"\"),\"\")","v":""},{"$f":"IF($C49=\"ACTIVE\",IF(ISTEXT(VLOOKUP($B49,Form!$C$5:$T$54,10,FALSE)),VLOOKUP($B49,Form!$C$5:$T$54,10,FALSE),\"\"),\"\")","v":""},{"$f":"IF($C49=\"ACTIVE\",IF(ISTEXT(VLOOKUP($B49,Form!$C$5:$T$54,11,FALSE)),VLOOKUP($B49,Form!$C$5:$T$54,11,FALSE),\"\"),\"\")","v":""},{"$f":"IF($C49=\"ACTIVE\",IF(ISTEXT(VLOOKUP($B49,Form!$C$5:$T$54,13,FALSE)),VLOOKUP($B49,Form!$C$5:$T$54,13,FALSE),\"\"),\"\")","v":""},"","","","","","","",null,null,null,null,null,"",null,"","","","",null,null,null,null,null,null,null,null,null,null,null,null,null,null,null,null,null,null,"",null,null,null,""]
[45,{"$f":"IF(ISNA(VLOOKUP($A50,Form!$B$5:$T$54,2,FALSE)),\"\",VLOOKUP($A50,Form!$B$5:$T$54,2,FALSE))","v":""},"",{"$f":"IF($C50=\"ACTIVE\",IF(ISTEXT(VLOOKUP($B50,Form!$C$5:$T$54,7,FALSE)),VLOOKUP($B50,Form!$C$5:$T$54,7,FALSE),\"\"),\"\")","v":""},"",null,{"$f":"IF($C50=\"ACTIVE\",IF(ISTEXT(VLOOKUP($B50,Form!$C$5:$T$54,8,FALSE)),VLOOKUP($B50,Form!$C$5:$T$54,8,FALSE),\"\"),\"\")","v":""},{"$f":"IF($C50=\"ACTIVE\",IF(ISTEXT(VLOOKUP($B50,Form!$C$5:$T$54,9,FALSE)),VLOOKUP($B50,Form!$C$5:$T$54,9,FALSE),\"\"),\"\")","v":""},{"$f":"IF($C50=\"ACTIVE\",IF(ISTEXT(VLOOKUP($B50,Form!$C$5:$T$54,10,FALSE)),VLOOKUP($B50,Form!$C$5:$T$54,10,FALSE),\"\"),\"\")","v":""},{"$f":"IF($C50=\"ACTIVE\",IF(ISTEXT(VLOOKUP($B50,Form!$C$5:$T$54,11,FALSE)),VLOOKUP($B50,Form!$C$5:$T$54,11,FALSE),\"\"),\"\")","v":""},{"$f":"IF($C50=\"ACTIVE\",IF(ISTEXT(VLOOKUP($B50,Form!$C$5:$T$54,13,FALSE)),VLOOKUP($B50,Form!$C$5:$T$54,13,FALSE),\"\"),\"\")","v":""},"","","","","","","",null,null,null,null,null,"",null,"","","","",null,null,null,null,null,null,null,null,null,null,null,null,null,null,null,null,null,null,"",null,null,null,""]
[46,{"$f":"IF(ISNA(VLOOKUP($A51,Form!$B$5:$T$54,2,FALSE)),\"\",VLOOKUP($A51,Form!$B$5:$T$54,2,FALSE))","v":""},"",{"$f":"IF($C51=\"ACTIVE\",IF(ISTEXT(VLOOKUP($B51,Form!$C$5:$T$54,7,FALSE)),VLOOKUP($B51,Form!$C$5:$T$54,7,FALSE),\"\"),\"\")","v":""},"",null,{"$f":"IF($C51=\"ACTIVE\",IF(ISTEXT(VLOOKUP($B51,Form!$C$5:$T$54,8,FALSE)),VLOOKUP($B51,Form!$C$5:$T$54,8,FALSE),\"\"),\"\")","v":""},{"$f":"IF($C51=\"ACTIVE\",IF(ISTEXT(VLOOKUP($B51,Form!$C$5:$T$54,9,FALSE)),VLOOKUP($B51,Form!$C$5:$T$54,9,FALSE),\"\"),\"\")","v":""},{"$f":"IF($C51=\"ACTIVE\",IF(ISTEXT(VLOOKUP($B51,Form!$C$5:$T$54,10,FALSE)),VLOOKUP($B51,Form!$C$5:$T$54,10,FALSE),\"\"),\"\")","v":""},{"$f":"IF($C51=\"ACTIVE\",IF(ISTEXT(VLOOKUP($B51,Form!$C$5:$T$54,11,FALSE)),VLOOKUP($B51,Form!$C$5:$T$54,11,FALSE),\"\"),\"\")","v":""},{"$f":"IF($C51=\"ACTIVE\",IF(ISTEXT(VLOOKUP($B51,Form!$C$5:$T$54,13,FALSE)),VLOOKUP($B51,Form!$C$5:$T$54,13,FALSE),\"\"),\"\")","v":""},"","","","","","","",null,null,null,null,null,"",null,"","","","",null,null,null,null,null,null,null,null,null,null,null,null,null,null,null,null,null,null,"",null,null,null,""]
[47,{"$f":"IF(ISNA(VLOOKUP($A52,Form!$B$5:$T$54,2,FALSE)),\"\",VLOOKUP($A52,Form!$B$5:$T$54,2,FALSE))","v":""},"",{"$f":"IF($C52=\"ACTIVE\",IF(ISTEXT(VLOOKUP($B52,Form!$C$5:$T$54,7,FALSE)),VLOOKUP($B52,Form!$C$5:$T$54,7,FALSE),\"\"),\"\")","v":""},"",null,{"$f":"IF($C52=\"ACTIVE\",IF(ISTEXT(VLOOKUP($B52,Form!$C$5:$T$54,8,FALSE)),VLOOKUP($B52,Form!$C$5:$T$54,8,FALSE),\"\"),\"\")","v":""},{"$f":"IF($C52=\"ACTIVE\",IF(ISTEXT(VLOOKUP($B52,Form!$C$5:$T$54,9,FALSE)),VLOOKUP($B52,Form!$C$5:$T$54,9,FALSE),\"\"),\"\")","v":""},{"$f":"IF($C52=\"ACTIVE\",IF(ISTEXT(VLOOKUP($B52,Form!$C$5:$T$54,10,FALSE)),VLOOKUP($B52,Form!$C$5:$T$54,10,FALSE),\"\"),\"\")","v":""},{"$f":"IF($C52=\"ACTIVE\",IF(ISTEXT(VLOOKUP($B52,Form!$C$5:$T$54,11,FALSE)),VLOOKUP($B52,Form!$C$5:$T$54,11,FALSE),\"\"),\"\")","v":""},{"$f":"IF($C52=\"ACTIVE\",IF(ISTEXT(VLOOKUP($B52,Form!$C$5:$T$54,13,FALSE)),VLOOKUP($B52,Form!$C$5:$T$54,13,FALSE),\"\"),\"\")","v":""},"","","","","","","",null,null,null,null,null,"",null,"","","","",null,null,null,null,null,null,null,null,null,null,null,null,null,null,null,null,null,null,"",null,null,null,""]
[48,{"$f":"IF(ISNA(VLOOKUP($A53,Form!$B$5:$T$54,2,FALSE)),\"\",VLOOKUP($A53,Form!$B$5:$T$54,2,FALSE))","v":""},"",{"$f":"IF($C53=\"ACTIVE\",IF(ISTEXT(VLOOKUP($B53,Form!$C$5:$T$54,7,FALSE)),VLOOKUP($B53,Form!$C$5:$T$54,7,FALSE),\"\"),\"\")","v":""},"",null,{"$f":"IF($C53=\"ACTIVE\",IF(ISTEXT(VLOOKUP($B53,Form!$C$5:$T$54,8,FALSE)),VLOOKUP($B53,Form!$C$5:$T$54,8,FALSE),\"\"),\"\")","v":""},{"$f":"IF($C53=\"ACTIVE\",IF(ISTEXT(VLOOKUP($B53,Form!$C$5:$T$54,9,FALSE)),VLOOKUP($B53,Form!$C$5:$T$54,9,FALSE),\"\"),\"\")","v":""},{"$f":"IF($C53=\"ACTIVE\",IF(ISTEXT(VLOOKUP($B53,Form!$C$5:$T$54,10,FALSE)),VLOOKUP($B53,Form!$C$5:$T$54,10,FALSE),\"\"),\"\")","v":""},{"$f":"IF($C53=\"ACTIVE\",IF(ISTEXT(VLOOKUP($B53,Form!$C$5:$T$54,11,FALSE)),VLOOKUP($B53,Form!$C$5:$T$54,11,FALSE),\"\"),\"\")","v":""},{"$f":"IF($C53=\"ACTIVE\",IF(ISTEXT(VLOOKUP($B53,Form!$C$5:$T$54,13,FALSE)),VLOOKUP($B53,Form!$C$5:$T$54,13,FALSE),\"\"),\"\")","v":""},"","","","","","","",null,null,null,null,null,"",null,"","","","",null,null,null,null,null,null,null,null,null,null,null,null,null,null,null,null,null,null,"",null,null,null,""]
[49,{"$f":"IF(ISNA(VLOOKUP($A54,Form!$B$5:$T$54,2,FALSE)),\"\",VLOOKUP($A54,Form!$B$5:$T$54,2,FALSE))","v":""},"",{"$f":"IF($C54=\"ACTIVE\",IF(ISTEXT(VLOOKUP($B54,Form!$C$5:$T$54,7,FALSE)),VLOOKUP($B54,Form!$C$5:$T$54,7,FALSE),\"\"),\"\")","v":""},"",null,{"$f":"IF($C54=\"ACTIVE\",IF(ISTEXT(VLOOKUP($B54,Form!$C$5:$T$54,8,FALSE)),VLOOKUP($B54,Form!$C$5:$T$54,8,FALSE),\"\"),\"\")","v":""},{"$f":"IF($C54=\"ACTIVE\",IF(ISTEXT(VLOOKUP($B54,Form!$C$5:$T$54,9,FALSE)),VLOOKUP($B54,Form!$C$5:$T$54,9,FALSE),\"\"),\"\")","v":""},{"$f":"IF($C54=\"ACTIVE\",IF(ISTEXT(VLOOKUP($B54,Form!$C$5:$T$54,10,FALSE)),VLOOKUP($B54,Form!$C$5:$T$54,10,FALSE),\"\"),\"\")","v":""},{"$f":"IF($C54=\"ACTIVE\",IF(ISTEXT(VLOOKUP($B54,Form!$C$5:$T$54,11,FALSE)),VLOOKUP($B54,Form!$C$5:$T$54,11,FALSE),\"\"),\"\")","v":""},{"$f":"IF($C54=\"ACTIVE\",IF(ISTEXT(VLOOKUP($B54,Form!$C$5:$T$54,13,FALSE)),VLOOKUP($B54,Form!$C$5:$T$54,13,FALSE),\"\"),\"\")","v":""},"","","","","","","",null,null,null,null,null,"",null,"","","","",null,null,null,null,null,null,null,null,null,null,null,null,null,null,null,null,null,null,"",null,null,null,""]
[50,{"$f":"IF(ISNA(VLOOKUP($A55,Form!$B$5:$T$54,2,FALSE)),\"\",VLOOKUP($A55,Form!$B$5:$T$54,2,FALSE))","v":""},"",{"$f":"IF($C55=\"ACTIVE\",IF(ISTEXT(VLOOKUP($B55,Form!$C$5:$T$54,7,FALSE)),VLOOKUP($B55,Form!$C$5:$T$54,7,FALSE),\"\"),\"\")","v":""},"",null,{"$f":"IF($C55=\"ACTIVE\",IF(ISTEXT(VLOOKUP($B55,Form!$C$5:$T$54,8,FALSE)),VLOOKUP($B55,Form!$C$5:$T$54,8,FALSE),\"\"),\"\")","v":""},{"$f":"IF($C55=\"ACTIVE\",IF(ISTEXT(VLOOKUP($B55,Form!$C$5:$T$54,9,FALSE)),VLOOKUP($B55,Form!$C$5:$T$54,9,FALSE),\"\"),\"\")","v":""},{"$f":"IF($C55=\"ACTIVE\",IF(ISTEXT(VLOOKUP($B55,Form!$C$5:$T$54,10,FALSE)),VLOOKUP($B55,Form!$C$5:$T$54,10,FALSE),\"\"),\"\")","v":""},{"$f":"IF($C55=\"ACTIVE\",IF(ISTEXT(VLOOKUP($B55,Form!$C$5:$T$54,11,FALSE)),VLOOKUP($B55,Form!$C$5:$T$54,11,FALSE),\"\"),\"\")","v":""},{"$f":"IF($C55=\"ACTIVE\",IF(ISTEXT(VLOOKUP($B55,Form!$C$5:$T$54,13,FALSE)),VLOOKUP($B55,Form!$C$5:$T$54,13,FALSE),\"\"),\"\")","v":""},"","","","","","","",null,null,null,null,null,"",null,"","","","",null,null,null,null,null,null,null,null,null,null,null,null,null,null,null,null,null,null,"",null,null,null,""]

{"sheet":"LMS_P_PersonalInfo_Import","index":8,"n_rows":53,"n_cols":43,"rows_kept":53,"cut":false,"hidden":true,"merged":[[0,0,0,5]]}
["LMS Personal Info Import Sheet"]
[]
["^UserId","ssn","dateOfBirth","citizenship","nationality","ethnicity","married","minority","businessSegment","serviceDate","level","photo","function","performance","potential","objective","competency","talentPool","riskOfLoss","impactOfLoss","benchStrength","reasonForLeaving","newToPosition","dateOfPosition","keyPosition","futureLeader","matrixManaged","companyCode","personnelSubArea","ausgridJobFamily","ausgridJobRole","costCentre","substationKey","datekeyIssue","sealingPliers","elecLicNo","elecLicNoExpDate","contLicNo","contLicNoExpDate","primaryCompandABN","secondaryCompandABN","ESINo","Domain"]
[{"$f":"IF(ISBLANK(LMS_Users_P_Import!D6),\"\",LMS_Users_P_Import!D6)","v":""},null,null,null,null,null,null,null,null,null,null,null,null,null,null,null,null,null,null,null,null,null,null,null,null,null,null,{"$f":"IF(LEN($A4)>0,CompanyCode,\"\")","v":""},null,null,null,null,null,null,null,null,null,null,null,null,null,null,{"$f":"IF(LEN($A4)>0,\"Externals\",\"\")","v":""}]
[{"$f":"IF(ISBLANK(LMS_Users_P_Import!D7),\"\",LMS_Users_P_Import!D7)","v":""},null,null,null,null,null,null,null,null,null,null,null,null,null,null,null,null,null,null,null,null,null,null,null,null,null,null,"",null,null,null,null,null,null,null,null,null,null,null,null,null,null,{"$f":"IF(LEN($A5)>0,\"Externals\",\"\")","v":""}]
[{"$f":"IF(ISBLANK(LMS_Users_P_Import!D8),\"\",LMS_Users_P_Import!D8)","v":""},null,null,null,null,null,null,null,null,null,null,null,null,null,null,null,null,null,null,null,null,null,null,null,null,null,null,"",null,null,null,null,null,null,null,null,null,null,null,null,null,null,""]
[{"$f":"IF(ISBLANK(LMS_Users_P_Import!D9),\"\",LMS_Users_P_Import!D9)","v":""},null,null,null,null,null,null,null,null,null,null,null,null,null,null,null,null,null,null,null,null,null,null,null,null,null,null,"",null,null,null,null,null,null,null,null,null,null,null,null,null,null,""]
[{"$f":"IF(ISBLANK(LMS_Users_P_Import!D10),\"\",LMS_Users_P_Import!D10)","v":""},null,null,null,null,null,null,null,null,null,null,null,null,null,null,null,null,null,null,null,null,null,null,null,null,null,null,"",null,null,null,null,null,null,null,null,null,null,null,null,null,null,""]
[{"$f":"IF(ISBLANK(LMS_Users_P_Import!D11),\"\",LMS_Users_P_Import!D11)","v":""},null,null,null,null,null,null,null,null,null,null,null,null,null,null,null,null,null,null,null,null,null,null,null,null,null,null,"",null,null,null,null,null,null,null,null,null,null,null,null,null,null,""]
[{"$f":"IF(ISBLANK(LMS_Users_P_Import!D12),\"\",LMS_Users_P_Import!D12)","v":""},null,null,null,null,null,null,null,null,null,null,null,null,null,null,null,null,null,null,null,null,null,null,null,null,null,null,"",null,null,null,null,null,null,null,null,null,null,null,null,null,null,""]
[{"$f":"IF(ISBLANK(LMS_Users_P_Import!D13),\"\",LMS_Users_P_Import!D13)","v":""},null,null,null,null,null,null,null,null,null,null,null,null,null,null,null,null,null,null,null,null,null,null,null,null,null,null,"",null,null,null,null,null,null,null,null,null,null,null,null,null,null,""]
[{"$f":"IF(ISBLANK(LMS_Users_P_Import!D14),\"\",LMS_Users_P_Import!D14)","v":""},null,null,null,null,null,null,null,null,null,null,null,null,null,null,null,null,null,null,null,null,null,null,null,null,null,null,"",null,null,null,null,null,null,null,null,null,null,null,null,null,null,""]
[{"$f":"IF(ISBLANK(LMS_Users_P_Import!D15),\"\",LMS_Users_P_Import!D15)","v":""},null,null,null,null,null,null,null,null,null,null,null,null,null,null,null,null,null,null,null,null,null,null,null,null,null,null,"",null,null,null,null,null,null,null,null,null,null,null,null,null,null,""]
[{"$f":"IF(ISBLANK(LMS_Users_P_Import!D16),\"\",LMS_Users_P_Import!D16)","v":""},null,null,null,null,null,null,null,null,null,null,null,null,null,null,null,null,null,null,null,null,null,null,null,null,null,null,"",null,null,null,null,null,null,null,null,null,null,null,null,null,null,""]
[{"$f":"IF(ISBLANK(LMS_Users_P_Import!D17),\"\",LMS_Users_P_Import!D17)","v":""},null,null,null,null,null,null,null,null,null,null,null,null,null,null,null,null,null,null,null,null,null,null,null,null,null,null,"",null,null,null,null,null,null,null,null,null,null,null,null,null,null,""]
[{"$f":"IF(ISBLANK(LMS_Users_P_Import!D18),\"\",LMS_Users_P_Import!D18)","v":""},null,null,null,null,null,null,null,null,null,null,null,null,null,null,null,null,null,null,null,null,null,null,null,null,null,null,"",null,null,null,null,null,null,null,null,null,null,null,null,null,null,""]
[{"$f":"IF(ISBLANK(LMS_Users_P_Import!D19),\"\",LMS_Users_P_Import!D19)","v":""},null,null,null,null,null,null,null,null,null,null,null,null,null,null,null,null,null,null,null,null,null,null,null,null,null,null,"",null,null,null,null,null,null,null,null,null,null,null,null,null,null,""]
[{"$f":"IF(ISBLANK(LMS_Users_P_Import!D20),\"\",LMS_Users_P_Import!D20)","v":""},null,null,null,null,null,null,null,null,null,null,null,null,null,null,null,null,null,null,null,null,null,null,null,null,null,null,"",null,null,null,null,null,null,null,null,null,null,null,null,null,null,""]
[{"$f":"IF(ISBLANK(LMS_Users_P_Import!D21),\"\",LMS_Users_P_Import!D21)","v":""},null,null,null,null,null,null,null,null,null,null,null,null,null,null,null,null,null,null,null,null,null,null,null,null,null,null,"",null,null,null,null,null,null,null,null,null,null,null,null,null,null,""]
[{"$f":"IF(ISBLANK(LMS_Users_P_Import!D22),\"\",LMS_Users_P_Import!D22)","v":""},null,null,null,null,null,null,null,null,null,null,null,null,null,null,null,null,null,null,null,null,null,null,null,null,null,null,"",null,null,null,null,null,null,null,null,null,null,null,null,null,null,""]
[{"$f":"IF(ISBLANK(LMS_Users_P_Import!D23),\"\",LMS_Users_P_Import!D23)","v":""},null,null,null,null,null,null,null,null,null,null,null,null,null,null,null,null,null,null,null,null,null,null,null,null,null,null,"",null,null,null,null,null,null,null,null,null,null,null,null,null,null,""]
[{"$f":"IF(ISBLANK(LMS_Users_P_Import!D24),\"\",LMS_Users_P_Import!D24)","v":""},null,null,null,null,null,null,null,null,null,null,null,null,null,null,null,null,null,null,null,null,null,null,null,null,null,null,"",null,null,null,null,null,null,null,null,null,null,null,null,null,null,""]
[{"$f":"IF(ISBLANK(LMS_Users_P_Import!D25),\"\",LMS_Users_P_Import!D25)","v":""},null,null,null,null,null,null,null,null,null,null,null,null,null,null,null,null,null,null,null,null,null,null,null,null,null,null,"",null,null,null,null,null,null,null,null,null,null,null,null,null,null,""]
[{"$f":"IF(ISBLANK(LMS_Users_P_Import!D26),\"\",LMS_Users_P_Import!D26)","v":""},null,null,null,null,null,null,null,null,null,null,null,null,null,null,null,null,null,null,null,null,null,null,null,null,null,null,"",null,null,null,null,null,null,null,null,null,null,null,null,null,null,""]
[{"$f":"IF(ISBLANK(LMS_Users_P_Import!D27),\"\",LMS_Users_P_Import!D27)","v":""},null,null,null,null,null,null,null,null,null,null,null,null,null,null,null,null,null,null,null,null,null,null,null,null,null,null,"",null,null,null,null,null,null,null,null,null,null,null,null,null,null,""]
[{"$f":"IF(ISBLANK(LMS_Users_P_Import!D28),\"\",LMS_Users_P_Import!D28)","v":""},null,null,null,null,null,null,null,null,null,null,null,null,null,null,null,null,null,null,null,null,null,null,null,null,null,null,"",null,null,null,null,null,null,null,null,null,null,null,null,null,null,""]
[{"$f":"IF(ISBLANK(LMS_Users_P_Import!D29),\"\",LMS_Users_P_Import!D29)","v":""},null,null,null,null,null,null,null,null,null,null,null,null,null,null,null,null,null,null,null,null,null,null,null,null,null,null,"",null,null,null,null,null,null,null,null,null,null,null,null,null,null,""]
[{"$f":"IF(ISBLANK(LMS_Users_P_Import!D30),\"\",LMS_Users_P_Import!D30)","v":""},null,null,null,null,null,null,null,null,null,null,null,null,null,null,null,null,null,null,null,null,null,null,null,null,null,null,"",null,null,null,null,null,null,null,null,null,null,null,null,null,null,""]
[{"$f":"IF(ISBLANK(LMS_Users_P_Import!D31),\"\",LMS_Users_P_Import!D31)","v":""},null,null,null,null,null,null,null,null,null,null,null,null,null,null,null,null,null,null,null,null,null,null,null,null,null,null,"",null,null,null,null,null,null,null,null,null,null,null,null,null,null,""]
[{"$f":"IF(ISBLANK(LMS_Users_P_Import!D32),\"\",LMS_Users_P_Import!D32)","v":""},null,null,null,null,null,null,null,null,null,null,null,null,null,null,null,null,null,null,null,null,null,null,null,null,null,null,"",null,null,null,null,null,null,null,null,null,null,null,null,null,null,""]
[{"$f":"IF(ISBLANK(LMS_Users_P_Import!D33),\"\",LMS_Users_P_Import!D33)","v":""},null,null,null,null,null,null,null,null,null,null,null,null,null,null,null,null,null,null,null,null,null,null,null,null,null,null,"",null,null,null,null,null,null,null,null,null,null,null,null,null,null,""]
[{"$f":"IF(ISBLANK(LMS_Users_P_Import!D34),\"\",LMS_Users_P_Import!D34)","v":""},null,null,null,null,null,null,null,null,null,null,null,null,null,null,null,null,null,null,null,null,null,null,null,null,null,null,"",null,null,null,null,null,null,null,null,null,null,null,null,null,null,""]
[{"$f":"IF(ISBLANK(LMS_Users_P_Import!D35),\"\",LMS_Users_P_Import!D35)","v":""},null,null,null,null,null,null,null,null,null,null,null,null,null,null,null,null,null,null,null,null,null,null,null,null,null,null,"",null,null,null,null,null,null,null,null,null,null,null,null,null,null,""]
[{"$f":"IF(ISBLANK(LMS_Users_P_Import!D36),\"\",LMS_Users_P_Import!D36)","v":""},null,null,null,null,null,null,null,null,null,null,null,null,null,null,null,null,null,null,null,null,null,null,null,null,null,null,"",null,null,null,null,null,null,null,null,null,null,null,null,null,null,""]
[{"$f":"IF(ISBLANK(LMS_Users_P_Import!D37),\"\",LMS_Users_P_Import!D37)","v":""},null,null,null,null,null,null,null,null,null,null,null,null,null,null,null,null,null,null,null,null,null,null,null,null,null,null,"",null,null,null,null,null,null,null,null,null,null,null,null,null,null,""]
[{"$f":"IF(ISBLANK(LMS_Users_P_Import!D38),\"\",LMS_Users_P_Import!D38)","v":""},null,null,null,null,null,null,null,null,null,null,null,null,null,null,null,null,null,null,null,null,null,null,null,null,null,null,{"$f":"IF(LEN($A36)>0,CompanyCode,\"\")","v":""},null,null,null,null,null,null,null,null,null,null,null,null,null,null,""]
[{"$f":"IF(ISBLANK(LMS_Users_P_Import!D39),\"\",LMS_Users_P_Import!D39)","v":""},null,null,null,null,null,null,null,null,null,null,null,null,null,null,null,null,null,null,null,null,null,null,null,null,null,null,"",null,null,null,null,null,null,null,null,null,null,null,null,null,null,""]
[{"$f":"IF(ISBLANK(LMS_Users_P_Import!D40),\"\",LMS_Users_P_Import!D40)","v":""},null,null,null,null,null,null,null,null,null,null,null,null,null,null,null,null,null,null,null,null,null,null,null,null,null,null,"",null,null,null,null,null,null,null,null,null,null,null,null,null,null,""]
[{"$f":"IF(ISBLANK(LMS_Users_P_Import!D41),\"\",LMS_Users_P_Import!D41)","v":""},null,null,null,null,null,null,null,null,null,null,null,null,null,null,null,null,null,null,null,null,null,null,null,null,null,null,"",null,null,null,null,null,null,null,null,null,null,null,null,null,null,""]
[{"$f":"IF(ISBLANK(LMS_Users_P_Import!D42),\"\",LMS_Users_P_Import!D42)","v":""},null,null,null,null,null,null,null,null,null,null,null,null,null,null,null,null,null,null,null,null,null,null,null,null,null,null,"",null,null,null,null,null,null,null,null,null,null,null,null,null,null,""]
[{"$f":"IF(ISBLANK(LMS_Users_P_Import!D43),\"\",LMS_Users_P_Import!D43)","v":""},null,null,null,null,null,null,null,null,null,null,null,null,null,null,null,null,null,null,null,null,null,null,null,null,null,null,"",null,null,null,null,null,null,null,null,null,null,null,null,null,null,""]
[{"$f":"IF(ISBLANK(LMS_Users_P_Import!D44),\"\",LMS_Users_P_Import!D44)","v":""},null,null,null,null,null,null,null,null,null,null,null,null,null,null,null,null,null,null,null,null,null,null,null,null,null,null,"",null,null,null,null,null,null,null,null,null,null,null,null,null,null,""]
[{"$f":"IF(ISBLANK(LMS_Users_P_Import!D45),\"\",LMS_Users_P_Import!D45)","v":""},null,null,null,null,null,null,null,null,null,null,null,null,null,null,null,null,null,null,null,null,null,null,null,null,null,null,"",null,null,null,null,null,null,null,null,null,null,null,null,null,null,""]
[{"$f":"IF(ISBLANK(LMS_Users_P_Import!D46),\"\",LMS_Users_P_Import!D46)","v":""},null,null,null,null,null,null,null,null,null,null,null,null,null,null,null,null,null,null,null,null,null,null,null,null,null,null,"",null,null,null,null,null,null,null,null,null,null,null,null,null,null,""]
[{"$f":"IF(ISBLANK(LMS_Users_P_Import!D47),\"\",LMS_Users_P_Import!D47)","v":""},null,null,null,null,null,null,null,null,null,null,null,null,null,null,null,null,null,null,null,null,null,null,null,null,null,null,"",null,null,null,null,null,null,null,null,null,null,null,null,null,null,""]
[{"$f":"IF(ISBLANK(LMS_Users_P_Import!D48),\"\",LMS_Users_P_Import!D48)","v":""},null,null,null,null,null,null,null,null,null,null,null,null,null,null,null,null,null,null,null,null,null,null,null,null,null,null,"",null,null,null,null,null,null,null,null,null,null,null,null,null,null,""]
[{"$f":"IF(ISBLANK(LMS_Users_P_Import!D49),\"\",LMS_Users_P_Import!D49)","v":""},null,null,null,null,null,null,null,null,null,null,null,null,null,null,null,null,null,null,null,null,null,null,null,null,null,null,"",null,null,null,null,null,null,null,null,null,null,null,null,null,null,""]
[{"$f":"IF(ISBLANK(LMS_Users_P_Import!D50),\"\",LMS_Users_P_Import!D50)","v":""},null,null,null,null,null,null,null,null,null,null,null,null,null,null,null,null,null,null,null,null,null,null,null,null,null,null,"",null,null,null,null,null,null,null,null,null,null,null,null,null,null,""]
[{"$f":"IF(ISBLANK(LMS_Users_P_Import!D51),\"\",LMS_Users_P_Import!D51)","v":""},null,null,null,null,null,null,null,null,null,null,null,null,null,null,null,null,null,null,null,null,null,null,null,null,null,null,"",null,null,null,null,null,null,null,null,null,null,null,null,null,null,""]
[{"$f":"IF(ISBLANK(LMS_Users_P_Import!D52),\"\",LMS_Users_P_Import!D52)","v":""},null,null,null,null,null,null,null,null,null,null,null,null,null,null,null,null,null,null,null,null,null,null,null,null,null,null,"",null,null,null,null,null,null,null,null,null,null,null,null,null,null,""]
[{"$f":"IF(ISBLANK(LMS_Users_P_Import!D53),\"\",LMS_Users_P_Import!D53)","v":""},null,null,null,null,null,null,null,null,null,null,null,null,null,null,null,null,null,null,null,null,null,null,null,null,null,null,"",null,null,null,null,null,null,null,null,null,null,null,null,null,null,""]
[{"$f":"IF(ISBLANK(LMS_Users_P_Import!D54),\"\",LMS_Users_P_Import!D54)","v":""},null,null,null,null,null,null,null,null,null,null,null,null,null,null,null,null,null,null,null,null,null,null,null,null,null,null,"",null,null,null,null,null,null,null,null,null,null,null,null,null,null,""]
[{"$f":"IF(ISBLANK(LMS_Users_P_Import!D55),\"\",LMS_Users_P_Import!D55)","v":""},null,null,null,null,null,null,null,null,null,null,null,null,null,null,null,null,null,null,null,null,null,null,null,null,null,null,"",null,null,null,null,null,null,null,null,null,null,null,null,null,null,""]

{"sheet":"LMS Training Import","index":9,"n_rows":54,"n_cols":15,"rows_kept":54,"cut":false,"hidden":true,"merged":[[0,0,0,5],[0,9,0,11],[2,8,2,11],[2,12,2,14]]}
["LMS Training Import Sheet",null,null,null,null,null,null,null,null,"Cut off Date=",null,"cutoff date=",{"$f":"TODAY()-(365*1)","v":"2018-01-21"}]
[]
[null,null,null,null,null,null,null,null,"Training to Load/Schedule",null,null,null,"Pre-Requisite History to load"]
[0,"#","First Name","Last Name","Full Name","Company Name","Email","Passport Required?","Item 1","Item 2","Item 3","Induction","HLTAID001","TTRF0006","TTRF0010"]
[1,{"$f":"IF(ISBLANK(VLOOKUP($A5,Form!$C$5:$T$54,2,FALSE)),\"\",IF(ISBLANK(VLOOKUP($A5,Form!$C$5:$T$54,7)),IF(ISBLANK(VLOOKUP($A5,Form!$C$5:$T$54,5)),VLOOKUP($A5,LMS_Users_H_Import!$B$7:$E$56,3),VLOOKUP($A5,Form!$C$5:$T$54,5)),VLOOKUP($A5,Form!$C$5:$T$54,7)))","v":""},{"$f":"IF(LEN($B5)=0,\"\",VLOOKUP($A5,FormContent,8,FALSE))","v":""},{"$f":"IF(LEN($B5)=0,\"\",VLOOKUP($A5,FormContent,9,FALSE))","v":""},{"$f":"IF(LEN($B5)=0,\"\",CONCATENATE(C5,\" \",D5))","v":""},{"$f":"IF(LEN($B5)=0,\"\",Form!$E$2)","v":""},{"$f":"IF(LEN($B5)=0,\"\",VLOOKUP($A5,FormContent,13,FALSE))","v":""},{"$f":"IF(LEN($B5)=0,\"\",IF(ISBLANK(Form!I5),IF(ISBLANK(Form!G5),\"Yes\",\"-\"),\"-\"))","v":""},{"$f":"IF(LEN($B5)=0,\"\",VLOOKUP(IF(LEN($B5)=0,\"\",VLOOKUP($A5,FormContent,2,FALSE)),CourseListExpanded,2,FALSE))","v":""},{"$f":"IF(LEN($B5)=0,\"\",VLOOKUP(IF(LEN($B5)=0,\"\",VLOOKUP($A5,FormContent,2,FALSE)),CourseListExpanded,3,FALSE))","v":""},{"$f":"IF(LEN($B5)=0,\"\",VLOOKUP(IF(LEN($B5)=0,\"\",VLOOKUP($A5,FormContent,2,FALSE)),CourseListExpanded,4,FALSE))","v":""},{"$f":"IF(LEN($B5)=0,\"\",IF(VLOOKUP($A5,FormContent,18,FALSE)=\"Yes\",VLOOKUP(L$4,CodeLookupList,2,FALSE),\"-\"))","v":""},{"$f":"IF(LEN($B5)=0,\"\",IF(VLOOKUP(Form!$D5,CourseListExpanded,5,FALSE)=\"Yes\",Form!Q5,\"-\"))","v":""},{"$f":"IF(LEN($B5)=0,\"\",IF(VLOOKUP(Form!$D5,CourseListExpanded,5,FALSE)=\"Yes\",Form!R5,\"-\"))","v":""},{"$f":"IF(LEN($B5)=0,\"\",IF(VLOOKUP(Form!$D5,CourseListExpanded,5,FALSE)=\"Yes\",Form!S5,\"-\"))","v":""}]
[2,{"$f":"IF(ISBLANK(VLOOKUP($A6,Form!$C$5:$T$54,2,FALSE)),\"\",IF(ISBLANK(VLOOKUP($A6,Form!$C$5:$T$54,7)),IF(ISBLANK(VLOOKUP($A6,Form!$C$5:$T$54,5)),VLOOKUP($A6,LMS_Users_H_Import!$B$7:$E$56,3),VLOOKUP($A6,Form!$C$5:$T$54,5)),VLOOKUP($A6,Form!$C$5:$T$54,7)))","v":""},"","",{"$f":"IF(LEN($B6)=0,\"\",CONCATENATE(C6,\" \",D6))","v":""},{"$f":"IF(LEN($B6)=0,\"\",Form!$E$2)","v":""},"",{"$f":"IF(LEN($B6)=0,\"\",IF(ISBLANK(Form!I6),IF(ISBLANK(Form!G6),\"Yes\",\"-\"),\"-\"))","v":""},"","","","",{"$f":"IF(LEN($B6)=0,\"\",IF(VLOOKUP(Form!$D6,CourseListExpanded,5,FALSE)=\"Yes\",Form!Q6,\"-\"))","v":""},{"$f":"IF(LEN($B6)=0,\"\",IF(VLOOKUP(Form!$D6,CourseListExpanded,5,FALSE)=\"Yes\",Form!R6,\"-\"))","v":""},{"$f":"IF(LEN($B6)=0,\"\",IF(VLOOKUP(Form!$D6,CourseListExpanded,5,FALSE)=\"Yes\",Form!S6,\"-\"))","v":""}]
[3,{"$f":"IF(ISBLANK(VLOOKUP($A7,Form!$C$5:$T$54,2,FALSE)),\"\",IF(ISBLANK(VLOOKUP($A7,Form!$C$5:$T$54,7)),IF(ISBLANK(VLOOKUP($A7,Form!$C$5:$T$54,5)),VLOOKUP($A7,LMS_Users_H_Import!$B$7:$E$56,3),VLOOKUP($A7,Form!$C$5:$T$54,5)),VLOOKUP($A7,Form!$C$5:$T$54,7)))","v":""},"","","",{"$f":"IF(LEN($B7)=0,\"\",Form!$E$2)","v":""},"",{"$f":"IF(LEN($B7)=0,\"\",IF(ISBLANK(Form!I7),IF(ISBLANK(Form!G7),\"Yes\",\"-\"),\"-\"))","v":""},"","","","",{"$f":"IF(LEN($B7)=0,\"\",IF(VLOOKUP(Form!$D7,CourseListExpanded,5,FALSE)=\"Yes\",Form!Q7,\"-\"))","v":""},{"$f":"IF(LEN($B7)=0,\"\",IF(VLOOKUP(Form!$D7,CourseListExpanded,5,FALSE)=\"Yes\",Form!R7,\"-\"))","v":""},{"$f":"IF(LEN($B7)=0,\"\",IF(VLOOKUP(Form!$D7,CourseListExpanded,5,FALSE)=\"Yes\",Form!S7,\"-\"))","v":""}]
[4,{"$f":"IF(ISBLANK(VLOOKUP($A8,Form!$C$5:$T$54,2,FALSE)),\"\",IF(ISBLANK(VLOOKUP($A8,Form!$C$5:$T$54,7)),IF(ISBLANK(VLOOKUP($A8,Form!$C$5:$T$54,5)),VLOOKUP($A8,LMS_Users_H_Import!$B$7:$E$56,3),VLOOKUP($A8,Form!$C$5:$T$54,5)),VLOOKUP($A8,Form!$C$5:$T$54,7)))","v":""},"","","",{"$f":"IF(LEN($B8)=0,\"\",Form!$E$2)","v":""},"",{"$f":"IF(LEN($B8)=0,\"\",IF(ISBLANK(Form!I8),IF(ISBLANK(Form!G8),\"Yes\",\"-\"),\"-\"))","v":""},"","","","",{"$f":"IF(LEN($B8)=0,\"\",IF(VLOOKUP(Form!$D8,CourseListExpanded,5,FALSE)=\"Yes\",Form!Q8,\"-\"))","v":""},{"$f":"IF(LEN($B8)=0,\"\",IF(VLOOKUP(Form!$D8,CourseListExpanded,5,FALSE)=\"Yes\",Form!R8,\"-\"))","v":""},{"$f":"IF(LEN($B8)=0,\"\",IF(VLOOKUP(Form!$D8,CourseListExpanded,5,FALSE)=\"Yes\",Form!S8,\"-\"))","v":""}]
[5,{"$f":"IF(ISBLANK(VLOOKUP($A9,Form!$C$5:$T$54,2,FALSE)),\"\",IF(ISBLANK(VLOOKUP($A9,Form!$C$5:$T$54,7)),IF(ISBLANK(VLOOKUP($A9,Form!$C$5:$T$54,5)),VLOOKUP($A9,LMS_Users_H_Import!$B$7:$E$56,3),VLOOKUP($A9,Form!$C$5:$T$54,5)),VLOOKUP($A9,Form!$C$5:$T$54,7)))","v":""},"","","",{"$f":"IF(LEN($B9)=0,\"\",Form!$E$2)","v":""},"",{"$f":"IF(LEN($B9)=0,\"\",IF(ISBLANK(Form!I9),IF(ISBLANK(Form!G9),\"Yes\",\"-\"),\"-\"))","v":""},"","","","",{"$f":"IF(LEN($B9)=0,\"\",IF(VLOOKUP(Form!$D9,CourseListExpanded,5,FALSE)=\"Yes\",Form!Q9,\"-\"))","v":""},{"$f":"IF(LEN($B9)=0,\"\",IF(VLOOKUP(Form!$D9,CourseListExpanded,5,FALSE)=\"Yes\",Form!R9,\"-\"))","v":""},{"$f":"IF(LEN($B9)=0,\"\",IF(VLOOKUP(Form!$D9,CourseListExpanded,5,FALSE)=\"Yes\",Form!S9,\"-\"))","v":""}]
[6,{"$f":"IF(ISBLANK(VLOOKUP($A10,Form!$C$5:$T$54,2,FALSE)),\"\",IF(ISBLANK(VLOOKUP($A10,Form!$C$5:$T$54,7)),IF(ISBLANK(VLOOKUP($A10,Form!$C$5:$T$54,5)),VLOOKUP($A10,LMS_Users_H_Import!$B$7:$E$56,3),VLOOKUP($A10,Form!$C$5:$T$54,5)),VLOOKUP($A10,Form!$C$5:$T$54,7)))","v":""},"","","",{"$f":"IF(LEN($B10)=0,\"\",Form!$E$2)","v":""},"",{"$f":"IF(LEN($B10)=0,\"\",IF(ISBLANK(Form!I10),IF(ISBLANK(Form!G10),\"Yes\",\"-\"),\"-\"))","v":""},"","","","",{"$f":"IF(LEN($B10)=0,\"\",IF(VLOOKUP(Form!$D10,CourseListExpanded,5,FALSE)=\"Yes\",Form!Q10,\"-\"))","v":""},{"$f":"IF(LEN($B10)=0,\"\",IF(VLOOKUP(Form!$D10,CourseListExpanded,5,FALSE)=\"Yes\",Form!R10,\"-\"))","v":""},{"$f":"IF(LEN($B10)=0,\"\",IF(VLOOKUP(Form!$D10,CourseListExpanded,5,FALSE)=\"Yes\",Form!S10,\"-\"))","v":""}]
[7,{"$f":"IF(ISBLANK(VLOOKUP($A11,Form!$C$5:$T$54,2,FALSE)),\"\",IF(ISBLANK(VLOOKUP($A11,Form!$C$5:$T$54,7)),IF(ISBLANK(VLOOKUP($A11,Form!$C$5:$T$54,5)),VLOOKUP($A11,LMS_Users_H_Import!$B$7:$E$56,3),VLOOKUP($A11,Form!$C$5:$T$54,5)),VLOOKUP($A11,Form!$C$5:$T$54,7)))","v":""},"","","",{"$f":"IF(LEN($B11)=0,\"\",Form!$E$2)","v":""},"",{"$f":"IF(LEN($B11)=0,\"\",IF(ISBLANK(Form!I11),IF(ISBLANK(Form!G11),\"Yes\",\"-\"),\"-\"))","v":""},"","","","",{"$f":"IF(LEN($B11)=0,\"\",IF(VLOOKUP(Form!$D11,CourseListExpanded,5,FALSE)=\"Yes\",Form!Q11,\"-\"))","v":""},{"$f":"IF(LEN($B11)=0,\"\",IF(VLOOKUP(Form!$D11,CourseListExpanded,5,FALSE)=\"Yes\",Form!R11,\"-\"))","v":""},{"$f":"IF(LEN($B11)=0,\"\",IF(VLOOKUP(Form!$D11,CourseListExpanded,5,FALSE)=\"Yes\",Form!S11,\"-\"))","v":""}]
[8,{"$f":"IF(ISBLANK(VLOOKUP($A12,Form!$C$5:$T$54,2,FALSE)),\"\",IF(ISBLANK(VLOOKUP($A12,Form!$C$5:$T$54,7)),IF(ISBLANK(VLOOKUP($A12,Form!$C$5:$T$54,5)),VLOOKUP($A12,LMS_Users_H_Import!$B$7:$E$56,3),VLOOKUP($A12,Form!$C$5:$T$54,5)),VLOOKUP($A12,Form!$C$5:$T$54,7)))","v":""},"","",{"$f":"IF(LEN($B12)=0,\"\",CONCATENATE(C12,\" \",D12))","v":""},{"$f":"IF(LEN($B12)=0,\"\",Form!$E$2)","v":""},"",{"$f":"IF(LEN($B12)=0,\"\",IF(ISBLANK(Form!I12),IF(ISBLANK(Form!G12),\"Yes\",\"-\"),\"-\"))","v":""},"","","","",{"$f":"IF(LEN($B12)=0,\"\",IF(VLOOKUP(Form!$D12,CourseListExpanded,5,FALSE)=\"Yes\",Form!Q12,\"-\"))","v":""},{"$f":"IF(LEN($B12)=0,\"\",IF(VLOOKUP(Form!$D12,CourseListExpanded,5,FALSE)=\"Yes\",Form!R12,\"-\"))","v":""},{"$f":"IF(LEN($B12)=0,\"\",IF(VLOOKUP(Form!$D12,CourseListExpanded,5,FALSE)=\"Yes\",Form!S12,\"-\"))","v":""}]
[9,{"$f":"IF(ISBLANK(VLOOKUP($A13,Form!$C$5:$T$54,2,FALSE)),\"\",IF(ISBLANK(VLOOKUP($A13,Form!$C$5:$T$54,7)),IF(ISBLANK(VLOOKUP($A13,Form!$C$5:$T$54,5)),VLOOKUP($A13,LMS_Users_H_Import!$B$7:$E$56,3),VLOOKUP($A13,Form!$C$5:$T$54,5)),VLOOKUP($A13,Form!$C$5:$T$54,7)))","v":""},"","","",{"$f":"IF(LEN($B13)=0,\"\",Form!$E$2)","v":""},"",{"$f":"IF(LEN($B13)=0,\"\",IF(ISBLANK(Form!I13),IF(ISBLANK(Form!G13),\"Yes\",\"-\"),\"-\"))","v":""},"","","","",{"$f":"IF(LEN($B13)=0,\"\",IF(VLOOKUP(Form!$D13,CourseListExpanded,5,FALSE)=\"Yes\",Form!Q13,\"-\"))","v":""},{"$f":"IF(LEN($B13)=0,\"\",IF(VLOOKUP(Form!$D13,CourseListExpanded,5,FALSE)=\"Yes\",Form!R13,\"-\"))","v":""},{"$f":"IF(LEN($B13)=0,\"\",IF(VLOOKUP(Form!$D13,CourseListExpanded,5,FALSE)=\"Yes\",Form!S13,\"-\"))","v":""}]
[10,{"$f":"IF(ISBLANK(VLOOKUP($A14,Form!$C$5:$T$54,2,FALSE)),\"\",IF(ISBLANK(VLOOKUP($A14,Form!$C$5:$T$54,7)),IF(ISBLANK(VLOOKUP($A14,Form!$C$5:$T$54,5)),VLOOKUP($A14,LMS_Users_H_Import!$B$7:$E$56,3),VLOOKUP($A14,Form!$C$5:$T$54,5)),VLOOKUP($A14,Form!$C$5:$T$54,7)))","v":""},"","","",{"$f":"IF(LEN($B14)=0,\"\",Form!$E$2)","v":""},"",{"$f":"IF(LEN($B14)=0,\"\",IF(ISBLANK(Form!I14),IF(ISBLANK(Form!G14),\"Yes\",\"-\"),\"-\"))","v":""},"","","","",{"$f":"IF(LEN($B14)=0,\"\",IF(VLOOKUP(Form!$D14,CourseListExpanded,5,FALSE)=\"Yes\",Form!Q14,\"-\"))","v":""},{"$f":"IF(LEN($B14)=0,\"\",IF(VLOOKUP(Form!$D14,CourseListExpanded,5,FALSE)=\"Yes\",Form!R14,\"-\"))","v":""},{"$f":"IF(LEN($B14)=0,\"\",IF(VLOOKUP(Form!$D14,CourseListExpanded,5,FALSE)=\"Yes\",Form!S14,\"-\"))","v":""}]
[11,{"$f":"IF(ISBLANK(VLOOKUP($A15,Form!$C$5:$T$54,2,FALSE)),\"\",IF(ISBLANK(VLOOKUP($A15,Form!$C$5:$T$54,7)),IF(ISBLANK(VLOOKUP($A15,Form!$C$5:$T$54,5)),VLOOKUP($A15,LMS_Users_H_Import!$B$7:$E$56,3),VLOOKUP($A15,Form!$C$5:$T$54,5)),VLOOKUP($A15,Form!$C$5:$T$54,7)))","v":""},"","","",{"$f":"IF(LEN($B15)=0,\"\",Form!$E$2)","v":""},"",{"$f":"IF(LEN($B15)=0,\"\",IF(ISBLANK(Form!I15),IF(ISBLANK(Form!G15),\"Yes\",\"-\"),\"-\"))","v":""},"","","","",{"$f":"IF(LEN($B15)=0,\"\",IF(VLOOKUP(Form!$D15,CourseListExpanded,5,FALSE)=\"Yes\",Form!Q15,\"-\"))","v":""},{"$f":"IF(LEN($B15)=0,\"\",IF(VLOOKUP(Form!$D15,CourseListExpanded,5,FALSE)=\"Yes\",Form!R15,\"-\"))","v":""},{"$f":"IF(LEN($B15)=0,\"\",IF(VLOOKUP(Form!$D15,CourseListExpanded,5,FALSE)=\"Yes\",Form!S15,\"-\"))","v":""}]
[12,{"$f":"IF(ISBLANK(VLOOKUP($A16,Form!$C$5:$T$54,2,FALSE)),\"\",IF(ISBLANK(VLOOKUP($A16,Form!$C$5:$T$54,7)),IF(ISBLANK(VLOOKUP($A16,Form!$C$5:$T$54,5)),VLOOKUP($A16,LMS_Users_H_Import!$B$7:$E$56,3),VLOOKUP($A16,Form!$C$5:$T$54,5)),VLOOKUP($A16,Form!$C$5:$T$54,7)))","v":""},"","","",{"$f":"IF(LEN($B16)=0,\"\",Form!$E$2)","v":""},"",{"$f":"IF(LEN($B16)=0,\"\",IF(ISBLANK(Form!I16),IF(ISBLANK(Form!G16),\"Yes\",\"-\"),\"-\"))","v":""},"","","","",{"$f":"IF(LEN($B16)=0,\"\",IF(VLOOKUP(Form!$D16,CourseListExpanded,5,FALSE)=\"Yes\",Form!Q16,\"-\"))","v":""},{"$f":"IF(LEN($B16)=0,\"\",IF(VLOOKUP(Form!$D16,CourseListExpanded,5,FALSE)=\"Yes\",Form!R16,\"-\"))","v":""},{"$f":"IF(LEN($B16)=0,\"\",IF(VLOOKUP(Form!$D16,CourseListExpanded,5,FALSE)=\"Yes\",Form!S16,\"-\"))","v":""}]
[13,{"$f":"IF(ISBLANK(VLOOKUP($A17,Form!$C$5:$T$54,2,FALSE)),\"\",IF(ISBLANK(VLOOKUP($A17,Form!$C$5:$T$54,7)),IF(ISBLANK(VLOOKUP($A17,Form!$C$5:$T$54,5)),VLOOKUP($A17,LMS_Users_H_Import!$B$7:$E$56,3),VLOOKUP($A17,Form!$C$5:$T$54,5)),VLOOKUP($A17,Form!$C$5:$T$54,7)))","v":""},"","","",{"$f":"IF(LEN($B17)=0,\"\",Form!$E$2)","v":""},"",{"$f":"IF(LEN($B17)=0,\"\",IF(ISBLANK(Form!I17),IF(ISBLANK(Form!G17),\"Yes\",\"-\"),\"-\"))","v":""},"","","","",{"$f":"IF(LEN($B17)=0,\"\",IF(VLOOKUP(Form!$D17,CourseListExpanded,5,FALSE)=\"Yes\",Form!Q17,\"-\"))","v":""},{"$f":"IF(LEN($B17)=0,\"\",IF(VLOOKUP(Form!$D17,CourseListExpanded,5,FALSE)=\"Yes\",Form!R17,\"-\"))","v":""},{"$f":"IF(LEN($B17)=0,\"\",IF(VLOOKUP(Form!$D17,CourseListExpanded,5,FALSE)=\"Yes\",Form!S17,\"-\"))","v":""}]
[14,{"$f":"IF(ISBLANK(VLOOKUP($A18,Form!$C$5:$T$54,2,FALSE)),\"\",IF(ISBLANK(VLOOKUP($A18,Form!$C$5:$T$54,7)),IF(ISBLANK(VLOOKUP($A18,Form!$C$5:$T$54,5)),VLOOKUP($A18,LMS_Users_H_Import!$B$7:$E$56,3),VLOOKUP($A18,Form!$C$5:$T$54,5)),VLOOKUP($A18,Form!$C$5:$T$54,7)))","v":""},"","","",{"$f":"IF(LEN($B18)=0,\"\",Form!$E$2)","v":""},"",{"$f":"IF(LEN($B18)=0,\"\",IF(ISBLANK(Form!I18),IF(ISBLANK(Form!G18),\"Yes\",\"-\"),\"-\"))","v":""},"","","","",{"$f":"IF(LEN($B18)=0,\"\",IF(VLOOKUP(Form!$D18,CourseListExpanded,5,FALSE)=\"Yes\",Form!Q18,\"-\"))","v":""},{"$f":"IF(LEN($B18)=0,\"\",IF(VLOOKUP(Form!$D18,CourseListExpanded,5,FALSE)=\"Yes\",Form!R18,\"-\"))","v":""},{"$f":"IF(LEN($B18)=0,\"\",IF(VLOOKUP(Form!$D18,CourseListExpanded,5,FALSE)=\"Yes\",Form!S18,\"-\"))","v":""}]
[15,{"$f":"IF(ISBLANK(VLOOKUP($A19,Form!$C$5:$T$54,2,FALSE)),\"\",IF(ISBLANK(VLOOKUP($A19,Form!$C$5:$T$54,7)),IF(ISBLANK(VLOOKUP($A19,Form!$C$5:$T$54,5)),VLOOKUP($A19,LMS_Users_H_Import!$B$7:$E$56,3),VLOOKUP($A19,Form!$C$5:$T$54,5)),VLOOKUP($A19,Form!$C$5:$T$54,7)))","v":""},"","","",{"$f":"IF(LEN($B19)=0,\"\",Form!$E$2)","v":""},"",{"$f":"IF(LEN($B19)=0,\"\",IF(ISBLANK(Form!I19),IF(ISBLANK(Form!G19),\"Yes\",\"-\"),\"-\"))","v":""},"","","","",{"$f":"IF(LEN($B19)=0,\"\",IF(VLOOKUP(Form!$D19,CourseListExpanded,5,FALSE)=\"Yes\",Form!Q19,\"-\"))","v":""},{"$f":"IF(LEN($B19)=0,\"\",IF(VLOOKUP(Form!$D19,CourseListExpanded,5,FALSE)=\"Yes\",Form!R19,\"-\"))","v":""},{"$f":"IF(LEN($B19)=0,\"\",IF(VLOOKUP(Form!$D19,CourseListExpanded,5,FALSE)=\"Yes\",Form!S19,\"-\"))","v":""}]
[16,{"$f":"IF(ISBLANK(VLOOKUP($A20,Form!$C$5:$T$54,2,FALSE)),\"\",IF(ISBLANK(VLOOKUP($A20,Form!$C$5:$T$54,7)),IF(ISBLANK(VLOOKUP($A20,Form!$C$5:$T$54,5)),VLOOKUP($A20,LMS_Users_H_Import!$B$7:$E$56,3),VLOOKUP($A20,Form!$C$5:$T$54,5)),VLOOKUP($A20,Form!$C$5:$T$54,7)))","v":""},"","","",{"$f":"IF(LEN($B20)=0,\"\",Form!$E$2)","v":""},"",{"$f":"IF(LEN($B20)=0,\"\",IF(ISBLANK(Form!I20),IF(ISBLANK(Form!G20),\"Yes\",\"-\"),\"-\"))","v":""},"","","","",{"$f":"IF(LEN($B20)=0,\"\",IF(VLOOKUP(Form!$D20,CourseListExpanded,5,FALSE)=\"Yes\",Form!Q20,\"-\"))","v":""},{"$f":"IF(LEN($B20)=0,\"\",IF(VLOOKUP(Form!$D20,CourseListExpanded,5,FALSE)=\"Yes\",Form!R20,\"-\"))","v":""},{"$f":"IF(LEN($B20)=0,\"\",IF(VLOOKUP(Form!$D20,CourseListExpanded,5,FALSE)=\"Yes\",Form!S20,\"-\"))","v":""}]
[17,{"$f":"IF(ISBLANK(VLOOKUP($A21,Form!$C$5:$T$54,2,FALSE)),\"\",IF(ISBLANK(VLOOKUP($A21,Form!$C$5:$T$54,7)),IF(ISBLANK(VLOOKUP($A21,Form!$C$5:$T$54,5)),VLOOKUP($A21,LMS_Users_H_Import!$B$7:$E$56,3),VLOOKUP($A21,Form!$C$5:$T$54,5)),VLOOKUP($A21,Form!$C$5:$T$54,7)))","v":""},"","","",{"$f":"IF(LEN($B21)=0,\"\",Form!$E$2)","v":""},"",{"$f":"IF(LEN($B21)=0,\"\",IF(ISBLANK(Form!I21),IF(ISBLANK(Form!G21),\"Yes\",\"-\"),\"-\"))","v":""},"","","","",{"$f":"IF(LEN($B21)=0,\"\",IF(VLOOKUP(Form!$D21,CourseListExpanded,5,FALSE)=\"Yes\",Form!Q21,\"-\"))","v":""},{"$f":"IF(LEN($B21)=0,\"\",IF(VLOOKUP(Form!$D21,CourseListExpanded,5,FALSE)=\"Yes\",Form!R21,\"-\"))","v":""},{"$f":"IF(LEN($B21)=0,\"\",IF(VLOOKUP(Form!$D21,CourseListExpanded,5,FALSE)=\"Yes\",Form!S21,\"-\"))","v":""}]
[18,{"$f":"IF(ISBLANK(VLOOKUP($A22,Form!$C$5:$T$54,2,FALSE)),\"\",IF(ISBLANK(VLOOKUP($A22,Form!$C$5:$T$54,7)),IF(ISBLANK(VLOOKUP($A22,Form!$C$5:$T$54,5)),VLOOKUP($A22,LMS_Users_H_Import!$B$7:$E$56,3),VLOOKUP($A22,Form!$C$5:$T$54,5)),VLOOKUP($A22,Form!$C$5:$T$54,7)))","v":""},"","","",{"$f":"IF(LEN($B22)=0,\"\",Form!$E$2)","v":""},"",{"$f":"IF(LEN($B22)=0,\"\",IF(ISBLANK(Form!I22),IF(ISBLANK(Form!G22),\"Yes\",\"-\"),\"-\"))","v":""},"","","","",{"$f":"IF(LEN($B22)=0,\"\",IF(VLOOKUP(Form!$D22,CourseListExpanded,5,FALSE)=\"Yes\",Form!Q22,\"-\"))","v":""},{"$f":"IF(LEN($B22)=0,\"\",IF(VLOOKUP(Form!$D22,CourseListExpanded,5,FALSE)=\"Yes\",Form!R22,\"-\"))","v":""},{"$f":"IF(LEN($B22)=0,\"\",IF(VLOOKUP(Form!$D22,CourseListExpanded,5,FALSE)=\"Yes\",Form!S22,\"-\"))","v":""}]
[19,{"$f":"IF(ISBLANK(VLOOKUP($A23,Form!$C$5:$T$54,2,FALSE)),\"\",IF(ISBLANK(VLOOKUP($A23,Form!$C$5:$T$54,7)),IF(ISBLANK(VLOOKUP($A23,Form!$C$5:$T$54,5)),VLOOKUP($A23,LMS_Users_H_Import!$B$7:$E$56,3),VLOOKUP($A23,Form!$C$5:$T$54,5)),VLOOKUP($A23,Form!$C$5:$T$54,7)))","v":""},"","","",{"$f":"IF(LEN($B23)=0,\"\",Form!$E$2)","v":""},"",{"$f":"IF(LEN($B23)=0,\"\",IF(ISBLANK(Form!I23),IF(ISBLANK(Form!G23),\"Yes\",\"-\"),\"-\"))","v":""},"","","","",{"$f":"IF(LEN($B23)=0,\"\",IF(VLOOKUP(Form!$D23,CourseListExpanded,5,FALSE)=\"Yes\",Form!Q23,\"-\"))","v":""},{"$f":"IF(LEN($B23)=0,\"\",IF(VLOOKUP(Form!$D23,CourseListExpanded,5,FALSE)=\"Yes\",Form!R23,\"-\"))","v":""},{"$f":"IF(LEN($B23)=0,\"\",IF(VLOOKUP(Form!$D23,CourseListExpanded,5,FALSE)=\"Yes\",Form!S23,\"-\"))","v":""}]
[20,{"$f":"IF(ISBLANK(VLOOKUP($A24,Form!$C$5:$T$54,2,FALSE)),\"\",IF(ISBLANK(VLOOKUP($A24,Form!$C$5:$T$54,7)),IF(ISBLANK(VLOOKUP($A24,Form!$C$5:$T$54,5)),VLOOKUP($A24,LMS_Users_H_Import!$B$7:$E$56,3),VLOOKUP($A24,Form!$C$5:$T$54,5)),VLOOKUP($A24,Form!$C$5:$T$54,7)))","v":""},"","","",{"$f":"IF(LEN($B24)=0,\"\",Form!$E$2)","v":""},"",{"$f":"IF(LEN($B24)=0,\"\",IF(ISBLANK(Form!I24),IF(ISBLANK(Form!G24),\"Yes\",\"-\"),\"-\"))","v":""},"","","","",{"$f":"IF(LEN($B24)=0,\"\",IF(VLOOKUP(Form!$D24,CourseListExpanded,5,FALSE)=\"Yes\",Form!Q24,\"-\"))","v":""},{"$f":"IF(LEN($B24)=0,\"\",IF(VLOOKUP(Form!$D24,CourseListExpanded,5,FALSE)=\"Yes\",Form!R24,\"-\"))","v":""},{"$f":"IF(LEN($B24)=0,\"\",IF(VLOOKUP(Form!$D24,CourseListExpanded,5,FALSE)=\"Yes\",Form!S24,\"-\"))","v":""}]
[21,{"$f":"IF(ISBLANK(VLOOKUP($A25,Form!$C$5:$T$54,2,FALSE)),\"\",IF(ISBLANK(VLOOKUP($A25,Form!$C$5:$T$54,7)),IF(ISBLANK(VLOOKUP($A25,Form!$C$5:$T$54,5)),VLOOKUP($A25,LMS_Users_H_Import!$B$7:$E$56,3),VLOOKUP($A25,Form!$C$5:$T$54,5)),VLOOKUP($A25,Form!$C$5:$T$54,7)))","v":""},"","","",{"$f":"IF(LEN($B25)=0,\"\",Form!$E$2)","v":""},"",{"$f":"IF(LEN($B25)=0,\"\",IF(ISBLANK(Form!I25),IF(ISBLANK(Form!G25),\"Yes\",\"-\"),\"-\"))","v":""},"","","","",{"$f":"IF(LEN($B25)=0,\"\",IF(VLOOKUP(Form!$D25,CourseListExpanded,5,FALSE)=\"Yes\",Form!Q25,\"-\"))","v":""},{"$f":"IF(LEN($B25)=0,\"\",IF(VLOOKUP(Form!$D25,CourseListExpanded,5,FALSE)=\"Yes\",Form!R25,\"-\"))","v":""},{"$f":"IF(LEN($B25)=0,\"\",IF(VLOOKUP(Form!$D25,CourseListExpanded,5,FALSE)=\"Yes\",Form!S25,\"-\"))","v":""}]
[22,{"$f":"IF(ISBLANK(VLOOKUP($A26,Form!$C$5:$T$54,2,FALSE)),\"\",IF(ISBLANK(VLOOKUP($A26,Form!$C$5:$T$54,7)),IF(ISBLANK(VLOOKUP($A26,Form!$C$5:$T$54,5)),VLOOKUP($A26,LMS_Users_H_Import!$B$7:$E$56,3),VLOOKUP($A26,Form!$C$5:$T$54,5)),VLOOKUP($A26,Form!$C$5:$T$54,7)))","v":""},"","","",{"$f":"IF(LEN($B26)=0,\"\",Form!$E$2)","v":""},"",{"$f":"IF(LEN($B26)=0,\"\",IF(ISBLANK(Form!I26),IF(ISBLANK(Form!G26),\"Yes\",\"-\"),\"-\"))","v":""},"","","","",{"$f":"IF(LEN($B26)=0,\"\",IF(VLOOKUP(Form!$D26,CourseListExpanded,5,FALSE)=\"Yes\",Form!Q26,\"-\"))","v":""},{"$f":"IF(LEN($B26)=0,\"\",IF(VLOOKUP(Form!$D26,CourseListExpanded,5,FALSE)=\"Yes\",Form!R26,\"-\"))","v":""},{"$f":"IF(LEN($B26)=0,\"\",IF(VLOOKUP(Form!$D26,CourseListExpanded,5,FALSE)=\"Yes\",Form!S26,\"-\"))","v":""}]
[23,{"$f":"IF(ISBLANK(VLOOKUP($A27,Form!$C$5:$T$54,2,FALSE)),\"\",IF(ISBLANK(VLOOKUP($A27,Form!$C$5:$T$54,7)),IF(ISBLANK(VLOOKUP($A27,Form!$C$5:$T$54,5)),VLOOKUP($A27,LMS_Users_H_Import!$B$7:$E$56,3),VLOOKUP($A27,Form!$C$5:$T$54,5)),VLOOKUP($A27,Form!$C$5:$T$54,7)))","v":""},"","","",{"$f":"IF(LEN($B27)=0,\"\",Form!$E$2)","v":""},"",{"$f":"IF(LEN($B27)=0,\"\",IF(ISBLANK(Form!I27),IF(ISBLANK(Form!G27),\"Yes\",\"-\"),\"-\"))","v":""},"","","","",{"$f":"IF(LEN($B27)=0,\"\",IF(VLOOKUP(Form!$D27,CourseListExpanded,5,FALSE)=\"Yes\",Form!Q27,\"-\"))","v":""},{"$f":"IF(LEN($B27)=0,\"\",IF(VLOOKUP(Form!$D27,CourseListExpanded,5,FALSE)=\"Yes\",Form!R27,\"-\"))","v":""},{"$f":"IF(LEN($B27)=0,\"\",IF(VLOOKUP(Form!$D27,CourseListExpanded,5,FALSE)=\"Yes\",Form!S27,\"-\"))","v":""}]
[24,{"$f":"IF(ISBLANK(VLOOKUP($A28,Form!$C$5:$T$54,2,FALSE)),\"\",IF(ISBLANK(VLOOKUP($A28,Form!$C$5:$T$54,7)),IF(ISBLANK(VLOOKUP($A28,Form!$C$5:$T$54,5)),VLOOKUP($A28,LMS_Users_H_Import!$B$7:$E$56,3),VLOOKUP($A28,Form!$C$5:$T$54,5)),VLOOKUP($A28,Form!$C$5:$T$54,7)))","v":""},"","","",{"$f":"IF(LEN($B28)=0,\"\",Form!$E$2)","v":""},"",{"$f":"IF(LEN($B28)=0,\"\",IF(ISBLANK(Form!I28),IF(ISBLANK(Form!G28),\"Yes\",\"-\"),\"-\"))","v":""},"","","","",{"$f":"IF(LEN($B28)=0,\"\",IF(VLOOKUP(Form!$D28,CourseListExpanded,5,FALSE)=\"Yes\",Form!Q28,\"-\"))","v":""},{"$f":"IF(LEN($B28)=0,\"\",IF(VLOOKUP(Form!$D28,CourseListExpanded,5,FALSE)=\"Yes\",Form!R28,\"-\"))","v":""},{"$f":"IF(LEN($B28)=0,\"\",IF(VLOOKUP(Form!$D28,CourseListExpanded,5,FALSE)=\"Yes\",Form!S28,\"-\"))","v":""}]
[25,{"$f":"IF(ISBLANK(VLOOKUP($A29,Form!$C$5:$T$54,2,FALSE)),\"\",IF(ISBLANK(VLOOKUP($A29,Form!$C$5:$T$54,7)),IF(ISBLANK(VLOOKUP($A29,Form!$C$5:$T$54,5)),VLOOKUP($A29,LMS_Users_H_Import!$B$7:$E$56,3),VLOOKUP($A29,Form!$C$5:$T$54,5)),VLOOKUP($A29,Form!$C$5:$T$54,7)))","v":""},"","","",{"$f":"IF(LEN($B29)=0,\"\",Form!$E$2)","v":""},"",{"$f":"IF(LEN($B29)=0,\"\",IF(ISBLANK(Form!I29),IF(ISBLANK(Form!G29),\"Yes\",\"-\"),\"-\"))","v":""},"","","","",{"$f":"IF(LEN($B29)=0,\"\",IF(VLOOKUP(Form!$D29,CourseListExpanded,5,FALSE)=\"Yes\",Form!Q29,\"-\"))","v":""},{"$f":"IF(LEN($B29)=0,\"\",IF(VLOOKUP(Form!$D29,CourseListExpanded,5,FALSE)=\"Yes\",Form!R29,\"-\"))","v":""},{"$f":"IF(LEN($B29)=0,\"\",IF(VLOOKUP(Form!$D29,CourseListExpanded,5,FALSE)=\"Yes\",Form!S29,\"-\"))","v":""}]
[26,{"$f":"IF(ISBLANK(VLOOKUP($A30,Form!$C$5:$T$54,2,FALSE)),\"\",IF(ISBLANK(VLOOKUP($A30,Form!$C$5:$T$54,7)),IF(ISBLANK(VLOOKUP($A30,Form!$C$5:$T$54,5)),VLOOKUP($A30,LMS_Users_H_Import!$B$7:$E$56,3),VLOOKUP($A30,Form!$C$5:$T$54,5)),VLOOKUP($A30,Form!$C$5:$T$54,7)))","v":""},"","","",{"$f":"IF(LEN($B30)=0,\"\",Form!$E$2)","v":""},"",{"$f":"IF(LEN($B30)=0,\"\",IF(ISBLANK(Form!I30),IF(ISBLANK(Form!G30),\"Yes\",\"-\"),\"-\"))","v":""},"","","","",{"$f":"IF(LEN($B30)=0,\"\",IF(VLOOKUP(Form!$D30,CourseListExpanded,5,FALSE)=\"Yes\",Form!Q30,\"-\"))","v":""},{"$f":"IF(LEN($B30)=0,\"\",IF(VLOOKUP(Form!$D30,CourseListExpanded,5,FALSE)=\"Yes\",Form!R30,\"-\"))","v":""},{"$f":"IF(LEN($B30)=0,\"\",IF(VLOOKUP(Form!$D30,CourseListExpanded,5,FALSE)=\"Yes\",Form!S30,\"-\"))","v":""}]
[27,{"$f":"IF(ISBLANK(VLOOKUP($A31,Form!$C$5:$T$54,2,FALSE)),\"\",IF(ISBLANK(VLOOKUP($A31,Form!$C$5:$T$54,7)),IF(ISBLANK(VLOOKUP($A31,Form!$C$5:$T$54,5)),VLOOKUP($A31,LMS_Users_H_Import!$B$7:$E$56,3),VLOOKUP($A31,Form!$C$5:$T$54,5)),VLOOKUP($A31,Form!$C$5:$T$54,7)))","v":""},"","","",{"$f":"IF(LEN($B31)=0,\"\",Form!$E$2)","v":""},"",{"$f":"IF(LEN($B31)=0,\"\",IF(ISBLANK(Form!I31),IF(ISBLANK(Form!G31),\"Yes\",\"-\"),\"-\"))","v":""},"","","","",{"$f":"IF(LEN($B31)=0,\"\",IF(VLOOKUP(Form!$D31,CourseListExpanded,5,FALSE)=\"Yes\",Form!Q31,\"-\"))","v":""},{"$f":"IF(LEN($B31)=0,\"\",IF(VLOOKUP(Form!$D31,CourseListExpanded,5,FALSE)=\"Yes\",Form!R31,\"-\"))","v":""},{"$f":"IF(LEN($B31)=0,\"\",IF(VLOOKUP(Form!$D31,CourseListExpanded,5,FALSE)=\"Yes\",Form!S31,\"-\"))","v":""}]
[28,{"$f":"IF(ISBLANK(VLOOKUP($A32,Form!$C$5:$T$54,2,FALSE)),\"\",IF(ISBLANK(VLOOKUP($A32,Form!$C$5:$T$54,7)),IF(ISBLANK(VLOOKUP($A32,Form!$C$5:$T$54,5)),VLOOKUP($A32,LMS_Users_H_Import!$B$7:$E$56,3),VLOOKUP($A32,Form!$C$5:$T$54,5)),VLOOKUP($A32,Form!$C$5:$T$54,7)))","v":""},"","","",{"$f":"IF(LEN($B32)=0,\"\",Form!$E$2)","v":""},"",{"$f":"IF(LEN($B32)=0,\"\",IF(ISBLANK(Form!I32),IF(ISBLANK(Form!G32),\"Yes\",\"-\"),\"-\"))","v":""},"","","","",{"$f":"IF(LEN($B32)=0,\"\",IF(VLOOKUP(Form!$D32,CourseListExpanded,5,FALSE)=\"Yes\",Form!Q32,\"-\"))","v":""},{"$f":"IF(LEN($B32)=0,\"\",IF(VLOOKUP(Form!$D32,CourseListExpanded,5,FALSE)=\"Yes\",Form!R32,\"-\"))","v":""},{"$f":"IF(LEN($B32)=0,\"\",IF(VLOOKUP(Form!$D32,CourseListExpanded,5,FALSE)=\"Yes\",Form!S32,\"-\"))","v":""}]
[29,{"$f":"IF(ISBLANK(VLOOKUP($A33,Form!$C$5:$T$54,2,FALSE)),\"\",IF(ISBLANK(VLOOKUP($A33,Form!$C$5:$T$54,7)),IF(ISBLANK(VLOOKUP($A33,Form!$C$5:$T$54,5)),VLOOKUP($A33,LMS_Users_H_Import!$B$7:$E$56,3),VLOOKUP($A33,Form!$C$5:$T$54,5)),VLOOKUP($A33,Form!$C$5:$T$54,7)))","v":""},"","","",{"$f":"IF(LEN($B33)=0,\"\",Form!$E$2)","v":""},"",{"$f":"IF(LEN($B33)=0,\"\",IF(ISBLANK(Form!I33),IF(ISBLANK(Form!G33),\"Yes\",\"-\"),\"-\"))","v":""},"","","","",{"$f":"IF(LEN($B33)=0,\"\",IF(VLOOKUP(Form!$D33,CourseListExpanded,5,FALSE)=\"Yes\",Form!Q33,\"-\"))","v":""},{"$f":"IF(LEN($B33)=0,\"\",IF(VLOOKUP(Form!$D33,CourseListExpanded,5,FALSE)=\"Yes\",Form!R33,\"-\"))","v":""},{"$f":"IF(LEN($B33)=0,\"\",IF(VLOOKUP(Form!$D33,CourseListExpanded,5,FALSE)=\"Yes\",Form!S33,\"-\"))","v":""}]
[30,{"$f":"IF(ISBLANK(VLOOKUP($A34,Form!$C$5:$T$54,2,FALSE)),\"\",IF(ISBLANK(VLOOKUP($A34,Form!$C$5:$T$54,7)),IF(ISBLANK(VLOOKUP($A34,Form!$C$5:$T$54,5)),VLOOKUP($A34,LMS_Users_H_Import!$B$7:$E$56,3),VLOOKUP($A34,Form!$C$5:$T$54,5)),VLOOKUP($A34,Form!$C$5:$T$54,7)))","v":""},"","","",{"$f":"IF(LEN($B34)=0,\"\",Form!$E$2)","v":""},"",{"$f":"IF(LEN($B34)=0,\"\",IF(ISBLANK(Form!I34),IF(ISBLANK(Form!G34),\"Yes\",\"-\"),\"-\"))","v":""},"","","","",{"$f":"IF(LEN($B34)=0,\"\",IF(VLOOKUP(Form!$D34,CourseListExpanded,5,FALSE)=\"Yes\",Form!Q34,\"-\"))","v":""},{"$f":"IF(LEN($B34)=0,\"\",IF(VLOOKUP(Form!$D34,CourseListExpanded,5,FALSE)=\"Yes\",Form!R34,\"-\"))","v":""},{"$f":"IF(LEN($B34)=0,\"\",IF(VLOOKUP(Form!$D34,CourseListExpanded,5,FALSE)=\"Yes\",Form!S34,\"-\"))","v":""}]
[31,{"$f":"IF(ISBLANK(VLOOKUP($A35,Form!$C$5:$T$54,2,FALSE)),\"\",IF(ISBLANK(VLOOKUP($A35,Form!$C$5:$T$54,7)),IF(ISBLANK(VLOOKUP($A35,Form!$C$5:$T$54,5)),VLOOKUP($A35,LMS_Users_H_Import!$B$7:$E$56,3),VLOOKUP($A35,Form!$C$5:$T$54,5)),VLOOKUP($A35,Form!$C$5:$T$54,7)))","v":""},"","","",{"$f":"IF(LEN($B35)=0,\"\",Form!$E$2)","v":""},"",{"$f":"IF(LEN($B35)=0,\"\",IF(ISBLANK(Form!I35),IF(ISBLANK(Form!G35),\"Yes\",\"-\"),\"-\"))","v":""},"","","","",{"$f":"IF(LEN($B35)=0,\"\",IF(VLOOKUP(Form!$D35,CourseListExpanded,5,FALSE)=\"Yes\",Form!Q35,\"-\"))","v":""},{"$f":"IF(LEN($B35)=0,\"\",IF(VLOOKUP(Form!$D35,CourseListExpanded,5,FALSE)=\"Yes\",Form!R35,\"-\"))","v":""},{"$f":"IF(LEN($B35)=0,\"\",IF(VLOOKUP(Form!$D35,CourseListExpanded,5,FALSE)=\"Yes\",Form!S35,\"-\"))","v":""}]
[32,{"$f":"IF(ISBLANK(VLOOKUP($A36,Form!$C$5:$T$54,2,FALSE)),\"\",IF(ISBLANK(VLOOKUP($A36,Form!$C$5:$T$54,7)),IF(ISBLANK(VLOOKUP($A36,Form!$C$5:$T$54,5)),VLOOKUP($A36,LMS_Users_H_Import!$B$7:$E$56,3),VLOOKUP($A36,Form!$C$5:$T$54,5)),VLOOKUP($A36,Form!$C$5:$T$54,7)))","v":""},"","","",{"$f":"IF(LEN($B36)=0,\"\",Form!$E$2)","v":""},"",{"$f":"IF(LEN($B36)=0,\"\",IF(ISBLANK(Form!I36),IF(ISBLANK(Form!G36),\"Yes\",\"-\"),\"-\"))","v":""},"","","","",{"$f":"IF(LEN($B36)=0,\"\",IF(VLOOKUP(Form!$D36,CourseListExpanded,5,FALSE)=\"Yes\",Form!Q36,\"-\"))","v":""},{"$f":"IF(LEN($B36)=0,\"\",IF(VLOOKUP(Form!$D36,CourseListExpanded,5,FALSE)=\"Yes\",Form!R36,\"-\"))","v":""},{"$f":"IF(LEN($B36)=0,\"\",IF(VLOOKUP(Form!$D36,CourseListExpanded,5,FALSE)=\"Yes\",Form!S36,\"-\"))","v":""}]
[33,{"$f":"IF(ISBLANK(VLOOKUP($A37,Form!$C$5:$T$54,2,FALSE)),\"\",IF(ISBLANK(VLOOKUP($A37,Form!$C$5:$T$54,7)),IF(ISBLANK(VLOOKUP($A37,Form!$C$5:$T$54,5)),VLOOKUP($A37,LMS_Users_H_Import!$B$7:$E$56,3),VLOOKUP($A37,Form!$C$5:$T$54,5)),VLOOKUP($A37,Form!$C$5:$T$54,7)))","v":""},{"$f":"IF(LEN($B37)=0,\"\",VLOOKUP($A37,FormContent,8,FALSE))","v":""},{"$f":"IF(LEN($B37)=0,\"\",VLOOKUP($A37,FormContent,9,FALSE))","v":""},"",{"$f":"IF(LEN($B37)=0,\"\",Form!$E$2)","v":""},{"$f":"IF(LEN($B37)=0,\"\",VLOOKUP($A37,FormContent,13,FALSE))","v":""},{"$f":"IF(LEN($B37)=0,\"\",IF(ISBLANK(Form!I37),IF(ISBLANK(Form!G37),\"Yes\",\"-\"),\"-\"))","v":""},{"$f":"IF(LEN($B37)=0,\"\",VLOOKUP(IF(LEN($B37)=0,\"\",VLOOKUP($A37,FormContent,2,FALSE)),CourseListExpanded,2,FALSE))","v":""},{"$f":"IF(LEN($B37)=0,\"\",VLOOKUP(IF(LEN($B37)=0,\"\",VLOOKUP($A37,FormContent,2,FALSE)),CourseListExpanded,3,FALSE))","v":""},{"$f":"IF(LEN($B37)=0,\"\",VLOOKUP(IF(LEN($B37)=0,\"\",VLOOKUP($A37,FormContent,2,FALSE)),CourseListExpanded,4,FALSE))","v":""},{"$f":"IF(LEN($B37)=0,\"\",IF(VLOOKUP($A37,FormContent,18,FALSE)=\"Yes\",VLOOKUP(L$4,CodeLookupList,2,FALSE),\"-\"))","v":""},{"$f":"IF(LEN($B37)=0,\"\",IF(VLOOKUP(Form!$D37,CourseListExpanded,5,FALSE)=\"Yes\",Form!Q37,\"-\"))","v":""},{"$f":"IF(LEN($B37)=0,\"\",IF(VLOOKUP(Form!$D37,CourseListExpanded,5,FALSE)=\"Yes\",Form!R37,\"-\"))","v":""},{"$f":"IF(LEN($B37)=0,\"\",IF(VLOOKUP(Form!$D37,CourseListExpanded,5,FALSE)=\"Yes\",Form!S37,\"-\"))","v":""}]
[34,{"$f":"IF(ISBLANK(VLOOKUP($A38,Form!$C$5:$T$54,2,FALSE)),\"\",IF(ISBLANK(VLOOKUP($A38,Form!$C$5:$T$54,7)),IF(ISBLANK(VLOOKUP($A38,Form!$C$5:$T$54,5)),VLOOKUP($A38,LMS_Users_H_Import!$B$7:$E$56,3),VLOOKUP($A38,Form!$C$5:$T$54,5)),VLOOKUP($A38,Form!$C$5:$T$54,7)))","v":""},"","","",{"$f":"IF(LEN($B38)=0,\"\",Form!$E$2)","v":""},"",{"$f":"IF(LEN($B38)=0,\"\",IF(ISBLANK(Form!I38),IF(ISBLANK(Form!G38),\"Yes\",\"-\"),\"-\"))","v":""},"","","","",{"$f":"IF(LEN($B38)=0,\"\",IF(VLOOKUP(Form!$D38,CourseListExpanded,5,FALSE)=\"Yes\",Form!Q38,\"-\"))","v":""},{"$f":"IF(LEN($B38)=0,\"\",IF(VLOOKUP(Form!$D38,CourseListExpanded,5,FALSE)=\"Yes\",Form!R38,\"-\"))","v":""},{"$f":"IF(LEN($B38)=0,\"\",IF(VLOOKUP(Form!$D38,CourseListExpanded,5,FALSE)=\"Yes\",Form!S38,\"-\"))","v":""}]
[35,{"$f":"IF(ISBLANK(VLOOKUP($A39,Form!$C$5:$T$54,2,FALSE)),\"\",IF(ISBLANK(VLOOKUP($A39,Form!$C$5:$T$54,7)),IF(ISBLANK(VLOOKUP($A39,Form!$C$5:$T$54,5)),VLOOKUP($A39,LMS_Users_H_Import!$B$7:$E$56,3),VLOOKUP($A39,Form!$C$5:$T$54,5)),VLOOKUP($A39,Form!$C$5:$T$54,7)))","v":""},"","","",{"$f":"IF(LEN($B39)=0,\"\",Form!$E$2)","v":""},"",{"$f":"IF(LEN($B39)=0,\"\",IF(ISBLANK(Form!I39),IF(ISBLANK(Form!G39),\"Yes\",\"-\"),\"-\"))","v":""},"","","","",{"$f":"IF(LEN($B39)=0,\"\",IF(VLOOKUP(Form!$D39,CourseListExpanded,5,FALSE)=\"Yes\",Form!Q39,\"-\"))","v":""},{"$f":"IF(LEN($B39)=0,\"\",IF(VLOOKUP(Form!$D39,CourseListExpanded,5,FALSE)=\"Yes\",Form!R39,\"-\"))","v":""},{"$f":"IF(LEN($B39)=0,\"\",IF(VLOOKUP(Form!$D39,CourseListExpanded,5,FALSE)=\"Yes\",Form!S39,\"-\"))","v":""}]
[36,{"$f":"IF(ISBLANK(VLOOKUP($A40,Form!$C$5:$T$54,2,FALSE)),\"\",IF(ISBLANK(VLOOKUP($A40,Form!$C$5:$T$54,7)),IF(ISBLANK(VLOOKUP($A40,Form!$C$5:$T$54,5)),VLOOKUP($A40,LMS_Users_H_Import!$B$7:$E$56,3),VLOOKUP($A40,Form!$C$5:$T$54,5)),VLOOKUP($A40,Form!$C$5:$T$54,7)))","v":""},"","","",{"$f":"IF(LEN($B40)=0,\"\",Form!$E$2)","v":""},"",{"$f":"IF(LEN($B40)=0,\"\",IF(ISBLANK(Form!I40),IF(ISBLANK(Form!G40),\"Yes\",\"-\"),\"-\"))","v":""},"","","","",{"$f":"IF(LEN($B40)=0,\"\",IF(VLOOKUP(Form!$D40,CourseListExpanded,5,FALSE)=\"Yes\",Form!Q40,\"-\"))","v":""},{"$f":"IF(LEN($B40)=0,\"\",IF(VLOOKUP(Form!$D40,CourseListExpanded,5,FALSE)=\"Yes\",Form!R40,\"-\"))","v":""},{"$f":"IF(LEN($B40)=0,\"\",IF(VLOOKUP(Form!$D40,CourseListExpanded,5,FALSE)=\"Yes\",Form!S40,\"-\"))","v":""}]
[37,{"$f":"IF(ISBLANK(VLOOKUP($A41,Form!$C$5:$T$54,2,FALSE)),\"\",IF(ISBLANK(VLOOKUP($A41,Form!$C$5:$T$54,7)),IF(ISBLANK(VLOOKUP($A41,Form!$C$5:$T$54,5)),VLOOKUP($A41,LMS_Users_H_Import!$B$7:$E$56,3),VLOOKUP($A41,Form!$C$5:$T$54,5)),VLOOKUP($A41,Form!$C$5:$T$54,7)))","v":""},"","","",{"$f":"IF(LEN($B41)=0,\"\",Form!$E$2)","v":""},"",{"$f":"IF(LEN($B41)=0,\"\",IF(ISBLANK(Form!I41),IF(ISBLANK(Form!G41),\"Yes\",\"-\"),\"-\"))","v":""},"","","","",{"$f":"IF(LEN($B41)=0,\"\",IF(VLOOKUP(Form!$D41,CourseListExpanded,5,FALSE)=\"Yes\",Form!Q41,\"-\"))","v":""},{"$f":"IF(LEN($B41)=0,\"\",IF(VLOOKUP(Form!$D41,CourseListExpanded,5,FALSE)=\"Yes\",Form!R41,\"-\"))","v":""},{"$f":"IF(LEN($B41)=0,\"\",IF(VLOOKUP(Form!$D41,CourseListExpanded,5,FALSE)=\"Yes\",Form!S41,\"-\"))","v":""}]
[38,{"$f":"IF(ISBLANK(VLOOKUP($A42,Form!$C$5:$T$54,2,FALSE)),\"\",IF(ISBLANK(VLOOKUP($A42,Form!$C$5:$T$54,7)),IF(ISBLANK(VLOOKUP($A42,Form!$C$5:$T$54,5)),VLOOKUP($A42,LMS_Users_H_Import!$B$7:$E$56,3),VLOOKUP($A42,Form!$C$5:$T$54,5)),VLOOKUP($A42,Form!$C$5:$T$54,7)))","v":""},"","","",{"$f":"IF(LEN($B42)=0,\"\",Form!$E$2)","v":""},"",{"$f":"IF(LEN($B42)=0,\"\",IF(ISBLANK(Form!I42),IF(ISBLANK(Form!G42),\"Yes\",\"-\"),\"-\"))","v":""},"","","","",{"$f":"IF(LEN($B42)=0,\"\",IF(VLOOKUP(Form!$D42,CourseListExpanded,5,FALSE)=\"Yes\",Form!Q42,\"-\"))","v":""},{"$f":"IF(LEN($B42)=0,\"\",IF(VLOOKUP(Form!$D42,CourseListExpanded,5,FALSE)=\"Yes\",Form!R42,\"-\"))","v":""},{"$f":"IF(LEN($B42)=0,\"\",IF(VLOOKUP(Form!$D42,CourseListExpanded,5,FALSE)=\"Yes\",Form!S42,\"-\"))","v":""}]
[39,{"$f":"IF(ISBLANK(VLOOKUP($A43,Form!$C$5:$T$54,2,FALSE)),\"\",IF(ISBLANK(VLOOKUP($A43,Form!$C$5:$T$54,7)),IF(ISBLANK(VLOOKUP($A43,Form!$C$5:$T$54,5)),VLOOKUP($A43,LMS_Users_H_Import!$B$7:$E$56,3),VLOOKUP($A43,Form!$C$5:$T$54,5)),VLOOKUP($A43,Form!$C$5:$T$54,7)))","v":""},"","","",{"$f":"IF(LEN($B43)=0,\"\",Form!$E$2)","v":""},"",{"$f":"IF(LEN($B43)=0,\"\",IF(ISBLANK(Form!I43),IF(ISBLANK(Form!G43),\"Yes\",\"-\"),\"-\"))","v":""},"","","","",{"$f":"IF(LEN($B43)=0,\"\",IF(VLOOKUP(Form!$D43,CourseListExpanded,5,FALSE)=\"Yes\",Form!Q43,\"-\"))","v":""},{"$f":"IF(LEN($B43)=0,\"\",IF(VLOOKUP(Form!$D43,CourseListExpanded,5,FALSE)=\"Yes\",Form!R43,\"-\"))","v":""},{"$f":"IF(LEN($B43)=0,\"\",IF(VLOOKUP(Form!$D43,CourseListExpanded,5,FALSE)=\"Yes\",Form!S43,\"-\"))","v":""}]
[40,{"$f":"IF(ISBLANK(VLOOKUP($A44,Form!$C$5:$T$54,2,FALSE)),\"\",IF(ISBLANK(VLOOKUP($A44,Form!$C$5:$T$54,7)),IF(ISBLANK(VLOOKUP($A44,Form!$C$5:$T$54,5)),VLOOKUP($A44,LMS_Users_H_Import!$B$7:$E$56,3),VLOOKUP($A44,Form!$C$5:$T$54,5)),VLOOKUP($A44,Form!$C$5:$T$54,7)))","v":""},"","","",{"$f":"IF(LEN($B44)=0,\"\",Form!$E$2)","v":""},"",{"$f":"IF(LEN($B44)=0,\"\",IF(ISBLANK(Form!I44),IF(ISBLANK(Form!G44),\"Yes\",\"-\"),\"-\"))","v":""},"","","","",{"$f":"IF(LEN($B44)=0,\"\",IF(VLOOKUP(Form!$D44,CourseListExpanded,5,FALSE)=\"Yes\",Form!Q44,\"-\"))","v":""},{"$f":"IF(LEN($B44)=0,\"\",IF(VLOOKUP(Form!$D44,CourseListExpanded,5,FALSE)=\"Yes\",Form!R44,\"-\"))","v":""},{"$f":"IF(LEN($B44)=0,\"\",IF(VLOOKUP(Form!$D44,CourseListExpanded,5,FALSE)=\"Yes\",Form!S44,\"-\"))","v":""}]
[41,{"$f":"IF(ISBLANK(VLOOKUP($A45,Form!$C$5:$T$54,2,FALSE)),\"\",IF(ISBLANK(VLOOKUP($A45,Form!$C$5:$T$54,7)),IF(ISBLANK(VLOOKUP($A45,Form!$C$5:$T$54,5)),VLOOKUP($A45,LMS_Users_H_Import!$B$7:$E$56,3),VLOOKUP($A45,Form!$C$5:$T$54,5)),VLOOKUP($A45,Form!$C$5:$T$54,7)))","v":""},"","","",{"$f":"IF(LEN($B45)=0,\"\",Form!$E$2)","v":""},"",{"$f":"IF(LEN($B45)=0,\"\",IF(ISBLANK(Form!I45),IF(ISBLANK(Form!G45),\"Yes\",\"-\"),\"-\"))","v":""},"","","","",{"$f":"IF(LEN($B45)=0,\"\",IF(VLOOKUP(Form!$D45,CourseListExpanded,5,FALSE)=\"Yes\",Form!Q45,\"-\"))","v":""},{"$f":"IF(LEN($B45)=0,\"\",IF(VLOOKUP(Form!$D45,CourseListExpanded,5,FALSE)=\"Yes\",Form!R45,\"-\"))","v":""},{"$f":"IF(LEN($B45)=0,\"\",IF(VLOOKUP(Form!$D45,CourseListExpanded,5,FALSE)=\"Yes\",Form!S45,\"-\"))","v":""}]
[42,{"$f":"IF(ISBLANK(VLOOKUP($A46,Form!$C$5:$T$54,2,FALSE)),\"\",IF(ISBLANK(VLOOKUP($A46,Form!$C$5:$T$54,7)),IF(ISBLANK(VLOOKUP($A46,Form!$C$5:$T$54,5)),VLOOKUP($A46,LMS_Users_H_Import!$B$7:$E$56,3),VLOOKUP($A46,Form!$C$5:$T$54,5)),VLOOKUP($A46,Form!$C$5:$T$54,7)))","v":""},"","","",{"$f":"IF(LEN($B46)=0,\"\",Form!$E$2)","v":""},"",{"$f":"IF(LEN($B46)=0,\"\",IF(ISBLANK(Form!I46),IF(ISBLANK(Form!G46),\"Yes\",\"-\"),\"-\"))","v":""},"","","","",{"$f":"IF(LEN($B46)=0,\"\",IF(VLOOKUP(Form!$D46,CourseListExpanded,5,FALSE)=\"Yes\",Form!Q46,\"-\"))","v":""},{"$f":"IF(LEN($B46)=0,\"\",IF(VLOOKUP(Form!$D46,CourseListExpanded,5,FALSE)=\"Yes\",Form!R46,\"-\"))","v":""},{"$f":"IF(LEN($B46)=0,\"\",IF(VLOOKUP(Form!$D46,CourseListExpanded,5,FALSE)=\"Yes\",Form!S46,\"-\"))","v":""}]
[43,{"$f":"IF(ISBLANK(VLOOKUP($A47,Form!$C$5:$T$54,2,FALSE)),\"\",IF(ISBLANK(VLOOKUP($A47,Form!$C$5:$T$54,7)),IF(ISBLANK(VLOOKUP($A47,Form!$C$5:$T$54,5)),VLOOKUP($A47,LMS_Users_H_Import!$B$7:$E$56,3),VLOOKUP($A47,Form!$C$5:$T$54,5)),VLOOKUP($A47,Form!$C$5:$T$54,7)))","v":""},"","","",{"$f":"IF(LEN($B47)=0,\"\",Form!$E$2)","v":""},"",{"$f":"IF(LEN($B47)=0,\"\",IF(ISBLANK(Form!I47),IF(ISBLANK(Form!G47),\"Yes\",\"-\"),\"-\"))","v":""},"","","","",{"$f":"IF(LEN($B47)=0,\"\",IF(VLOOKUP(Form!$D47,CourseListExpanded,5,FALSE)=\"Yes\",Form!Q47,\"-\"))","v":""},{"$f":"IF(LEN($B47)=0,\"\",IF(VLOOKUP(Form!$D47,CourseListExpanded,5,FALSE)=\"Yes\",Form!R47,\"-\"))","v":""},{"$f":"IF(LEN($B47)=0,\"\",IF(VLOOKUP(Form!$D47,CourseListExpanded,5,FALSE)=\"Yes\",Form!S47,\"-\"))","v":""}]
[44,{"$f":"IF(ISBLANK(VLOOKUP($A48,Form!$C$5:$T$54,2,FALSE)),\"\",IF(ISBLANK(VLOOKUP($A48,Form!$C$5:$T$54,7)),IF(ISBLANK(VLOOKUP($A48,Form!$C$5:$T$54,5)),VLOOKUP($A48,LMS_Users_H_Import!$B$7:$E$56,3),VLOOKUP($A48,Form!$C$5:$T$54,5)),VLOOKUP($A48,Form!$C$5:$T$54,7)))","v":""},"","","",{"$f":"IF(LEN($B48)=0,\"\",Form!$E$2)","v":""},"",{"$f":"IF(LEN($B48)=0,\"\",IF(ISBLANK(Form!I48),IF(ISBLANK(Form!G48),\"Yes\",\"-\"),\"-\"))","v":""},"","","","",{"$f":"IF(LEN($B48)=0,\"\",IF(VLOOKUP(Form!$D48,CourseListExpanded,5,FALSE)=\"Yes\",Form!Q48,\"-\"))","v":""},{"$f":"IF(LEN($B48)=0,\"\",IF(VLOOKUP(Form!$D48,CourseListExpanded,5,FALSE)=\"Yes\",Form!R48,\"-\"))","v":""},{"$f":"IF(LEN($B48)=0,\"\",IF(VLOOKUP(Form!$D48,CourseListExpanded,5,FALSE)=\"Yes\",Form!S48,\"-\"))","v":""}]
[45,{"$f":"IF(ISBLANK(VLOOKUP($A49,Form!$C$5:$T$54,2,FALSE)),\"\",IF(ISBLANK(VLOOKUP($A49,Form!$C$5:$T$54,7)),IF(ISBLANK(VLOOKUP($A49,Form!$C$5:$T$54,5)),VLOOKUP($A49,LMS_Users_H_Import!$B$7:$E$56,3),VLOOKUP($A49,Form!$C$5:$T$54,5)),VLOOKUP($A49,Form!$C$5:$T$54,7)))","v":""},"","","",{"$f":"IF(LEN($B49)=0,\"\",Form!$E$2)","v":""},"",{"$f":"IF(LEN($B49)=0,\"\",IF(ISBLANK(Form!I49),IF(ISBLANK(Form!G49),\"Yes\",\"-\"),\"-\"))","v":""},"","","","",{"$f":"IF(LEN($B49)=0,\"\",IF(VLOOKUP(Form!$D49,CourseListExpanded,5,FALSE)=\"Yes\",Form!Q49,\"-\"))","v":""},{"$f":"IF(LEN($B49)=0,\"\",IF(VLOOKUP(Form!$D49,CourseListExpanded,5,FALSE)=\"Yes\",Form!R49,\"-\"))","v":""},{"$f":"IF(LEN($B49)=0,\"\",IF(VLOOKUP(Form!$D49,CourseListExpanded,5,FALSE)=\"Yes\",Form!S49,\"-\"))","v":""}]
[46,{"$f":"IF(ISBLANK(VLOOKUP($A50,Form!$C$5:$T$54,2,FALSE)),\"\",IF(ISBLANK(VLOOKUP($A50,Form!$C$5:$T$54,7)),IF(ISBLANK(VLOOKUP($A50,Form!$C$5:$T$54,5)),VLOOKUP($A50,LMS_Users_H_Import!$B$7:$E$56,3),VLOOKUP($A50,Form!$C$5:$T$54,5)),VLOOKUP($A50,Form!$C$5:$T$54,7)))","v":""},"","","",{"$f":"IF(LEN($B50)=0,\"\",Form!$E$2)","v":""},"",{"$f":"IF(LEN($B50)=0,\"\",IF(ISBLANK(Form!I50),IF(ISBLANK(Form!G50),\"Yes\",\"-\"),\"-\"))","v":""},"","","","",{"$f":"IF(LEN($B50)=0,\"\",IF(VLOOKUP(Form!$D50,CourseListExpanded,5,FALSE)=\"Yes\",Form!Q50,\"-\"))","v":""},{"$f":"IF(LEN($B50)=0,\"\",IF(VLOOKUP(Form!$D50,CourseListExpanded,5,FALSE)=\"Yes\",Form!R50,\"-\"))","v":""},{"$f":"IF(LEN($B50)=0,\"\",IF(VLOOKUP(Form!$D50,CourseListExpanded,5,FALSE)=\"Yes\",Form!S50,\"-\"))","v":""}]
[47,{"$f":"IF(ISBLANK(VLOOKUP($A51,Form!$C$5:$T$54,2,FALSE)),\"\",IF(ISBLANK(VLOOKUP($A51,Form!$C$5:$T$54,7)),IF(ISBLANK(VLOOKUP($A51,Form!$C$5:$T$54,5)),VLOOKUP($A51,LMS_Users_H_Import!$B$7:$E$56,3),VLOOKUP($A51,Form!$C$5:$T$54,5)),VLOOKUP($A51,Form!$C$5:$T$54,7)))","v":""},"","","",{"$f":"IF(LEN($B51)=0,\"\",Form!$E$2)","v":""},"",{"$f":"IF(LEN($B51)=0,\"\",IF(ISBLANK(Form!I51),IF(ISBLANK(Form!G51),\"Yes\",\"-\"),\"-\"))","v":""},"","","","",{"$f":"IF(LEN($B51)=0,\"\",IF(VLOOKUP(Form!$D51,CourseListExpanded,5,FALSE)=\"Yes\",Form!Q51,\"-\"))","v":""},{"$f":"IF(LEN($B51)=0,\"\",IF(VLOOKUP(Form!$D51,CourseListExpanded,5,FALSE)=\"Yes\",Form!R51,\"-\"))","v":""},{"$f":"IF(LEN($B51)=0,\"\",IF(VLOOKUP(Form!$D51,CourseListExpanded,5,FALSE)=\"Yes\",Form!S51,\"-\"))","v":""}]
[48,{"$f":"IF(ISBLANK(VLOOKUP($A52,Form!$C$5:$T$54,2,FALSE)),\"\",IF(ISBLANK(VLOOKUP($A52,Form!$C$5:$T$54,7)),IF(ISBLANK(VLOOKUP($A52,Form!$C$5:$T$54,5)),VLOOKUP($A52,LMS_Users_H_Import!$B$7:$E$56,3),VLOOKUP($A52,Form!$C$5:$T$54,5)),VLOOKUP($A52,Form!$C$5:$T$54,7)))","v":""},"","","",{"$f":"IF(LEN($B52)=0,\"\",Form!$E$2)","v":""},"",{"$f":"IF(LEN($B52)=0,\"\",IF(ISBLANK(Form!I52),IF(ISBLANK(Form!G52),\"Yes\",\"-\"),\"-\"))","v":""},"","","","",{"$f":"IF(LEN($B52)=0,\"\",IF(VLOOKUP(Form!$D52,CourseListExpanded,5,FALSE)=\"Yes\",Form!Q52,\"-\"))","v":""},{"$f":"IF(LEN($B52)=0,\"\",IF(VLOOKUP(Form!$D52,CourseListExpanded,5,FALSE)=\"Yes\",Form!R52,\"-\"))","v":""},{"$f":"IF(LEN($B52)=0,\"\",IF(VLOOKUP(Form!$D52,CourseListExpanded,5,FALSE)=\"Yes\",Form!S52,\"-\"))","v":""}]
[49,{"$f":"IF(ISBLANK(VLOOKUP($A53,Form!$C$5:$T$54,2,FALSE)),\"\",IF(ISBLANK(VLOOKUP($A53,Form!$C$5:$T$54,7)),IF(ISBLANK(VLOOKUP($A53,Form!$C$5:$T$54,5)),VLOOKUP($A53,LMS_Users_H_Import!$B$7:$E$56,3),VLOOKUP($A53,Form!$C$5:$T$54,5)),VLOOKUP($A53,Form!$C$5:$T$54,7)))","v":""},"","","",{"$f":"IF(LEN($B53)=0,\"\",Form!$E$2)","v":""},"",{"$f":"IF(LEN($B53)=0,\"\",IF(ISBLANK(Form!I53),IF(ISBLANK(Form!G53),\"Yes\",\"-\"),\"-\"))","v":""},"","","","",{"$f":"IF(LEN($B53)=0,\"\",IF(VLOOKUP(Form!$D53,CourseListExpanded,5,FALSE)=\"Yes\",Form!Q53,\"-\"))","v":""},{"$f":"IF(LEN($B53)=0,\"\",IF(VLOOKUP(Form!$D53,CourseListExpanded,5,FALSE)=\"Yes\",Form!R53,\"-\"))","v":""},{"$f":"IF(LEN($B53)=0,\"\",IF(VLOOKUP(Form!$D53,CourseListExpanded,5,FALSE)=\"Yes\",Form!S53,\"-\"))","v":""}]
[50,{"$f":"IF(ISBLANK(VLOOKUP($A54,Form!$C$5:$T$54,2,FALSE)),\"\",IF(ISBLANK(VLOOKUP($A54,Form!$C$5:$T$54,7)),IF(ISBLANK(VLOOKUP($A54,Form!$C$5:$T$54,5)),VLOOKUP($A54,LMS_Users_H_Import!$B$7:$E$56,3),VLOOKUP($A54,Form!$C$5:$T$54,5)),VLOOKUP($A54,Form!$C$5:$T$54,7)))","v":""},"","","",{"$f":"IF(LEN($B54)=0,\"\",Form!$E$2)","v":""},"",{"$f":"IF(LEN($B54)=0,\"\",IF(ISBLANK(Form!I54),IF(ISBLANK(Form!G54),\"Yes\",\"-\"),\"-\"))","v":""},"","","","",{"$f":"IF(LEN($B54)=0,\"\",IF(VLOOKUP(Form!$D54,CourseListExpanded,5,FALSE)=\"Yes\",Form!Q54,\"-\"))","v":""},{"$f":"IF(LEN($B54)=0,\"\",IF(VLOOKUP(Form!$D54,CourseListExpanded,5,FALSE)=\"Yes\",Form!R54,\"-\"))","v":""},{"$f":"IF(LEN($B54)=0,\"\",IF(VLOOKUP(Form!$D54,CourseListExpanded,5,FALSE)=\"Yes\",Form!S54,\"-\"))","v":""}]

{"sheet":"Ausgrid Training","index":10,"n_rows":122,"n_cols":135,"rows_kept":122,"cut":false,"hidden":true,"merged":[]}
[null,"First Aid.Statement of Attainment.HLTAID001 - Perform CPR","Electrical.Statement of Attainment.UETTDRRF06 - Perform rescue from a live LV panel","Electrical.Statement of Attainment.UETTDRRF10 - First Aid in an ESI Environment","Contractor.Induction.Ausgrid Induction ","Electrical.Statement of Attainment.UETTDRRF01 - Apply ESI safety rules, codes of practice and procedures for work","Network Operator.Certificate.I0102 - Ausgrid - Environmental Awareness","Electrical.Statement of Attainment.UETTDRRF09 - Apply access procedures to work on or near electrical network infrastructure","Network Operator.Access.SC1000A - Ausgrid - Substation Entry","Network Operator.Certificate.SC1100A - Working Near or Around Underground Cables","Summary - Electrical Safety Rules\nAusgrid Supplied Training","Network Operator.Access.APR0068 - Ausgrid - Access Permit Recipient (Restricted)","Network Operator.Certificate.AMGS0001 - Field Recording of Network Assets","Network Operator.Certificate.M1425 - Pole Inspection and Treatment","Network Operator.Certificate.M1429 - Handling Burnt CCA Poles","Network Operator.Certificate.QUAL00066 - GIS Map Reading","Network Operator.Certificate.SSAB1001 - Ausgrid - Asbestos Awareness","Network Operator.Certificate.M1503 - Ausgrid - Lineworkers Fall Arrest Harness ","Network Operator.Certificate.M1806 - Safe Working Aloft ","Network Operator.Certificate.M1809 - Ausgrid - Pre-working aloft procedures (NS146)","Network Operator.Certificate.TTDO1374 - Introduction to overhead line components","Network Operator.Certificate.TTDO1375 - Line inspection","Network Operator.Certificate.TTDO1399 - Luminaire Servicing Worker","Network Operator.Certificate.TTDO1570 - Ausgrid - Application of temporary insulation","Network Operator.Certificate.TTGE1574 - Neutral and Phase Identification Using Test Lamps","Network Operator.Certificate.TTPO0003 - Private Pole and Aerial Mains Inspection: Bushfire Risks","Network Operator.Certificate.TTDO1804 - Ausgrid - Erection of Earths","M2325B - Triple End Cable Sealing","TTDO1653 - Application of Overhead Low Voltage Short Circuits","IT_CS Ausgrid Cyber Safety","Electrical.Statement of Attainment.UETTDRRF02 - Perform Pole Top Rescue ","Electrical.Statement of Attainment.UETTDRRF03 - LV Release & Rescue from an EWP","Electrical.Statement of Attainment.UETTDRRF08 - CCD Release & Rescue from an EWP","Summary - CDE/PoleTop/EWP Rescue Initial","Confined Space.Statement of Attainment.RIIWHS202 - Enter and work in confined spaces","Electrical.Statement of Attainment.UETTDRRF04 - Perform tower rescue","Electrical.Statement of Attainment.UETTDRRF05 - Perform Rescue from Switchyard Structures at Heights","First Aid.Statement of Attainment.HLTAID003 - Provide First Aid","Asbestos.Statement of Attainment.Assessor:  CPCCBC5014A – Conduct asbestos assessment associated with removal","Asbestos.Statement of Attainment.Class A:  CPCCDE3015A – Remove friable asbestos","Asbestos.Statement of Attainment.Supervisor:  CPCCBC4051A – Supervise asbestos removal","Chemical Use.Qualified.AHCCHM303 & AHCCHM304 – Level 3 Chemical users Qualification ","Chemical Use.Qualified.AHCCHM401 & AHCCHM402 – Level 4 Chemical users Qualification ","Chemical Use.Statement of Attainment.AHCCHM201 - Apply chemicals under supervision","Electrical.Statement of Attainment.UETTDRRF07 - Perform cable pit/trench/excavation rescue","Electrical.Statement of Attainment.UETTDRVC21 – Use climbing techniques to cut vegetation near live electrical apparatus","Electrical.Statement of Attainment.UETTDRVC23 - Plan for the removal of vegetation up to veg exclusion zone near live electrical appar","Electrical.Statement of Attainment.UETTDRVC24 – Assess vegetation and recommend control measures in an ESI environment  ","Electrical.Statement of Attainment.UETTDRVC25 – Use EWP to cut above ground vegetation near live electrical apparatus","Electrical.Statement of Attainment.UETTDRVC26 – Cut vegetation at ground near live electrical apparatus","Electrical.Statement of Attainment.UETTDRVC27 - Monitor safety compliance for vegetation control work in an ESI environment","Electrical.Statement of Attainment.UETTDRVC31 – Operate specialised plant & equipment at ground level near live electrical apparatus ","Electrical.Statement of Attainment.UETTDRVC32 - Use specialised plant to cut vegetation above ground level near live electrical appara","Electrical.Statement of Attainment.UETTDRVC33 - Apply pruning techniques to vegetation control near live electrical apparatus","Electrical.Statement of Attainment.UETTDRVC34 – Undertake release & rescue from a tree near live electrical apparatus","High Risk Work.Licence.Advanced Rigging (RA)","High Risk Work.Licence.Advanced Scaffolding (SA)","High Risk Work.Licence.Basic Rigging (RB)","High Risk Work.Licence.Basic Scaffolding (SB)","High Risk Work.Licence.Boom Type Elevated Work Platform (WP)","High Risk Work.Licence.Bridge and gantry Crane (CB)","High Risk Work.Licence.Concrete Placing Boom (PB)","High Risk Work.Licence.Derrick Crane (CD)","High Risk Work.Licence.Dogging (DG)","High Risk Work.Licence.Forlkift (LF)","High Risk Work.Licence.Intermediate Rigging (RI)","High Risk Work.Licence.Intermediate Scaffolding (SI)","High Risk Work.Licence.Materials Platform Hoist (HM)","High Risk Work.Licence.Non Slewing Mobile Crane >3t (CN)","High Risk Work.Licence.Personnel and Material Hoists (HP)","High Risk Work.Licence.Portal Boom Crane (CP)","High Risk Work.Licence.Self Erecting Crane (CS)","High Risk Work.Licence.Slewing Crane - Over 100 tonnes (C0)","High Risk Work.Licence.Slewing Crane - Up to 100 tonnes (C1)","High Risk Work.Licence.Slewing Crane - Up to 20 tonnes (C2)","High Risk Work.Licence.Slewing Crane - Up to 60 tonnes (C6)","High Risk Work.Licence.Tower Crane (CT)","High Risk Work.Licence.Vehicle Loading Crane (CV)","Horticulture.Statement of Attainment.AHCARB207 - Perform Ground Based Rigging","Horticulture.Statement of Attainment.AHCARB307 - Use advanced climbing techniques ","Horticulture.Statement of Attainment.AHCARB312 - Use standard climbing techniques to access trees","Horticulture.Statement of Attainment.AHCPCM201 - Recognise plants","Horticulture.Statement of Attainment.AHCPCM203 - Fell small trees","Horticulture.Statement of Attainment.Advanced Felling","Horticulture.Statement of Attainment.FWPCOT2239 - Trim and cut felled trees","Management.Statement of Attainment.RIICOM201 - Communicate in the workplace","Management.Statement of Attainment.RIIGOV401 - Apply, monitor and report on compliance systems","Management.Statement of Attainment.RIIRIS301 - Apply risk management processes ","Network Operator.Certificate.M1398 - Streetlight Serving Worker Electrical (Electrically Trained and Qualified)","Operator.Statement of Attainment.RIIMPO324 - Conduct civil construction grader operations","Operator.Statement of Attainment.RIIMPO325 - Conduct civil construction scraper operations","Operator.Statement of Attainment.RIIMPO326 - Conduct civil construction water cart operations","Operator.Statement of Attainment.RIIMPO336 - Conduct belly dump truck operations","Operator.Statement of Attainment.RIIMPO337 - Conduct articulated haul truck operations","Operator.Statement of Attainment.RIIMPO338 - Conduct rigid haul truck operations","Operator.Statement of Attainment.RIIVEH304 - Conduct tip truck operations","Qualification.Certificate.Qualified Supervisor Certificate - Electrical Work","Traffic Controller.Statement of Attainment.RIICWD503 - Prepare work zone traffic management plan","Traffic Controller.Statement of Attainment.RIIWHS205 - Control traffic with a stop/slow bat","Traffic Controller.Statement of Attainment.RIIWHS302 - Implement traffic management plan","Working at Height.Statement of Attainment.RIIWHS204 - Work safely at height","Driver.Govt Licence/Authority.Proof of Identity","Electrical.Certificate III.UET30612 - Certificate III in ESI - Power Systems - Distribution Overhead (Linesman) ","Electrical.Statement of Attainment.UETTDREL13 - Comply with environmental and incidental response procedures","Electrical.Statement of Attainment.UETTDREL14 - Working safely near live electrical apparatus as a non electrical worker ","Electrical.Statement of Attainment.UETTDREL16 - Working safely near live electrical apparatus","Electrical.Statement of Attainment.UETTDREL17 - Operate asset inspection machinery and equipment near live electrical apparatus","Electrical.Statement of Attainment.UETTDREL18 - Inspect and treat poles and inspect electrical apparatus","Electrical.Statement of Attainment.UETTDREL19 - Identify & interpret characteristics of elec apparatus associated with power industry ","OH&S-WHS.Qualified.Work safely in construction industry","OH&S-WHS.Statement of Attainment.RIIWHS201 - Work safely and follow WHS policies and work procedures ","OH&S-WHS.Statement of Attainment.UEENEEE101 - Apply OHS practices in the workplace","Operator Chainsaw.Statement of Attainment.AHCMOM213 - Operate and maintain chainsaws","Operator.Certificate of Competency.Jarraf operator","Operator.Statement of Attainment.AHCMOM304 - Operate machinery and equipment","Operator.Statement of Attainment.RIIHAN311 - Conduct operations with integrated tool carrier","Operator.Statement of Attainment.RIIMPO205 - Operate roller/compactor","Operator.Statement of Attainment.RIIMPO206 - Conduct bulk water truck operations","Operator.Statement of Attainment.RIIMPO315 - Conduct tractor operations","Operator.Statement of Attainment.RIIMPO316 - Conduct self-propelled compactor operations","Operator.Statement of Attainment.RIIMPO317 - Conduct roller operations","Operator.Statement of Attainment.RIIMPO318 - Conduct civil construction skid steer loader operations","Operator.Statement of Attainment.RIIMPO319 - Conduct backhoe/loader operations","Operator.Statement of Attainment.RIIMPO320 - Conduct civil construction excavator operations","Operator.Statement of Attainment.RIIMPO321 - Conduct civil construction wheeled front end loader operations","Operator.Statement of Attainment.RIIMPO322 - Conduct civil construction tracked front end loader operations","Operator.Statement of Attainment.RIIMPO323 - Conduct civil construction dozer operations",null,"PreReq Summary for Display","Non-Ausgrid Units","Ausgrid Supplied"]
[null,"Pre-requisite","Pre-requisite","Pre-requisite","Online only","Ausgrid Supplied","Ausgrid Supplied","Ausgrid Supplied","Ausgrid Specific","Ausgrid specific","Ausgrid Supplied","Ausgrid Supplied","Ausgrid Supplied","Ausgrid Supplied","Ausgrid Supplied","Ausgrid Supplied","Online","Ausgrid Supplied","Ausgrid Supplied","Ausgrid Supplied","Ausgrid Supplied","Ausgrid Supplied","Ausgrid Supplied","Ausgrid Supplied","Ausgrid Supplied","Ausgrid Supplied","Ausgrid Supplied","Ausgrid Supplied","Ausgrid Supplied","Ausgrid Supplied","Not offered by Ausgrid","Not offered by Ausgrid","Not offered by Ausgrid","Not offered by Ausgrid","Not offered by Ausgrid","Not offered by Ausgrid","Not offered by Ausgrid","Not offered by Ausgrid"]
[null,"SE1003/RF0004","SE1003/RF0004","SE1003/RF0004","SI2000","SE1000/RF0003","SE1000/RF0003","SE1000/RF0003","SC1000A/SC1200","SC1100A/SC1200","ESR Training required","APR0068","AMGS0001","M1425","M1429","QUAL00066","SSAB1001 (online)","M1503","M1806","M1809/M1809REF","TTDO1374","TTDO1375","TTDO1399","M1570","M1574","TTPO0003","Unknown",null,null,null,"SE1004/RF0002","SE1004/RF0002","SE1004/RF0002","SE1004/RF0002","M1025/M1025REF","TTRF0004/TTRF0004REF","TTRF0005/TTRF0005REF","HLTAID003","Unknown","Unknown","Unknown","Unknown","Unknown","Unknown","Unknown","Unknown","Unknown","Unknown","Unknown","Unknown","Unknown","Unknown","Unknown","Unknown","Unknown","Unknown","Unknown","Unknown","Unknown","Unknown","Unknown","Unknown","Unknown","Unknown","Unknown","Unknown","Unknown","Unknown","Unknown","Unknown","Unknown","Unknown","Unknown","Unknown","Unknown","Unknown","Unknown","Unknown","Unknown","Unknown","Unknown","Unknown","Unknown","Unknown","Unknown","Unknown","Unknown","Unknown","Unknown","Unknown","Unknown","Unknown","Unknown","Unknown","Unknown","Unknown","Unknown","Unknown","Unknown","Unknown","Unknown","Unknown","Unknown","Unknown","Unknown","Unknown","Unknown","Unknown","Unknown","Unknown","Unknown","Unknown","Unknown","Unknown","Unknown","Unknown","Unknown","Unknown","Unknown","Unknown","Unknown","Unknown","Unknown","Unknown","Unknown","Unknown","Unknown"]
["1. Ausgrid Contractor","M",null,null,"SI2000","M",null,null,null,null,null,null,null,null,null,null,null,null,null,null,null,null,null,null,null,null,null,null,null,null,null,null,null,null,null,null,null,null,null,null,null,null,null,null,null,null,null,null,null,null,null,null,null,null,null,null,null,null,null,null,null,null,null,null,null,null,null,null,null,null,null,null,null,null,null,null,null,null,null,null,null,null,null,null,null,null,null,null,null,null,null,null,null,null,null,null,null,null,null,null,null,null,null,null,null,null,null,null,null,null,null,null,null,null,null,null,null,null,null,null,null,null,null,null,null,null,null,null,{"$f":"CONCATENATE(IF(B4=\"M\",\"-\"&$B$1,\"\"),IF(B4=\"M\",CHAR(10),\"\"),IF(C4=\"M\",\"-\"&$C$1,\"\"),IF(C4=\"M\",CHAR(10),\"\"),IF(D4=\"M\",\"-\"&$D$1,\"\"))","v":"-First Aid.Statement of Attainment.HLTAID001 - Perform CPR\n"},{"$f":"CONCATENATE(EB4,EC4,ED4,EE4)","v":""},{"$f":"CONCATENATE(\nIF(E4=\"M\",\"-\"&INDEX(E$1:E$104,1)&CHAR(10),\"\"),\nIF(F4=\"M\",\"-\"&INDEX(F$1:F$104,1)&CHAR(10),\"\"),\nIF(G4=\"M\",\"-\"&INDEX(G$1:G$104,1)&CHAR(10),\"\"),\nIF(H4=\"M\",\"-\"&INDEX(H$1:H$104,1)&CHAR(10),\"\"),\nIF(I4=\"M\",\"-\"&INDEX(I$1:I$104,1)&CHAR(10),\"\"),\nIF(J4=\"M\",\"-\"&INDEX(J$1:J$104,1)&CHAR(10),\"\"),\nIF(K4=\"M\",\"-\"&INDEX(K$1:K$104,1)&CHAR(10),\"\"),\nIF(L4=\"M\",\"-\"&INDEX(L$1:L$104,1)&CHAR(10),\"\"),\nIF(M4=\"M\",\"-\"&INDEX(M$1:M102,1)&CHAR(10),\"\"),\nIF(N4=\"M\",\"-\"&INDEX(N$1:N$104,1)&CHAR(10),\"\"),\nIF(O4=\"M\",\"-\"&INDEX(O$1:O$104,1)&CHAR(10),\"\"),\nIF(P4=\"M\",\"-\"&INDEX(P$1:P$104,1)&CHAR(10),\"\"),\nIF(Q4=\"M\",\"-\"&INDEX(Q$1:Q$104,1)&CHAR(10),\"\"),\nIF(R4=\"M\",\"-\"&INDEX(R$1:R$104,1)&CHAR(10),\"\"),\nIF(S4=\"M\",\"-\"&INDEX(S$1:S$104,1)&CHAR(10),\"\"),\nIF(T4=\"M\",\"-\"&INDEX(T$1:T$104,1)&CHAR(10),\"\"),\nIF(U4=\"M\",\"-\"&INDEX(U$1:U$104,1)&CHAR(10),\"\"),\nIF(V4=\"M\",\"-\"&INDEX(V$1:V$104,1)&CHAR(10),\"\"),\nIF(W4=\"M\",\"-\"&INDEX(W$1:W$104,1)&CHAR(10),\"\"),\nIF(X4=\"M\",\"-\"&INDEX(X$1:X$104,1)&CHAR(10),\"\"),\nIF(Y4=\"M\",\"-\"&INDEX(Y$1:Y$104,1)&CHAR(10),\"\"),\nIF(Z4=\"M\",\"-\"&INDEX(Z$1:Z$104,1)&CHAR(10),\"\"),\nIF(AA4=\"M\",\"-\"&INDEX(AA$1:AA$104,1)&CHAR(10),\"\"),\nIF(AB4=\"M\",\"-\"&INDEX(AB$1:AB$104,1)&CHAR(10),\"\"),\nIF(AC4=\"M\",\"-\"&INDEX(AC$1:AC$104,1)&CHAR(10),\"\"),\nIF(AD4=\"M\",\"-\"&INDEX(AD$1:AD$104,1)&CHAR(10),\"\"))","v":"-Electrical.Statement of Attainment.UETTDRRF01 - Apply ESI safety rules, codes of practice and procedures for work\n"},{"$f":"CONCATENATE(\nIF(AE4=\"M\",\"-\"&INDEX(AE$1:AE$104,1)&CHAR(10),\"\"),\nIF(AF4=\"M\",\"-\"&INDEX(AF$1:AF$104,1)&CHAR(10),\"\"),\nIF(AG4=\"M\",\"-\"&INDEX(AG$1:AG$104,1)&CHAR(10),\"\"),\nIF(AH4=\"M\",\"-\"&INDEX(AH$1:AH$104,1)&CHAR(10),\"\"),\nIF(AI4=\"M\",\"-\"&INDEX(AI$1:AI$104,1)&CHAR(10),\"\"),\nIF(AJ4=\"M\",\"-\"&INDEX(AJ$1:AJ$104,1)&CHAR(10),\"\"),\nIF(AK4=\"M\",\"-\"&INDEX(AK$1:AK$104,1)&CHAR(10),\"\"),\nIF(AL4=\"M\",\"-\"&INDEX(AL$1:AL$104,1)&CHAR(10),\"\"),\nIF(AM4=\"M\",\"-\"&INDEX(AM$1:AM$104,1)&CHAR(10),\"\"),\nIF(AN4=\"M\",\"-\"&INDEX(AN$1:AN$104,1)&CHAR(10),\"\"),\nIF(AO4=\"M\",\"-\"&INDEX(AO$1:AO$104,1)&CHAR(10),\"\"),\nIF(AP4=\"M\",\"-\"&INDEX(AP$1:AP$104,1)&CHAR(10),\"\"),\nIF(AQ4=\"M\",\"-\"&INDEX(AQ$1:AQ$104,1)&CHAR(10),\"\"),\nIF(AR4=\"M\",\"-\"&INDEX(AR$1:AR$104,1)&CHAR(10),\"\"),\nIF(AS4=\"M\",\"-\"&INDEX(AS$1:AS$104,1)&CHAR(10),\"\"),\nIF(AT4=\"M\",\"-\"&INDEX(AT$1:AT$104,1)&CHAR(10),\"\"),\nIF(AU4=\"M\",\"-\"&INDEX(AU$1:AU$104,1)&CHAR(10),\"\"),\nIF(AV4=\"M\",\"-\"&INDEX(AV$1:AV$104,1)&CHAR(10),\"\"),\nIF(AW4=\"M\",\"-\"&INDEX(AW$1:AW$104,1)&CHAR(10),\"\"),\nIF(AX4=\"M\",\"-\"&INDEX(AX$1:AX$104,1)&CHAR(10),\"\"),\nIF(AY4=\"M\",\"-\"&INDEX(AY$1:AY$104,1)&CHAR(10),\"\"),\nIF(AZ4=\"M\",\"-\"&INDEX(AZ$1:AZ$104,1)&CHAR(10),\"\"),\nIF(BA4=\"M\",\"-\"&INDEX(BA$1:BA$104,1)&CHAR(10),\"\"),\nIF(BB4=\"M\",\"-\"&INDEX(BB$1:BB$104,1)&CHAR(10),\"\"),\nIF(BC4=\"M\",\"-\"&INDEX(BC$1:BC$104,1)&CHAR(10),\"\"))","v":""},{"$f":"CONCATENATE(\nIF(BD4=\"M\",\"-\"&INDEX(BD$1:BD$104,1)&CHAR(10),\"\"),\nIF(BE4=\"M\",\"-\"&INDEX(BE$1:BE$104,1)&CHAR(10),\"\"),\nIF(BF4=\"M\",\"-\"&INDEX(BF$1:BF$104,1)&CHAR(10),\"\"),\nIF(BG4=\"M\",\"-\"&INDEX(BG$1:BG$104,1)&CHAR(10),\"\"),\nIF(BH4=\"M\",\"-\"&INDEX(BH$1:BH$104,1)&CHAR(10),\"\"),\nIF(BI4=\"M\",\"-\"&INDEX(BI$1:BI$104,1)&CHAR(10),\"\"),\nIF(BJ4=\"M\",\"-\"&INDEX(BJ$1:BJ$104,1)&CHAR(10),\"\"),\nIF(BK4=\"M\",\"-\"&INDEX(BK$1:BK$104,1)&CHAR(10),\"\"),\nIF(BL4=\"M\",\"-\"&INDEX(BL$1:BL$104,1)&CHAR(10),\"\"),\nIF(BM4=\"M\",\"-\"&INDEX(BM$1:BM$104,1)&CHAR(10),\"\"),\nIF(BN4=\"M\",\"-\"&INDEX(BN$1:BN$104,1)&CHAR(10),\"\"),\nIF(BO4=\"M\",\"-\"&INDEX(BO$1:BO$104,1)&CHAR(10),\"\"),\nIF(BP4=\"M\",\"-\"&INDEX(BP$1:BP$104,1)&CHAR(10),\"\"),\nIF(BQ4=\"M\",\"-\"&INDEX(BQ$1:BQ$104,1)&CHAR(10),\"\"),\nIF(BR4=\"M\",\"-\"&INDEX(BR$1:BR$104,1)&CHAR(10),\"\"),\nIF(BS4=\"M\",\"-\"&INDEX(BS$1:BS$104,1)&CHAR(10),\"\"),\nIF(BT4=\"M\",\"-\"&INDEX(BT$1:BT$104,1)&CHAR(10),\"\"),\nIF(BU4=\"M\",\"-\"&INDEX(BU$1:BU$104,1)&CHAR(10),\"\"),\nIF(BV4=\"M\",\"-\"&INDEX(BV$1:BV$104,1)&CHAR(10),\"\"),\nIF(BW4=\"M\",\"-\"&INDEX(BW$1:BW$104,1)&CHAR(10),\"\"),\nIF(BX4=\"M\",\"-\"&INDEX(BX$1:BX$104,1)&CHAR(10),\"\"),\nIF(BY4=\"M\",\"-\"&INDEX(BY$1:BY$104,1)&CHAR(10),\"\"),\nIF(BZ4=\"M\",\"-\"&INDEX(BZ$1:BZ$104,1)&CHAR(10),\"\"),\nIF(CA4=\"M\",\"-\"&INDEX(CA$1:CA$104,1)&CHAR(10),\"\"),\nIF(CB4=\"M\",\"-\"&INDEX(CB$1:CB$104,1)&CHAR(10),\"\"),\nIF(CC4=\"M\",\"-\"&INDEX(CC$1:CC$104,1)&CHAR(10),\"\"))","v":""},{"$f":"CONCATENATE(\nIF(CD4=\"M\",\"-\"&INDEX(CD$1:CD$104,1)&CHAR(10),\"\"),\nIF(CE4=\"M\",\"-\"&INDEX(CE$1:CE$104,1)&CHAR(10),\"\"),\nIF(CF4=\"M\",\"-\"&INDEX(CF$1:CF$104,1)&CHAR(10),\"\"),\nIF(CG4=\"M\",\"-\"&INDEX(CG$1:CG$104,1)&CHAR(10),\"\"),\nIF(CH4=\"M\",\"-\"&INDEX(CH$1:CH$104,1)&CHAR(10),\"\"),\nIF(CI4=\"M\",\"-\"&INDEX(CI$1:CI$104,1)&CHAR(10),\"\"),\nIF(CJ4=\"M\",\"-\"&INDEX(CJ$1:CJ$104,1)&CHAR(10),\"\"),\nIF(CK4=\"M\",\"-\"&INDEX(CK$1:CK$104,1)&CHAR(10),\"\"),\nIF(CL4=\"M\",\"-\"&INDEX(CL$1:CL$104,1)&CHAR(10),\"\"),\nIF(CM4=\"M\",\"-\"&INDEX(CM$1:CM$104,1)&CHAR(10),\"\"),\nIF(CN4=\"M\",\"-\"&INDEX(CN$1:CN$104,1)&CHAR(10),\"\"),\nIF(CO4=\"M\",\"-\"&INDEX(CO$1:CO$104,1)&CHAR(10),\"\"),\nIF(CP4=\"M\",\"-\"&INDEX(CP$1:CP$104,1)&CHAR(10),\"\"),\nIF(CQ4=\"M\",\"-\"&INDEX(CQ$1:CQ$104,1)&CHAR(10),\"\"),\nIF(CR4=\"M\",\"-\"&INDEX(CR$1:CR$104,1)&CHAR(10),\"\"),\nIF(CS4=\"M\",\"-\"&INDEX(CS$1:CS$104,1)&CHAR(10),\"\"),\nIF(CT4=\"M\",\"-\"&INDEX(CT$1:CT$104,1)&CHAR(10),\"\"),\nIF(CU4=\"M\",\"-\"&INDEX(CU$1:CU$104,1)&CHAR(10),\"\"),\nIF(CV4=\"M\",\"-\"&INDEX(CV$1:CV$104,1)&CHAR(10),\"\"),\nIF(CW4=\"M\",\"-\"&INDEX(CW$1:CW$104,1)&CHAR(10),\"\"),\nIF(CX4=\"M\",\"-\"&INDEX(CX$1:CX$104,1)&CHAR(10),\"\"),\nIF(CY4=\"M\",\"-\"&INDEX(CY$1:CY$104,1)&CHAR(10),\"\"),\nIF(CZ4=\"M\",\"-\"&INDEX(CZ$1:CZ$104,1)&CHAR(10),\"\"),\nIF(DA4=\"M\",\"-\"&INDEX(DA$1:DA$104,1)&CHAR(10),\"\"),\nIF(DB4=\"M\",\"-\"&INDEX(DB$1:DB$104,1)&CHAR(10),\"\"),\nIF(DC4=\"M\",\"-\"&INDEX(DC$1:DC$104,1)&CHAR(10),\"\"))","v":""},{"$f":"CONCATENATE(\nIF(DD4=\"M\",\"-\"&INDEX(DD$1:DD$104,1)&CHAR(10),\"\"),\nIF(DE4=\"M\",\"-\"&INDEX(DE$1:DE$104,1)&CHAR(10),\"\"),\nIF(DF4=\"M\",\"-\"&INDEX(DF$1:DF$104,1)&CHAR(10),\"\"),\nIF(DG4=\"M\",\"-\"&INDEX(DG$1:DG$104,1)&CHAR(10),\"\"),\nIF(DH4=\"M\",\"-\"&INDEX(DH$1:DH$104,1)&CHAR(10),\"\"),\nIF(DI4=\"M\",\"-\"&INDEX(DI$1:DI$104,1)&CHAR(10),\"\"),\nIF(DJ4=\"M\",\"-\"&INDEX(DJ$1:DJ$104,1)&CHAR(10),\"\"),\nIF(DK4=\"M\",\"-\"&INDEX(DK$1:DK$104,1)&CHAR(10),\"\"),\nIF(DL4=\"M\",\"-\"&INDEX(DL$1:DL$104,1)&CHAR(10),\"\"),\nIF(DM4=\"M\",\"-\"&INDEX(DM$1:DM$104,1)&CHAR(10),\"\"),\nIF(DN4=\"M\",\"-\"&INDEX(DN$1:DN$104,1)&CHAR(10),\"\"),\nIF(DO4=\"M\",\"-\"&INDEX(DO$1:DO$104,1)&CHAR(10),\"\"),\nIF(DP4=\"M\",\"-\"&INDEX(DP$1:DP$104,1)&CHAR(10),\"\"),\nIF(DQ4=\"M\",\"-\"&INDEX(DQ$1:DQ$104,1)&CHAR(10),\"\"),\nIF(DR4=\"M\",\"-\"&INDEX(DR$1:DR$104,1)&CHAR(10),\"\"),\nIF(DS4=\"M\",\"-\"&INDEX(DS$1:DS$104,1)&CHAR(10),\"\"),\nIF(DT4=\"M\",\"-\"&INDEX(DT$1:DT$104,1)&CHAR(10),\"\"),\nIF(DU4=\"M\",\"-\"&INDEX(DU$1:DU$104,1)&CHAR(10),\"\"),\nIF(DV4=\"M\",\"-\"&INDEX(DV$1:DV$104,1)&CHAR(10),\"\"),\nIF(DW4=\"M\",\"-\"&INDEX(DW$1:DW$104,1)&CHAR(10),\"\"))","v":""}]
["2. Ausgrid Contractor - OFFICE",null,null,null,"SI2000",null,null,null,null,null,null,null,null,null,null,null,null,null,null,null,null,null,null,null,null,null,null,null,null,null,null,null,null,null,null,null,null,null,null,null,null,null,null,null,null,null,null,null,null,null,null,null,null,null,null,null,null,null,null,null,null,null,null,null,null,null,null,null,null,null,null,null,null,null,null,null,null,null,null,null,null,null,null,null,null,null,null,null,null,null,null,null,null,null,null,null,null,null,null,null,null,null,null,null,null,null,null,null,null,null,null,null,null,null,null,null,null,null,null,null,null,null,null,null,null,null,null,null,"","",{"$f":"CONCATENATE(\nIF(E5=\"M\",\"-\"&INDEX(E$1:E$104,1)&CHAR(10),\"\"),\nIF(F5=\"M\",\"-\"&INDEX(F$1:F$104,1)&CHAR(10),\"\"),\nIF(G5=\"M\",\"-\"&INDEX(G$1:G$104,1)&CHAR(10),\"\"),\nIF(H5=\"M\",\"-\"&INDEX(H$1:H$104,1)&CHAR(10),\"\"),\nIF(I5=\"M\",\"-\"&INDEX(I$1:I$104,1)&CHAR(10),\"\"),\nIF(J5=\"M\",\"-\"&INDEX(J$1:J$104,1)&CHAR(10),\"\"),\nIF(K5=\"M\",\"-\"&INDEX(K$1:K$104,1)&CHAR(10),\"\"),\nIF(L5=\"M\",\"-\"&INDEX(L$1:L$104,1)&CHAR(10),\"\"),\nIF(M5=\"M\",\"-\"&INDEX(M$1:M103,1)&CHAR(10),\"\"),\nIF(N5=\"M\",\"-\"&INDEX(N$1:N$104,1)&CHAR(10),\"\"),\nIF(O5=\"M\",\"-\"&INDEX(O$1:O$104,1)&CHAR(10),\"\"),\nIF(P5=\"M\",\"-\"&INDEX(P$1:P$104,1)&CHAR(10),\"\"),\nIF(Q5=\"M\",\"-\"&INDEX(Q$1:Q$104,1)&CHAR(10),\"\"),\nIF(R5=\"M\",\"-\"&INDEX(R$1:R$104,1)&CHAR(10),\"\"),\nIF(S5=\"M\",\"-\"&INDEX(S$1:S$104,1)&CHAR(10),\"\"),\nIF(T5=\"M\",\"-\"&INDEX(T$1:T$104,1)&CHAR(10),\"\"),\nIF(U5=\"M\",\"-\"&INDEX(U$1:U$104,1)&CHAR(10),\"\"),\nIF(V5=\"M\",\"-\"&INDEX(V$1:V$104,1)&CHAR(10),\"\"),\nIF(W5=\"M\",\"-\"&INDEX(W$1:W$104,1)&CHAR(10),\"\"),\nIF(X5=\"M\",\"-\"&INDEX(X$1:X$104,1)&CHAR(10),\"\"),\nIF(Y5=\"M\",\"-\"&INDEX(Y$1:Y$104,1)&CHAR(10),\"\"),\nIF(Z5=\"M\",\"-\"&INDEX(Z$1:Z$104,1)&CHAR(10),\"\"),\nIF(AA5=\"M\",\"-\"&INDEX(AA$1:AA$104,1)&CHAR(10),\"\"),\nIF(AB5=\"M\",\"-\"&INDEX(AB$1:AB$104,1)&CHAR(10),\"\"),\nIF(AC5=\"M\",\"-\"&INDEX(AC$1:AC$104,1)&CHAR(10),\"\"),\nIF(AD5=\"M\",\"-\"&INDEX(AD$1:AD$104,1)&CHAR(10),\"\"))","v":""},"","","",""]
["Access Permit Recipient","M","M","M",null,"M","M","M",null,null,"SE1000, RF0003","M",null,null,null,null,null,null,null,null,null,null,null,null,null,null,null,null,null,null,null,null,null,null,null,null,null,null,null,null,null,null,null,null,null,null,null,null,null,null,null,null,null,null,null,null,null,null,null,null,null,null,null,null,null,null,null,null,null,null,null,null,null,null,null,null,null,null,null,null,null,null,null,null,null,null,null,null,null,null,null,null,null,null,null,null,null,null,null,null,null,"M",null,null,null,null,null,null,null,"M",null,null,null,null,null,null,null,null,null,null,null,null,null,null,null,null,null,null,{"$f":"CONCATENATE(IF(B6=\"M\",\"-\"&$B$1,\"\"),IF(B6=\"M\",CHAR(10),\"\"),IF(C6=\"M\",\"-\"&$C$1,\"\"),IF(C6=\"M\",CHAR(10),\"\"),IF(D6=\"M\",\"-\"&$D$1,\"\"))","v":"-First Aid.Statement of Attainment.HLTAID001 - Perform CPR\n-Electrical.Statement of Attainment.UETTDRRF06 - Perform rescue from a live LV panel\n-Electrical.Statement of Attainment.UETTDRRF10 - First Aid in an ESI Environment"},{"$f":"CONCATENATE(EB6,EC6,ED6,EE6)","v":"-Driver.Govt Licence/Authority.Proof of Identity\n-OH&S-WHS.Qualified.Work safely in construction industry\n"},{"$f":"CONCATENATE(\nIF(E6=\"M\",\"-\"&INDEX(E$1:E$104,1)&CHAR(10),\"\"),\nIF(F6=\"M\",\"-\"&INDEX(F$1:F$104,1)&CHAR(10),\"\"),\nIF(G6=\"M\",\"-\"&INDEX(G$1:G$104,1)&CHAR(10),\"\"),\nIF(H6=\"M\",\"-\"&INDEX(H$1:H$104,1)&CHAR(10),\"\"),\nIF(I6=\"M\",\"-\"&INDEX(I$1:I$104,1)&CHAR(10),\"\"),\nIF(J6=\"M\",\"-\"&INDEX(J$1:J$104,1)&CHAR(10),\"\"),\nIF(K6=\"M\",\"-\"&INDEX(K$1:K$104,1)&CHAR(10),\"\"),\nIF(L6=\"M\",\"-\"&INDEX(L$1:L$104,1)&CHAR(10),\"\"),\nIF(M6=\"M\",\"-\"&INDEX(M$1:M104,1)&CHAR(10),\"\"),\nIF(N6=\"M\",\"-\"&INDEX(N$1:N$104,1)&CHAR(10),\"\"),\nIF(O6=\"M\",\"-\"&INDEX(O$1:O$104,1)&CHAR(10),\"\"),\nIF(P6=\"M\",\"-\"&INDEX(P$1:P$104,1)&CHAR(10),\"\"),\nIF(Q6=\"M\",\"-\"&INDEX(Q$1:Q$104,1)&CHAR(10),\"\"),\nIF(R6=\"M\",\"-\"&INDEX(R$1:R$104,1)&CHAR(10),\"\"),\nIF(S6=\"M\",\"-\"&INDEX(S$1:S$104,1)&CHAR(10),\"\"),\nIF(T6=\"M\",\"-\"&INDEX(T$1:T$104,1)&CHAR(10),\"\"),\nIF(U6=\"M\",\"-\"&INDEX(U$1:U$104,1)&CHAR(10),\"\"),\nIF(V6=\"M\",\"-\"&INDEX(V$1:V$104,1)&CHAR(10),\"\"),\nIF(W6=\"M\",\"-\"&INDEX(W$1:W$104,1)&CHAR(10),\"\"),\nIF(X6=\"M\",\"-\"&INDEX(X$1:X$104,1)&CHAR(10),\"\"),\nIF(Y6=\"M\",\"-\"&INDEX(Y$1:Y$104,1)&CHAR(10),\"\"),\nIF(Z6=\"M\",\"-\"&INDEX(Z$1:Z$104,1)&CHAR(10),\"\"),\nIF(AA6=\"M\",\"-\"&INDEX(AA$1:AA$104,1)&CHAR(10),\"\"),\nIF(AB6=\"M\",\"-\"&INDEX(AB$1:AB$104,1)&CHAR(10),\"\"),\nIF(AC6=\"M\",\"-\"&INDEX(AC$1:AC$104,1)&CHAR(10),\"\"),\nIF(AD6=\"M\",\"-\"&INDEX(AD$1:AD$104,1)&CHAR(10),\"\"))","v":"-Electrical.Statement of Attainment.UETTDRRF01 - Apply ESI safety rules, codes of practice and procedures for work\n-Network Operator.Certificate.I0102 - Ausgrid - Environmental Awareness\n-Electrical.Statement of Attainment.UETTDRRF09 - Apply access procedures to work on or near electrical network infrastructure\n-Network Operator.Access.APR0068 - Ausgrid - Access Permit Recipient (Restricted)\n"},{"$f":"CONCATENATE(\nIF(AE6=\"M\",\"-\"&INDEX(AE$1:AE$104,1)&CHAR(10),\"\"),\nIF(AF6=\"M\",\"-\"&INDEX(AF$1:AF$104,1)&CHAR(10),\"\"),\nIF(AG6=\"M\",\"-\"&INDEX(AG$1:AG$104,1)&CHAR(10),\"\"),\nIF(AH6=\"M\",\"-\"&INDEX(AH$1:AH$104,1)&CHAR(10),\"\"),\nIF(AI6=\"M\",\"-\"&INDEX(AI$1:AI$104,1)&CHAR(10),\"\"),\nIF(AJ6=\"M\",\"-\"&INDEX(AJ$1:AJ$104,1)&CHAR(10),\"\"),\nIF(AK6=\"M\",\"-\"&INDEX(AK$1:AK$104,1)&CHAR(10),\"\"),\nIF(AL6=\"M\",\"-\"&INDEX(AL$1:AL$104,1)&CHAR(10),\"\"),\nIF(AM6=\"M\",\"-\"&INDEX(AM$1:AM$104,1)&CHAR(10),\"\"),\nIF(AN6=\"M\",\"-\"&INDEX(AN$1:AN$104,1)&CHAR(10),\"\"),\nIF(AO6=\"M\",\"-\"&INDEX(AO$1:AO$104,1)&CHAR(10),\"\"),\nIF(AP6=\"M\",\"-\"&INDEX(AP$1:AP$104,1)&CHAR(10),\"\"),\nIF(AQ6=\"M\",\"-\"&INDEX(AQ$1:AQ$104,1)&CHAR(10),\"\"),\nIF(AR6=\"M\",\"-\"&INDEX(AR$1:AR$104,1)&CHAR(10),\"\"),\nIF(AS6=\"M\",\"-\"&INDEX(AS$1:AS$104,1)&CHAR(10),\"\"),\nIF(AT6=\"M\",\"-\"&INDEX(AT$1:AT$104,1)&CHAR(10),\"\"),\nIF(AU6=\"M\",\"-\"&INDEX(AU$1:AU$104,1)&CHAR(10),\"\"),\nIF(AV6=\"M\",\"-\"&INDEX(AV$1:AV$104,1)&CHAR(10),\"\"),\nIF(AW6=\"M\",\"-\"&INDEX(AW$1:AW$104,1)&CHAR(10),\"\"),\nIF(AX6=\"M\",\"-\"&INDEX(AX$1:AX$104,1)&CHAR(10),\"\"),\nIF(AY6=\"M\",\"-\"&INDEX(AY$1:AY$104,1)&CHAR(10),\"\"),\nIF(AZ6=\"M\",\"-\"&INDEX(AZ$1:AZ$104,1)&CHAR(10),\"\"),\nIF(BA6=\"M\",\"-\"&INDEX(BA$1:BA$104,1)&CHAR(10),\"\"),\nIF(BB6=\"M\",\"-\"&INDEX(BB$1:BB$104,1)&CHAR(10),\"\"),\nIF(BC6=\"M\",\"-\"&INDEX(BC$1:BC$104,1)&CHAR(10),\"\"))","v":""},{"$f":"CONCATENATE(\nIF(BD6=\"M\",\"-\"&INDEX(BD$1:BD$104,1)&CHAR(10),\"\"),\nIF(BE6=\"M\",\"-\"&INDEX(BE$1:BE$104,1)&CHAR(10),\"\"),\nIF(BF6=\"M\",\"-\"&INDEX(BF$1:BF$104,1)&CHAR(10),\"\"),\nIF(BG6=\"M\",\"-\"&INDEX(BG$1:BG$104,1)&CHAR(10),\"\"),\nIF(BH6=\"M\",\"-\"&INDEX(BH$1:BH$104,1)&CHAR(10),\"\"),\nIF(BI6=\"M\",\"-\"&INDEX(BI$1:BI$104,1)&CHAR(10),\"\"),\nIF(BJ6=\"M\",\"-\"&INDEX(BJ$1:BJ$104,1)&CHAR(10),\"\"),\nIF(BK6=\"M\",\"-\"&INDEX(BK$1:BK$104,1)&CHAR(10),\"\"),\nIF(BL6=\"M\",\"-\"&INDEX(BL$1:BL$104,1)&CHAR(10),\"\"),\nIF(BM6=\"M\",\"-\"&INDEX(BM$1:BM$104,1)&CHAR(10),\"\"),\nIF(BN6=\"M\",\"-\"&INDEX(BN$1:BN$104,1)&CHAR(10),\"\"),\nIF(BO6=\"M\",\"-\"&INDEX(BO$1:BO$104,1)&CHAR(10),\"\"),\nIF(BP6=\"M\",\"-\"&INDEX(BP$1:BP$104,1)&CHAR(10),\"\"),\nIF(BQ6=\"M\",\"-\"&INDEX(BQ$1:BQ$104,1)&CHAR(10),\"\"),\nIF(BR6=\"M\",\"-\"&INDEX(BR$1:BR$104,1)&CHAR(10),\"\"),\nIF(BS6=\"M\",\"-\"&INDEX(BS$1:BS$104,1)&CHAR(10),\"\"),\nIF(BT6=\"M\",\"-\"&INDEX(BT$1:BT$104,1)&CHAR(10),\"\"),\nIF(BU6=\"M\",\"-\"&INDEX(BU$1:BU$104,1)&CHAR(10),\"\"),\nIF(BV6=\"M\",\"-\"&INDEX(BV$1:BV$104,1)&CHAR(10),\"\"),\nIF(BW6=\"M\",\"-\"&INDEX(BW$1:BW$104,1)&CHAR(10),\"\"),\nIF(BX6=\"M\",\"-\"&INDEX(BX$1:BX$104,1)&CHAR(10),\"\"),\nIF(BY6=\"M\",\"-\"&INDEX(BY$1:BY$104,1)&CHAR(10),\"\"),\nIF(BZ6=\"M\",\"-\"&INDEX(BZ$1:BZ$104,1)&CHAR(10),\"\"),\nIF(CA6=\"M\",\"-\"&INDEX(CA$1:CA$104,1)&CHAR(10),\"\"),\nIF(CB6=\"M\",\"-\"&INDEX(CB$1:CB$104,1)&CHAR(10),\"\"),\nIF(CC6=\"M\",\"-\"&INDEX(CC$1:CC$104,1)&CHAR(10),\"\"))","v":""},{"$f":"CONCATENATE(\nIF(CD6=\"M\",\"-\"&INDEX(CD$1:CD$104,1)&CHAR(10),\"\"),\nIF(CE6=\"M\",\"-\"&INDEX(CE$1:CE$104,1)&CHAR(10),\"\"),\nIF(CF6=\"M\",\"-\"&INDEX(CF$1:CF$104,1)&CHAR(10),\"\"),\nIF(CG6=\"M\",\"-\"&INDEX(CG$1:CG$104,1)&CHAR(10),\"\"),\nIF(CH6=\"M\",\"-\"&INDEX(CH$1:CH$104,1)&CHAR(10),\"\"),\nIF(CI6=\"M\",\"-\"&INDEX(CI$1:CI$104,1)&CHAR(10),\"\"),\nIF(CJ6=\"M\",\"-\"&INDEX(CJ$1:CJ$104,1)&CHAR(10),\"\"),\nIF(CK6=\"M\",\"-\"&INDEX(CK$1:CK$104,1)&CHAR(10),\"\"),\nIF(CL6=\"M\",\"-\"&INDEX(CL$1:CL$104,1)&CHAR(10),\"\"),\nIF(CM6=\"M\",\"-\"&INDEX(CM$1:CM$104,1)&CHAR(10),\"\"),\nIF(CN6=\"M\",\"-\"&INDEX(CN$1:CN$104,1)&CHAR(10),\"\"),\nIF(CO6=\"M\",\"-\"&INDEX(CO$1:CO$104,1)&CHAR(10),\"\"),\nIF(CP6=\"M\",\"-\"&INDEX(CP$1:CP$104,1)&CHAR(10),\"\"),\nIF(CQ6=\"M\",\"-\"&INDEX(CQ$1:CQ$104,1)&CHAR(10),\"\"),\nIF(CR6=\"M\",\"-\"&INDEX(CR$1:CR$104,1)&CHAR(10),\"\"),\nIF(CS6=\"M\",\"-\"&INDEX(CS$1:CS$104,1)&CHAR(10),\"\"),\nIF(CT6=\"M\",\"-\"&INDEX(CT$1:CT$104,1)&CHAR(10),\"\"),\nIF(CU6=\"M\",\"-\"&INDEX(CU$1:CU$104,1)&CHAR(10),\"\"),\nIF(CV6=\"M\",\"-\"&INDEX(CV$1:CV$104,1)&CHAR(10),\"\"),\nIF(CW6=\"M\",\"-\"&INDEX(CW$1:CW$104,1)&CHAR(10),\"\"),\nIF(CX6=\"M\",\"-\"&INDEX(CX$1:CX$104,1)&CHAR(10),\"\"),\nIF(CY6=\"M\",\"-\"&INDEX(CY$1:CY$104,1)&CHAR(10),\"\"),\nIF(CZ6=\"M\",\"-\"&INDEX(CZ$1:CZ$104,1)&CHAR(10),\"\"),\nIF(DA6=\"M\",\"-\"&INDEX(DA$1:DA$104,1)&CHAR(10),\"\"),\nIF(DB6=\"M\",\"-\"&INDEX(DB$1:DB$104,1)&CHAR(10),\"\"),\nIF(DC6=\"M\",\"-\"&INDEX(DC$1:DC$104,1)&CHAR(10),\"\"))","v":"-Driver.Govt Licence/Authority.Proof of Identity\n"},{"$f":"CONCATENATE(\nIF(DD6=\"M\",\"-\"&INDEX(DD$1:DD$104,1)&CHAR(10),\"\"),\nIF(DE6=\"M\",\"-\"&INDEX(DE$1:DE$104,1)&CHAR(10),\"\"),\nIF(DF6=\"M\",\"-\"&INDEX(DF$1:DF$104,1)&CHAR(10),\"\"),\nIF(DG6=\"M\",\"-\"&INDEX(DG$1:DG$104,1)&CHAR(10),\"\"),\nIF(DH6=\"M\",\"-\"&INDEX(DH$1:DH$104,1)&CHAR(10),\"\"),\nIF(DI6=\"M\",\"-\"&INDEX(DI$1:DI$104,1)&CHAR(10),\"\"),\nIF(DJ6=\"M\",\"-\"&INDEX(DJ$1:DJ$104,1)&CHAR(10),\"\"),\nIF(DK6=\"M\",\"-\"&INDEX(DK$1:DK$104,1)&CHAR(10),\"\"),\nIF(DL6=\"M\",\"-\"&INDEX(DL$1:DL$104,1)&CHAR(10),\"\"),\nIF(DM6=\"M\",\"-\"&INDEX(DM$1:DM$104,1)&CHAR(10),\"\"),\nIF(DN6=\"M\",\"-\"&INDEX(DN$1:DN$104,1)&CHAR(10),\"\"),\nIF(DO6=\"M\",\"-\"&INDEX(DO$1:DO$104,1)&CHAR(10),\"\"),\nIF(DP6=\"M\",\"-\"&INDEX(DP$1:DP$104,1)&CHAR(10),\"\"),\nIF(DQ6=\"M\",\"-\"&INDEX(DQ$1:DQ$104,1)&CHAR(10),\"\"),\nIF(DR6=\"M\",\"-\"&INDEX(DR$1:DR$104,1)&CHAR(10),\"\"),\nIF(DS6=\"M\",\"-\"&INDEX(DS$1:DS$104,1)&CHAR(10),\"\"),\nIF(DT6=\"M\",\"-\"&INDEX(DT$1:DT$104,1)&CHAR(10),\"\"),\nIF(DU6=\"M\",\"-\"&INDEX(DU$1:DU$104,1)&CHAR(10),\"\"),\nIF(DV6=\"M\",\"-\"&INDEX(DV$1:DV$104,1)&CHAR(10),\"\"),\nIF(DW6=\"M\",\"-\"&INDEX(DW$1:DW$104,1)&CHAR(10),\"\"))","v":"-OH&S-WHS.Qualified.Work safely in construction industry\n"}]
["Aqueous waste - Collection personnel","M","M","M",null,"M","M","M","M","M","SE1000, RF0003, SC1200",null,null,null,null,null,null,null,null,null,null,null,null,null,null,null,null,null,null,null,null,null,null,null,null,null,null,null,null,null,null,null,null,null,null,null,null,null,null,null,null,null,null,null,null,null,null,null,null,null,null,null,null,null,null,null,null,null,null,null,null,null,null,null,null,null,null,null,null,null,null,null,null,null,null,null,null,null,null,null,null,null,null,null,null,null,null,null,null,null,null,"M",null,null,null,null,null,null,null,null,null,null,null,null,null,null,null,null,null,null,null,null,null,null,null,null,null,null,{"$f":"CONCATENATE(IF(B7=\"M\",\"-\"&$B$1,\"\"),IF(B7=\"M\",CHAR(10),\"\"),IF(C7=\"M\",\"-\"&$C$1,\"\"),IF(C7=\"M\",CHAR(10),\"\"),IF(D7=\"M\",\"-\"&$D$1,\"\"))","v":"-First Aid.Statement of Attainment.HLTAID001 - Perform CPR\n-Electrical.Statement of Attainment.UETTDRRF06 - Perform rescue from a live LV panel\n-Electrical.Statement of Attainment.UETTDRRF10 - First Aid in an ESI Environment"},{"$f":"CONCATENATE(EB7,EC7,ED7,EE7)","v":"-Driver.Govt Licence/Authority.Proof of Identity\n"},{"$f":"CONCATENATE(\nIF(E7=\"M\",\"-\"&INDEX(E$1:E$104,1)&CHAR(10),\"\"),\nIF(F7=\"M\",\"-\"&INDEX(F$1:F$104,1)&CHAR(10),\"\"),\nIF(G7=\"M\",\"-\"&INDEX(G$1:G$104,1)&CHAR(10),\"\"),\nIF(H7=\"M\",\"-\"&INDEX(H$1:H$104,1)&CHAR(10),\"\"),\nIF(I7=\"M\",\"-\"&INDEX(I$1:I$104,1)&CHAR(10),\"\"),\nIF(J7=\"M\",\"-\"&INDEX(J$1:J$104,1)&CHAR(10),\"\"),\nIF(K7=\"M\",\"-\"&INDEX(K$1:K$104,1)&CHAR(10),\"\"),\nIF(L7=\"M\",\"-\"&INDEX(L$1:L$104,1)&CHAR(10),\"\"),\nIF(M7=\"M\",\"-\"&INDEX(M$1:M105,1)&CHAR(10),\"\"),\nIF(N7=\"M\",\"-\"&INDEX(N$1:N$104,1)&CHAR(10),\"\"),\nIF(O7=\"M\",\"-\"&INDEX(O$1:O$104,1)&CHAR(10),\"\"),\nIF(P7=\"M\",\"-\"&INDEX(P$1:P$104,1)&CHAR(10),\"\"),\nIF(Q7=\"M\",\"-\"&INDEX(Q$1:Q$104,1)&CHAR(10),\"\"),\nIF(R7=\"M\",\"-\"&INDEX(R$1:R$104,1)&CHAR(10),\"\"),\nIF(S7=\"M\",\"-\"&INDEX(S$1:S$104,1)&CHAR(10),\"\"),\nIF(T7=\"M\",\"-\"&INDEX(T$1:T$104,1)&CHAR(10),\"\"),\nIF(U7=\"M\",\"-\"&INDEX(U$1:U$104,1)&CHAR(10),\"\"),\nIF(V7=\"M\",\"-\"&INDEX(V$1:V$104,1)&CHAR(10),\"\"),\nIF(W7=\"M\",\"-\"&INDEX(W$1:W$104,1)&CHAR(10),\"\"),\nIF(X7=\"M\",\"-\"&INDEX(X$1:X$104,1)&CHAR(10),\"\"),\nIF(Y7=\"M\",\"-\"&INDEX(Y$1:Y$104,1)&CHAR(10),\"\"),\nIF(Z7=\"M\",\"-\"&INDEX(Z$1:Z$104,1)&CHAR(10),\"\"),\nIF(AA7=\"M\",\"-\"&INDEX(AA$1:AA$104,1)&CHAR(10),\"\"),\nIF(AB7=\"M\",\"-\"&INDEX(AB$1:AB$104,1)&CHAR(10),\"\"),\nIF(AC7=\"M\",\"-\"&INDEX(AC$1:AC$104,1)&CHAR(10),\"\"),\nIF(AD7=\"M\",\"-\"&INDEX(AD$1:AD$104,1)&CHAR(10),\"\"))","v":"-Electrical.Statement of Attainment.UETTDRRF01 - Apply ESI safety rules, codes of practice and procedures for work\n-Network Operator.Certificate.I0102 - Ausgrid - Environmental Awareness\n-Electrical.Statement of Attainment.UETTDRRF09 - Apply access procedures to work on or near electrical network infrastructure\n-Network Operator.Access.SC1000A - Ausgrid - Substation Entry\n-Network Operator.Certificate.SC1100A - Working Near or Around Underground Cables\n"},{"$f":"CONCATENATE(\nIF(AE7=\"M\",\"-\"&INDEX(AE$1:AE$104,1)&CHAR(10),\"\"),\nIF(AF7=\"M\",\"-\"&INDEX(AF$1:AF$104,1)&CHAR(10),\"\"),\nIF(AG7=\"M\",\"-\"&INDEX(AG$1:AG$104,1)&CHAR(10),\"\"),\nIF(AH7=\"M\",\"-\"&INDEX(AH$1:AH$104,1)&CHAR(10),\"\"),\nIF(AI7=\"M\",\"-\"&INDEX(AI$1:AI$104,1)&CHAR(10),\"\"),\nIF(AJ7=\"M\",\"-\"&INDEX(AJ$1:AJ$104,1)&CHAR(10),\"\"),\nIF(AK7=\"M\",\"-\"&INDEX(AK$1:AK$104,1)&CHAR(10),\"\"),\nIF(AL7=\"M\",\"-\"&INDEX(AL$1:AL$104,1)&CHAR(10),\"\"),\nIF(AM7=\"M\",\"-\"&INDEX(AM$1:AM$104,1)&CHAR(10),\"\"),\nIF(AN7=\"M\",\"-\"&INDEX(AN$1:AN$104,1)&CHAR(10),\"\"),\nIF(AO7=\"M\",\"-\"&INDEX(AO$1:AO$104,1)&CHAR(10),\"\"),\nIF(AP7=\"M\",\"-\"&INDEX(AP$1:AP$104,1)&CHAR(10),\"\"),\nIF(AQ7=\"M\",\"-\"&INDEX(AQ$1:AQ$104,1)&CHAR(10),\"\"),\nIF(AR7=\"M\",\"-\"&INDEX(AR$1:AR$104,1)&CHAR(10),\"\"),\nIF(AS7=\"M\",\"-\"&INDEX(AS$1:AS$104,1)&CHAR(10),\"\"),\nIF(AT7=\"M\",\"-\"&INDEX(AT$1:AT$104,1)&CHAR(10),\"\"),\nIF(AU7=\"M\",\"-\"&INDEX(AU$1:AU$104,1)&CHAR(10),\"\"),\nIF(AV7=\"M\",\"-\"&INDEX(AV$1:AV$104,1)&CHAR(10),\"\"),\nIF(AW7=\"M\",\"-\"&INDEX(AW$1:AW$104,1)&CHAR(10),\"\"),\nIF(AX7=\"M\",\"-\"&INDEX(AX$1:AX$104,1)&CHAR(10),\"\"),\nIF(AY7=\"M\",\"-\"&INDEX(AY$1:AY$104,1)&CHAR(10),\"\"),\nIF(AZ7=\"M\",\"-\"&INDEX(AZ$1:AZ$104,1)&CHAR(10),\"\"),\nIF(BA7=\"M\",\"-\"&INDEX(BA$1:BA$104,1)&CHAR(10),\"\"),\nIF(BB7=\"M\",\"-\"&INDEX(BB$1:BB$104,1)&CHAR(10),\"\"),\nIF(BC7=\"M\",\"-\"&INDEX(BC$1:BC$104,1)&CHAR(10),\"\"))","v":""},{"$f":"CONCATENATE(\nIF(BD7=\"M\",\"-\"&INDEX(BD$1:BD$104,1)&CHAR(10),\"\"),\nIF(BE7=\"M\",\"-\"&INDEX(BE$1:BE$104,1)&CHAR(10),\"\"),\nIF(BF7=\"M\",\"-\"&INDEX(BF$1:BF$104,1)&CHAR(10),\"\"),\nIF(BG7=\"M\",\"-\"&INDEX(BG$1:BG$104,1)&CHAR(10),\"\"),\nIF(BH7=\"M\",\"-\"&INDEX(BH$1:BH$104,1)&CHAR(10),\"\"),\nIF(BI7=\"M\",\"-\"&INDEX(BI$1:BI$104,1)&CHAR(10),\"\"),\nIF(BJ7=\"M\",\"-\"&INDEX(BJ$1:BJ$104,1)&CHAR(10),\"\"),\nIF(BK7=\"M\",\"-\"&INDEX(BK$1:BK$104,1)&CHAR(10),\"\"),\nIF(BL7=\"M\",\"-\"&INDEX(BL$1:BL$104,1)&CHAR(10),\"\"),\nIF(BM7=\"M\",\"-\"&INDEX(BM$1:BM$104,1)&CHAR(10),\"\"),\nIF(BN7=\"M\",\"-\"&INDEX(BN$1:BN$104,1)&CHAR(10),\"\"),\nIF(BO7=\"M\",\"-\"&INDEX(BO$1:BO$104,1)&CHAR(10),\"\"),\nIF(BP7=\"M\",\"-\"&INDEX(BP$1:BP$104,1)&CHAR(10),\"\"),\nIF(BQ7=\"M\",\"-\"&INDEX(BQ$1:BQ$104,1)&CHAR(10),\"\"),\nIF(BR7=\"M\",\"-\"&INDEX(BR$1:BR$104,1)&CHAR(10),\"\"),\nIF(BS7=\"M\",\"-\"&INDEX(BS$1:BS$104,1)&CHAR(10),\"\"),\nIF(BT7=\"M\",\"-\"&INDEX(BT$1:BT$104,1)&CHAR(10),\"\"),\nIF(BU7=\"M\",\"-\"&INDEX(BU$1:BU$104,1)&CHAR(10),\"\"),\nIF(BV7=\"M\",\"-\"&INDEX(BV$1:BV$104,1)&CHAR(10),\"\"),\nIF(BW7=\"M\",\"-\"&INDEX(BW$1:BW$104,1)&CHAR(10),\"\"),\nIF(BX7=\"M\",\"-\"&INDEX(BX$1:BX$104,1)&CHAR(10),\"\"),\nIF(BY7=\"M\",\"-\"&INDEX(BY$1:BY$104,1)&CHAR(10),\"\"),\nIF(BZ7=\"M\",\"-\"&INDEX(BZ$1:BZ$104,1)&CHAR(10),\"\"),\nIF(CA7=\"M\",\"-\"&INDEX(CA$1:CA$104,1)&CHAR(10),\"\"),\nIF(CB7=\"M\",\"-\"&INDEX(CB$1:CB$104,1)&CHAR(10),\"\"),\nIF(CC7=\"M\",\"-\"&INDEX(CC$1:CC$104,1)&CHAR(10),\"\"))","v":""},{"$f":"CONCATENATE(\nIF(CD7=\"M\",\"-\"&INDEX(CD$1:CD$104,1)&CHAR(10),\"\"),\nIF(CE7=\"M\",\"-\"&INDEX(CE$1:CE$104,1)&CHAR(10),\"\"),\nIF(CF7=\"M\",\"-\"&INDEX(CF$1:CF$104,1)&CHAR(10),\"\"),\nIF(CG7=\"M\",\"-\"&INDEX(CG$1:CG$104,1)&CHAR(10),\"\"),\nIF(CH7=\"M\",\"-\"&INDEX(CH$1:CH$104,1)&CHAR(10),\"\"),\nIF(CI7=\"M\",\"-\"&INDEX(CI$1:CI$104,1)&CHAR(10),\"\"),\nIF(CJ7=\"M\",\"-\"&INDEX(CJ$1:CJ$104,1)&CHAR(10),\"\"),\nIF(CK7=\"M\",\"-\"&INDEX(CK$1:CK$104,1)&CHAR(10),\"\"),\nIF(CL7=\"M\",\"-\"&INDEX(CL$1:CL$104,1)&CHAR(10),\"\"),\nIF(CM7=\"M\",\"-\"&INDEX(CM$1:CM$104,1)&CHAR(10),\"\"),\nIF(CN7=\"M\",\"-\"&INDEX(CN$1:CN$104,1)&CHAR(10),\"\"),\nIF(CO7=\"M\",\"-\"&INDEX(CO$1:CO$104,1)&CHAR(10),\"\"),\nIF(CP7=\"M\",\"-\"&INDEX(CP$1:CP$104,1)&CHAR(10),\"\"),\nIF(CQ7=\"M\",\"-\"&INDEX(CQ$1:CQ$104,1)&CHAR(10),\"\"),\nIF(CR7=\"M\",\"-\"&INDEX(CR$1:CR$104,1)&CHAR(10),\"\"),\nIF(CS7=\"M\",\"-\"&INDEX(CS$1:CS$104,1)&CHAR(10),\"\"),\nIF(CT7=\"M\",\"-\"&INDEX(CT$1:CT$104,1)&CHAR(10),\"\"),\nIF(CU7=\"M\",\"-\"&INDEX(CU$1:CU$104,1)&CHAR(10),\"\"),\nIF(CV7=\"M\",\"-\"&INDEX(CV$1:CV$104,1)&CHAR(10),\"\"),\nIF(CW7=\"M\",\"-\"&INDEX(CW$1:CW$104,1)&CHAR(10),\"\"),\nIF(CX7=\"M\",\"-\"&INDEX(CX$1:CX$104,1)&CHAR(10),\"\"),\nIF(CY7=\"M\",\"-\"&INDEX(CY$1:CY$104,1)&CHAR(10),\"\"),\nIF(CZ7=\"M\",\"-\"&INDEX(CZ$1:CZ$104,1)&CHAR(10),\"\"),\nIF(DA7=\"M\",\"-\"&INDEX(DA$1:DA$104,1)&CHAR(10),\"\"),\nIF(DB7=\"M\",\"-\"&INDEX(DB$1:DB$104,1)&CHAR(10),\"\"),\nIF(DC7=\"M\",\"-\"&INDEX(DC$1:DC$104,1)&CHAR(10),\"\"))","v":"-Driver.Govt Licence/Authority.Proof of Identity\n"},{"$f":"CONCATENATE(\nIF(DD7=\"M\",\"-\"&INDEX(DD$1:DD$104,1)&CHAR(10),\"\"),\nIF(DE7=\"M\",\"-\"&INDEX(DE$1:DE$104,1)&CHAR(10),\"\"),\nIF(DF7=\"M\",\"-\"&INDEX(DF$1:DF$104,1)&CHAR(10),\"\"),\nIF(DG7=\"M\",\"-\"&INDEX(DG$1:DG$104,1)&CHAR(10),\"\"),\nIF(DH7=\"M\",\"-\"&INDEX(DH$1:DH$104,1)&CHAR(10),\"\"),\nIF(DI7=\"M\",\"-\"&INDEX(DI$1:DI$104,1)&CHAR(10),\"\"),\nIF(DJ7=\"M\",\"-\"&INDEX(DJ$1:DJ$104,1)&CHAR(10),\"\"),\nIF(DK7=\"M\",\"-\"&INDEX(DK$1:DK$104,1)&CHAR(10),\"\"),\nIF(DL7=\"M\",\"-\"&INDEX(DL$1:DL$104,1)&CHAR(10),\"\"),\nIF(DM7=\"M\",\"-\"&INDEX(DM$1:DM$104,1)&CHAR(10),\"\"),\nIF(DN7=\"M\",\"-\"&INDEX(DN$1:DN$104,1)&CHAR(10),\"\"),\nIF(DO7=\"M\",\"-\"&INDEX(DO$1:DO$104,1)&CHAR(10),\"\"),\nIF(DP7=\"M\",\"-\"&INDEX(DP$1:DP$104,1)&CHAR(10),\"\"),\nIF(DQ7=\"M\",\"-\"&INDEX(DQ$1:DQ$104,1)&CHAR(10),\"\"),\nIF(DR7=\"M\",\"-\"&INDEX(DR$1:DR$104,1)&CHAR(10),\"\"),\nIF(DS7=\"M\",\"-\"&INDEX(DS$1:DS$104,1)&CHAR(10),\"\"),\nIF(DT7=\"M\",\"-\"&INDEX(DT$1:DT$104,1)&CHAR(10),\"\"),\nIF(DU7=\"M\",\"-\"&INDEX(DU$1:DU$104,1)&CHAR(10),\"\"),\nIF(DV7=\"M\",\"-\"&INDEX(DV$1:DV$104,1)&CHAR(10),\"\"),\nIF(DW7=\"M\",\"-\"&INDEX(DW$1:DW$104,1)&CHAR(10),\"\"))","v":""}]
["Aqueous waste - Non-destructive excavation personnel","M","M","M",null,"M","M","M","M","M","SE1000, RF0003, SC1200",null,null,null,null,null,null,null,null,null,null,null,null,null,null,null,null,null,null,null,null,null,null,null,null,null,null,null,null,null,null,null,null,null,null,null,null,null,null,null,null,null,null,null,null,null,null,null,null,null,null,null,null,null,null,null,null,null,null,null,null,null,null,null,null,null,null,null,null,null,null,null,null,null,null,null,null,null,null,null,null,null,null,null,null,null,null,null,null,null,null,null,null,null,null,null,null,null,null,null,null,null,null,null,null,null,null,null,null,null,null,null,null,null,null,null,null,null,"-First Aid.Statement of Attainment.HLTAID001 - Perform CPR\n-Electrical.Statement of Attainment.UETTDRRF06 - Perform rescue from a live LV panel\n-Electrical.Statement of Attainment.UETTDRRF10 - First Aid in an ESI Environment","",{"$f":"CONCATENATE(\nIF(E8=\"M\",\"-\"&INDEX(E$1:E$104,1)&CHAR(10),\"\"),\nIF(F8=\"M\",\"-\"&INDEX(F$1:F$104,1)&CHAR(10),\"\"),\nIF(G8=\"M\",\"-\"&INDEX(G$1:G$104,1)&CHAR(10),\"\"),\nIF(H8=\"M\",\"-\"&INDEX(H$1:H$104,1)&CHAR(10),\"\"),\nIF(I8=\"M\",\"-\"&INDEX(I$1:I$104,1)&CHAR(10),\"\"),\nIF(J8=\"M\",\"-\"&INDEX(J$1:J$104,1)&CHAR(10),\"\"),\nIF(K8=\"M\",\"-\"&INDEX(K$1:K$104,1)&CHAR(10),\"\"),\nIF(L8=\"M\",\"-\"&INDEX(L$1:L$104,1)&CHAR(10),\"\"),\nIF(M8=\"M\",\"-\"&INDEX(M$1:M106,1)&CHAR(10),\"\"),\nIF(N8=\"M\",\"-\"&INDEX(N$1:N$104,1)&CHAR(10),\"\"),\nIF(O8=\"M\",\"-\"&INDEX(O$1:O$104,1)&CHAR(10),\"\"),\nIF(P8=\"M\",\"-\"&INDEX(P$1:P$104,1)&CHAR(10),\"\"),\nIF(Q8=\"M\",\"-\"&INDEX(Q$1:Q$104,1)&CHAR(10),\"\"),\nIF(R8=\"M\",\"-\"&INDEX(R$1:R$104,1)&CHAR(10),\"\"),\nIF(S8=\"M\",\"-\"&INDEX(S$1:S$104,1)&CHAR(10),\"\"),\nIF(T8=\"M\",\"-\"&INDEX(T$1:T$104,1)&CHAR(10),\"\"),\nIF(U8=\"M\",\"-\"&INDEX(U$1:U$104,1)&CHAR(10),\"\"),\nIF(V8=\"M\",\"-\"&INDEX(V$1:V$104,1)&CHAR(10),\"\"),\nIF(W8=\"M\",\"-\"&INDEX(W$1:W$104,1)&CHAR(10),\"\"),\nIF(X8=\"M\",\"-\"&INDEX(X$1:X$104,1)&CHAR(10),\"\"),\nIF(Y8=\"M\",\"-\"&INDEX(Y$1:Y$104,1)&CHAR(10),\"\"),\nIF(Z8=\"M\",\"-\"&INDEX(Z$1:Z$104,1)&CHAR(10),\"\"),\nIF(AA8=\"M\",\"-\"&INDEX(AA$1:AA$104,1)&CHAR(10),\"\"),\nIF(AB8=\"M\",\"-\"&INDEX(AB$1:AB$104,1)&CHAR(10),\"\"),\nIF(AC8=\"M\",\"-\"&INDEX(AC$1:AC$104,1)&CHAR(10),\"\"),\nIF(AD8=\"M\",\"-\"&INDEX(AD$1:AD$104,1)&CHAR(10),\"\"))","v":"-Electrical.Statement of Attainment.UETTDRRF01 - Apply ESI safety rules, codes of practice and procedures for work\n-Network Operator.Certificate.I0102 - Ausgrid - Environmental Awareness\n-Electrical.Statement of Attainment.UETTDRRF09 - Apply access procedures to work on or near electrical network infrastructure\n-Network Operator.Access.SC1000A - Ausgrid - Substation Entry\n-Network Operator.Certificate.SC1100A - Working Near or Around Underground Cables\n"},"","","",""]
["Aqueous waste - Supervisor","M","M","M",null,"M","M","M","M",null,"SE1000, RF0003 SC1000A",null,null,null,null,null,null,null,null,null,null,null,null,null,null,null,null,null,null,null,null,null,null,null,"M",null,null,null,null,null,null,null,null,null,null,null,null,null,null,null,null,null,null,null,null,null,null,null,null,null,null,null,null,null,null,null,null,null,null,null,null,null,null,null,null,null,null,null,null,null,null,null,null,null,null,null,null,null,null,null,null,null,null,null,null,null,null,null,null,null,null,null,null,null,null,null,null,null,null,null,null,null,null,null,null,null,null,null,null,null,null,null,null,null,null,null,null,null,"-First Aid.Statement of Attainment.HLTAID001 - Perform CPR\n-Electrical.Statement of Attainment.UETTDRRF06 - Perform rescue from a live LV panel\n-Electrical.Statement of Attainment.UETTDRRF10 - First Aid in an ESI Environment","-Confined Space.Statement of Attainment.RIIWHS202 - Enter and work in confined spaces\n",{"$f":"CONCATENATE(\nIF(E9=\"M\",\"-\"&INDEX(E$1:E$104,1)&CHAR(10),\"\"),\nIF(F9=\"M\",\"-\"&INDEX(F$1:F$104,1)&CHAR(10),\"\"),\nIF(G9=\"M\",\"-\"&INDEX(G$1:G$104,1)&CHAR(10),\"\"),\nIF(H9=\"M\",\"-\"&INDEX(H$1:H$104,1)&CHAR(10),\"\"),\nIF(I9=\"M\",\"-\"&INDEX(I$1:I$104,1)&CHAR(10),\"\"),\nIF(J9=\"M\",\"-\"&INDEX(J$1:J$104,1)&CHAR(10),\"\"),\nIF(K9=\"M\",\"-\"&INDEX(K$1:K$104,1)&CHAR(10),\"\"),\nIF(L9=\"M\",\"-\"&INDEX(L$1:L$104,1)&CHAR(10),\"\"),\nIF(M9=\"M\",\"-\"&INDEX(M$1:M107,1)&CHAR(10),\"\"),\nIF(N9=\"M\",\"-\"&INDEX(N$1:N$104,1)&CHAR(10),\"\"),\nIF(O9=\"M\",\"-\"&INDEX(O$1:O$104,1)&CHAR(10),\"\"),\nIF(P9=\"M\",\"-\"&INDEX(P$1:P$104,1)&CHAR(10),\"\"),\nIF(Q9=\"M\",\"-\"&INDEX(Q$1:Q$104,1)&CHAR(10),\"\"),\nIF(R9=\"M\",\"-\"&INDEX(R$1:R$104,1)&CHAR(10),\"\"),\nIF(S9=\"M\",\"-\"&INDEX(S$1:S$104,1)&CHAR(10),\"\"),\nIF(T9=\"M\",\"-\"&INDEX(T$1:T$104,1)&CHAR(10),\"\"),\nIF(U9=\"M\",\"-\"&INDEX(U$1:U$104,1)&CHAR(10),\"\"),\nIF(V9=\"M\",\"-\"&INDEX(V$1:V$104,1)&CHAR(10),\"\"),\nIF(W9=\"M\",\"-\"&INDEX(W$1:W$104,1)&CHAR(10),\"\"),\nIF(X9=\"M\",\"-\"&INDEX(X$1:X$104,1)&CHAR(10),\"\"),\nIF(Y9=\"M\",\"-\"&INDEX(Y$1:Y$104,1)&CHAR(10),\"\"),\nIF(Z9=\"M\",\"-\"&INDEX(Z$1:Z$104,1)&CHAR(10),\"\"),\nIF(AA9=\"M\",\"-\"&INDEX(AA$1:AA$104,1)&CHAR(10),\"\"),\nIF(AB9=\"M\",\"-\"&INDEX(AB$1:AB$104,1)&CHAR(10),\"\"),\nIF(AC9=\"M\",\"-\"&INDEX(AC$1:AC$104,1)&CHAR(10),\"\"),\nIF(AD9=\"M\",\"-\"&INDEX(AD$1:AD$104,1)&CHAR(10),\"\"))","v":"-Electrical.Statement of Attainment.UETTDRRF01 - Apply ESI safety rules, codes of practice and procedures for work\n-Network Operator.Certificate.I0102 - Ausgrid - Environmental Awareness\n-Electrical.Statement of Attainment.UETTDRRF09 - Apply access procedures to work on or near electrical network infrastructure\n-Network Operator.Access.SC1000A - Ausgrid - Substation Entry\n"},"-Confined Space.Statement of Attainment.RIIWHS202 - Enter and work in confined spaces\n","","",""]
["Aqueous waste - Treated Water Sampling Personnel",null,"M","M",null,"M","M","M","M",null,"SE1000, RF0003, SC1000A",null,null,null,null,null,null,null,null,null,null,null,null,null,null,null,null,null,null,null,null,null,null,null,"M",null,null,null,null,null,null,null,null,null,null,null,null,null,null,null,null,null,null,null,null,null,null,null,null,null,null,null,null,null,null,null,null,null,null,null,null,null,null,null,null,null,null,null,null,null,null,null,null,null,null,null,null,null,null,null,null,null,null,null,null,null,null,null,null,null,null,null,null,null,null,null,null,null,null,null,null,null,null,null,null,null,null,null,null,null,null,null,null,null,null,null,null,null,"-Electrical.Statement of Attainment.UETTDRRF06 - Perform rescue from a live LV panel\n-Electrical.Statement of Attainment.UETTDRRF10 - First Aid in an ESI Environment","-Confined Space.Statement of Attainment.RIIWHS202 - Enter and work in confined spaces\n",{"$f":"CONCATENATE(\nIF(E10=\"M\",\"-\"&INDEX(E$1:E$104,1)&CHAR(10),\"\"),\nIF(F10=\"M\",\"-\"&INDEX(F$1:F$104,1)&CHAR(10),\"\"),\nIF(G10=\"M\",\"-\"&INDEX(G$1:G$104,1)&CHAR(10),\"\"),\nIF(H10=\"M\",\"-\"&INDEX(H$1:H$104,1)&CHAR(10),\"\"),\nIF(I10=\"M\",\"-\"&INDEX(I$1:I$104,1)&CHAR(10),\"\"),\nIF(J10=\"M\",\"-\"&INDEX(J$1:J$104,1)&CHAR(10),\"\"),\nIF(K10=\"M\",\"-\"&INDEX(K$1:K$104,1)&CHAR(10),\"\"),\nIF(L10=\"M\",\"-\"&INDEX(L$1:L$104,1)&CHAR(10),\"\"),\nIF(M10=\"M\",\"-\"&INDEX(M$1:M108,1)&CHAR(10),\"\"),\nIF(N10=\"M\",\"-\"&INDEX(N$1:N$104,1)&CHAR(10),\"\"),\nIF(O10=\"M\",\"-\"&INDEX(O$1:O$104,1)&CHAR(10),\"\"),\nIF(P10=\"M\",\"-\"&INDEX(P$1:P$104,1)&CHAR(10),\"\"),\nIF(Q10=\"M\",\"-\"&INDEX(Q$1:Q$104,1)&CHAR(10),\"\"),\nIF(R10=\"M\",\"-\"&INDEX(R$1:R$104,1)&CHAR(10),\"\"),\nIF(S10=\"M\",\"-\"&INDEX(S$1:S$104,1)&CHAR(10),\"\"),\nIF(T10=\"M\",\"-\"&INDEX(T$1:T$104,1)&CHAR(10),\"\"),\nIF(U10=\"M\",\"-\"&INDEX(U$1:U$104,1)&CHAR(10),\"\"),\nIF(V10=\"M\",\"-\"&INDEX(V$1:V$104,1)&CHAR(10),\"\"),\nIF(W10=\"M\",\"-\"&INDEX(W$1:W$104,1)&CHAR(10),\"\"),\nIF(X10=\"M\",\"-\"&INDEX(X$1:X$104,1)&CHAR(10),\"\"),\nIF(Y10=\"M\",\"-\"&INDEX(Y$1:Y$104,1)&CHAR(10),\"\"),\nIF(Z10=\"M\",\"-\"&INDEX(Z$1:Z$104,1)&CHAR(10),\"\"),\nIF(AA10=\"M\",\"-\"&INDEX(AA$1:AA$104,1)&CHAR(10),\"\"),\nIF(AB10=\"M\",\"-\"&INDEX(AB$1:AB$104,1)&CHAR(10),\"\"),\nIF(AC10=\"M\",\"-\"&INDEX(AC$1:AC$104,1)&CHAR(10),\"\"),\nIF(AD10=\"M\",\"-\"&INDEX(AD$1:AD$104,1)&CHAR(10),\"\"))","v":"-Electrical.Statement of Attainment.UETTDRRF01 - Apply ESI safety rules, codes of practice and procedures for work\n-Network Operator.Certificate.I0102 - Ausgrid - Environmental Awareness\n-Electrical.Statement of Attainment.UETTDRRF09 - Apply access procedures to work on or near electrical network infrastructure\n-Network Operator.Access.SC1000A - Ausgrid - Substation Entry\n"},"-Confined Space.Statement of Attainment.RIIWHS202 - Enter and work in confined spaces\n","","",""]
["Aqueous waste - Water Treatment Plant Worker",null,"M","M",null,"M","M","M","M","M","SE1000, RF0003, SC1200",null,null,null,null,null,null,null,null,null,null,null,null,null,null,null,null,null,null,null,null,null,null,null,null,null,null,null,null,null,null,null,null,null,null,null,null,null,null,null,null,null,null,null,null,null,null,null,null,null,null,null,null,null,null,null,null,null,null,null,null,null,null,null,null,null,null,null,null,null,null,null,null,null,null,null,null,null,null,null,null,null,null,null,null,null,null,null,null,null,null,null,null,null,null,null,null,null,null,null,null,null,null,null,null,null,null,null,null,null,null,null,null,null,null,null,null,null,"-Electrical.Statement of Attainment.UETTDRRF06 - Perform rescue from a live LV panel\n-Electrical.Statement of Attainment.UETTDRRF10 - First Aid in an ESI Environment","",{"$f":"CONCATENATE(\nIF(E11=\"M\",\"-\"&INDEX(E$1:E$104,1)&CHAR(10),\"\"),\nIF(F11=\"M\",\"-\"&INDEX(F$1:F$104,1)&CHAR(10),\"\"),\nIF(G11=\"M\",\"-\"&INDEX(G$1:G$104,1)&CHAR(10),\"\"),\nIF(H11=\"M\",\"-\"&INDEX(H$1:H$104,1)&CHAR(10),\"\"),\nIF(I11=\"M\",\"-\"&INDEX(I$1:I$104,1)&CHAR(10),\"\"),\nIF(J11=\"M\",\"-\"&INDEX(J$1:J$104,1)&CHAR(10),\"\"),\nIF(K11=\"M\",\"-\"&INDEX(K$1:K$104,1)&CHAR(10),\"\"),\nIF(L11=\"M\",\"-\"&INDEX(L$1:L$104,1)&CHAR(10),\"\"),\nIF(M11=\"M\",\"-\"&INDEX(M$1:M109,1)&CHAR(10),\"\"),\nIF(N11=\"M\",\"-\"&INDEX(N$1:N$104,1)&CHAR(10),\"\"),\nIF(O11=\"M\",\"-\"&INDEX(O$1:O$104,1)&CHAR(10),\"\"),\nIF(P11=\"M\",\"-\"&INDEX(P$1:P$104,1)&CHAR(10),\"\"),\nIF(Q11=\"M\",\"-\"&INDEX(Q$1:Q$104,1)&CHAR(10),\"\"),\nIF(R11=\"M\",\"-\"&INDEX(R$1:R$104,1)&CHAR(10),\"\"),\nIF(S11=\"M\",\"-\"&INDEX(S$1:S$104,1)&CHAR(10),\"\"),\nIF(T11=\"M\",\"-\"&INDEX(T$1:T$104,1)&CHAR(10),\"\"),\nIF(U11=\"M\",\"-\"&INDEX(U$1:U$104,1)&CHAR(10),\"\"),\nIF(V11=\"M\",\"-\"&INDEX(V$1:V$104,1)&CHAR(10),\"\"),\nIF(W11=\"M\",\"-\"&INDEX(W$1:W$104,1)&CHAR(10),\"\"),\nIF(X11=\"M\",\"-\"&INDEX(X$1:X$104,1)&CHAR(10),\"\"),\nIF(Y11=\"M\",\"-\"&INDEX(Y$1:Y$104,1)&CHAR(10),\"\"),\nIF(Z11=\"M\",\"-\"&INDEX(Z$1:Z$104,1)&CHAR(10),\"\"),\nIF(AA11=\"M\",\"-\"&INDEX(AA$1:AA$104,1)&CHAR(10),\"\"),\nIF(AB11=\"M\",\"-\"&INDEX(AB$1:AB$104,1)&CHAR(10),\"\"),\nIF(AC11=\"M\",\"-\"&INDEX(AC$1:AC$104,1)&CHAR(10),\"\"),\nIF(AD11=\"M\",\"-\"&INDEX(AD$1:AD$104,1)&CHAR(10),\"\"))","v":"-Electrical.Statement of Attainment.UETTDRRF01 - Apply ESI safety rules, codes of practice and procedures for work\n-Network Operator.Certificate.I0102 - Ausgrid - Environmental Awareness\n-Electrical.Statement of Attainment.UETTDRRF09 - Apply access procedures to work on or near electrical network infrastructure\n-Network Operator.Access.SC1000A - Ausgrid - Substation Entry\n-Network Operator.Certificate.SC1100A - Working Near or Around Underground Cables\n"},"","","",""]
["Asbestos - Assessor","M","M","M",null,"M","M","M","M",null,"SE1000, RF0003, SC1000A",null,null,null,null,null,null,null,null,null,null,null,null,null,null,null,null,null,null,null,null,null,null,null,null,null,null,null,null,null,null,null,null,null,null,null,null,null,null,null,null,null,null,null,null,null,null,null,null,null,null,null,null,null,null,null,null,null,null,null,null,null,null,null,null,null,null,null,null,null,null,null,null,null,null,null,null,null,null,null,null,null,null,null,null,null,null,null,null,null,null,null,null,null,null,null,null,null,null,null,null,null,null,null,null,null,null,null,null,null,null,null,null,null,null,null,null,null,"-First Aid.Statement of Attainment.HLTAID001 - Perform CPR\n-Electrical.Statement of Attainment.UETTDRRF06 - Perform rescue from a live LV panel\n-Electrical.Statement of Attainment.UETTDRRF10 - First Aid in an ESI Environment","",{"$f":"CONCATENATE(\nIF(E12=\"M\",\"-\"&INDEX(E$1:E$104,1)&CHAR(10),\"\"),\nIF(F12=\"M\",\"-\"&INDEX(F$1:F$104,1)&CHAR(10),\"\"),\nIF(G12=\"M\",\"-\"&INDEX(G$1:G$104,1)&CHAR(10),\"\"),\nIF(H12=\"M\",\"-\"&INDEX(H$1:H$104,1)&CHAR(10),\"\"),\nIF(I12=\"M\",\"-\"&INDEX(I$1:I$104,1)&CHAR(10),\"\"),\nIF(J12=\"M\",\"-\"&INDEX(J$1:J$104,1)&CHAR(10),\"\"),\nIF(K12=\"M\",\"-\"&INDEX(K$1:K$104,1)&CHAR(10),\"\"),\nIF(L12=\"M\",\"-\"&INDEX(L$1:L$104,1)&CHAR(10),\"\"),\nIF(M12=\"M\",\"-\"&INDEX(M$1:M110,1)&CHAR(10),\"\"),\nIF(N12=\"M\",\"-\"&INDEX(N$1:N$104,1)&CHAR(10),\"\"),\nIF(O12=\"M\",\"-\"&INDEX(O$1:O$104,1)&CHAR(10),\"\"),\nIF(P12=\"M\",\"-\"&INDEX(P$1:P$104,1)&CHAR(10),\"\"),\nIF(Q12=\"M\",\"-\"&INDEX(Q$1:Q$104,1)&CHAR(10),\"\"),\nIF(R12=\"M\",\"-\"&INDEX(R$1:R$104,1)&CHAR(10),\"\"),\nIF(S12=\"M\",\"-\"&INDEX(S$1:S$104,1)&CHAR(10),\"\"),\nIF(T12=\"M\",\"-\"&INDEX(T$1:T$104,1)&CHAR(10),\"\"),\nIF(U12=\"M\",\"-\"&INDEX(U$1:U$104,1)&CHAR(10),\"\"),\nIF(V12=\"M\",\"-\"&INDEX(V$1:V$104,1)&CHAR(10),\"\"),\nIF(W12=\"M\",\"-\"&INDEX(W$1:W$104,1)&CHAR(10),\"\"),\nIF(X12=\"M\",\"-\"&INDEX(X$1:X$104,1)&CHAR(10),\"\"),\nIF(Y12=\"M\",\"-\"&INDEX(Y$1:Y$104,1)&CHAR(10),\"\"),\nIF(Z12=\"M\",\"-\"&INDEX(Z$1:Z$104,1)&CHAR(10),\"\"),\nIF(AA12=\"M\",\"-\"&INDEX(AA$1:AA$104,1)&CHAR(10),\"\"),\nIF(AB12=\"M\",\"-\"&INDEX(AB$1:AB$104,1)&CHAR(10),\"\"),\nIF(AC12=\"M\",\"-\"&INDEX(AC$1:AC$104,1)&CHAR(10),\"\"),\nIF(AD12=\"M\",\"-\"&INDEX(AD$1:AD$104,1)&CHAR(10),\"\"))","v":"-Electrical.Statement of Attainment.UETTDRRF01 - Apply ESI safety rules, codes of practice and procedures for work\n-Network Operator.Certificate.I0102 - Ausgrid - Environmental Awareness\n-Electrical.Statement of Attainment.UETTDRRF09 - Apply access procedures to work on or near electrical network infrastructure\n-Network Operator.Access.SC1000A - Ausgrid - Substation Entry\n"},"","","",""]
["Asbestos - Removalist","M","M","M",null,"M","M","M","M",null,"SE1000, RF0003, SC1000A",null,null,null,null,null,null,null,null,null,null,null,null,null,null,null,null,null,null,null,null,null,null,null,"M",null,null,null,null,null,null,null,null,null,null,null,null,null,null,null,null,null,null,null,null,null,null,null,null,null,null,null,null,null,null,null,null,null,null,null,null,null,null,null,null,null,null,null,null,null,null,null,null,null,null,null,null,null,null,null,null,null,null,null,null,null,null,null,null,null,null,null,null,null,null,null,null,null,null,null,null,null,null,null,null,null,null,null,null,null,null,null,null,null,null,null,null,null,"-First Aid.Statement of Attainment.HLTAID001 - Perform CPR\n-Electrical.Statement of Attainment.UETTDRRF06 - Perform rescue from a live LV panel\n-Electrical.Statement of Attainment.UETTDRRF10 - First Aid in an ESI Environment","-Confined Space.Statement of Attainment.RIIWHS202 - Enter and work in confined spaces\n",{"$f":"CONCATENATE(\nIF(E13=\"M\",\"-\"&INDEX(E$1:E$104,1)&CHAR(10),\"\"),\nIF(F13=\"M\",\"-\"&INDEX(F$1:F$104,1)&CHAR(10),\"\"),\nIF(G13=\"M\",\"-\"&INDEX(G$1:G$104,1)&CHAR(10),\"\"),\nIF(H13=\"M\",\"-\"&INDEX(H$1:H$104,1)&CHAR(10),\"\"),\nIF(I13=\"M\",\"-\"&INDEX(I$1:I$104,1)&CHAR(10),\"\"),\nIF(J13=\"M\",\"-\"&INDEX(J$1:J$104,1)&CHAR(10),\"\"),\nIF(K13=\"M\",\"-\"&INDEX(K$1:K$104,1)&CHAR(10),\"\"),\nIF(L13=\"M\",\"-\"&INDEX(L$1:L$104,1)&CHAR(10),\"\"),\nIF(M13=\"M\",\"-\"&INDEX(M$1:M111,1)&CHAR(10),\"\"),\nIF(N13=\"M\",\"-\"&INDEX(N$1:N$104,1)&CHAR(10),\"\"),\nIF(O13=\"M\",\"-\"&INDEX(O$1:O$104,1)&CHAR(10),\"\"),\nIF(P13=\"M\",\"-\"&INDEX(P$1:P$104,1)&CHAR(10),\"\"),\nIF(Q13=\"M\",\"-\"&INDEX(Q$1:Q$104,1)&CHAR(10),\"\"),\nIF(R13=\"M\",\"-\"&INDEX(R$1:R$104,1)&CHAR(10),\"\"),\nIF(S13=\"M\",\"-\"&INDEX(S$1:S$104,1)&CHAR(10),\"\"),\nIF(T13=\"M\",\"-\"&INDEX(T$1:T$104,1)&CHAR(10),\"\"),\nIF(U13=\"M\",\"-\"&INDEX(U$1:U$104,1)&CHAR(10),\"\"),\nIF(V13=\"M\",\"-\"&INDEX(V$1:V$104,1)&CHAR(10),\"\"),\nIF(W13=\"M\",\"-\"&INDEX(W$1:W$104,1)&CHAR(10),\"\"),\nIF(X13=\"M\",\"-\"&INDEX(X$1:X$104,1)&CHAR(10),\"\"),\nIF(Y13=\"M\",\"-\"&INDEX(Y$1:Y$104,1)&CHAR(10),\"\"),\nIF(Z13=\"M\",\"-\"&INDEX(Z$1:Z$104,1)&CHAR(10),\"\"),\nIF(AA13=\"M\",\"-\"&INDEX(AA$1:AA$104,1)&CHAR(10),\"\"),\nIF(AB13=\"M\",\"-\"&INDEX(AB$1:AB$104,1)&CHAR(10),\"\"),\nIF(AC13=\"M\",\"-\"&INDEX(AC$1:AC$104,1)&CHAR(10),\"\"),\nIF(AD13=\"M\",\"-\"&INDEX(AD$1:AD$104,1)&CHAR(10),\"\"))","v":"-Electrical.Statement of Attainment.UETTDRRF01 - Apply ESI safety rules, codes of practice and procedures for work\n-Network Operator.Certificate.I0102 - Ausgrid - Environmental Awareness\n-Electrical.Statement of Attainment.UETTDRRF09 - Apply access procedures to work on or near electrical network infrastructure\n-Network Operator.Access.SC1000A - Ausgrid - Substation Entry\n"},"-Confined Space.Statement of Attainment.RIIWHS202 - Enter and work in confined spaces\n","","",""]
["Asbestos - Supervisor","M","M","M",null,"M","M","M","M",null,"SE1000, RF0003, SC1000A",null,null,null,null,null,null,null,null,null,null,null,null,null,null,null,null,null,null,null,null,null,null,null,"M",null,null,null,"M",null,null,null,null,null,null,null,null,null,null,null,null,null,null,null,null,null,null,null,null,null,null,null,null,null,null,null,null,null,null,null,null,null,null,null,null,null,null,null,null,null,null,null,null,null,null,null,null,null,null,null,null,null,null,null,null,null,null,null,null,null,null,null,null,null,null,null,null,null,null,null,null,null,null,null,null,null,null,null,null,null,null,null,null,null,null,null,null,null,"-First Aid.Statement of Attainment.HLTAID001 - Perform CPR\n-Electrical.Statement of Attainment.UETTDRRF06 - Perform rescue from a live LV panel\n-Electrical.Statement of Attainment.UETTDRRF10 - First Aid in an ESI Environment","-Confined Space.Statement of Attainment.RIIWHS202 - Enter and work in confined spaces\n-Asbestos.Statement of Attainment.Assessor:  CPCCBC5014A – Conduct asbestos assessment associated with removal\n",{"$f":"CONCATENATE(\nIF(E14=\"M\",\"-\"&INDEX(E$1:E$104,1)&CHAR(10),\"\"),\nIF(F14=\"M\",\"-\"&INDEX(F$1:F$104,1)&CHAR(10),\"\"),\nIF(G14=\"M\",\"-\"&INDEX(G$1:G$104,1)&CHAR(10),\"\"),\nIF(H14=\"M\",\"-\"&INDEX(H$1:H$104,1)&CHAR(10),\"\"),\nIF(I14=\"M\",\"-\"&INDEX(I$1:I$104,1)&CHAR(10),\"\"),\nIF(J14=\"M\",\"-\"&INDEX(J$1:J$104,1)&CHAR(10),\"\"),\nIF(K14=\"M\",\"-\"&INDEX(K$1:K$104,1)&CHAR(10),\"\"),\nIF(L14=\"M\",\"-\"&INDEX(L$1:L$104,1)&CHAR(10),\"\"),\nIF(M14=\"M\",\"-\"&INDEX(M$1:M112,1)&CHAR(10),\"\"),\nIF(N14=\"M\",\"-\"&INDEX(N$1:N$104,1)&CHAR(10),\"\"),\nIF(O14=\"M\",\"-\"&INDEX(O$1:O$104,1)&CHAR(10),\"\"),\nIF(P14=\"M\",\"-\"&INDEX(P$1:P$104,1)&CHAR(10),\"\"),\nIF(Q14=\"M\",\"-\"&INDEX(Q$1:Q$104,1)&CHAR(10),\"\"),\nIF(R14=\"M\",\"-\"&INDEX(R$1:R$104,1)&CHAR(10),\"\"),\nIF(S14=\"M\",\"-\"&INDEX(S$1:S$104,1)&CHAR(10),\"\"),\nIF(T14=\"M\",\"-\"&INDEX(T$1:T$104,1)&CHAR(10),\"\"),\nIF(U14=\"M\",\"-\"&INDEX(U$1:U$104,1)&CHAR(10),\"\"),\nIF(V14=\"M\",\"-\"&INDEX(V$1:V$104,1)&CHAR(10),\"\"),\nIF(W14=\"M\",\"-\"&INDEX(W$1:W$104,1)&CHAR(10),\"\"),\nIF(X14=\"M\",\"-\"&INDEX(X$1:X$104,1)&CHAR(10),\"\"),\nIF(Y14=\"M\",\"-\"&INDEX(Y$1:Y$104,1)&CHAR(10),\"\"),\nIF(Z14=\"M\",\"-\"&INDEX(Z$1:Z$104,1)&CHAR(10),\"\"),\nIF(AA14=\"M\",\"-\"&INDEX(AA$1:AA$104,1)&CHAR(10),\"\"),\nIF(AB14=\"M\",\"-\"&INDEX(AB$1:AB$104,1)&CHAR(10),\"\"),\nIF(AC14=\"M\",\"-\"&INDEX(AC$1:AC$104,1)&CHAR(10),\"\"),\nIF(AD14=\"M\",\"-\"&INDEX(AD$1:AD$104,1)&CHAR(10),\"\"))","v":"-Electrical.Statement of Attainment.UETTDRRF01 - Apply ESI safety rules, codes of practice and procedures for work\n-Network Operator.Certificate.I0102 - Ausgrid - Environmental Awareness\n-Electrical.Statement of Attainment.UETTDRRF09 - Apply access procedures to work on or near electrical network infrastructure\n-Network Operator.Access.SC1000A - Ausgrid - Substation Entry\n"},"-Confined Space.Statement of Attainment.RIIWHS202 - Enter and work in confined spaces\n-Asbestos.Statement of Attainment.Assessor:  CPCCBC5014A – Conduct asbestos assessment associated with removal\n","","",""]
["Cable Laying - Borers/Drillers","M","M","M",null,"M","M","M",null,"M","SE1000, RF0003, SC1100",null,null,null,null,null,"M",null,null,null,null,null,null,null,null,null,null,null,null,null,null,null,null,null,"M",null,null,null,null,"M",null,null,null,null,null,null,null,null,null,null,null,null,null,null,null,null,null,null,null,null,null,null,null,null,null,null,null,null,null,null,null,null,null,null,null,null,null,null,null,null,null,null,null,null,null,null,null,null,null,null,null,null,null,null,null,null,null,null,null,null,null,null,null,null,null,null,null,null,null,null,null,null,null,null,null,null,null,null,null,null,null,null,null,null,null,null,null,null,"-First Aid.Statement of Attainment.HLTAID001 - Perform CPR\n-Electrical.Statement of Attainment.UETTDRRF06 - Perform rescue from a live LV panel\n-Electrical.Statement of Attainment.UETTDRRF10 - First Aid in an ESI Environment","-Confined Space.Statement of Attainment.RIIWHS202 - Enter and work in confined spaces\n-Asbestos.Statement of Attainment.Class A:  CPCCDE3015A – Remove friable asbestos\n",{"$f":"CONCATENATE(\nIF(E15=\"M\",\"-\"&INDEX(E$1:E$104,1)&CHAR(10),\"\"),\nIF(F15=\"M\",\"-\"&INDEX(F$1:F$104,1)&CHAR(10),\"\"),\nIF(G15=\"M\",\"-\"&INDEX(G$1:G$104,1)&CHAR(10),\"\"),\nIF(H15=\"M\",\"-\"&INDEX(H$1:H$104,1)&CHAR(10),\"\"),\nIF(I15=\"M\",\"-\"&INDEX(I$1:I$104,1)&CHAR(10),\"\"),\nIF(J15=\"M\",\"-\"&INDEX(J$1:J$104,1)&CHAR(10),\"\"),\nIF(K15=\"M\",\"-\"&INDEX(K$1:K$104,1)&CHAR(10),\"\"),\nIF(L15=\"M\",\"-\"&INDEX(L$1:L$104,1)&CHAR(10),\"\"),\nIF(M15=\"M\",\"-\"&INDEX(M$1:M113,1)&CHAR(10),\"\"),\nIF(N15=\"M\",\"-\"&INDEX(N$1:N$104,1)&CHAR(10),\"\"),\nIF(O15=\"M\",\"-\"&INDEX(O$1:O$104,1)&CHAR(10),\"\"),\nIF(P15=\"M\",\"-\"&INDEX(P$1:P$104,1)&CHAR(10),\"\"),\nIF(Q15=\"M\",\"-\"&INDEX(Q$1:Q$104,1)&CHAR(10),\"\"),\nIF(R15=\"M\",\"-\"&INDEX(R$1:R$104,1)&CHAR(10),\"\"),\nIF(S15=\"M\",\"-\"&INDEX(S$1:S$104,1)&CHAR(10),\"\"),\nIF(T15=\"M\",\"-\"&INDEX(T$1:T$104,1)&CHAR(10),\"\"),\nIF(U15=\"M\",\"-\"&INDEX(U$1:U$104,1)&CHAR(10),\"\"),\nIF(V15=\"M\",\"-\"&INDEX(V$1:V$104,1)&CHAR(10),\"\"),\nIF(W15=\"M\",\"-\"&INDEX(W$1:W$104,1)&CHAR(10),\"\"),\nIF(X15=\"M\",\"-\"&INDEX(X$1:X$104,1)&CHAR(10),\"\"),\nIF(Y15=\"M\",\"-\"&INDEX(Y$1:Y$104,1)&CHAR(10),\"\"),\nIF(Z15=\"M\",\"-\"&INDEX(Z$1:Z$104,1)&CHAR(10),\"\"),\nIF(AA15=\"M\",\"-\"&INDEX(AA$1:AA$104,1)&CHAR(10),\"\"),\nIF(AB15=\"M\",\"-\"&INDEX(AB$1:AB$104,1)&CHAR(10),\"\"),\nIF(AC15=\"M\",\"-\"&INDEX(AC$1:AC$104,1)&CHAR(10),\"\"),\nIF(AD15=\"M\",\"-\"&INDEX(AD$1:AD$104,1)&CHAR(10),\"\"))","v":"-Electrical.Statement of Attainment.UETTDRRF01 - Apply ESI safety rules, codes of practice and procedures for work\n-Network Operator.Certificate.I0102 - Ausgrid - Environmental Awareness\n-Electrical.Statement of Attainment.UETTDRRF09 - Apply access procedures to work on or near electrical network infrastructure\n-Network Operator.Certificate.SC1100A - Working Near or Around Underground Cables\n-Network Operator.Certificate.SSAB1001 - Ausgrid - Asbestos Awareness\n"},"-Confined Space.Statement of Attainment.RIIWHS202 - Enter and work in confined spaces\n-Asbestos.Statement of Attainment.Class A:  CPCCDE3015A – Remove friable asbestos\n","","",""]
["Cable Laying - Compaction Tester / Reinstatement worker","M","M","M",null,"M","M","M",null,"M","SE1000, RF0003, SC1100",null,null,null,null,null,"M",null,null,null,null,null,null,null,null,null,null,null,null,null,null,null,null,null,"M",null,null,null,null,"M","M",null,null,null,null,null,null,null,null,null,null,null,null,null,null,null,null,null,null,null,null,null,null,null,null,null,null,null,null,null,null,null,null,null,null,null,null,null,null,null,null,null,null,null,null,null,null,null,null,null,null,null,null,null,null,null,null,null,null,null,null,null,null,null,null,null,null,null,null,null,null,null,null,null,null,null,null,null,null,null,null,null,null,null,null,null,null,null,"-First Aid.Statement of Attainment.HLTAID001 - Perform CPR\n-Electrical.Statement of Attainment.UETTDRRF06 - Perform rescue from a live LV panel\n-Electrical.Statement of Attainment.UETTDRRF10 - First Aid in an ESI Environment","-Confined Space.Statement of Attainment.RIIWHS202 - Enter and work in confined spaces\n-Asbestos.Statement of Attainment.Class A:  CPCCDE3015A – Remove friable asbestos\n-Asbestos.Statement of Attainment.Supervisor:  CPCCBC4051A – Supervise asbestos removal\n",{"$f":"CONCATENATE(\nIF(E16=\"M\",\"-\"&INDEX(E$1:E$104,1)&CHAR(10),\"\"),\nIF(F16=\"M\",\"-\"&INDEX(F$1:F$104,1)&CHAR(10),\"\"),\nIF(G16=\"M\",\"-\"&INDEX(G$1:G$104,1)&CHAR(10),\"\"),\nIF(H16=\"M\",\"-\"&INDEX(H$1:H$104,1)&CHAR(10),\"\"),\nIF(I16=\"M\",\"-\"&INDEX(I$1:I$104,1)&CHAR(10),\"\"),\nIF(J16=\"M\",\"-\"&INDEX(J$1:J$104,1)&CHAR(10),\"\"),\nIF(K16=\"M\",\"-\"&INDEX(K$1:K$104,1)&CHAR(10),\"\"),\nIF(L16=\"M\",\"-\"&INDEX(L$1:L$104,1)&CHAR(10),\"\"),\nIF(M16=\"M\",\"-\"&INDEX(M$1:M114,1)&CHAR(10),\"\"),\nIF(N16=\"M\",\"-\"&INDEX(N$1:N$104,1)&CHAR(10),\"\"),\nIF(O16=\"M\",\"-\"&INDEX(O$1:O$104,1)&CHAR(10),\"\"),\nIF(P16=\"M\",\"-\"&INDEX(P$1:P$104,1)&CHAR(10),\"\"),\nIF(Q16=\"M\",\"-\"&INDEX(Q$1:Q$104,1)&CHAR(10),\"\"),\nIF(R16=\"M\",\"-\"&INDEX(R$1:R$104,1)&CHAR(10),\"\"),\nIF(S16=\"M\",\"-\"&INDEX(S$1:S$104,1)&CHAR(10),\"\"),\nIF(T16=\"M\",\"-\"&INDEX(T$1:T$104,1)&CHAR(10),\"\"),\nIF(U16=\"M\",\"-\"&INDEX(U$1:U$104,1)&CHAR(10),\"\"),\nIF(V16=\"M\",\"-\"&INDEX(V$1:V$104,1)&CHAR(10),\"\"),\nIF(W16=\"M\",\"-\"&INDEX(W$1:W$104,1)&CHAR(10),\"\"),\nIF(X16=\"M\",\"-\"&INDEX(X$1:X$104,1)&CHAR(10),\"\"),\nIF(Y16=\"M\",\"-\"&INDEX(Y$1:Y$104,1)&CHAR(10),\"\"),\nIF(Z16=\"M\",\"-\"&INDEX(Z$1:Z$104,1)&CHAR(10),\"\"),\nIF(AA16=\"M\",\"-\"&INDEX(AA$1:AA$104,1)&CHAR(10),\"\"),\nIF(AB16=\"M\",\"-\"&INDEX(AB$1:AB$104,1)&CHAR(10),\"\"),\nIF(AC16=\"M\",\"-\"&INDEX(AC$1:AC$104,1)&CHAR(10),\"\"),\nIF(AD16=\"M\",\"-\"&INDEX(AD$1:AD$104,1)&CHAR(10),\"\"))","v":"-Electrical.Statement of Attainment.UETTDRRF01 - Apply ESI safety rules, codes of practice and procedures for work\n-Network Operator.Certificate.I0102 - Ausgrid - Environmental Awareness\n-Electrical.Statement of Attainment.UETTDRRF09 - Apply access procedures to work on or near electrical network infrastructure\n-Network Operator.Certificate.SC1100A - Working Near or Around Underground Cables\n-Network Operator.Certificate.SSAB1001 - Ausgrid - Asbestos Awareness\n"},"-Confined Space.Statement of Attainment.RIIWHS202 - Enter and work in confined spaces\n-Asbestos.Statement of Attainment.Class A:  CPCCDE3015A – Remove friable asbestos\n-Asbestos.Statement of Attainment.Supervisor:  CPCCBC4051A – Supervise asbestos removal\n","","",""]
["Cable Laying - Core Drillers / Saw Cutters","M","M","M",null,"M","M","M",null,"M","SE1000, RF0003, SC1100",null,null,null,null,null,null,null,null,null,null,null,null,null,null,null,null,null,null,null,null,null,null,null,null,null,null,null,null,null,null,null,null,null,null,null,null,null,null,null,null,null,null,null,null,null,null,null,null,null,null,null,null,null,null,null,null,null,null,null,null,null,null,null,null,null,null,null,null,null,null,null,null,null,null,null,null,null,null,null,null,null,null,null,null,null,null,null,null,null,null,null,null,null,"M",null,null,null,null,null,null,null,null,null,null,null,null,null,null,null,null,null,null,null,null,null,null,null,"-First Aid.Statement of Attainment.HLTAID001 - Perform CPR\n-Electrical.Statement of Attainment.UETTDRRF06 - Perform rescue from a live LV panel\n-Electrical.Statement of Attainment.UETTDRRF10 - First Aid in an ESI Environment","-Electrical.Statement of Attainment.UETTDREL14 - Working safely near live electrical apparatus as a non electrical worker \n",{"$f":"CONCATENATE(\nIF(E17=\"M\",\"-\"&INDEX(E$1:E$104,1)&CHAR(10),\"\"),\nIF(F17=\"M\",\"-\"&INDEX(F$1:F$104,1)&CHAR(10),\"\"),\nIF(G17=\"M\",\"-\"&INDEX(G$1:G$104,1)&CHAR(10),\"\"),\nIF(H17=\"M\",\"-\"&INDEX(H$1:H$104,1)&CHAR(10),\"\"),\nIF(I17=\"M\",\"-\"&INDEX(I$1:I$104,1)&CHAR(10),\"\"),\nIF(J17=\"M\",\"-\"&INDEX(J$1:J$104,1)&CHAR(10),\"\"),\nIF(K17=\"M\",\"-\"&INDEX(K$1:K$104,1)&CHAR(10),\"\"),\nIF(L17=\"M\",\"-\"&INDEX(L$1:L$104,1)&CHAR(10),\"\"),\nIF(M17=\"M\",\"-\"&INDEX(M$1:M115,1)&CHAR(10),\"\"),\nIF(N17=\"M\",\"-\"&INDEX(N$1:N$104,1)&CHAR(10),\"\"),\nIF(O17=\"M\",\"-\"&INDEX(O$1:O$104,1)&CHAR(10),\"\"),\nIF(P17=\"M\",\"-\"&INDEX(P$1:P$104,1)&CHAR(10),\"\"),\nIF(Q17=\"M\",\"-\"&INDEX(Q$1:Q$104,1)&CHAR(10),\"\"),\nIF(R17=\"M\",\"-\"&INDEX(R$1:R$104,1)&CHAR(10),\"\"),\nIF(S17=\"M\",\"-\"&INDEX(S$1:S$104,1)&CHAR(10),\"\"),\nIF(T17=\"M\",\"-\"&INDEX(T$1:T$104,1)&CHAR(10),\"\"),\nIF(U17=\"M\",\"-\"&INDEX(U$1:U$104,1)&CHAR(10),\"\"),\nIF(V17=\"M\",\"-\"&INDEX(V$1:V$104,1)&CHAR(10),\"\"),\nIF(W17=\"M\",\"-\"&INDEX(W$1:W$104,1)&CHAR(10),\"\"),\nIF(X17=\"M\",\"-\"&INDEX(X$1:X$104,1)&CHAR(10),\"\"),\nIF(Y17=\"M\",\"-\"&INDEX(Y$1:Y$104,1)&CHAR(10),\"\"),\nIF(Z17=\"M\",\"-\"&INDEX(Z$1:Z$104,1)&CHAR(10),\"\"),\nIF(AA17=\"M\",\"-\"&INDEX(AA$1:AA$104,1)&CHAR(10),\"\"),\nIF(AB17=\"M\",\"-\"&INDEX(AB$1:AB$104,1)&CHAR(10),\"\"),\nIF(AC17=\"M\",\"-\"&INDEX(AC$1:AC$104,1)&CHAR(10),\"\"),\nIF(AD17=\"M\",\"-\"&INDEX(AD$1:AD$104,1)&CHAR(10),\"\"))","v":"-Electrical.Statement of Attainment.UETTDRRF01 - Apply ESI safety rules, codes of practice and procedures for work\n-Network Operator.Certificate.I0102 - Ausgrid - Environmental Awareness\n-Electrical.Statement of Attainment.UETTDRRF09 - Apply access procedures to work on or near electrical network infrastructure\n-Network Operator.Certificate.SC1100A - Working Near or Around Underground Cables\n"},"","","-Electrical.Statement of Attainment.UETTDREL14 - Working safely near live electrical apparatus as a non electrical worker \n",""]
["Cable Laying - Crew personnel","M","M","M",null,"M","M","M",null,"M","SE1000, RF0003, SC1100",null,null,null,null,null,"M",null,null,null,null,null,null,null,null,null,null,null,null,null,null,null,null,null,null,null,null,null,null,null,null,null,null,null,null,null,null,null,null,null,null,null,null,null,null,null,null,null,null,null,null,null,null,null,null,null,null,null,null,null,null,null,null,null,null,null,null,null,null,null,null,null,null,null,null,null,null,null,null,null,null,null,null,null,null,null,null,null,null,null,null,null,null,null,null,null,null,null,null,null,null,null,null,null,null,null,null,null,null,null,null,null,null,null,null,null,null,null,"-First Aid.Statement of Attainment.HLTAID001 - Perform CPR\n-Electrical.Statement of Attainment.UETTDRRF06 - Perform rescue from a live LV panel\n-Electrical.Statement of Attainment.UETTDRRF10 - First Aid in an ESI Environment","",{"$f":"CONCATENATE(\nIF(E18=\"M\",\"-\"&INDEX(E$1:E$104,1)&CHAR(10),\"\"),\nIF(F18=\"M\",\"-\"&INDEX(F$1:F$104,1)&CHAR(10),\"\"),\nIF(G18=\"M\",\"-\"&INDEX(G$1:G$104,1)&CHAR(10),\"\"),\nIF(H18=\"M\",\"-\"&INDEX(H$1:H$104,1)&CHAR(10),\"\"),\nIF(I18=\"M\",\"-\"&INDEX(I$1:I$104,1)&CHAR(10),\"\"),\nIF(J18=\"M\",\"-\"&INDEX(J$1:J$104,1)&CHAR(10),\"\"),\nIF(K18=\"M\",\"-\"&INDEX(K$1:K$104,1)&CHAR(10),\"\"),\nIF(L18=\"M\",\"-\"&INDEX(L$1:L$104,1)&CHAR(10),\"\"),\nIF(M18=\"M\",\"-\"&INDEX(M$1:M116,1)&CHAR(10),\"\"),\nIF(N18=\"M\",\"-\"&INDEX(N$1:N$104,1)&CHAR(10),\"\"),\nIF(O18=\"M\",\"-\"&INDEX(O$1:O$104,1)&CHAR(10),\"\"),\nIF(P18=\"M\",\"-\"&INDEX(P$1:P$104,1)&CHAR(10),\"\"),\nIF(Q18=\"M\",\"-\"&INDEX(Q$1:Q$104,1)&CHAR(10),\"\"),\nIF(R18=\"M\",\"-\"&INDEX(R$1:R$104,1)&CHAR(10),\"\"),\nIF(S18=\"M\",\"-\"&INDEX(S$1:S$104,1)&CHAR(10),\"\"),\nIF(T18=\"M\",\"-\"&INDEX(T$1:T$104,1)&CHAR(10),\"\"),\nIF(U18=\"M\",\"-\"&INDEX(U$1:U$104,1)&CHAR(10),\"\"),\nIF(V18=\"M\",\"-\"&INDEX(V$1:V$104,1)&CHAR(10),\"\"),\nIF(W18=\"M\",\"-\"&INDEX(W$1:W$104,1)&CHAR(10),\"\"),\nIF(X18=\"M\",\"-\"&INDEX(X$1:X$104,1)&CHAR(10),\"\"),\nIF(Y18=\"M\",\"-\"&INDEX(Y$1:Y$104,1)&CHAR(10),\"\"),\nIF(Z18=\"M\",\"-\"&INDEX(Z$1:Z$104,1)&CHAR(10),\"\"),\nIF(AA18=\"M\",\"-\"&INDEX(AA$1:AA$104,1)&CHAR(10),\"\"),\nIF(AB18=\"M\",\"-\"&INDEX(AB$1:AB$104,1)&CHAR(10),\"\"),\nIF(AC18=\"M\",\"-\"&INDEX(AC$1:AC$104,1)&CHAR(10),\"\"),\nIF(AD18=\"M\",\"-\"&INDEX(AD$1:AD$104,1)&CHAR(10),\"\"))","v":"-Electrical.Statement of Attainment.UETTDRRF01 - Apply ESI safety rules, codes of practice and procedures for work\n-Network Operator.Certificate.I0102 - Ausgrid - Environmental Awareness\n-Electrical.Statement of Attainment.UETTDRRF09 - Apply access procedures to work on or near electrical network infrastructure\n-Network Operator.Certificate.SC1100A - Working Near or Around Underground Cables\n-Network Operator.Certificate.SSAB1001 - Ausgrid - Asbestos Awareness\n"},"","","",""]
["Cable Laying - Designated Officer","M","M","M",null,"M","M","M",null,"M","SE1000, RF0003, SC1100",null,null,null,null,"M","M",null,null,null,null,null,null,null,null,null,null,null,null,null,null,null,null,null,null,null,null,null,null,null,null,null,null,null,null,null,null,null,null,null,null,null,null,null,null,null,null,null,null,null,null,null,null,null,null,null,null,null,null,null,null,null,null,null,null,null,null,null,null,null,null,null,null,null,null,null,null,null,null,null,null,null,null,null,null,null,null,null,null,null,null,null,null,null,null,null,null,null,null,null,null,null,null,null,null,null,null,null,null,null,null,null,null,null,null,null,null,null,"-First Aid.Statement of Attainment.HLTAID001 - Perform CPR\n-Electrical.Statement of Attainment.UETTDRRF06 - Perform rescue from a live LV panel\n-Electrical.Statement of Attainment.UETTDRRF10 - First Aid in an ESI Environment","",{"$f":"CONCATENATE(\nIF(E19=\"M\",\"-\"&INDEX(E$1:E$104,1)&CHAR(10),\"\"),\nIF(F19=\"M\",\"-\"&INDEX(F$1:F$104,1)&CHAR(10),\"\"),\nIF(G19=\"M\",\"-\"&INDEX(G$1:G$104,1)&CHAR(10),\"\"),\nIF(H19=\"M\",\"-\"&INDEX(H$1:H$104,1)&CHAR(10),\"\"),\nIF(I19=\"M\",\"-\"&INDEX(I$1:I$104,1)&CHAR(10),\"\"),\nIF(J19=\"M\",\"-\"&INDEX(J$1:J$104,1)&CHAR(10),\"\"),\nIF(K19=\"M\",\"-\"&INDEX(K$1:K$104,1)&CHAR(10),\"\"),\nIF(L19=\"M\",\"-\"&INDEX(L$1:L$104,1)&CHAR(10),\"\"),\nIF(M19=\"M\",\"-\"&INDEX(M$1:M117,1)&CHAR(10),\"\"),\nIF(N19=\"M\",\"-\"&INDEX(N$1:N$104,1)&CHAR(10),\"\"),\nIF(O19=\"M\",\"-\"&INDEX(O$1:O$104,1)&CHAR(10),\"\"),\nIF(P19=\"M\",\"-\"&INDEX(P$1:P$104,1)&CHAR(10),\"\"),\nIF(Q19=\"M\",\"-\"&INDEX(Q$1:Q$104,1)&CHAR(10),\"\"),\nIF(R19=\"M\",\"-\"&INDEX(R$1:R$104,1)&CHAR(10),\"\"),\nIF(S19=\"M\",\"-\"&INDEX(S$1:S$104,1)&CHAR(10),\"\"),\nIF(T19=\"M\",\"-\"&INDEX(T$1:T$104,1)&CHAR(10),\"\"),\nIF(U19=\"M\",\"-\"&INDEX(U$1:U$104,1)&CHAR(10),\"\"),\nIF(V19=\"M\",\"-\"&INDEX(V$1:V$104,1)&CHAR(10),\"\"),\nIF(W19=\"M\",\"-\"&INDEX(W$1:W$104,1)&CHAR(10),\"\"),\nIF(X19=\"M\",\"-\"&INDEX(X$1:X$104,1)&CHAR(10),\"\"),\nIF(Y19=\"M\",\"-\"&INDEX(Y$1:Y$104,1)&CHAR(10),\"\"),\nIF(Z19=\"M\",\"-\"&INDEX(Z$1:Z$104,1)&CHAR(10),\"\"),\nIF(AA19=\"M\",\"-\"&INDEX(AA$1:AA$104,1)&CHAR(10),\"\"),\nIF(AB19=\"M\",\"-\"&INDEX(AB$1:AB$104,1)&CHAR(10),\"\"),\nIF(AC19=\"M\",\"-\"&INDEX(AC$1:AC$104,1)&CHAR(10),\"\"),\nIF(AD19=\"M\",\"-\"&INDEX(AD$1:AD$104,1)&CHAR(10),\"\"))","v":"-Electrical.Statement of Attainment.UETTDRRF01 - Apply ESI safety rules, codes of practice and procedures for work\n-Network Operator.Certificate.I0102 - Ausgrid - Environmental Awareness\n-Electrical.Statement of Attainment.UETTDRRF09 - Apply access procedures to work on or near electrical network infrastructure\n-Network Operator.Certificate.SC1100A - Working Near or Around Underground Cables\n-Network Operator.Certificate.QUAL00066 - GIS Map Reading\n-Network Operator.Certificate.SSAB1001 - Ausgrid - Asbestos Awareness\n"},"","","",""]
["Cable Laying - Field Recorders","M","M","M",null,"M","M","M",null,"M","SE1000, RF0003, SC1100",null,"M",null,null,"M",null,null,null,null,null,null,null,null,null,null,null,null,null,null,null,null,null,null,null,null,null,null,null,null,null,null,null,null,null,null,null,null,null,null,null,null,null,null,null,null,null,null,null,null,null,null,null,null,null,null,null,null,null,null,null,null,null,null,null,null,null,null,null,null,null,null,null,null,null,null,null,null,null,null,null,null,null,null,null,null,null,null,null,null,null,null,null,null,null,null,null,null,null,null,null,null,null,null,null,null,null,null,null,null,null,null,null,null,null,null,null,null,"-First Aid.Statement of Attainment.HLTAID001 - Perform CPR\n-Electrical.Statement of Attainment.UETTDRRF06 - Perform rescue from a live LV panel\n-Electrical.Statement of Attainment.UETTDRRF10 - First Aid in an ESI Environment","",{"$f":"CONCATENATE(\nIF(E20=\"M\",\"-\"&INDEX(E$1:E$104,1)&CHAR(10),\"\"),\nIF(F20=\"M\",\"-\"&INDEX(F$1:F$104,1)&CHAR(10),\"\"),\nIF(G20=\"M\",\"-\"&INDEX(G$1:G$104,1)&CHAR(10),\"\"),\nIF(H20=\"M\",\"-\"&INDEX(H$1:H$104,1)&CHAR(10),\"\"),\nIF(I20=\"M\",\"-\"&INDEX(I$1:I$104,1)&CHAR(10),\"\"),\nIF(J20=\"M\",\"-\"&INDEX(J$1:J$104,1)&CHAR(10),\"\"),\nIF(K20=\"M\",\"-\"&INDEX(K$1:K$104,1)&CHAR(10),\"\"),\nIF(L20=\"M\",\"-\"&INDEX(L$1:L$104,1)&CHAR(10),\"\"),\nIF(M20=\"M\",\"-\"&INDEX(M$1:M118,1)&CHAR(10),\"\"),\nIF(N20=\"M\",\"-\"&INDEX(N$1:N$104,1)&CHAR(10),\"\"),\nIF(O20=\"M\",\"-\"&INDEX(O$1:O$104,1)&CHAR(10),\"\"),\nIF(P20=\"M\",\"-\"&INDEX(P$1:P$104,1)&CHAR(10),\"\"),\nIF(Q20=\"M\",\"-\"&INDEX(Q$1:Q$104,1)&CHAR(10),\"\"),\nIF(R20=\"M\",\"-\"&INDEX(R$1:R$104,1)&CHAR(10),\"\"),\nIF(S20=\"M\",\"-\"&INDEX(S$1:S$104,1)&CHAR(10),\"\"),\nIF(T20=\"M\",\"-\"&INDEX(T$1:T$104,1)&CHAR(10),\"\"),\nIF(U20=\"M\",\"-\"&INDEX(U$1:U$104,1)&CHAR(10),\"\"),\nIF(V20=\"M\",\"-\"&INDEX(V$1:V$104,1)&CHAR(10),\"\"),\nIF(W20=\"M\",\"-\"&INDEX(W$1:W$104,1)&CHAR(10),\"\"),\nIF(X20=\"M\",\"-\"&INDEX(X$1:X$104,1)&CHAR(10),\"\"),\nIF(Y20=\"M\",\"-\"&INDEX(Y$1:Y$104,1)&CHAR(10),\"\"),\nIF(Z20=\"M\",\"-\"&INDEX(Z$1:Z$104,1)&CHAR(10),\"\"),\nIF(AA20=\"M\",\"-\"&INDEX(AA$1:AA$104,1)&CHAR(10),\"\"),\nIF(AB20=\"M\",\"-\"&INDEX(AB$1:AB$104,1)&CHAR(10),\"\"),\nIF(AC20=\"M\",\"-\"&INDEX(AC$1:AC$104,1)&CHAR(10),\"\"),\nIF(AD20=\"M\",\"-\"&INDEX(AD$1:AD$104,1)&CHAR(10),\"\"))","v":"-Electrical.Statement of Attainment.UETTDRRF01 - Apply ESI safety rules, codes of practice and procedures for work\n-Network Operator.Certificate.I0102 - Ausgrid - Environmental Awareness\n-Electrical.Statement of Attainment.UETTDRRF09 - Apply access procedures to work on or near electrical network infrastructure\n-Network Operator.Certificate.SC1100A - Working Near or Around Underground Cables\n-Network Operator.Certificate.AMGS0001 - Field Recording of Network Assets\n-Network Operator.Certificate.QUAL00066 - GIS Map Reading\n"},"","","",""]
["Cable Laying - Labourers","M","M","M",null,"M","M","M",null,"M","SE1000, RF0003, SC1100",null,null,null,null,null,"M",null,null,null,null,null,null,null,null,null,null,null,null,null,null,null,null,null,null,null,null,null,null,null,null,null,null,null,null,null,null,null,null,null,null,null,null,null,null,null,null,null,null,null,null,null,null,null,null,null,null,null,null,null,null,null,null,null,null,null,null,null,null,null,null,null,null,null,null,null,null,null,null,null,null,null,null,null,null,null,null,null,null,null,null,null,null,null,null,null,null,null,null,null,null,null,null,null,null,null,null,null,null,null,null,null,null,null,null,null,null,null,"-First Aid.Statement of Attainment.HLTAID001 - Perform CPR\n-Electrical.Statement of Attainment.UETTDRRF06 - Perform rescue from a live LV panel\n-Electrical.Statement of Attainment.UETTDRRF10 - First Aid in an ESI Environment","",{"$f":"CONCATENATE(\nIF(E21=\"M\",\"-\"&INDEX(E$1:E$104,1)&CHAR(10),\"\"),\nIF(F21=\"M\",\"-\"&INDEX(F$1:F$104,1)&CHAR(10),\"\"),\nIF(G21=\"M\",\"-\"&INDEX(G$1:G$104,1)&CHAR(10),\"\"),\nIF(H21=\"M\",\"-\"&INDEX(H$1:H$104,1)&CHAR(10),\"\"),\nIF(I21=\"M\",\"-\"&INDEX(I$1:I$104,1)&CHAR(10),\"\"),\nIF(J21=\"M\",\"-\"&INDEX(J$1:J$104,1)&CHAR(10),\"\"),\nIF(K21=\"M\",\"-\"&INDEX(K$1:K$104,1)&CHAR(10),\"\"),\nIF(L21=\"M\",\"-\"&INDEX(L$1:L$104,1)&CHAR(10),\"\"),\nIF(M21=\"M\",\"-\"&INDEX(M$1:M118,1)&CHAR(10),\"\"),\nIF(N21=\"M\",\"-\"&INDEX(N$1:N$104,1)&CHAR(10),\"\"),\nIF(O21=\"M\",\"-\"&INDEX(O$1:O$104,1)&CHAR(10),\"\"),\nIF(P21=\"M\",\"-\"&INDEX(P$1:P$104,1)&CHAR(10),\"\"),\nIF(Q21=\"M\",\"-\"&INDEX(Q$1:Q$104,1)&CHAR(10),\"\"),\nIF(R21=\"M\",\"-\"&INDEX(R$1:R$104,1)&CHAR(10),\"\"),\nIF(S21=\"M\",\"-\"&INDEX(S$1:S$104,1)&CHAR(10),\"\"),\nIF(T21=\"M\",\"-\"&INDEX(T$1:T$104,1)&CHAR(10),\"\"),\nIF(U21=\"M\",\"-\"&INDEX(U$1:U$104,1)&CHAR(10),\"\"),\nIF(V21=\"M\",\"-\"&INDEX(V$1:V$104,1)&CHAR(10),\"\"),\nIF(W21=\"M\",\"-\"&INDEX(W$1:W$104,1)&CHAR(10),\"\"),\nIF(X21=\"M\",\"-\"&INDEX(X$1:X$104,1)&CHAR(10),\"\"),\nIF(Y21=\"M\",\"-\"&INDEX(Y$1:Y$104,1)&CHAR(10),\"\"),\nIF(Z21=\"M\",\"-\"&INDEX(Z$1:Z$104,1)&CHAR(10),\"\"),\nIF(AA21=\"M\",\"-\"&INDEX(AA$1:AA$104,1)&CHAR(10),\"\"),\nIF(AB21=\"M\",\"-\"&INDEX(AB$1:AB$104,1)&CHAR(10),\"\"),\nIF(AC21=\"M\",\"-\"&INDEX(AC$1:AC$104,1)&CHAR(10),\"\"),\nIF(AD21=\"M\",\"-\"&INDEX(AD$1:AD$104,1)&CHAR(10),\"\"))","v":"-Electrical.Statement of Attainment.UETTDRRF01 - Apply ESI safety rules, codes of practice and procedures for work\n-Network Operator.Certificate.I0102 - Ausgrid - Environmental Awareness\n-Electrical.Statement of Attainment.UETTDRRF09 - Apply access procedures to work on or near electrical network infrastructure\n-Network Operator.Certificate.SC1100A - Working Near or Around Underground Cables\n-Network Operator.Certificate.SSAB1001 - Ausgrid - Asbestos Awareness\n"},"","","",""]
["Cable Laying - Machine operators / observers","M","M","M",null,"M","M","M",null,"M","SE1000, RF0003, SC1100",null,null,null,null,null,null,null,null,null,null,null,null,null,null,null,null,null,null,null,null,null,null,null,null,null,null,null,null,null,null,null,null,null,null,null,null,null,null,null,null,null,null,null,null,null,null,null,null,null,null,null,null,null,null,null,null,null,null,null,null,null,null,null,null,null,null,null,null,null,null,null,null,null,null,null,null,null,null,null,null,null,null,null,null,null,null,null,null,null,null,null,null,null,null,null,null,null,null,null,null,null,null,null,null,null,null,null,null,null,null,null,null,null,null,null,null,null,"-First Aid.Statement of Attainment.HLTAID001 - Perform CPR\n-Electrical.Statement of Attainment.UETTDRRF06 - Perform rescue from a live LV panel\n-Electrical.Statement of Attainment.UETTDRRF10 - First Aid in an ESI Environment","",{"$f":"CONCATENATE(\nIF(E22=\"M\",\"-\"&INDEX(E$1:E$104,1)&CHAR(10),\"\"),\nIF(F22=\"M\",\"-\"&INDEX(F$1:F$104,1)&CHAR(10),\"\"),\nIF(G22=\"M\",\"-\"&INDEX(G$1:G$104,1)&CHAR(10),\"\"),\nIF(H22=\"M\",\"-\"&INDEX(H$1:H$104,1)&CHAR(10),\"\"),\nIF(I22=\"M\",\"-\"&INDEX(I$1:I$104,1)&CHAR(10),\"\"),\nIF(J22=\"M\",\"-\"&INDEX(J$1:J$104,1)&CHAR(10),\"\"),\nIF(K22=\"M\",\"-\"&INDEX(K$1:K$104,1)&CHAR(10),\"\"),\nIF(L22=\"M\",\"-\"&INDEX(L$1:L$104,1)&CHAR(10),\"\"),\nIF(M22=\"M\",\"-\"&INDEX(M$1:M118,1)&CHAR(10),\"\"),\nIF(N22=\"M\",\"-\"&INDEX(N$1:N$104,1)&CHAR(10),\"\"),\nIF(O22=\"M\",\"-\"&INDEX(O$1:O$104,1)&CHAR(10),\"\"),\nIF(P22=\"M\",\"-\"&INDEX(P$1:P$104,1)&CHAR(10),\"\"),\nIF(Q22=\"M\",\"-\"&INDEX(Q$1:Q$104,1)&CHAR(10),\"\"),\nIF(R22=\"M\",\"-\"&INDEX(R$1:R$104,1)&CHAR(10),\"\"),\nIF(S22=\"M\",\"-\"&INDEX(S$1:S$104,1)&CHAR(10),\"\"),\nIF(T22=\"M\",\"-\"&INDEX(T$1:T$104,1)&CHAR(10),\"\"),\nIF(U22=\"M\",\"-\"&INDEX(U$1:U$104,1)&CHAR(10),\"\"),\nIF(V22=\"M\",\"-\"&INDEX(V$1:V$104,1)&CHAR(10),\"\"),\nIF(W22=\"M\",\"-\"&INDEX(W$1:W$104,1)&CHAR(10),\"\"),\nIF(X22=\"M\",\"-\"&INDEX(X$1:X$104,1)&CHAR(10),\"\"),\nIF(Y22=\"M\",\"-\"&INDEX(Y$1:Y$104,1)&CHAR(10),\"\"),\nIF(Z22=\"M\",\"-\"&INDEX(Z$1:Z$104,1)&CHAR(10),\"\"),\nIF(AA22=\"M\",\"-\"&INDEX(AA$1:AA$104,1)&CHAR(10),\"\"),\nIF(AB22=\"M\",\"-\"&INDEX(AB$1:AB$104,1)&CHAR(10),\"\"),\nIF(AC22=\"M\",\"-\"&INDEX(AC$1:AC$104,1)&CHAR(10),\"\"),\nIF(AD22=\"M\",\"-\"&INDEX(AD$1:AD$104,1)&CHAR(10),\"\"))","v":"-Electrical.Statement of Attainment.UETTDRRF01 - Apply ESI safety rules, codes of practice and procedures for work\n-Network Operator.Certificate.I0102 - Ausgrid - Environmental Awareness\n-Electrical.Statement of Attainment.UETTDRRF09 - Apply access procedures to work on or near electrical network infrastructure\n-Network Operator.Certificate.SC1100A - Working Near or Around Underground Cables\n"},"","","",""]
["Cable Laying - Supervisor","M","M","M",null,"M","M","M",null,"M","SE1000, RF0003, SC1100",null,null,null,null,null,"M",null,null,null,null,null,null,null,null,null,null,null,null,null,null,null,null,null,null,null,null,null,null,null,null,null,null,null,null,null,null,null,null,null,null,null,null,null,null,null,null,null,null,null,null,null,null,null,null,null,null,null,null,null,null,null,null,null,null,null,null,null,null,null,null,null,null,null,null,null,null,null,null,null,null,null,null,null,null,null,null,null,null,null,null,null,null,null,null,null,null,null,null,null,null,null,null,null,null,null,null,null,null,null,null,null,null,null,null,null,null,null,"-First Aid.Statement of Attainment.HLTAID001 - Perform CPR\n-Electrical.Statement of Attainment.UETTDRRF06 - Perform rescue from a live LV panel\n-Electrical.Statement of Attainment.UETTDRRF10 - First Aid in an ESI Environment","",{"$f":"CONCATENATE(\nIF(E23=\"M\",\"-\"&INDEX(E$1:E$104,1)&CHAR(10),\"\"),\nIF(F23=\"M\",\"-\"&INDEX(F$1:F$104,1)&CHAR(10),\"\"),\nIF(G23=\"M\",\"-\"&INDEX(G$1:G$104,1)&CHAR(10),\"\"),\nIF(H23=\"M\",\"-\"&INDEX(H$1:H$104,1)&CHAR(10),\"\"),\nIF(I23=\"M\",\"-\"&INDEX(I$1:I$104,1)&CHAR(10),\"\"),\nIF(J23=\"M\",\"-\"&INDEX(J$1:J$104,1)&CHAR(10),\"\"),\nIF(K23=\"M\",\"-\"&INDEX(K$1:K$104,1)&CHAR(10),\"\"),\nIF(L23=\"M\",\"-\"&INDEX(L$1:L$104,1)&CHAR(10),\"\"),\nIF(M23=\"M\",\"-\"&INDEX(M$1:M118,1)&CHAR(10),\"\"),\nIF(N23=\"M\",\"-\"&INDEX(N$1:N$104,1)&CHAR(10),\"\"),\nIF(O23=\"M\",\"-\"&INDEX(O$1:O$104,1)&CHAR(10),\"\"),\nIF(P23=\"M\",\"-\"&INDEX(P$1:P$104,1)&CHAR(10),\"\"),\nIF(Q23=\"M\",\"-\"&INDEX(Q$1:Q$104,1)&CHAR(10),\"\"),\nIF(R23=\"M\",\"-\"&INDEX(R$1:R$104,1)&CHAR(10),\"\"),\nIF(S23=\"M\",\"-\"&INDEX(S$1:S$104,1)&CHAR(10),\"\"),\nIF(T23=\"M\",\"-\"&INDEX(T$1:T$104,1)&CHAR(10),\"\"),\nIF(U23=\"M\",\"-\"&INDEX(U$1:U$104,1)&CHAR(10),\"\"),\nIF(V23=\"M\",\"-\"&INDEX(V$1:V$104,1)&CHAR(10),\"\"),\nIF(W23=\"M\",\"-\"&INDEX(W$1:W$104,1)&CHAR(10),\"\"),\nIF(X23=\"M\",\"-\"&INDEX(X$1:X$104,1)&CHAR(10),\"\"),\nIF(Y23=\"M\",\"-\"&INDEX(Y$1:Y$104,1)&CHAR(10),\"\"),\nIF(Z23=\"M\",\"-\"&INDEX(Z$1:Z$104,1)&CHAR(10),\"\"),\nIF(AA23=\"M\",\"-\"&INDEX(AA$1:AA$104,1)&CHAR(10),\"\"),\nIF(AB23=\"M\",\"-\"&INDEX(AB$1:AB$104,1)&CHAR(10),\"\"),\nIF(AC23=\"M\",\"-\"&INDEX(AC$1:AC$104,1)&CHAR(10),\"\"),\nIF(AD23=\"M\",\"-\"&INDEX(AD$1:AD$104,1)&CHAR(10),\"\"))","v":"-Electrical.Statement of Attainment.UETTDRRF01 - Apply ESI safety rules, codes of practice and procedures for work\n-Network Operator.Certificate.I0102 - Ausgrid - Environmental Awareness\n-Electrical.Statement of Attainment.UETTDRRF09 - Apply access procedures to work on or near electrical network infrastructure\n-Network Operator.Certificate.SC1100A - Working Near or Around Underground Cables\n-Network Operator.Certificate.SSAB1001 - Ausgrid - Asbestos Awareness\n"},"","","",""]
["Confined Space Authorisation",null,null,null,null,null,null,null,null,null,null,null,null,null,null,null,null,null,null,null,null,null,null,null,null,null,null,null,null,null,null,null,null,null,null,null,null,null,null,null,null,null,null,null,null,null,null,null,null,null,null,null,null,null,null,null,null,null,null,null,null,null,null,null,null,null,null,null,null,null,null,null,null,null,null,null,null,null,null,null,null,null,null,null,null,null,null,null,null,null,null,null,null,null,null,null,null,null,null,null,null,null,null,null,"M",null,null,null,null,null,null,null,null,null,null,null,null,null,null,null,null,null,null,null,null,null,null,null,"","-Electrical.Statement of Attainment.UETTDREL14 - Working safely near live electrical apparatus as a non electrical worker \n",{"$f":"CONCATENATE(\nIF(E24=\"M\",\"-\"&INDEX(E$1:E$104,1)&CHAR(10),\"\"),\nIF(F24=\"M\",\"-\"&INDEX(F$1:F$104,1)&CHAR(10),\"\"),\nIF(G24=\"M\",\"-\"&INDEX(G$1:G$104,1)&CHAR(10),\"\"),\nIF(H24=\"M\",\"-\"&INDEX(H$1:H$104,1)&CHAR(10),\"\"),\nIF(I24=\"M\",\"-\"&INDEX(I$1:I$104,1)&CHAR(10),\"\"),\nIF(J24=\"M\",\"-\"&INDEX(J$1:J$104,1)&CHAR(10),\"\"),\nIF(K24=\"M\",\"-\"&INDEX(K$1:K$104,1)&CHAR(10),\"\"),\nIF(L24=\"M\",\"-\"&INDEX(L$1:L$104,1)&CHAR(10),\"\"),\nIF(M24=\"M\",\"-\"&INDEX(M$1:M118,1)&CHAR(10),\"\"),\nIF(N24=\"M\",\"-\"&INDEX(N$1:N$104,1)&CHAR(10),\"\"),\nIF(O24=\"M\",\"-\"&INDEX(O$1:O$104,1)&CHAR(10),\"\"),\nIF(P24=\"M\",\"-\"&INDEX(P$1:P$104,1)&CHAR(10),\"\"),\nIF(Q24=\"M\",\"-\"&INDEX(Q$1:Q$104,1)&CHAR(10),\"\"),\nIF(R24=\"M\",\"-\"&INDEX(R$1:R$104,1)&CHAR(10),\"\"),\nIF(S24=\"M\",\"-\"&INDEX(S$1:S$104,1)&CHAR(10),\"\"),\nIF(T24=\"M\",\"-\"&INDEX(T$1:T$104,1)&CHAR(10),\"\"),\nIF(U24=\"M\",\"-\"&INDEX(U$1:U$104,1)&CHAR(10),\"\"),\nIF(V24=\"M\",\"-\"&INDEX(V$1:V$104,1)&CHAR(10),\"\"),\nIF(W24=\"M\",\"-\"&INDEX(W$1:W$104,1)&CHAR(10),\"\"),\nIF(X24=\"M\",\"-\"&INDEX(X$1:X$104,1)&CHAR(10),\"\"),\nIF(Y24=\"M\",\"-\"&INDEX(Y$1:Y$104,1)&CHAR(10),\"\"),\nIF(Z24=\"M\",\"-\"&INDEX(Z$1:Z$104,1)&CHAR(10),\"\"),\nIF(AA24=\"M\",\"-\"&INDEX(AA$1:AA$104,1)&CHAR(10),\"\"),\nIF(AB24=\"M\",\"-\"&INDEX(AB$1:AB$104,1)&CHAR(10),\"\"),\nIF(AC24=\"M\",\"-\"&INDEX(AC$1:AC$104,1)&CHAR(10),\"\"),\nIF(AD24=\"M\",\"-\"&INDEX(AD$1:AD$104,1)&CHAR(10),\"\"))","v":""},"","","-Electrical.Statement of Attainment.UETTDREL14 - Working safely near live electrical apparatus as a non electrical worker \n",""]
["Crane Operator - Bridge / Gantry",null,null,null,null,null,null,null,null,null,null,null,null,null,null,null,null,null,null,null,null,null,null,null,null,null,null,null,null,null,null,null,null,null,null,null,null,null,null,null,null,null,null,null,null,null,null,null,null,null,null,null,null,null,null,null,null,null,null,null,"M",null,null,null,null,null,null,null,null,null,null,null,null,null,null,null,null,null,null,null,null,null,null,null,null,null,null,null,null,null,null,null,null,null,null,null,null,null,null,null,null,null,null,null,"M",null,null,null,null,null,null,null,null,null,null,null,null,null,null,null,null,null,null,null,null,null,null,null,"","-High Risk Work.Licence.Bridge and gantry Crane (CB)\n-Electrical.Statement of Attainment.UETTDREL14 - Working safely near live electrical apparatus as a non electrical worker \n",{"$f":"CONCATENATE(\nIF(E25=\"M\",\"-\"&INDEX(E$1:E$104,1)&CHAR(10),\"\"),\nIF(F25=\"M\",\"-\"&INDEX(F$1:F$104,1)&CHAR(10),\"\"),\nIF(G25=\"M\",\"-\"&INDEX(G$1:G$104,1)&CHAR(10),\"\"),\nIF(H25=\"M\",\"-\"&INDEX(H$1:H$104,1)&CHAR(10),\"\"),\nIF(I25=\"M\",\"-\"&INDEX(I$1:I$104,1)&CHAR(10),\"\"),\nIF(J25=\"M\",\"-\"&INDEX(J$1:J$104,1)&CHAR(10),\"\"),\nIF(K25=\"M\",\"-\"&INDEX(K$1:K$104,1)&CHAR(10),\"\"),\nIF(L25=\"M\",\"-\"&INDEX(L$1:L$104,1)&CHAR(10),\"\"),\nIF(M25=\"M\",\"-\"&INDEX(M$1:M118,1)&CHAR(10),\"\"),\nIF(N25=\"M\",\"-\"&INDEX(N$1:N$104,1)&CHAR(10),\"\"),\nIF(O25=\"M\",\"-\"&INDEX(O$1:O$104,1)&CHAR(10),\"\"),\nIF(P25=\"M\",\"-\"&INDEX(P$1:P$104,1)&CHAR(10),\"\"),\nIF(Q25=\"M\",\"-\"&INDEX(Q$1:Q$104,1)&CHAR(10),\"\"),\nIF(R25=\"M\",\"-\"&INDEX(R$1:R$104,1)&CHAR(10),\"\"),\nIF(S25=\"M\",\"-\"&INDEX(S$1:S$104,1)&CHAR(10),\"\"),\nIF(T25=\"M\",\"-\"&INDEX(T$1:T$104,1)&CHAR(10),\"\"),\nIF(U25=\"M\",\"-\"&INDEX(U$1:U$104,1)&CHAR(10),\"\"),\nIF(V25=\"M\",\"-\"&INDEX(V$1:V$104,1)&CHAR(10),\"\"),\nIF(W25=\"M\",\"-\"&INDEX(W$1:W$104,1)&CHAR(10),\"\"),\nIF(X25=\"M\",\"-\"&INDEX(X$1:X$104,1)&CHAR(10),\"\"),\nIF(Y25=\"M\",\"-\"&INDEX(Y$1:Y$104,1)&CHAR(10),\"\"),\nIF(Z25=\"M\",\"-\"&INDEX(Z$1:Z$104,1)&CHAR(10),\"\"),\nIF(AA25=\"M\",\"-\"&INDEX(AA$1:AA$104,1)&CHAR(10),\"\"),\nIF(AB25=\"M\",\"-\"&INDEX(AB$1:AB$104,1)&CHAR(10),\"\"),\nIF(AC25=\"M\",\"-\"&INDEX(AC$1:AC$104,1)&CHAR(10),\"\"),\nIF(AD25=\"M\",\"-\"&INDEX(AD$1:AD$104,1)&CHAR(10),\"\"))","v":""},"","-High Risk Work.Licence.Bridge and gantry Crane (CB)\n","-Electrical.Statement of Attainment.UETTDREL14 - Working safely near live electrical apparatus as a non electrical worker \n",""]
["Crane Operator - Concrete Placing Boom",null,null,null,null,null,null,null,null,null,null,null,null,null,null,null,null,null,null,null,null,null,null,null,null,null,null,null,null,null,null,null,null,null,"M",null,null,null,null,null,null,null,null,null,null,null,null,null,null,null,null,null,null,null,null,null,null,null,null,null,null,"M",null,null,null,null,null,null,null,null,null,null,null,null,null,null,null,null,null,null,null,null,null,null,null,null,null,null,null,null,null,null,null,null,null,null,null,null,null,null,null,null,null,null,null,null,null,null,null,null,null,null,null,null,null,null,null,null,null,null,null,null,null,null,null,null,null,null,"","-Confined Space.Statement of Attainment.RIIWHS202 - Enter and work in confined spaces\n-High Risk Work.Licence.Concrete Placing Boom (PB)\n",{"$f":"CONCATENATE(\nIF(E26=\"M\",\"-\"&INDEX(E$1:E$104,1)&CHAR(10),\"\"),\nIF(F26=\"M\",\"-\"&INDEX(F$1:F$104,1)&CHAR(10),\"\"),\nIF(G26=\"M\",\"-\"&INDEX(G$1:G$104,1)&CHAR(10),\"\"),\nIF(H26=\"M\",\"-\"&INDEX(H$1:H$104,1)&CHAR(10),\"\"),\nIF(I26=\"M\",\"-\"&INDEX(I$1:I$104,1)&CHAR(10),\"\"),\nIF(J26=\"M\",\"-\"&INDEX(J$1:J$104,1)&CHAR(10),\"\"),\nIF(K26=\"M\",\"-\"&INDEX(K$1:K$104,1)&CHAR(10),\"\"),\nIF(L26=\"M\",\"-\"&INDEX(L$1:L$104,1)&CHAR(10),\"\"),\nIF(M26=\"M\",\"-\"&INDEX(M$1:M118,1)&CHAR(10),\"\"),\nIF(N26=\"M\",\"-\"&INDEX(N$1:N$104,1)&CHAR(10),\"\"),\nIF(O26=\"M\",\"-\"&INDEX(O$1:O$104,1)&CHAR(10),\"\"),\nIF(P26=\"M\",\"-\"&INDEX(P$1:P$104,1)&CHAR(10),\"\"),\nIF(Q26=\"M\",\"-\"&INDEX(Q$1:Q$104,1)&CHAR(10),\"\"),\nIF(R26=\"M\",\"-\"&INDEX(R$1:R$104,1)&CHAR(10),\"\"),\nIF(S26=\"M\",\"-\"&INDEX(S$1:S$104,1)&CHAR(10),\"\"),\nIF(T26=\"M\",\"-\"&INDEX(T$1:T$104,1)&CHAR(10),\"\"),\nIF(U26=\"M\",\"-\"&INDEX(U$1:U$104,1)&CHAR(10),\"\"),\nIF(V26=\"M\",\"-\"&INDEX(V$1:V$104,1)&CHAR(10),\"\"),\nIF(W26=\"M\",\"-\"&INDEX(W$1:W$104,1)&CHAR(10),\"\"),\nIF(X26=\"M\",\"-\"&INDEX(X$1:X$104,1)&CHAR(10),\"\"),\nIF(Y26=\"M\",\"-\"&INDEX(Y$1:Y$104,1)&CHAR(10),\"\"),\nIF(Z26=\"M\",\"-\"&INDEX(Z$1:Z$104,1)&CHAR(10),\"\"),\nIF(AA26=\"M\",\"-\"&INDEX(AA$1:AA$104,1)&CHAR(10),\"\"),\nIF(AB26=\"M\",\"-\"&INDEX(AB$1:AB$104,1)&CHAR(10),\"\"),\nIF(AC26=\"M\",\"-\"&INDEX(AC$1:AC$104,1)&CHAR(10),\"\"),\nIF(AD26=\"M\",\"-\"&INDEX(AD$1:AD$104,1)&CHAR(10),\"\"))","v":""},"-Confined Space.Statement of Attainment.RIIWHS202 - Enter and work in confined spaces\n","-High Risk Work.Licence.Concrete Placing Boom (PB)\n","",""]
["Crane Operator - Derrick",null,null,null,null,null,null,null,null,null,null,null,null,null,null,null,null,null,null,null,null,null,null,null,null,null,null,null,null,null,null,null,null,null,null,null,null,null,null,null,null,null,null,null,null,null,null,null,null,null,null,null,null,null,null,null,null,null,null,null,null,null,"M",null,null,null,null,null,null,null,null,null,null,null,null,null,null,null,null,null,null,null,null,null,null,null,null,null,null,null,null,null,null,null,null,null,null,null,null,null,null,null,null,null,null,null,null,null,null,null,null,null,null,null,null,null,null,null,null,null,null,null,null,null,null,null,null,null,"","-High Risk Work.Licence.Derrick Crane (CD)\n",{"$f":"CONCATENATE(\nIF(E27=\"M\",\"-\"&INDEX(E$1:E$104,1)&CHAR(10),\"\"),\nIF(F27=\"M\",\"-\"&INDEX(F$1:F$104,1)&CHAR(10),\"\"),\nIF(G27=\"M\",\"-\"&INDEX(G$1:G$104,1)&CHAR(10),\"\"),\nIF(H27=\"M\",\"-\"&INDEX(H$1:H$104,1)&CHAR(10),\"\"),\nIF(I27=\"M\",\"-\"&INDEX(I$1:I$104,1)&CHAR(10),\"\"),\nIF(J27=\"M\",\"-\"&INDEX(J$1:J$104,1)&CHAR(10),\"\"),\nIF(K27=\"M\",\"-\"&INDEX(K$1:K$104,1)&CHAR(10),\"\"),\nIF(L27=\"M\",\"-\"&INDEX(L$1:L$104,1)&CHAR(10),\"\"),\nIF(M27=\"M\",\"-\"&INDEX(M$1:M118,1)&CHAR(10),\"\"),\nIF(N27=\"M\",\"-\"&INDEX(N$1:N$104,1)&CHAR(10),\"\"),\nIF(O27=\"M\",\"-\"&INDEX(O$1:O$104,1)&CHAR(10),\"\"),\nIF(P27=\"M\",\"-\"&INDEX(P$1:P$104,1)&CHAR(10),\"\"),\nIF(Q27=\"M\",\"-\"&INDEX(Q$1:Q$104,1)&CHAR(10),\"\"),\nIF(R27=\"M\",\"-\"&INDEX(R$1:R$104,1)&CHAR(10),\"\"),\nIF(S27=\"M\",\"-\"&INDEX(S$1:S$104,1)&CHAR(10),\"\"),\nIF(T27=\"M\",\"-\"&INDEX(T$1:T$104,1)&CHAR(10),\"\"),\nIF(U27=\"M\",\"-\"&INDEX(U$1:U$104,1)&CHAR(10),\"\"),\nIF(V27=\"M\",\"-\"&INDEX(V$1:V$104,1)&CHAR(10),\"\"),\nIF(W27=\"M\",\"-\"&INDEX(W$1:W$104,1)&CHAR(10),\"\"),\nIF(X27=\"M\",\"-\"&INDEX(X$1:X$104,1)&CHAR(10),\"\"),\nIF(Y27=\"M\",\"-\"&INDEX(Y$1:Y$104,1)&CHAR(10),\"\"),\nIF(Z27=\"M\",\"-\"&INDEX(Z$1:Z$104,1)&CHAR(10),\"\"),\nIF(AA27=\"M\",\"-\"&INDEX(AA$1:AA$104,1)&CHAR(10),\"\"),\nIF(AB27=\"M\",\"-\"&INDEX(AB$1:AB$104,1)&CHAR(10),\"\"),\nIF(AC27=\"M\",\"-\"&INDEX(AC$1:AC$104,1)&CHAR(10),\"\"),\nIF(AD27=\"M\",\"-\"&INDEX(AD$1:AD$104,1)&CHAR(10),\"\"))","v":""},"","-High Risk Work.Licence.Derrick Crane (CD)\n","",""]
["Crane Operator - Non Slewing Mobile Crane >3t",null,null,null,null,null,null,null,null,null,null,null,null,null,null,null,null,null,null,null,null,null,null,null,null,null,null,null,null,null,null,null,null,null,null,null,null,null,null,null,null,null,null,null,null,null,null,null,null,null,null,null,null,null,null,null,null,null,null,null,null,null,null,null,null,null,null,null,"M",null,null,null,null,null,null,null,null,null,null,null,null,null,null,null,null,null,null,null,null,null,null,null,null,null,null,null,null,null,null,null,null,null,null,null,null,null,null,null,null,null,null,null,null,null,null,null,null,null,null,null,null,null,null,null,null,null,null,null,"","-High Risk Work.Licence.Non Slewing Mobile Crane >3t (CN)\n",{"$f":"CONCATENATE(\nIF(E28=\"M\",\"-\"&INDEX(E$1:E$104,1)&CHAR(10),\"\"),\nIF(F28=\"M\",\"-\"&INDEX(F$1:F$104,1)&CHAR(10),\"\"),\nIF(G28=\"M\",\"-\"&INDEX(G$1:G$104,1)&CHAR(10),\"\"),\nIF(H28=\"M\",\"-\"&INDEX(H$1:H$104,1)&CHAR(10),\"\"),\nIF(I28=\"M\",\"-\"&INDEX(I$1:I$104,1)&CHAR(10),\"\"),\nIF(J28=\"M\",\"-\"&INDEX(J$1:J$104,1)&CHAR(10),\"\"),\nIF(K28=\"M\",\"-\"&INDEX(K$1:K$104,1)&CHAR(10),\"\"),\nIF(L28=\"M\",\"-\"&INDEX(L$1:L$104,1)&CHAR(10),\"\"),\nIF(M28=\"M\",\"-\"&INDEX(M$1:M118,1)&CHAR(10),\"\"),\nIF(N28=\"M\",\"-\"&INDEX(N$1:N$104,1)&CHAR(10),\"\"),\nIF(O28=\"M\",\"-\"&INDEX(O$1:O$104,1)&CHAR(10),\"\"),\nIF(P28=\"M\",\"-\"&INDEX(P$1:P$104,1)&CHAR(10),\"\"),\nIF(Q28=\"M\",\"-\"&INDEX(Q$1:Q$104,1)&CHAR(10),\"\"),\nIF(R28=\"M\",\"-\"&INDEX(R$1:R$104,1)&CHAR(10),\"\"),\nIF(S28=\"M\",\"-\"&INDEX(S$1:S$104,1)&CHAR(10),\"\"),\nIF(T28=\"M\",\"-\"&INDEX(T$1:T$104,1)&CHAR(10),\"\"),\nIF(U28=\"M\",\"-\"&INDEX(U$1:U$104,1)&CHAR(10),\"\"),\nIF(V28=\"M\",\"-\"&INDEX(V$1:V$104,1)&CHAR(10),\"\"),\nIF(W28=\"M\",\"-\"&INDEX(W$1:W$104,1)&CHAR(10),\"\"),\nIF(X28=\"M\",\"-\"&INDEX(X$1:X$104,1)&CHAR(10),\"\"),\nIF(Y28=\"M\",\"-\"&INDEX(Y$1:Y$104,1)&CHAR(10),\"\"),\nIF(Z28=\"M\",\"-\"&INDEX(Z$1:Z$104,1)&CHAR(10),\"\"),\nIF(AA28=\"M\",\"-\"&INDEX(AA$1:AA$104,1)&CHAR(10),\"\"),\nIF(AB28=\"M\",\"-\"&INDEX(AB$1:AB$104,1)&CHAR(10),\"\"),\nIF(AC28=\"M\",\"-\"&INDEX(AC$1:AC$104,1)&CHAR(10),\"\"),\nIF(AD28=\"M\",\"-\"&INDEX(AD$1:AD$104,1)&CHAR(10),\"\"))","v":""},"","-High Risk Work.Licence.Non Slewing Mobile Crane >3t (CN)\n","",""]
["Crane Operator - Portal Boom Crane",null,null,null,null,null,null,null,null,null,null,null,null,null,null,null,null,null,null,null,null,null,null,null,null,null,null,null,null,null,null,null,null,null,null,null,null,null,null,null,null,null,null,null,null,null,null,null,null,null,null,null,null,null,null,null,null,null,null,null,null,null,null,null,null,null,null,null,null,null,"M",null,null,null,null,null,null,null,null,null,null,null,null,null,null,null,null,null,null,null,null,null,null,null,null,null,null,null,null,null,null,null,null,null,null,null,null,null,null,null,null,null,null,null,null,null,null,null,null,null,null,null,null,null,null,null,null,null,"","-High Risk Work.Licence.Portal Boom Crane (CP)\n",{"$f":"CONCATENATE(\nIF(E29=\"M\",\"-\"&INDEX(E$1:E$104,1)&CHAR(10),\"\"),\nIF(F29=\"M\",\"-\"&INDEX(F$1:F$104,1)&CHAR(10),\"\"),\nIF(G29=\"M\",\"-\"&INDEX(G$1:G$104,1)&CHAR(10),\"\"),\nIF(H29=\"M\",\"-\"&INDEX(H$1:H$104,1)&CHAR(10),\"\"),\nIF(I29=\"M\",\"-\"&INDEX(I$1:I$104,1)&CHAR(10),\"\"),\nIF(J29=\"M\",\"-\"&INDEX(J$1:J$104,1)&CHAR(10),\"\"),\nIF(K29=\"M\",\"-\"&INDEX(K$1:K$104,1)&CHAR(10),\"\"),\nIF(L29=\"M\",\"-\"&INDEX(L$1:L$104,1)&CHAR(10),\"\"),\nIF(M29=\"M\",\"-\"&INDEX(M$1:M118,1)&CHAR(10),\"\"),\nIF(N29=\"M\",\"-\"&INDEX(N$1:N$104,1)&CHAR(10),\"\"),\nIF(O29=\"M\",\"-\"&INDEX(O$1:O$104,1)&CHAR(10),\"\"),\nIF(P29=\"M\",\"-\"&INDEX(P$1:P$104,1)&CHAR(10),\"\"),\nIF(Q29=\"M\",\"-\"&INDEX(Q$1:Q$104,1)&CHAR(10),\"\"),\nIF(R29=\"M\",\"-\"&INDEX(R$1:R$104,1)&CHAR(10),\"\"),\nIF(S29=\"M\",\"-\"&INDEX(S$1:S$104,1)&CHAR(10),\"\"),\nIF(T29=\"M\",\"-\"&INDEX(T$1:T$104,1)&CHAR(10),\"\"),\nIF(U29=\"M\",\"-\"&INDEX(U$1:U$104,1)&CHAR(10),\"\"),\nIF(V29=\"M\",\"-\"&INDEX(V$1:V$104,1)&CHAR(10),\"\"),\nIF(W29=\"M\",\"-\"&INDEX(W$1:W$104,1)&CHAR(10),\"\"),\nIF(X29=\"M\",\"-\"&INDEX(X$1:X$104,1)&CHAR(10),\"\"),\nIF(Y29=\"M\",\"-\"&INDEX(Y$1:Y$104,1)&CHAR(10),\"\"),\nIF(Z29=\"M\",\"-\"&INDEX(Z$1:Z$104,1)&CHAR(10),\"\"),\nIF(AA29=\"M\",\"-\"&INDEX(AA$1:AA$104,1)&CHAR(10),\"\"),\nIF(AB29=\"M\",\"-\"&INDEX(AB$1:AB$104,1)&CHAR(10),\"\"),\nIF(AC29=\"M\",\"-\"&INDEX(AC$1:AC$104,1)&CHAR(10),\"\"),\nIF(AD29=\"M\",\"-\"&INDEX(AD$1:AD$104,1)&CHAR(10),\"\"))","v":""},"","-High Risk Work.Licence.Portal Boom Crane (CP)\n","",""]
["Crane Operator - Self Erecting Crane",null,null,null,null,null,null,null,null,null,null,null,null,null,null,null,null,null,null,null,null,null,null,null,null,null,null,null,null,null,null,null,null,null,null,null,null,null,null,null,null,null,null,null,null,null,null,null,null,null,null,null,null,null,null,null,null,null,null,null,null,null,null,null,null,null,null,null,null,null,null,"M",null,null,null,null,null,null,null,null,null,null,null,null,null,null,null,null,null,null,null,null,null,null,null,null,null,null,null,null,null,null,null,null,null,null,null,null,null,null,null,null,null,null,null,null,null,null,null,null,null,null,null,null,null,null,null,null,"","-High Risk Work.Licence.Self Erecting Crane (CS)\n",{"$f":"CONCATENATE(\nIF(E30=\"M\",\"-\"&INDEX(E$1:E$104,1)&CHAR(10),\"\"),\nIF(F30=\"M\",\"-\"&INDEX(F$1:F$104,1)&CHAR(10),\"\"),\nIF(G30=\"M\",\"-\"&INDEX(G$1:G$104,1)&CHAR(10),\"\"),\nIF(H30=\"M\",\"-\"&INDEX(H$1:H$104,1)&CHAR(10),\"\"),\nIF(I30=\"M\",\"-\"&INDEX(I$1:I$104,1)&CHAR(10),\"\"),\nIF(J30=\"M\",\"-\"&INDEX(J$1:J$104,1)&CHAR(10),\"\"),\nIF(K30=\"M\",\"-\"&INDEX(K$1:K$104,1)&CHAR(10),\"\"),\nIF(L30=\"M\",\"-\"&INDEX(L$1:L$104,1)&CHAR(10),\"\"),\nIF(M30=\"M\",\"-\"&INDEX(M$1:M118,1)&CHAR(10),\"\"),\nIF(N30=\"M\",\"-\"&INDEX(N$1:N$104,1)&CHAR(10),\"\"),\nIF(O30=\"M\",\"-\"&INDEX(O$1:O$104,1)&CHAR(10),\"\"),\nIF(P30=\"M\",\"-\"&INDEX(P$1:P$104,1)&CHAR(10),\"\"),\nIF(Q30=\"M\",\"-\"&INDEX(Q$1:Q$104,1)&CHAR(10),\"\"),\nIF(R30=\"M\",\"-\"&INDEX(R$1:R$104,1)&CHAR(10),\"\"),\nIF(S30=\"M\",\"-\"&INDEX(S$1:S$104,1)&CHAR(10),\"\"),\nIF(T30=\"M\",\"-\"&INDEX(T$1:T$104,1)&CHAR(10),\"\"),\nIF(U30=\"M\",\"-\"&INDEX(U$1:U$104,1)&CHAR(10),\"\"),\nIF(V30=\"M\",\"-\"&INDEX(V$1:V$104,1)&CHAR(10),\"\"),\nIF(W30=\"M\",\"-\"&INDEX(W$1:W$104,1)&CHAR(10),\"\"),\nIF(X30=\"M\",\"-\"&INDEX(X$1:X$104,1)&CHAR(10),\"\"),\nIF(Y30=\"M\",\"-\"&INDEX(Y$1:Y$104,1)&CHAR(10),\"\"),\nIF(Z30=\"M\",\"-\"&INDEX(Z$1:Z$104,1)&CHAR(10),\"\"),\nIF(AA30=\"M\",\"-\"&INDEX(AA$1:AA$104,1)&CHAR(10),\"\"),\nIF(AB30=\"M\",\"-\"&INDEX(AB$1:AB$104,1)&CHAR(10),\"\"),\nIF(AC30=\"M\",\"-\"&INDEX(AC$1:AC$104,1)&CHAR(10),\"\"),\nIF(AD30=\"M\",\"-\"&INDEX(AD$1:AD$104,1)&CHAR(10),\"\"))","v":""},"","-High Risk Work.Licence.Self Erecting Crane (CS)\n","",""]
["Crane Operator - Slewing <100t",null,null,null,null,null,null,null,null,null,null,null,null,null,null,null,null,null,null,null,null,null,null,null,null,null,null,null,null,null,null,null,null,null,null,null,null,null,null,null,null,null,null,null,null,null,null,null,null,null,null,null,null,null,null,null,null,null,null,null,null,null,null,null,null,null,null,null,null,null,null,null,null,"M",null,null,null,null,null,null,null,null,null,null,null,null,null,null,null,null,null,null,null,null,null,null,null,null,null,null,null,null,null,null,null,null,null,null,null,null,null,null,null,null,null,null,null,null,null,null,null,null,null,null,null,null,null,null,"","-High Risk Work.Licence.Slewing Crane - Up to 100 tonnes (C1)\n",{"$f":"CONCATENATE(\nIF(E31=\"M\",\"-\"&INDEX(E$1:E$104,1)&CHAR(10),\"\"),\nIF(F31=\"M\",\"-\"&INDEX(F$1:F$104,1)&CHAR(10),\"\"),\nIF(G31=\"M\",\"-\"&INDEX(G$1:G$104,1)&CHAR(10),\"\"),\nIF(H31=\"M\",\"-\"&INDEX(H$1:H$104,1)&CHAR(10),\"\"),\nIF(I31=\"M\",\"-\"&INDEX(I$1:I$104,1)&CHAR(10),\"\"),\nIF(J31=\"M\",\"-\"&INDEX(J$1:J$104,1)&CHAR(10),\"\"),\nIF(K31=\"M\",\"-\"&INDEX(K$1:K$104,1)&CHAR(10),\"\"),\nIF(L31=\"M\",\"-\"&INDEX(L$1:L$104,1)&CHAR(10),\"\"),\nIF(M31=\"M\",\"-\"&INDEX(M$1:M118,1)&CHAR(10),\"\"),\nIF(N31=\"M\",\"-\"&INDEX(N$1:N$104,1)&CHAR(10),\"\"),\nIF(O31=\"M\",\"-\"&INDEX(O$1:O$104,1)&CHAR(10),\"\"),\nIF(P31=\"M\",\"-\"&INDEX(P$1:P$104,1)&CHAR(10),\"\"),\nIF(Q31=\"M\",\"-\"&INDEX(Q$1:Q$104,1)&CHAR(10),\"\"),\nIF(R31=\"M\",\"-\"&INDEX(R$1:R$104,1)&CHAR(10),\"\"),\nIF(S31=\"M\",\"-\"&INDEX(S$1:S$104,1)&CHAR(10),\"\"),\nIF(T31=\"M\",\"-\"&INDEX(T$1:T$104,1)&CHAR(10),\"\"),\nIF(U31=\"M\",\"-\"&INDEX(U$1:U$104,1)&CHAR(10),\"\"),\nIF(V31=\"M\",\"-\"&INDEX(V$1:V$104,1)&CHAR(10),\"\"),\nIF(W31=\"M\",\"-\"&INDEX(W$1:W$104,1)&CHAR(10),\"\"),\nIF(X31=\"M\",\"-\"&INDEX(X$1:X$104,1)&CHAR(10),\"\"),\nIF(Y31=\"M\",\"-\"&INDEX(Y$1:Y$104,1)&CHAR(10),\"\"),\nIF(Z31=\"M\",\"-\"&INDEX(Z$1:Z$104,1)&CHAR(10),\"\"),\nIF(AA31=\"M\",\"-\"&INDEX(AA$1:AA$104,1)&CHAR(10),\"\"),\nIF(AB31=\"M\",\"-\"&INDEX(AB$1:AB$104,1)&CHAR(10),\"\"),\nIF(AC31=\"M\",\"-\"&INDEX(AC$1:AC$104,1)&CHAR(10),\"\"),\nIF(AD31=\"M\",\"-\"&INDEX(AD$1:AD$104,1)&CHAR(10),\"\"))","v":""},"","-High Risk Work.Licence.Slewing Crane - Up to 100 tonnes (C1)\n","",""]
["Crane Operator - Slewing <20t",null,null,null,null,null,null,null,null,null,null,null,null,null,null,null,null,null,null,null,null,null,null,null,null,null,null,null,null,null,null,null,null,null,null,null,null,null,null,null,null,null,null,null,null,null,null,null,null,null,null,null,null,null,null,null,null,null,null,null,null,null,null,null,null,null,null,null,null,null,null,null,null,null,"M",null,null,null,null,null,null,null,null,null,null,null,null,null,null,null,null,null,null,null,null,null,null,null,null,null,null,null,null,null,null,null,null,null,null,null,null,null,null,null,null,null,null,null,null,null,null,null,null,null,null,null,null,null,"","-High Risk Work.Licence.Slewing Crane - Up to 20 tonnes (C2)\n",{"$f":"CONCATENATE(\nIF(E32=\"M\",\"-\"&INDEX(E$1:E$104,1)&CHAR(10),\"\"),\nIF(F32=\"M\",\"-\"&INDEX(F$1:F$104,1)&CHAR(10),\"\"),\nIF(G32=\"M\",\"-\"&INDEX(G$1:G$104,1)&CHAR(10),\"\"),\nIF(H32=\"M\",\"-\"&INDEX(H$1:H$104,1)&CHAR(10),\"\"),\nIF(I32=\"M\",\"-\"&INDEX(I$1:I$104,1)&CHAR(10),\"\"),\nIF(J32=\"M\",\"-\"&INDEX(J$1:J$104,1)&CHAR(10),\"\"),\nIF(K32=\"M\",\"-\"&INDEX(K$1:K$104,1)&CHAR(10),\"\"),\nIF(L32=\"M\",\"-\"&INDEX(L$1:L$104,1)&CHAR(10),\"\"),\nIF(M32=\"M\",\"-\"&INDEX(M$1:M118,1)&CHAR(10),\"\"),\nIF(N32=\"M\",\"-\"&INDEX(N$1:N$104,1)&CHAR(10),\"\"),\nIF(O32=\"M\",\"-\"&INDEX(O$1:O$104,1)&CHAR(10),\"\"),\nIF(P32=\"M\",\"-\"&INDEX(P$1:P$104,1)&CHAR(10),\"\"),\nIF(Q32=\"M\",\"-\"&INDEX(Q$1:Q$104,1)&CHAR(10),\"\"),\nIF(R32=\"M\",\"-\"&INDEX(R$1:R$104,1)&CHAR(10),\"\"),\nIF(S32=\"M\",\"-\"&INDEX(S$1:S$104,1)&CHAR(10),\"\"),\nIF(T32=\"M\",\"-\"&INDEX(T$1:T$104,1)&CHAR(10),\"\"),\nIF(U32=\"M\",\"-\"&INDEX(U$1:U$104,1)&CHAR(10),\"\"),\nIF(V32=\"M\",\"-\"&INDEX(V$1:V$104,1)&CHAR(10),\"\"),\nIF(W32=\"M\",\"-\"&INDEX(W$1:W$104,1)&CHAR(10),\"\"),\nIF(X32=\"M\",\"-\"&INDEX(X$1:X$104,1)&CHAR(10),\"\"),\nIF(Y32=\"M\",\"-\"&INDEX(Y$1:Y$104,1)&CHAR(10),\"\"),\nIF(Z32=\"M\",\"-\"&INDEX(Z$1:Z$104,1)&CHAR(10),\"\"),\nIF(AA32=\"M\",\"-\"&INDEX(AA$1:AA$104,1)&CHAR(10),\"\"),\nIF(AB32=\"M\",\"-\"&INDEX(AB$1:AB$104,1)&CHAR(10),\"\"),\nIF(AC32=\"M\",\"-\"&INDEX(AC$1:AC$104,1)&CHAR(10),\"\"),\nIF(AD32=\"M\",\"-\"&INDEX(AD$1:AD$104,1)&CHAR(10),\"\"))","v":""},"","-High Risk Work.Licence.Slewing Crane - Up to 20 tonnes (C2)\n","",""]
["Crane Operator - Slewing <60t",null,null,null,null,null,null,null,null,null,null,null,null,null,null,null,null,null,null,null,null,null,null,null,null,null,null,null,null,null,null,null,null,null,null,null,null,null,null,null,null,null,null,null,null,null,null,null,null,null,null,null,null,null,null,null,null,null,null,null,null,null,null,null,null,null,null,null,null,null,null,null,null,null,null,"M",null,null,null,null,null,null,null,null,null,null,null,null,null,null,null,null,null,null,null,null,null,null,null,null,null,null,null,null,null,null,null,null,null,null,null,null,null,null,null,null,null,null,null,null,null,null,null,null,null,null,null,null,"","-High Risk Work.Licence.Slewing Crane - Up to 60 tonnes (C6)\n",{"$f":"CONCATENATE(\nIF(E33=\"M\",\"-\"&INDEX(E$1:E$104,1)&CHAR(10),\"\"),\nIF(F33=\"M\",\"-\"&INDEX(F$1:F$104,1)&CHAR(10),\"\"),\nIF(G33=\"M\",\"-\"&INDEX(G$1:G$104,1)&CHAR(10),\"\"),\nIF(H33=\"M\",\"-\"&INDEX(H$1:H$104,1)&CHAR(10),\"\"),\nIF(I33=\"M\",\"-\"&INDEX(I$1:I$104,1)&CHAR(10),\"\"),\nIF(J33=\"M\",\"-\"&INDEX(J$1:J$104,1)&CHAR(10),\"\"),\nIF(K33=\"M\",\"-\"&INDEX(K$1:K$104,1)&CHAR(10),\"\"),\nIF(L33=\"M\",\"-\"&INDEX(L$1:L$104,1)&CHAR(10),\"\"),\nIF(M33=\"M\",\"-\"&INDEX(M$1:M118,1)&CHAR(10),\"\"),\nIF(N33=\"M\",\"-\"&INDEX(N$1:N$104,1)&CHAR(10),\"\"),\nIF(O33=\"M\",\"-\"&INDEX(O$1:O$104,1)&CHAR(10),\"\"),\nIF(P33=\"M\",\"-\"&INDEX(P$1:P$104,1)&CHAR(10),\"\"),\nIF(Q33=\"M\",\"-\"&INDEX(Q$1:Q$104,1)&CHAR(10),\"\"),\nIF(R33=\"M\",\"-\"&INDEX(R$1:R$104,1)&CHAR(10),\"\"),\nIF(S33=\"M\",\"-\"&INDEX(S$1:S$104,1)&CHAR(10),\"\"),\nIF(T33=\"M\",\"-\"&INDEX(T$1:T$104,1)&CHAR(10),\"\"),\nIF(U33=\"M\",\"-\"&INDEX(U$1:U$104,1)&CHAR(10),\"\"),\nIF(V33=\"M\",\"-\"&INDEX(V$1:V$104,1)&CHAR(10),\"\"),\nIF(W33=\"M\",\"-\"&INDEX(W$1:W$104,1)&CHAR(10),\"\"),\nIF(X33=\"M\",\"-\"&INDEX(X$1:X$104,1)&CHAR(10),\"\"),\nIF(Y33=\"M\",\"-\"&INDEX(Y$1:Y$104,1)&CHAR(10),\"\"),\nIF(Z33=\"M\",\"-\"&INDEX(Z$1:Z$104,1)&CHAR(10),\"\"),\nIF(AA33=\"M\",\"-\"&INDEX(AA$1:AA$104,1)&CHAR(10),\"\"),\nIF(AB33=\"M\",\"-\"&INDEX(AB$1:AB$104,1)&CHAR(10),\"\"),\nIF(AC33=\"M\",\"-\"&INDEX(AC$1:AC$104,1)&CHAR(10),\"\"),\nIF(AD33=\"M\",\"-\"&INDEX(AD$1:AD$104,1)&CHAR(10),\"\"))","v":""},"","-High Risk Work.Licence.Slewing Crane - Up to 60 tonnes (C6)\n","",""]
["Crane Operator - Slewing >100t",null,null,null,null,null,null,null,null,null,null,null,null,null,null,null,null,null,null,null,null,null,null,null,null,null,null,null,null,null,null,null,null,null,null,null,null,null,null,null,null,null,null,null,null,null,null,null,null,null,null,null,null,null,null,null,null,null,null,null,null,null,null,null,null,null,null,null,null,null,null,null,"M",null,null,null,null,null,null,null,null,null,null,null,null,null,null,null,null,null,null,null,null,null,null,null,null,null,null,null,null,null,null,null,null,null,null,null,null,null,null,null,null,null,null,null,null,null,null,null,null,null,null,null,null,null,null,null,"","-High Risk Work.Licence.Slewing Crane - Over 100 tonnes (C0)\n",{"$f":"CONCATENATE(\nIF(E34=\"M\",\"-\"&INDEX(E$1:E$104,1)&CHAR(10),\"\"),\nIF(F34=\"M\",\"-\"&INDEX(F$1:F$104,1)&CHAR(10),\"\"),\nIF(G34=\"M\",\"-\"&INDEX(G$1:G$104,1)&CHAR(10),\"\"),\nIF(H34=\"M\",\"-\"&INDEX(H$1:H$104,1)&CHAR(10),\"\"),\nIF(I34=\"M\",\"-\"&INDEX(I$1:I$104,1)&CHAR(10),\"\"),\nIF(J34=\"M\",\"-\"&INDEX(J$1:J$104,1)&CHAR(10),\"\"),\nIF(K34=\"M\",\"-\"&INDEX(K$1:K$104,1)&CHAR(10),\"\"),\nIF(L34=\"M\",\"-\"&INDEX(L$1:L$104,1)&CHAR(10),\"\"),\nIF(M34=\"M\",\"-\"&INDEX(M$1:M118,1)&CHAR(10),\"\"),\nIF(N34=\"M\",\"-\"&INDEX(N$1:N$104,1)&CHAR(10),\"\"),\nIF(O34=\"M\",\"-\"&INDEX(O$1:O$104,1)&CHAR(10),\"\"),\nIF(P34=\"M\",\"-\"&INDEX(P$1:P$104,1)&CHAR(10),\"\"),\nIF(Q34=\"M\",\"-\"&INDEX(Q$1:Q$104,1)&CHAR(10),\"\"),\nIF(R34=\"M\",\"-\"&INDEX(R$1:R$104,1)&CHAR(10),\"\"),\nIF(S34=\"M\",\"-\"&INDEX(S$1:S$104,1)&CHAR(10),\"\"),\nIF(T34=\"M\",\"-\"&INDEX(T$1:T$104,1)&CHAR(10),\"\"),\nIF(U34=\"M\",\"-\"&INDEX(U$1:U$104,1)&CHAR(10),\"\"),\nIF(V34=\"M\",\"-\"&INDEX(V$1:V$104,1)&CHAR(10),\"\"),\nIF(W34=\"M\",\"-\"&INDEX(W$1:W$104,1)&CHAR(10),\"\"),\nIF(X34=\"M\",\"-\"&INDEX(X$1:X$104,1)&CHAR(10),\"\"),\nIF(Y34=\"M\",\"-\"&INDEX(Y$1:Y$104,1)&CHAR(10),\"\"),\nIF(Z34=\"M\",\"-\"&INDEX(Z$1:Z$104,1)&CHAR(10),\"\"),\nIF(AA34=\"M\",\"-\"&INDEX(AA$1:AA$104,1)&CHAR(10),\"\"),\nIF(AB34=\"M\",\"-\"&INDEX(AB$1:AB$104,1)&CHAR(10),\"\"),\nIF(AC34=\"M\",\"-\"&INDEX(AC$1:AC$104,1)&CHAR(10),\"\"),\nIF(AD34=\"M\",\"-\"&INDEX(AD$1:AD$104,1)&CHAR(10),\"\"))","v":""},"","-High Risk Work.Licence.Slewing Crane - Over 100 tonnes (C0)\n","",""]
["Crane Operator - Tower Crane",null,null,null,null,null,null,null,null,null,null,null,null,null,null,null,null,null,null,null,null,null,null,null,null,null,null,null,null,null,null,null,null,null,null,null,null,null,null,null,null,null,null,null,null,null,null,null,null,null,null,null,null,null,null,null,null,null,null,null,null,null,null,null,null,null,null,null,null,null,null,null,null,null,null,null,"M",null,null,null,null,null,null,null,null,null,null,null,null,null,null,null,null,null,null,null,null,null,null,null,null,null,null,null,null,null,null,null,null,null,null,null,null,null,null,null,null,null,null,null,null,null,null,null,null,null,null,null,"","-High Risk Work.Licence.Tower Crane (CT)\n",{"$f":"CONCATENATE(\nIF(E35=\"M\",\"-\"&INDEX(E$1:E$104,1)&CHAR(10),\"\"),\nIF(F35=\"M\",\"-\"&INDEX(F$1:F$104,1)&CHAR(10),\"\"),\nIF(G35=\"M\",\"-\"&INDEX(G$1:G$104,1)&CHAR(10),\"\"),\nIF(H35=\"M\",\"-\"&INDEX(H$1:H$104,1)&CHAR(10),\"\"),\nIF(I35=\"M\",\"-\"&INDEX(I$1:I$104,1)&CHAR(10),\"\"),\nIF(J35=\"M\",\"-\"&INDEX(J$1:J$104,1)&CHAR(10),\"\"),\nIF(K35=\"M\",\"-\"&INDEX(K$1:K$104,1)&CHAR(10),\"\"),\nIF(L35=\"M\",\"-\"&INDEX(L$1:L$104,1)&CHAR(10),\"\"),\nIF(M35=\"M\",\"-\"&INDEX(M$1:M118,1)&CHAR(10),\"\"),\nIF(N35=\"M\",\"-\"&INDEX(N$1:N$104,1)&CHAR(10),\"\"),\nIF(O35=\"M\",\"-\"&INDEX(O$1:O$104,1)&CHAR(10),\"\"),\nIF(P35=\"M\",\"-\"&INDEX(P$1:P$104,1)&CHAR(10),\"\"),\nIF(Q35=\"M\",\"-\"&INDEX(Q$1:Q$104,1)&CHAR(10),\"\"),\nIF(R35=\"M\",\"-\"&INDEX(R$1:R$104,1)&CHAR(10),\"\"),\nIF(S35=\"M\",\"-\"&INDEX(S$1:S$104,1)&CHAR(10),\"\"),\nIF(T35=\"M\",\"-\"&INDEX(T$1:T$104,1)&CHAR(10),\"\"),\nIF(U35=\"M\",\"-\"&INDEX(U$1:U$104,1)&CHAR(10),\"\"),\nIF(V35=\"M\",\"-\"&INDEX(V$1:V$104,1)&CHAR(10),\"\"),\nIF(W35=\"M\",\"-\"&INDEX(W$1:W$104,1)&CHAR(10),\"\"),\nIF(X35=\"M\",\"-\"&INDEX(X$1:X$104,1)&CHAR(10),\"\"),\nIF(Y35=\"M\",\"-\"&INDEX(Y$1:Y$104,1)&CHAR(10),\"\"),\nIF(Z35=\"M\",\"-\"&INDEX(Z$1:Z$104,1)&CHAR(10),\"\"),\nIF(AA35=\"M\",\"-\"&INDEX(AA$1:AA$104,1)&CHAR(10),\"\"),\nIF(AB35=\"M\",\"-\"&INDEX(AB$1:AB$104,1)&CHAR(10),\"\"),\nIF(AC35=\"M\",\"-\"&INDEX(AC$1:AC$104,1)&CHAR(10),\"\"),\nIF(AD35=\"M\",\"-\"&INDEX(AD$1:AD$104,1)&CHAR(10),\"\"))","v":""},"","-High Risk Work.Licence.Tower Crane (CT)\n","",""]
["Crane Operator - Vehicle Loading Crane",null,null,null,null,null,null,null,null,null,null,null,null,null,null,null,null,null,null,null,null,null,null,null,null,null,null,null,null,null,null,null,null,null,null,null,null,null,null,null,null,null,null,null,null,null,null,null,null,null,null,null,null,null,null,null,null,null,null,null,null,null,null,null,null,null,null,null,null,null,null,null,null,null,null,null,null,"M",null,null,null,null,null,null,null,null,null,null,null,null,null,null,null,null,null,null,null,null,null,null,null,null,null,null,null,null,null,null,null,null,null,null,null,null,null,null,null,null,null,null,null,null,null,null,null,null,null,null,"","-High Risk Work.Licence.Vehicle Loading Crane (CV)\n",{"$f":"CONCATENATE(\nIF(E36=\"M\",\"-\"&INDEX(E$1:E$104,1)&CHAR(10),\"\"),\nIF(F36=\"M\",\"-\"&INDEX(F$1:F$104,1)&CHAR(10),\"\"),\nIF(G36=\"M\",\"-\"&INDEX(G$1:G$104,1)&CHAR(10),\"\"),\nIF(H36=\"M\",\"-\"&INDEX(H$1:H$104,1)&CHAR(10),\"\"),\nIF(I36=\"M\",\"-\"&INDEX(I$1:I$104,1)&CHAR(10),\"\"),\nIF(J36=\"M\",\"-\"&INDEX(J$1:J$104,1)&CHAR(10),\"\"),\nIF(K36=\"M\",\"-\"&INDEX(K$1:K$104,1)&CHAR(10),\"\"),\nIF(L36=\"M\",\"-\"&INDEX(L$1:L$104,1)&CHAR(10),\"\"),\nIF(M36=\"M\",\"-\"&INDEX(M$1:M118,1)&CHAR(10),\"\"),\nIF(N36=\"M\",\"-\"&INDEX(N$1:N$104,1)&CHAR(10),\"\"),\nIF(O36=\"M\",\"-\"&INDEX(O$1:O$104,1)&CHAR(10),\"\"),\nIF(P36=\"M\",\"-\"&INDEX(P$1:P$104,1)&CHAR(10),\"\"),\nIF(Q36=\"M\",\"-\"&INDEX(Q$1:Q$104,1)&CHAR(10),\"\"),\nIF(R36=\"M\",\"-\"&INDEX(R$1:R$104,1)&CHAR(10),\"\"),\nIF(S36=\"M\",\"-\"&INDEX(S$1:S$104,1)&CHAR(10),\"\"),\nIF(T36=\"M\",\"-\"&INDEX(T$1:T$104,1)&CHAR(10),\"\"),\nIF(U36=\"M\",\"-\"&INDEX(U$1:U$104,1)&CHAR(10),\"\"),\nIF(V36=\"M\",\"-\"&INDEX(V$1:V$104,1)&CHAR(10),\"\"),\nIF(W36=\"M\",\"-\"&INDEX(W$1:W$104,1)&CHAR(10),\"\"),\nIF(X36=\"M\",\"-\"&INDEX(X$1:X$104,1)&CHAR(10),\"\"),\nIF(Y36=\"M\",\"-\"&INDEX(Y$1:Y$104,1)&CHAR(10),\"\"),\nIF(Z36=\"M\",\"-\"&INDEX(Z$1:Z$104,1)&CHAR(10),\"\"),\nIF(AA36=\"M\",\"-\"&INDEX(AA$1:AA$104,1)&CHAR(10),\"\"),\nIF(AB36=\"M\",\"-\"&INDEX(AB$1:AB$104,1)&CHAR(10),\"\"),\nIF(AC36=\"M\",\"-\"&INDEX(AC$1:AC$104,1)&CHAR(10),\"\"),\nIF(AD36=\"M\",\"-\"&INDEX(AD$1:AD$104,1)&CHAR(10),\"\"))","v":""},"","-High Risk Work.Licence.Vehicle Loading Crane (CV)\n","",""]
["Dogger",null,null,null,null,null,null,null,null,null,null,null,null,null,null,null,null,null,null,null,null,null,null,null,null,null,null,null,null,null,null,null,null,null,null,null,null,null,null,null,null,null,null,null,null,null,null,null,null,null,null,null,null,null,null,null,null,null,null,null,null,null,null,"M",null,null,null,null,null,null,null,null,null,null,null,null,null,null,null,null,null,null,null,null,null,null,null,null,null,null,null,null,null,null,null,null,null,null,null,null,null,null,null,null,null,null,null,null,null,null,null,null,null,null,null,null,null,null,null,null,null,null,null,null,null,null,null,null,"","-High Risk Work.Licence.Dogging (DG)\n",{"$f":"CONCATENATE(\nIF(E37=\"M\",\"-\"&INDEX(E$1:E$104,1)&CHAR(10),\"\"),\nIF(F37=\"M\",\"-\"&INDEX(F$1:F$104,1)&CHAR(10),\"\"),\nIF(G37=\"M\",\"-\"&INDEX(G$1:G$104,1)&CHAR(10),\"\"),\nIF(H37=\"M\",\"-\"&INDEX(H$1:H$104,1)&CHAR(10),\"\"),\nIF(I37=\"M\",\"-\"&INDEX(I$1:I$104,1)&CHAR(10),\"\"),\nIF(J37=\"M\",\"-\"&INDEX(J$1:J$104,1)&CHAR(10),\"\"),\nIF(K37=\"M\",\"-\"&INDEX(K$1:K$104,1)&CHAR(10),\"\"),\nIF(L37=\"M\",\"-\"&INDEX(L$1:L$104,1)&CHAR(10),\"\"),\nIF(M37=\"M\",\"-\"&INDEX(M$1:M118,1)&CHAR(10),\"\"),\nIF(N37=\"M\",\"-\"&INDEX(N$1:N$104,1)&CHAR(10),\"\"),\nIF(O37=\"M\",\"-\"&INDEX(O$1:O$104,1)&CHAR(10),\"\"),\nIF(P37=\"M\",\"-\"&INDEX(P$1:P$104,1)&CHAR(10),\"\"),\nIF(Q37=\"M\",\"-\"&INDEX(Q$1:Q$104,1)&CHAR(10),\"\"),\nIF(R37=\"M\",\"-\"&INDEX(R$1:R$104,1)&CHAR(10),\"\"),\nIF(S37=\"M\",\"-\"&INDEX(S$1:S$104,1)&CHAR(10),\"\"),\nIF(T37=\"M\",\"-\"&INDEX(T$1:T$104,1)&CHAR(10),\"\"),\nIF(U37=\"M\",\"-\"&INDEX(U$1:U$104,1)&CHAR(10),\"\"),\nIF(V37=\"M\",\"-\"&INDEX(V$1:V$104,1)&CHAR(10),\"\"),\nIF(W37=\"M\",\"-\"&INDEX(W$1:W$104,1)&CHAR(10),\"\"),\nIF(X37=\"M\",\"-\"&INDEX(X$1:X$104,1)&CHAR(10),\"\"),\nIF(Y37=\"M\",\"-\"&INDEX(Y$1:Y$104,1)&CHAR(10),\"\"),\nIF(Z37=\"M\",\"-\"&INDEX(Z$1:Z$104,1)&CHAR(10),\"\"),\nIF(AA37=\"M\",\"-\"&INDEX(AA$1:AA$104,1)&CHAR(10),\"\"),\nIF(AB37=\"M\",\"-\"&INDEX(AB$1:AB$104,1)&CHAR(10),\"\"),\nIF(AC37=\"M\",\"-\"&INDEX(AC$1:AC$104,1)&CHAR(10),\"\"),\nIF(AD37=\"M\",\"-\"&INDEX(AD$1:AD$104,1)&CHAR(10),\"\"))","v":""},"","-High Risk Work.Licence.Dogging (DG)\n","",""]
["EWP Operator - Boom Type",null,null,null,null,null,null,null,null,null,null,null,null,null,null,null,null,null,null,null,null,null,null,null,null,null,null,null,null,null,null,null,null,null,null,null,null,null,null,null,null,null,null,null,null,null,null,null,null,null,null,null,null,null,null,null,null,null,null,"M",null,null,null,null,null,null,null,null,null,null,null,null,null,null,null,null,null,null,null,null,null,null,null,null,null,null,null,null,null,null,null,null,null,null,null,null,null,null,null,null,null,null,null,null,null,null,null,null,null,null,null,null,null,null,null,null,null,null,null,null,null,null,null,null,null,null,null,null,"","-High Risk Work.Licence.Boom Type Elevated Work Platform (WP)\n",{"$f":"CONCATENATE(\nIF(E38=\"M\",\"-\"&INDEX(E$1:E$104,1)&CHAR(10),\"\"),\nIF(F38=\"M\",\"-\"&INDEX(F$1:F$104,1)&CHAR(10),\"\"),\nIF(G38=\"M\",\"-\"&INDEX(G$1:G$104,1)&CHAR(10),\"\"),\nIF(H38=\"M\",\"-\"&INDEX(H$1:H$104,1)&CHAR(10),\"\"),\nIF(I38=\"M\",\"-\"&INDEX(I$1:I$104,1)&CHAR(10),\"\"),\nIF(J38=\"M\",\"-\"&INDEX(J$1:J$104,1)&CHAR(10),\"\"),\nIF(K38=\"M\",\"-\"&INDEX(K$1:K$104,1)&CHAR(10),\"\"),\nIF(L38=\"M\",\"-\"&INDEX(L$1:L$104,1)&CHAR(10),\"\"),\nIF(M38=\"M\",\"-\"&INDEX(M$1:M118,1)&CHAR(10),\"\"),\nIF(N38=\"M\",\"-\"&INDEX(N$1:N$104,1)&CHAR(10),\"\"),\nIF(O38=\"M\",\"-\"&INDEX(O$1:O$104,1)&CHAR(10),\"\"),\nIF(P38=\"M\",\"-\"&INDEX(P$1:P$104,1)&CHAR(10),\"\"),\nIF(Q38=\"M\",\"-\"&INDEX(Q$1:Q$104,1)&CHAR(10),\"\"),\nIF(R38=\"M\",\"-\"&INDEX(R$1:R$104,1)&CHAR(10),\"\"),\nIF(S38=\"M\",\"-\"&INDEX(S$1:S$104,1)&CHAR(10),\"\"),\nIF(T38=\"M\",\"-\"&INDEX(T$1:T$104,1)&CHAR(10),\"\"),\nIF(U38=\"M\",\"-\"&INDEX(U$1:U$104,1)&CHAR(10),\"\"),\nIF(V38=\"M\",\"-\"&INDEX(V$1:V$104,1)&CHAR(10),\"\"),\nIF(W38=\"M\",\"-\"&INDEX(W$1:W$104,1)&CHAR(10),\"\"),\nIF(X38=\"M\",\"-\"&INDEX(X$1:X$104,1)&CHAR(10),\"\"),\nIF(Y38=\"M\",\"-\"&INDEX(Y$1:Y$104,1)&CHAR(10),\"\"),\nIF(Z38=\"M\",\"-\"&INDEX(Z$1:Z$104,1)&CHAR(10),\"\"),\nIF(AA38=\"M\",\"-\"&INDEX(AA$1:AA$104,1)&CHAR(10),\"\"),\nIF(AB38=\"M\",\"-\"&INDEX(AB$1:AB$104,1)&CHAR(10),\"\"),\nIF(AC38=\"M\",\"-\"&INDEX(AC$1:AC$104,1)&CHAR(10),\"\"),\nIF(AD38=\"M\",\"-\"&INDEX(AD$1:AD$104,1)&CHAR(10),\"\"))","v":""},"","-High Risk Work.Licence.Boom Type Elevated Work Platform (WP)\n","",""]
["EWP Operator - Material Platform Hoist",null,null,null,null,null,null,null,null,null,null,null,null,null,null,null,null,null,null,null,null,null,null,null,null,null,null,null,null,null,null,null,null,null,null,null,null,null,null,null,null,null,null,null,null,null,null,null,null,null,null,null,null,null,null,null,null,null,null,null,null,null,null,null,null,null,null,"M",null,null,null,null,null,null,null,null,null,null,null,null,null,null,null,null,null,null,null,null,null,null,null,null,null,null,null,null,null,null,null,null,null,null,null,null,null,null,null,null,null,null,null,null,null,null,null,null,null,null,null,null,null,null,null,null,null,null,null,null,"","-High Risk Work.Licence.Materials Platform Hoist (HM)\n",{"$f":"CONCATENATE(\nIF(E39=\"M\",\"-\"&INDEX(E$1:E$104,1)&CHAR(10),\"\"),\nIF(F39=\"M\",\"-\"&INDEX(F$1:F$104,1)&CHAR(10),\"\"),\nIF(G39=\"M\",\"-\"&INDEX(G$1:G$104,1)&CHAR(10),\"\"),\nIF(H39=\"M\",\"-\"&INDEX(H$1:H$104,1)&CHAR(10),\"\"),\nIF(I39=\"M\",\"-\"&INDEX(I$1:I$104,1)&CHAR(10),\"\"),\nIF(J39=\"M\",\"-\"&INDEX(J$1:J$104,1)&CHAR(10),\"\"),\nIF(K39=\"M\",\"-\"&INDEX(K$1:K$104,1)&CHAR(10),\"\"),\nIF(L39=\"M\",\"-\"&INDEX(L$1:L$104,1)&CHAR(10),\"\"),\nIF(M39=\"M\",\"-\"&INDEX(M$1:M118,1)&CHAR(10),\"\"),\nIF(N39=\"M\",\"-\"&INDEX(N$1:N$104,1)&CHAR(10),\"\"),\nIF(O39=\"M\",\"-\"&INDEX(O$1:O$104,1)&CHAR(10),\"\"),\nIF(P39=\"M\",\"-\"&INDEX(P$1:P$104,1)&CHAR(10),\"\"),\nIF(Q39=\"M\",\"-\"&INDEX(Q$1:Q$104,1)&CHAR(10),\"\"),\nIF(R39=\"M\",\"-\"&INDEX(R$1:R$104,1)&CHAR(10),\"\"),\nIF(S39=\"M\",\"-\"&INDEX(S$1:S$104,1)&CHAR(10),\"\"),\nIF(T39=\"M\",\"-\"&INDEX(T$1:T$104,1)&CHAR(10),\"\"),\nIF(U39=\"M\",\"-\"&INDEX(U$1:U$104,1)&CHAR(10),\"\"),\nIF(V39=\"M\",\"-\"&INDEX(V$1:V$104,1)&CHAR(10),\"\"),\nIF(W39=\"M\",\"-\"&INDEX(W$1:W$104,1)&CHAR(10),\"\"),\nIF(X39=\"M\",\"-\"&INDEX(X$1:X$104,1)&CHAR(10),\"\"),\nIF(Y39=\"M\",\"-\"&INDEX(Y$1:Y$104,1)&CHAR(10),\"\"),\nIF(Z39=\"M\",\"-\"&INDEX(Z$1:Z$104,1)&CHAR(10),\"\"),\nIF(AA39=\"M\",\"-\"&INDEX(AA$1:AA$104,1)&CHAR(10),\"\"),\nIF(AB39=\"M\",\"-\"&INDEX(AB$1:AB$104,1)&CHAR(10),\"\"),\nIF(AC39=\"M\",\"-\"&INDEX(AC$1:AC$104,1)&CHAR(10),\"\"),\nIF(AD39=\"M\",\"-\"&INDEX(AD$1:AD$104,1)&CHAR(10),\"\"))","v":""},"","-High Risk Work.Licence.Materials Platform Hoist (HM)\n","",""]
["EWP Operator - Personnel and Material Hoist",null,null,null,null,null,null,null,null,null,null,null,null,null,null,null,null,null,null,null,null,null,null,null,null,null,null,null,null,null,null,null,null,null,null,null,null,null,null,null,null,null,null,null,null,null,null,null,null,null,null,null,null,null,null,null,null,null,null,null,null,null,null,null,null,null,null,null,null,"M",null,null,null,null,null,null,null,null,null,null,null,null,null,null,null,null,null,null,null,null,null,null,null,null,null,null,null,null,null,null,null,null,null,null,null,null,null,null,null,null,null,null,null,null,null,null,null,null,null,null,null,null,null,null,null,null,null,null,"","-High Risk Work.Licence.Personnel and Material Hoists (HP)\n",{"$f":"CONCATENATE(\nIF(E40=\"M\",\"-\"&INDEX(E$1:E$104,1)&CHAR(10),\"\"),\nIF(F40=\"M\",\"-\"&INDEX(F$1:F$104,1)&CHAR(10),\"\"),\nIF(G40=\"M\",\"-\"&INDEX(G$1:G$104,1)&CHAR(10),\"\"),\nIF(H40=\"M\",\"-\"&INDEX(H$1:H$104,1)&CHAR(10),\"\"),\nIF(I40=\"M\",\"-\"&INDEX(I$1:I$104,1)&CHAR(10),\"\"),\nIF(J40=\"M\",\"-\"&INDEX(J$1:J$104,1)&CHAR(10),\"\"),\nIF(K40=\"M\",\"-\"&INDEX(K$1:K$104,1)&CHAR(10),\"\"),\nIF(L40=\"M\",\"-\"&INDEX(L$1:L$104,1)&CHAR(10),\"\"),\nIF(M40=\"M\",\"-\"&INDEX(M$1:M118,1)&CHAR(10),\"\"),\nIF(N40=\"M\",\"-\"&INDEX(N$1:N$104,1)&CHAR(10),\"\"),\nIF(O40=\"M\",\"-\"&INDEX(O$1:O$104,1)&CHAR(10),\"\"),\nIF(P40=\"M\",\"-\"&INDEX(P$1:P$104,1)&CHAR(10),\"\"),\nIF(Q40=\"M\",\"-\"&INDEX(Q$1:Q$104,1)&CHAR(10),\"\"),\nIF(R40=\"M\",\"-\"&INDEX(R$1:R$104,1)&CHAR(10),\"\"),\nIF(S40=\"M\",\"-\"&INDEX(S$1:S$104,1)&CHAR(10),\"\"),\nIF(T40=\"M\",\"-\"&INDEX(T$1:T$104,1)&CHAR(10),\"\"),\nIF(U40=\"M\",\"-\"&INDEX(U$1:U$104,1)&CHAR(10),\"\"),\nIF(V40=\"M\",\"-\"&INDEX(V$1:V$104,1)&CHAR(10),\"\"),\nIF(W40=\"M\",\"-\"&INDEX(W$1:W$104,1)&CHAR(10),\"\"),\nIF(X40=\"M\",\"-\"&INDEX(X$1:X$104,1)&CHAR(10),\"\"),\nIF(Y40=\"M\",\"-\"&INDEX(Y$1:Y$104,1)&CHAR(10),\"\"),\nIF(Z40=\"M\",\"-\"&INDEX(Z$1:Z$104,1)&CHAR(10),\"\"),\nIF(AA40=\"M\",\"-\"&INDEX(AA$1:AA$104,1)&CHAR(10),\"\"),\nIF(AB40=\"M\",\"-\"&INDEX(AB$1:AB$104,1)&CHAR(10),\"\"),\nIF(AC40=\"M\",\"-\"&INDEX(AC$1:AC$104,1)&CHAR(10),\"\"),\nIF(AD40=\"M\",\"-\"&INDEX(AD$1:AD$104,1)&CHAR(10),\"\"))","v":""},"","-High Risk Work.Licence.Personnel and Material Hoists (HP)\n","",""]
["Fire Systems - Supervisor","M","M","M",null,"M","M","M","M",null,"SE1000, RF0003, SC1100",null,null,null,null,null,"M",null,null,null,null,null,null,null,null,null,null,null,null,null,null,null,null,null,null,null,null,null,null,null,null,null,null,null,null,null,null,null,null,null,null,null,null,null,null,null,null,null,null,null,null,null,null,null,null,null,null,null,null,null,null,null,null,null,null,null,null,null,null,null,null,null,null,null,null,null,null,null,null,null,null,null,null,null,null,null,null,null,null,null,null,null,null,null,null,null,null,null,null,null,null,null,null,null,null,null,null,null,null,null,null,null,null,null,null,null,null,null,"-First Aid.Statement of Attainment.HLTAID001 - Perform CPR\n-Electrical.Statement of Attainment.UETTDRRF06 - Perform rescue from a live LV panel\n-Electrical.Statement of Attainment.UETTDRRF10 - First Aid in an ESI Environment","",{"$f":"CONCATENATE(\nIF(E41=\"M\",\"-\"&INDEX(E$1:E$104,1)&CHAR(10),\"\"),\nIF(F41=\"M\",\"-\"&INDEX(F$1:F$104,1)&CHAR(10),\"\"),\nIF(G41=\"M\",\"-\"&INDEX(G$1:G$104,1)&CHAR(10),\"\"),\nIF(H41=\"M\",\"-\"&INDEX(H$1:H$104,1)&CHAR(10),\"\"),\nIF(I41=\"M\",\"-\"&INDEX(I$1:I$104,1)&CHAR(10),\"\"),\nIF(J41=\"M\",\"-\"&INDEX(J$1:J$104,1)&CHAR(10),\"\"),\nIF(K41=\"M\",\"-\"&INDEX(K$1:K$104,1)&CHAR(10),\"\"),\nIF(L41=\"M\",\"-\"&INDEX(L$1:L$104,1)&CHAR(10),\"\"),\nIF(M41=\"M\",\"-\"&INDEX(M$1:M118,1)&CHAR(10),\"\"),\nIF(N41=\"M\",\"-\"&INDEX(N$1:N$104,1)&CHAR(10),\"\"),\nIF(O41=\"M\",\"-\"&INDEX(O$1:O$104,1)&CHAR(10),\"\"),\nIF(P41=\"M\",\"-\"&INDEX(P$1:P$104,1)&CHAR(10),\"\"),\nIF(Q41=\"M\",\"-\"&INDEX(Q$1:Q$104,1)&CHAR(10),\"\"),\nIF(R41=\"M\",\"-\"&INDEX(R$1:R$104,1)&CHAR(10),\"\"),\nIF(S41=\"M\",\"-\"&INDEX(S$1:S$104,1)&CHAR(10),\"\"),\nIF(T41=\"M\",\"-\"&INDEX(T$1:T$104,1)&CHAR(10),\"\"),\nIF(U41=\"M\",\"-\"&INDEX(U$1:U$104,1)&CHAR(10),\"\"),\nIF(V41=\"M\",\"-\"&INDEX(V$1:V$104,1)&CHAR(10),\"\"),\nIF(W41=\"M\",\"-\"&INDEX(W$1:W$104,1)&CHAR(10),\"\"),\nIF(X41=\"M\",\"-\"&INDEX(X$1:X$104,1)&CHAR(10),\"\"),\nIF(Y41=\"M\",\"-\"&INDEX(Y$1:Y$104,1)&CHAR(10),\"\"),\nIF(Z41=\"M\",\"-\"&INDEX(Z$1:Z$104,1)&CHAR(10),\"\"),\nIF(AA41=\"M\",\"-\"&INDEX(AA$1:AA$104,1)&CHAR(10),\"\"),\nIF(AB41=\"M\",\"-\"&INDEX(AB$1:AB$104,1)&CHAR(10),\"\"),\nIF(AC41=\"M\",\"-\"&INDEX(AC$1:AC$104,1)&CHAR(10),\"\"),\nIF(AD41=\"M\",\"-\"&INDEX(AD$1:AD$104,1)&CHAR(10),\"\"))","v":"-Electrical.Statement of Attainment.UETTDRRF01 - Apply ESI safety rules, codes of practice and procedures for work\n-Network Operator.Certificate.I0102 - Ausgrid - Environmental Awareness\n-Electrical.Statement of Attainment.UETTDRRF09 - Apply access procedures to work on or near electrical network infrastructure\n-Network Operator.Access.SC1000A - Ausgrid - Substation Entry\n-Network Operator.Certificate.SSAB1001 - Ausgrid - Asbestos Awareness\n"},"","","",""]
["Fire Systems - Technician","M","M","M",null,"M","M","M","M",null,"SE1000, RF0003, SC1100",null,null,null,null,null,"M",null,null,null,null,null,null,null,null,null,null,null,null,null,null,null,null,null,null,null,null,null,null,null,null,null,null,null,null,null,null,null,null,null,null,null,null,null,null,null,null,null,null,null,null,null,null,null,null,null,null,null,null,null,null,null,null,null,null,null,null,null,null,null,null,null,null,null,null,null,null,null,null,null,null,null,null,null,null,null,null,null,null,null,null,null,null,null,null,null,null,null,null,null,null,null,null,null,null,null,null,null,null,null,null,null,null,null,null,null,null,null,"-First Aid.Statement of Attainment.HLTAID001 - Perform CPR\n-Electrical.Statement of Attainment.UETTDRRF06 - Perform rescue from a live LV panel\n-Electrical.Statement of Attainment.UETTDRRF10 - First Aid in an ESI Environment","",{"$f":"CONCATENATE(\nIF(E42=\"M\",\"-\"&INDEX(E$1:E$104,1)&CHAR(10),\"\"),\nIF(F42=\"M\",\"-\"&INDEX(F$1:F$104,1)&CHAR(10),\"\"),\nIF(G42=\"M\",\"-\"&INDEX(G$1:G$104,1)&CHAR(10),\"\"),\nIF(H42=\"M\",\"-\"&INDEX(H$1:H$104,1)&CHAR(10),\"\"),\nIF(I42=\"M\",\"-\"&INDEX(I$1:I$104,1)&CHAR(10),\"\"),\nIF(J42=\"M\",\"-\"&INDEX(J$1:J$104,1)&CHAR(10),\"\"),\nIF(K42=\"M\",\"-\"&INDEX(K$1:K$104,1)&CHAR(10),\"\"),\nIF(L42=\"M\",\"-\"&INDEX(L$1:L$104,1)&CHAR(10),\"\"),\nIF(M42=\"M\",\"-\"&INDEX(M$1:M118,1)&CHAR(10),\"\"),\nIF(N42=\"M\",\"-\"&INDEX(N$1:N$104,1)&CHAR(10),\"\"),\nIF(O42=\"M\",\"-\"&INDEX(O$1:O$104,1)&CHAR(10),\"\"),\nIF(P42=\"M\",\"-\"&INDEX(P$1:P$104,1)&CHAR(10),\"\"),\nIF(Q42=\"M\",\"-\"&INDEX(Q$1:Q$104,1)&CHAR(10),\"\"),\nIF(R42=\"M\",\"-\"&INDEX(R$1:R$104,1)&CHAR(10),\"\"),\nIF(S42=\"M\",\"-\"&INDEX(S$1:S$104,1)&CHAR(10),\"\"),\nIF(T42=\"M\",\"-\"&INDEX(T$1:T$104,1)&CHAR(10),\"\"),\nIF(U42=\"M\",\"-\"&INDEX(U$1:U$104,1)&CHAR(10),\"\"),\nIF(V42=\"M\",\"-\"&INDEX(V$1:V$104,1)&CHAR(10),\"\"),\nIF(W42=\"M\",\"-\"&INDEX(W$1:W$104,1)&CHAR(10),\"\"),\nIF(X42=\"M\",\"-\"&INDEX(X$1:X$104,1)&CHAR(10),\"\"),\nIF(Y42=\"M\",\"-\"&INDEX(Y$1:Y$104,1)&CHAR(10),\"\"),\nIF(Z42=\"M\",\"-\"&INDEX(Z$1:Z$104,1)&CHAR(10),\"\"),\nIF(AA42=\"M\",\"-\"&INDEX(AA$1:AA$104,1)&CHAR(10),\"\"),\nIF(AB42=\"M\",\"-\"&INDEX(AB$1:AB$104,1)&CHAR(10),\"\"),\nIF(AC42=\"M\",\"-\"&INDEX(AC$1:AC$104,1)&CHAR(10),\"\"),\nIF(AD42=\"M\",\"-\"&INDEX(AD$1:AD$104,1)&CHAR(10),\"\"))","v":"-Electrical.Statement of Attainment.UETTDRRF01 - Apply ESI safety rules, codes of practice and procedures for work\n-Network Operator.Certificate.I0102 - Ausgrid - Environmental Awareness\n-Electrical.Statement of Attainment.UETTDRRF09 - Apply access procedures to work on or near electrical network infrastructure\n-Network Operator.Access.SC1000A - Ausgrid - Substation Entry\n-Network Operator.Certificate.SSAB1001 - Ausgrid - Asbestos Awareness\n"},"","","",""]
["First Aider","M",null,null,null,null,null,null,null,null,null,null,null,null,null,null,null,null,null,null,null,null,null,null,null,null,null,null,null,null,null,null,null,null,null,null,null,"M",null,null,null,null,null,null,null,null,null,null,null,null,null,null,null,null,null,null,null,null,null,null,null,null,null,null,null,null,null,null,null,null,null,null,null,null,null,null,null,null,null,null,null,null,null,null,null,null,null,null,null,null,null,null,null,null,null,null,null,null,null,null,null,null,null,null,null,null,null,null,null,null,null,null,null,null,null,null,null,null,null,null,null,null,null,null,null,null,null,null,"-First Aid.Statement of Attainment.HLTAID001 - Perform CPR\n","-First Aid.Statement of Attainment.HLTAID003 - Provide First Aid\n",{"$f":"CONCATENATE(\nIF(E43=\"M\",\"-\"&INDEX(E$1:E$104,1)&CHAR(10),\"\"),\nIF(F43=\"M\",\"-\"&INDEX(F$1:F$104,1)&CHAR(10),\"\"),\nIF(G43=\"M\",\"-\"&INDEX(G$1:G$104,1)&CHAR(10),\"\"),\nIF(H43=\"M\",\"-\"&INDEX(H$1:H$104,1)&CHAR(10),\"\"),\nIF(I43=\"M\",\"-\"&INDEX(I$1:I$104,1)&CHAR(10),\"\"),\nIF(J43=\"M\",\"-\"&INDEX(J$1:J$104,1)&CHAR(10),\"\"),\nIF(K43=\"M\",\"-\"&INDEX(K$1:K$104,1)&CHAR(10),\"\"),\nIF(L43=\"M\",\"-\"&INDEX(L$1:L$104,1)&CHAR(10),\"\"),\nIF(M43=\"M\",\"-\"&INDEX(M$1:M118,1)&CHAR(10),\"\"),\nIF(N43=\"M\",\"-\"&INDEX(N$1:N$104,1)&CHAR(10),\"\"),\nIF(O43=\"M\",\"-\"&INDEX(O$1:O$104,1)&CHAR(10),\"\"),\nIF(P43=\"M\",\"-\"&INDEX(P$1:P$104,1)&CHAR(10),\"\"),\nIF(Q43=\"M\",\"-\"&INDEX(Q$1:Q$104,1)&CHAR(10),\"\"),\nIF(R43=\"M\",\"-\"&INDEX(R$1:R$104,1)&CHAR(10),\"\"),\nIF(S43=\"M\",\"-\"&INDEX(S$1:S$104,1)&CHAR(10),\"\"),\nIF(T43=\"M\",\"-\"&INDEX(T$1:T$104,1)&CHAR(10),\"\"),\nIF(U43=\"M\",\"-\"&INDEX(U$1:U$104,1)&CHAR(10),\"\"),\nIF(V43=\"M\",\"-\"&INDEX(V$1:V$104,1)&CHAR(10),\"\"),\nIF(W43=\"M\",\"-\"&INDEX(W$1:W$104,1)&CHAR(10),\"\"),\nIF(X43=\"M\",\"-\"&INDEX(X$1:X$104,1)&CHAR(10),\"\"),\nIF(Y43=\"M\",\"-\"&INDEX(Y$1:Y$104,1)&CHAR(10),\"\"),\nIF(Z43=\"M\",\"-\"&INDEX(Z$1:Z$104,1)&CHAR(10),\"\"),\nIF(AA43=\"M\",\"-\"&INDEX(AA$1:AA$104,1)&CHAR(10),\"\"),\nIF(AB43=\"M\",\"-\"&INDEX(AB$1:AB$104,1)&CHAR(10),\"\"),\nIF(AC43=\"M\",\"-\"&INDEX(AC$1:AC$104,1)&CHAR(10),\"\"),\nIF(AD43=\"M\",\"-\"&INDEX(AD$1:AD$104,1)&CHAR(10),\"\"))","v":""},"-First Aid.Statement of Attainment.HLTAID003 - Provide First Aid\n","","",""]
["Forklift Operator",null,null,null,null,null,null,null,null,null,null,null,null,null,null,null,null,null,null,null,null,null,null,null,null,null,null,null,null,null,null,null,null,null,null,null,null,null,null,null,null,null,null,null,null,null,null,null,null,null,null,null,null,null,null,null,null,null,null,null,null,null,null,null,"M",null,null,null,null,null,null,null,null,null,null,null,null,null,null,null,null,null,null,null,null,null,null,null,null,null,null,null,null,null,null,null,null,null,null,null,null,null,null,null,null,null,null,null,null,null,null,null,null,null,null,null,null,null,null,null,null,null,null,null,null,null,null,null,"","-High Risk Work.Licence.Forlkift (LF)\n",{"$f":"CONCATENATE(\nIF(E44=\"M\",\"-\"&INDEX(E$1:E$104,1)&CHAR(10),\"\"),\nIF(F44=\"M\",\"-\"&INDEX(F$1:F$104,1)&CHAR(10),\"\"),\nIF(G44=\"M\",\"-\"&INDEX(G$1:G$104,1)&CHAR(10),\"\"),\nIF(H44=\"M\",\"-\"&INDEX(H$1:H$104,1)&CHAR(10),\"\"),\nIF(I44=\"M\",\"-\"&INDEX(I$1:I$104,1)&CHAR(10),\"\"),\nIF(J44=\"M\",\"-\"&INDEX(J$1:J$104,1)&CHAR(10),\"\"),\nIF(K44=\"M\",\"-\"&INDEX(K$1:K$104,1)&CHAR(10),\"\"),\nIF(L44=\"M\",\"-\"&INDEX(L$1:L$104,1)&CHAR(10),\"\"),\nIF(M44=\"M\",\"-\"&INDEX(M$1:M118,1)&CHAR(10),\"\"),\nIF(N44=\"M\",\"-\"&INDEX(N$1:N$104,1)&CHAR(10),\"\"),\nIF(O44=\"M\",\"-\"&INDEX(O$1:O$104,1)&CHAR(10),\"\"),\nIF(P44=\"M\",\"-\"&INDEX(P$1:P$104,1)&CHAR(10),\"\"),\nIF(Q44=\"M\",\"-\"&INDEX(Q$1:Q$104,1)&CHAR(10),\"\"),\nIF(R44=\"M\",\"-\"&INDEX(R$1:R$104,1)&CHAR(10),\"\"),\nIF(S44=\"M\",\"-\"&INDEX(S$1:S$104,1)&CHAR(10),\"\"),\nIF(T44=\"M\",\"-\"&INDEX(T$1:T$104,1)&CHAR(10),\"\"),\nIF(U44=\"M\",\"-\"&INDEX(U$1:U$104,1)&CHAR(10),\"\"),\nIF(V44=\"M\",\"-\"&INDEX(V$1:V$104,1)&CHAR(10),\"\"),\nIF(W44=\"M\",\"-\"&INDEX(W$1:W$104,1)&CHAR(10),\"\"),\nIF(X44=\"M\",\"-\"&INDEX(X$1:X$104,1)&CHAR(10),\"\"),\nIF(Y44=\"M\",\"-\"&INDEX(Y$1:Y$104,1)&CHAR(10),\"\"),\nIF(Z44=\"M\",\"-\"&INDEX(Z$1:Z$104,1)&CHAR(10),\"\"),\nIF(AA44=\"M\",\"-\"&INDEX(AA$1:AA$104,1)&CHAR(10),\"\"),\nIF(AB44=\"M\",\"-\"&INDEX(AB$1:AB$104,1)&CHAR(10),\"\"),\nIF(AC44=\"M\",\"-\"&INDEX(AC$1:AC$104,1)&CHAR(10),\"\"),\nIF(AD44=\"M\",\"-\"&INDEX(AD$1:AD$104,1)&CHAR(10),\"\"))","v":""},"","-High Risk Work.Licence.Forlkift (LF)\n","",""]
["MP Civil - Designated Officer","M","M","M",null,"M","M","M","M","M","SE1000, RF0003, SC1200",null,null,null,null,null,"M",null,null,null,null,null,null,null,null,null,null,null,null,null,null,null,null,null,null,null,null,null,null,null,null,null,null,null,"M",null,null,null,null,null,null,null,null,null,null,null,null,null,null,null,null,null,null,null,null,null,null,null,null,null,null,null,null,null,null,null,null,null,null,null,null,null,null,null,null,null,null,null,null,null,null,null,null,null,null,null,null,null,null,null,null,null,null,null,null,null,null,null,null,null,null,null,null,null,null,null,null,null,null,null,null,null,null,null,null,null,null,null,"-First Aid.Statement of Attainment.HLTAID001 - Perform CPR\n-Electrical.Statement of Attainment.UETTDRRF06 - Perform rescue from a live LV panel\n-Electrical.Statement of Attainment.UETTDRRF10 - First Aid in an ESI Environment","-Electrical.Statement of Attainment.UETTDRRF07 - Perform cable pit/trench/excavation rescue\n",{"$f":"CONCATENATE(\nIF(E45=\"M\",\"-\"&INDEX(E$1:E$104,1)&CHAR(10),\"\"),\nIF(F45=\"M\",\"-\"&INDEX(F$1:F$104,1)&CHAR(10),\"\"),\nIF(G45=\"M\",\"-\"&INDEX(G$1:G$104,1)&CHAR(10),\"\"),\nIF(H45=\"M\",\"-\"&INDEX(H$1:H$104,1)&CHAR(10),\"\"),\nIF(I45=\"M\",\"-\"&INDEX(I$1:I$104,1)&CHAR(10),\"\"),\nIF(J45=\"M\",\"-\"&INDEX(J$1:J$104,1)&CHAR(10),\"\"),\nIF(K45=\"M\",\"-\"&INDEX(K$1:K$104,1)&CHAR(10),\"\"),\nIF(L45=\"M\",\"-\"&INDEX(L$1:L$104,1)&CHAR(10),\"\"),\nIF(M45=\"M\",\"-\"&INDEX(M$1:M118,1)&CHAR(10),\"\"),\nIF(N45=\"M\",\"-\"&INDEX(N$1:N$104,1)&CHAR(10),\"\"),\nIF(O45=\"M\",\"-\"&INDEX(O$1:O$104,1)&CHAR(10),\"\"),\nIF(P45=\"M\",\"-\"&INDEX(P$1:P$104,1)&CHAR(10),\"\"),\nIF(Q45=\"M\",\"-\"&INDEX(Q$1:Q$104,1)&CHAR(10),\"\"),\nIF(R45=\"M\",\"-\"&INDEX(R$1:R$104,1)&CHAR(10),\"\"),\nIF(S45=\"M\",\"-\"&INDEX(S$1:S$104,1)&CHAR(10),\"\"),\nIF(T45=\"M\",\"-\"&INDEX(T$1:T$104,1)&CHAR(10),\"\"),\nIF(U45=\"M\",\"-\"&INDEX(U$1:U$104,1)&CHAR(10),\"\"),\nIF(V45=\"M\",\"-\"&INDEX(V$1:V$104,1)&CHAR(10),\"\"),\nIF(W45=\"M\",\"-\"&INDEX(W$1:W$104,1)&CHAR(10),\"\"),\nIF(X45=\"M\",\"-\"&INDEX(X$1:X$104,1)&CHAR(10),\"\"),\nIF(Y45=\"M\",\"-\"&INDEX(Y$1:Y$104,1)&CHAR(10),\"\"),\nIF(Z45=\"M\",\"-\"&INDEX(Z$1:Z$104,1)&CHAR(10),\"\"),\nIF(AA45=\"M\",\"-\"&INDEX(AA$1:AA$104,1)&CHAR(10),\"\"),\nIF(AB45=\"M\",\"-\"&INDEX(AB$1:AB$104,1)&CHAR(10),\"\"),\nIF(AC45=\"M\",\"-\"&INDEX(AC$1:AC$104,1)&CHAR(10),\"\"),\nIF(AD45=\"M\",\"-\"&INDEX(AD$1:AD$104,1)&CHAR(10),\"\"))","v":"-Electrical.Statement of Attainment.UETTDRRF01 - Apply ESI safety rules, codes of practice and procedures for work\n-Network Operator.Certificate.I0102 - Ausgrid - Environmental Awareness\n-Electrical.Statement of Attainment.UETTDRRF09 - Apply access procedures to work on or near electrical network infrastructure\n-Network Operator.Access.SC1000A - Ausgrid - Substation Entry\n-Network Operator.Certificate.SC1100A - Working Near or Around Underground Cables\n-Network Operator.Certificate.SSAB1001 - Ausgrid - Asbestos Awareness\n"},"-Electrical.Statement of Attainment.UETTDRRF07 - Perform cable pit/trench/excavation rescue\n","","",""]
["MP Civil - Greenfields Designated Officer","M","M","M",null,"M","M","M",null,null,"SE1000, RF0003",null,null,null,null,null,"M",null,null,null,null,null,null,null,null,null,null,null,null,null,null,null,null,null,null,null,null,null,null,null,null,null,null,null,"M",null,null,null,null,null,null,null,null,null,null,null,null,null,null,null,null,null,null,null,null,null,null,null,null,null,null,null,null,null,null,null,null,null,null,null,null,null,null,null,null,null,null,null,null,null,null,null,null,null,null,null,null,null,null,null,null,null,null,null,null,null,null,null,null,null,null,null,null,null,null,null,null,null,null,null,null,null,null,null,null,null,null,null,"-First Aid.Statement of Attainment.HLTAID001 - Perform CPR\n-Electrical.Statement of Attainment.UETTDRRF06 - Perform rescue from a live LV panel\n-Electrical.Statement of Attainment.UETTDRRF10 - First Aid in an ESI Environment","-Electrical.Statement of Attainment.UETTDRRF07 - Perform cable pit/trench/excavation rescue\n",{"$f":"CONCATENATE(\nIF(E46=\"M\",\"-\"&INDEX(E$1:E$104,1)&CHAR(10),\"\"),\nIF(F46=\"M\",\"-\"&INDEX(F$1:F$104,1)&CHAR(10),\"\"),\nIF(G46=\"M\",\"-\"&INDEX(G$1:G$104,1)&CHAR(10),\"\"),\nIF(H46=\"M\",\"-\"&INDEX(H$1:H$104,1)&CHAR(10),\"\"),\nIF(I46=\"M\",\"-\"&INDEX(I$1:I$104,1)&CHAR(10),\"\"),\nIF(J46=\"M\",\"-\"&INDEX(J$1:J$104,1)&CHAR(10),\"\"),\nIF(K46=\"M\",\"-\"&INDEX(K$1:K$104,1)&CHAR(10),\"\"),\nIF(L46=\"M\",\"-\"&INDEX(L$1:L$104,1)&CHAR(10),\"\"),\nIF(M46=\"M\",\"-\"&INDEX(M$1:M118,1)&CHAR(10),\"\"),\nIF(N46=\"M\",\"-\"&INDEX(N$1:N$104,1)&CHAR(10),\"\"),\nIF(O46=\"M\",\"-\"&INDEX(O$1:O$104,1)&CHAR(10),\"\"),\nIF(P46=\"M\",\"-\"&INDEX(P$1:P$104,1)&CHAR(10),\"\"),\nIF(Q46=\"M\",\"-\"&INDEX(Q$1:Q$104,1)&CHAR(10),\"\"),\nIF(R46=\"M\",\"-\"&INDEX(R$1:R$104,1)&CHAR(10),\"\"),\nIF(S46=\"M\",\"-\"&INDEX(S$1:S$104,1)&CHAR(10),\"\"),\nIF(T46=\"M\",\"-\"&INDEX(T$1:T$104,1)&CHAR(10),\"\"),\nIF(U46=\"M\",\"-\"&INDEX(U$1:U$104,1)&CHAR(10),\"\"),\nIF(V46=\"M\",\"-\"&INDEX(V$1:V$104,1)&CHAR(10),\"\"),\nIF(W46=\"M\",\"-\"&INDEX(W$1:W$104,1)&CHAR(10),\"\"),\nIF(X46=\"M\",\"-\"&INDEX(X$1:X$104,1)&CHAR(10),\"\"),\nIF(Y46=\"M\",\"-\"&INDEX(Y$1:Y$104,1)&CHAR(10),\"\"),\nIF(Z46=\"M\",\"-\"&INDEX(Z$1:Z$104,1)&CHAR(10),\"\"),\nIF(AA46=\"M\",\"-\"&INDEX(AA$1:AA$104,1)&CHAR(10),\"\"),\nIF(AB46=\"M\",\"-\"&INDEX(AB$1:AB$104,1)&CHAR(10),\"\"),\nIF(AC46=\"M\",\"-\"&INDEX(AC$1:AC$104,1)&CHAR(10),\"\"),\nIF(AD46=\"M\",\"-\"&INDEX(AD$1:AD$104,1)&CHAR(10),\"\"))","v":"-Electrical.Statement of Attainment.UETTDRRF01 - Apply ESI safety rules, codes of practice and procedures for work\n-Network Operator.Certificate.I0102 - Ausgrid - Environmental Awareness\n-Electrical.Statement of Attainment.UETTDRRF09 - Apply access procedures to work on or near electrical network infrastructure\n-Network Operator.Certificate.SSAB1001 - Ausgrid - Asbestos Awareness\n"},"-Electrical.Statement of Attainment.UETTDRRF07 - Perform cable pit/trench/excavation rescue\n","","",""]
["MP Civil - No network access","M","M","M",null,"M","M","M","M",null,"SE1000, RF0003, SC1000A",null,null,null,null,null,null,null,null,null,null,null,null,null,null,null,null,null,null,null,null,null,null,null,"M",null,null,null,null,null,null,null,null,null,null,null,null,null,null,null,null,null,null,null,null,null,null,null,null,null,null,null,null,null,null,null,null,null,null,null,null,null,null,null,null,null,null,null,null,null,null,null,null,null,null,null,null,null,null,null,null,null,null,null,null,null,null,null,null,null,null,null,null,null,null,null,null,null,null,null,null,null,null,null,null,null,null,null,null,null,null,null,null,null,null,null,null,null,"-First Aid.Statement of Attainment.HLTAID001 - Perform CPR\n-Electrical.Statement of Attainment.UETTDRRF06 - Perform rescue from a live LV panel\n-Electrical.Statement of Attainment.UETTDRRF10 - First Aid in an ESI Environment","-Confined Space.Statement of Attainment.RIIWHS202 - Enter and work in confined spaces\n",{"$f":"CONCATENATE(\nIF(E47=\"M\",\"-\"&INDEX(E$1:E$104,1)&CHAR(10),\"\"),\nIF(F47=\"M\",\"-\"&INDEX(F$1:F$104,1)&CHAR(10),\"\"),\nIF(G47=\"M\",\"-\"&INDEX(G$1:G$104,1)&CHAR(10),\"\"),\nIF(H47=\"M\",\"-\"&INDEX(H$1:H$104,1)&CHAR(10),\"\"),\nIF(I47=\"M\",\"-\"&INDEX(I$1:I$104,1)&CHAR(10),\"\"),\nIF(J47=\"M\",\"-\"&INDEX(J$1:J$104,1)&CHAR(10),\"\"),\nIF(K47=\"M\",\"-\"&INDEX(K$1:K$104,1)&CHAR(10),\"\"),\nIF(L47=\"M\",\"-\"&INDEX(L$1:L$104,1)&CHAR(10),\"\"),\nIF(M47=\"M\",\"-\"&INDEX(M$1:M118,1)&CHAR(10),\"\"),\nIF(N47=\"M\",\"-\"&INDEX(N$1:N$104,1)&CHAR(10),\"\"),\nIF(O47=\"M\",\"-\"&INDEX(O$1:O$104,1)&CHAR(10),\"\"),\nIF(P47=\"M\",\"-\"&INDEX(P$1:P$104,1)&CHAR(10),\"\"),\nIF(Q47=\"M\",\"-\"&INDEX(Q$1:Q$104,1)&CHAR(10),\"\"),\nIF(R47=\"M\",\"-\"&INDEX(R$1:R$104,1)&CHAR(10),\"\"),\nIF(S47=\"M\",\"-\"&INDEX(S$1:S$104,1)&CHAR(10),\"\"),\nIF(T47=\"M\",\"-\"&INDEX(T$1:T$104,1)&CHAR(10),\"\"),\nIF(U47=\"M\",\"-\"&INDEX(U$1:U$104,1)&CHAR(10),\"\"),\nIF(V47=\"M\",\"-\"&INDEX(V$1:V$104,1)&CHAR(10),\"\"),\nIF(W47=\"M\",\"-\"&INDEX(W$1:W$104,1)&CHAR(10),\"\"),\nIF(X47=\"M\",\"-\"&INDEX(X$1:X$104,1)&CHAR(10),\"\"),\nIF(Y47=\"M\",\"-\"&INDEX(Y$1:Y$104,1)&CHAR(10),\"\"),\nIF(Z47=\"M\",\"-\"&INDEX(Z$1:Z$104,1)&CHAR(10),\"\"),\nIF(AA47=\"M\",\"-\"&INDEX(AA$1:AA$104,1)&CHAR(10),\"\"),\nIF(AB47=\"M\",\"-\"&INDEX(AB$1:AB$104,1)&CHAR(10),\"\"),\nIF(AC47=\"M\",\"-\"&INDEX(AC$1:AC$104,1)&CHAR(10),\"\"),\nIF(AD47=\"M\",\"-\"&INDEX(AD$1:AD$104,1)&CHAR(10),\"\"))","v":"-Electrical.Statement of Attainment.UETTDRRF01 - Apply ESI safety rules, codes of practice and procedures for work\n-Network Operator.Certificate.I0102 - Ausgrid - Environmental Awareness\n-Electrical.Statement of Attainment.UETTDRRF09 - Apply access procedures to work on or near electrical network infrastructure\n-Network Operator.Access.SC1000A - Ausgrid - Substation Entry\n"},"-Confined Space.Statement of Attainment.RIIWHS202 - Enter and work in confined spaces\n","","",""]
["MP Civil - Working on or near the network","M","M","M",null,"M","M","M","M",null,"SE1000, RF0003, SC1000A",null,null,null,null,null,null,null,null,null,null,null,null,null,null,null,null,null,null,null,null,null,null,null,"M",null,null,null,null,null,null,null,null,null,null,null,null,null,null,null,null,null,null,null,null,null,null,null,null,null,null,null,null,null,null,null,null,null,null,null,null,null,null,null,null,null,null,null,null,null,null,null,null,null,null,null,null,null,null,null,null,null,null,null,null,null,null,null,null,null,null,null,null,null,null,null,null,null,null,null,null,null,null,null,null,null,null,null,null,null,null,null,null,null,null,null,null,null,"-First Aid.Statement of Attainment.HLTAID001 - Perform CPR\n-Electrical.Statement of Attainment.UETTDRRF06 - Perform rescue from a live LV panel\n-Electrical.Statement of Attainment.UETTDRRF10 - First Aid in an ESI Environment","-Confined Space.Statement of Attainment.RIIWHS202 - Enter and work in confined spaces\n",{"$f":"CONCATENATE(\nIF(E48=\"M\",\"-\"&INDEX(E$1:E$104,1)&CHAR(10),\"\"),\nIF(F48=\"M\",\"-\"&INDEX(F$1:F$104,1)&CHAR(10),\"\"),\nIF(G48=\"M\",\"-\"&INDEX(G$1:G$104,1)&CHAR(10),\"\"),\nIF(H48=\"M\",\"-\"&INDEX(H$1:H$104,1)&CHAR(10),\"\"),\nIF(I48=\"M\",\"-\"&INDEX(I$1:I$104,1)&CHAR(10),\"\"),\nIF(J48=\"M\",\"-\"&INDEX(J$1:J$104,1)&CHAR(10),\"\"),\nIF(K48=\"M\",\"-\"&INDEX(K$1:K$104,1)&CHAR(10),\"\"),\nIF(L48=\"M\",\"-\"&INDEX(L$1:L$104,1)&CHAR(10),\"\"),\nIF(M48=\"M\",\"-\"&INDEX(M$1:M118,1)&CHAR(10),\"\"),\nIF(N48=\"M\",\"-\"&INDEX(N$1:N$104,1)&CHAR(10),\"\"),\nIF(O48=\"M\",\"-\"&INDEX(O$1:O$104,1)&CHAR(10),\"\"),\nIF(P48=\"M\",\"-\"&INDEX(P$1:P$104,1)&CHAR(10),\"\"),\nIF(Q48=\"M\",\"-\"&INDEX(Q$1:Q$104,1)&CHAR(10),\"\"),\nIF(R48=\"M\",\"-\"&INDEX(R$1:R$104,1)&CHAR(10),\"\"),\nIF(S48=\"M\",\"-\"&INDEX(S$1:S$104,1)&CHAR(10),\"\"),\nIF(T48=\"M\",\"-\"&INDEX(T$1:T$104,1)&CHAR(10),\"\"),\nIF(U48=\"M\",\"-\"&INDEX(U$1:U$104,1)&CHAR(10),\"\"),\nIF(V48=\"M\",\"-\"&INDEX(V$1:V$104,1)&CHAR(10),\"\"),\nIF(W48=\"M\",\"-\"&INDEX(W$1:W$104,1)&CHAR(10),\"\"),\nIF(X48=\"M\",\"-\"&INDEX(X$1:X$104,1)&CHAR(10),\"\"),\nIF(Y48=\"M\",\"-\"&INDEX(Y$1:Y$104,1)&CHAR(10),\"\"),\nIF(Z48=\"M\",\"-\"&INDEX(Z$1:Z$104,1)&CHAR(10),\"\"),\nIF(AA48=\"M\",\"-\"&INDEX(AA$1:AA$104,1)&CHAR(10),\"\"),\nIF(AB48=\"M\",\"-\"&INDEX(AB$1:AB$104,1)&CHAR(10),\"\"),\nIF(AC48=\"M\",\"-\"&INDEX(AC$1:AC$104,1)&CHAR(10),\"\"),\nIF(AD48=\"M\",\"-\"&INDEX(AD$1:AD$104,1)&CHAR(10),\"\"))","v":"-Electrical.Statement of Attainment.UETTDRRF01 - Apply ESI safety rules, codes of practice and procedures for work\n-Network Operator.Certificate.I0102 - Ausgrid - Environmental Awareness\n-Electrical.Statement of Attainment.UETTDRRF09 - Apply access procedures to work on or near electrical network infrastructure\n-Network Operator.Access.SC1000A - Ausgrid - Substation Entry\n"},"-Confined Space.Statement of Attainment.RIIWHS202 - Enter and work in confined spaces\n","","",""]
["OH Earth Wire - Supervisor","M",null,"M",null,"M","M","M",null,null,"SE1000, RF0003",null,null,null,null,null,null,null,null,null,null,null,null,null,null,null,null,null,null,null,null,null,null,null,null,"M",null,"M",null,null,null,null,null,null,null,null,null,null,null,null,null,null,null,null,null,null,null,null,null,null,null,null,null,null,null,null,null,null,null,null,null,null,null,null,null,null,null,null,null,null,null,null,null,null,null,null,null,null,null,null,null,null,null,null,null,null,null,null,null,null,null,null,null,null,null,null,null,null,null,null,null,null,null,null,null,null,null,null,null,null,null,null,null,null,null,null,null,null,"-First Aid.Statement of Attainment.HLTAID001 - Perform CPR\n-Electrical.Statement of Attainment.UETTDRRF10 - First Aid in an ESI Environment","-Electrical.Statement of Attainment.UETTDRRF04 - Perform tower rescue\n-First Aid.Statement of Attainment.HLTAID003 - Provide First Aid\n",{"$f":"CONCATENATE(\nIF(E49=\"M\",\"-\"&INDEX(E$1:E$104,1)&CHAR(10),\"\"),\nIF(F49=\"M\",\"-\"&INDEX(F$1:F$104,1)&CHAR(10),\"\"),\nIF(G49=\"M\",\"-\"&INDEX(G$1:G$104,1)&CHAR(10),\"\"),\nIF(H49=\"M\",\"-\"&INDEX(H$1:H$104,1)&CHAR(10),\"\"),\nIF(I49=\"M\",\"-\"&INDEX(I$1:I$104,1)&CHAR(10),\"\"),\nIF(J49=\"M\",\"-\"&INDEX(J$1:J$104,1)&CHAR(10),\"\"),\nIF(K49=\"M\",\"-\"&INDEX(K$1:K$104,1)&CHAR(10),\"\"),\nIF(L49=\"M\",\"-\"&INDEX(L$1:L$104,1)&CHAR(10),\"\"),\nIF(M49=\"M\",\"-\"&INDEX(M$1:M118,1)&CHAR(10),\"\"),\nIF(N49=\"M\",\"-\"&INDEX(N$1:N$104,1)&CHAR(10),\"\"),\nIF(O49=\"M\",\"-\"&INDEX(O$1:O$104,1)&CHAR(10),\"\"),\nIF(P49=\"M\",\"-\"&INDEX(P$1:P$104,1)&CHAR(10),\"\"),\nIF(Q49=\"M\",\"-\"&INDEX(Q$1:Q$104,1)&CHAR(10),\"\"),\nIF(R49=\"M\",\"-\"&INDEX(R$1:R$104,1)&CHAR(10),\"\"),\nIF(S49=\"M\",\"-\"&INDEX(S$1:S$104,1)&CHAR(10),\"\"),\nIF(T49=\"M\",\"-\"&INDEX(T$1:T$104,1)&CHAR(10),\"\"),\nIF(U49=\"M\",\"-\"&INDEX(U$1:U$104,1)&CHAR(10),\"\"),\nIF(V49=\"M\",\"-\"&INDEX(V$1:V$104,1)&CHAR(10),\"\"),\nIF(W49=\"M\",\"-\"&INDEX(W$1:W$104,1)&CHAR(10),\"\"),\nIF(X49=\"M\",\"-\"&INDEX(X$1:X$104,1)&CHAR(10),\"\"),\nIF(Y49=\"M\",\"-\"&INDEX(Y$1:Y$104,1)&CHAR(10),\"\"),\nIF(Z49=\"M\",\"-\"&INDEX(Z$1:Z$104,1)&CHAR(10),\"\"),\nIF(AA49=\"M\",\"-\"&INDEX(AA$1:AA$104,1)&CHAR(10),\"\"),\nIF(AB49=\"M\",\"-\"&INDEX(AB$1:AB$104,1)&CHAR(10),\"\"),\nIF(AC49=\"M\",\"-\"&INDEX(AC$1:AC$104,1)&CHAR(10),\"\"),\nIF(AD49=\"M\",\"-\"&INDEX(AD$1:AD$104,1)&CHAR(10),\"\"))","v":"-Electrical.Statement of Attainment.UETTDRRF01 - Apply ESI safety rules, codes of practice and procedures for work\n-Network Operator.Certificate.I0102 - Ausgrid - Environmental Awareness\n-Electrical.Statement of Attainment.UETTDRRF09 - Apply access procedures to work on or near electrical network infrastructure\n"},"-Electrical.Statement of Attainment.UETTDRRF04 - Perform tower rescue\n-First Aid.Statement of Attainment.HLTAID003 - Provide First Aid\n","","",""]
["OH Earth Wire - Tradesperson / labourer on or near transmission ","M",null,"M",null,"M","M","M",null,null,"SE1000, RF0003",null,null,null,null,null,null,null,null,null,null,null,null,null,null,null,null,null,null,null,null,null,null,null,null,"M",null,null,null,null,null,null,null,null,null,null,null,null,null,null,null,null,null,null,null,null,null,null,null,null,null,null,null,null,null,null,null,null,null,null,null,null,null,null,null,null,null,null,null,null,null,null,null,null,null,null,null,null,null,null,null,null,null,null,null,null,null,null,null,null,null,null,null,null,"M",null,null,null,null,null,null,null,null,null,null,null,null,null,null,null,null,null,null,null,null,null,null,null,"-First Aid.Statement of Attainment.HLTAID001 - Perform CPR\n-Electrical.Statement of Attainment.UETTDRRF10 - First Aid in an ESI Environment","-Electrical.Statement of Attainment.UETTDRRF04 - Perform tower rescue\n-Electrical.Statement of Attainment.UETTDREL14 - Working safely near live electrical apparatus as a non electrical worker \n",{"$f":"CONCATENATE(\nIF(E50=\"M\",\"-\"&INDEX(E$1:E$104,1)&CHAR(10),\"\"),\nIF(F50=\"M\",\"-\"&INDEX(F$1:F$104,1)&CHAR(10),\"\"),\nIF(G50=\"M\",\"-\"&INDEX(G$1:G$104,1)&CHAR(10),\"\"),\nIF(H50=\"M\",\"-\"&INDEX(H$1:H$104,1)&CHAR(10),\"\"),\nIF(I50=\"M\",\"-\"&INDEX(I$1:I$104,1)&CHAR(10),\"\"),\nIF(J50=\"M\",\"-\"&INDEX(J$1:J$104,1)&CHAR(10),\"\"),\nIF(K50=\"M\",\"-\"&INDEX(K$1:K$104,1)&CHAR(10),\"\"),\nIF(L50=\"M\",\"-\"&INDEX(L$1:L$104,1)&CHAR(10),\"\"),\nIF(M50=\"M\",\"-\"&INDEX(M$1:M118,1)&CHAR(10),\"\"),\nIF(N50=\"M\",\"-\"&INDEX(N$1:N$104,1)&CHAR(10),\"\"),\nIF(O50=\"M\",\"-\"&INDEX(O$1:O$104,1)&CHAR(10),\"\"),\nIF(P50=\"M\",\"-\"&INDEX(P$1:P$104,1)&CHAR(10),\"\"),\nIF(Q50=\"M\",\"-\"&INDEX(Q$1:Q$104,1)&CHAR(10),\"\"),\nIF(R50=\"M\",\"-\"&INDEX(R$1:R$104,1)&CHAR(10),\"\"),\nIF(S50=\"M\",\"-\"&INDEX(S$1:S$104,1)&CHAR(10),\"\"),\nIF(T50=\"M\",\"-\"&INDEX(T$1:T$104,1)&CHAR(10),\"\"),\nIF(U50=\"M\",\"-\"&INDEX(U$1:U$104,1)&CHAR(10),\"\"),\nIF(V50=\"M\",\"-\"&INDEX(V$1:V$104,1)&CHAR(10),\"\"),\nIF(W50=\"M\",\"-\"&INDEX(W$1:W$104,1)&CHAR(10),\"\"),\nIF(X50=\"M\",\"-\"&INDEX(X$1:X$104,1)&CHAR(10),\"\"),\nIF(Y50=\"M\",\"-\"&INDEX(Y$1:Y$104,1)&CHAR(10),\"\"),\nIF(Z50=\"M\",\"-\"&INDEX(Z$1:Z$104,1)&CHAR(10),\"\"),\nIF(AA50=\"M\",\"-\"&INDEX(AA$1:AA$104,1)&CHAR(10),\"\"),\nIF(AB50=\"M\",\"-\"&INDEX(AB$1:AB$104,1)&CHAR(10),\"\"),\nIF(AC50=\"M\",\"-\"&INDEX(AC$1:AC$104,1)&CHAR(10),\"\"),\nIF(AD50=\"M\",\"-\"&INDEX(AD$1:AD$104,1)&CHAR(10),\"\"))","v":"-Electrical.Statement of Attainment.UETTDRRF01 - Apply ESI safety rules, codes of practice and procedures for work\n-Network Operator.Certificate.I0102 - Ausgrid - Environmental Awareness\n-Electrical.Statement of Attainment.UETTDRRF09 - Apply access procedures to work on or near electrical network infrastructure\n"},"-Electrical.Statement of Attainment.UETTDRRF04 - Perform tower rescue\n","","-Electrical.Statement of Attainment.UETTDREL14 - Working safely near live electrical apparatus as a non electrical worker \n",""]
["Operator  - Scraper",null,null,null,null,null,null,null,null,null,null,null,null,null,null,null,null,null,null,null,null,null,null,null,null,null,null,null,null,null,null,null,null,null,"M",null,null,null,null,null,null,null,null,null,null,null,null,null,null,null,null,null,null,null,null,null,null,null,null,null,null,null,null,null,null,null,null,null,null,null,null,null,null,null,null,null,null,null,null,null,null,null,null,null,null,null,null,null,null,null,null,null,null,null,null,null,null,null,null,null,null,null,null,null,null,null,null,null,null,null,null,null,null,null,null,null,null,null,null,null,null,null,null,null,null,null,null,null,"","-Confined Space.Statement of Attainment.RIIWHS202 - Enter and work in confined spaces\n",{"$f":"CONCATENATE(\nIF(E51=\"M\",\"-\"&INDEX(E$1:E$104,1)&CHAR(10),\"\"),\nIF(F51=\"M\",\"-\"&INDEX(F$1:F$104,1)&CHAR(10),\"\"),\nIF(G51=\"M\",\"-\"&INDEX(G$1:G$104,1)&CHAR(10),\"\"),\nIF(H51=\"M\",\"-\"&INDEX(H$1:H$104,1)&CHAR(10),\"\"),\nIF(I51=\"M\",\"-\"&INDEX(I$1:I$104,1)&CHAR(10),\"\"),\nIF(J51=\"M\",\"-\"&INDEX(J$1:J$104,1)&CHAR(10),\"\"),\nIF(K51=\"M\",\"-\"&INDEX(K$1:K$104,1)&CHAR(10),\"\"),\nIF(L51=\"M\",\"-\"&INDEX(L$1:L$104,1)&CHAR(10),\"\"),\nIF(M51=\"M\",\"-\"&INDEX(M$1:M118,1)&CHAR(10),\"\"),\nIF(N51=\"M\",\"-\"&INDEX(N$1:N$104,1)&CHAR(10),\"\"),\nIF(O51=\"M\",\"-\"&INDEX(O$1:O$104,1)&CHAR(10),\"\"),\nIF(P51=\"M\",\"-\"&INDEX(P$1:P$104,1)&CHAR(10),\"\"),\nIF(Q51=\"M\",\"-\"&INDEX(Q$1:Q$104,1)&CHAR(10),\"\"),\nIF(R51=\"M\",\"-\"&INDEX(R$1:R$104,1)&CHAR(10),\"\"),\nIF(S51=\"M\",\"-\"&INDEX(S$1:S$104,1)&CHAR(10),\"\"),\nIF(T51=\"M\",\"-\"&INDEX(T$1:T$104,1)&CHAR(10),\"\"),\nIF(U51=\"M\",\"-\"&INDEX(U$1:U$104,1)&CHAR(10),\"\"),\nIF(V51=\"M\",\"-\"&INDEX(V$1:V$104,1)&CHAR(10),\"\"),\nIF(W51=\"M\",\"-\"&INDEX(W$1:W$104,1)&CHAR(10),\"\"),\nIF(X51=\"M\",\"-\"&INDEX(X$1:X$104,1)&CHAR(10),\"\"),\nIF(Y51=\"M\",\"-\"&INDEX(Y$1:Y$104,1)&CHAR(10),\"\"),\nIF(Z51=\"M\",\"-\"&INDEX(Z$1:Z$104,1)&CHAR(10),\"\"),\nIF(AA51=\"M\",\"-\"&INDEX(AA$1:AA$104,1)&CHAR(10),\"\"),\nIF(AB51=\"M\",\"-\"&INDEX(AB$1:AB$104,1)&CHAR(10),\"\"),\nIF(AC51=\"M\",\"-\"&INDEX(AC$1:AC$104,1)&CHAR(10),\"\"),\nIF(AD51=\"M\",\"-\"&INDEX(AD$1:AD$104,1)&CHAR(10),\"\"))","v":""},"-Confined Space.Statement of Attainment.RIIWHS202 - Enter and work in confined spaces\n","","",""]
["Operator - Compactor",null,null,null,null,null,null,null,null,null,null,null,null,null,null,null,null,null,null,null,null,null,null,null,null,null,null,null,null,null,null,null,null,null,"M",null,null,null,null,null,null,null,null,null,null,null,null,null,null,null,null,null,null,null,null,null,null,null,null,null,null,null,null,null,null,null,null,null,null,null,null,null,null,null,null,null,null,null,null,null,null,null,null,null,null,null,null,null,null,null,null,null,null,null,null,null,null,null,null,null,null,null,null,null,null,null,null,null,null,null,null,null,null,null,null,null,null,null,null,null,null,null,null,null,null,null,null,null,"","-Confined Space.Statement of Attainment.RIIWHS202 - Enter and work in confined spaces\n",{"$f":"CONCATENATE(\nIF(E52=\"M\",\"-\"&INDEX(E$1:E$104,1)&CHAR(10),\"\"),\nIF(F52=\"M\",\"-\"&INDEX(F$1:F$104,1)&CHAR(10),\"\"),\nIF(G52=\"M\",\"-\"&INDEX(G$1:G$104,1)&CHAR(10),\"\"),\nIF(H52=\"M\",\"-\"&INDEX(H$1:H$104,1)&CHAR(10),\"\"),\nIF(I52=\"M\",\"-\"&INDEX(I$1:I$104,1)&CHAR(10),\"\"),\nIF(J52=\"M\",\"-\"&INDEX(J$1:J$104,1)&CHAR(10),\"\"),\nIF(K52=\"M\",\"-\"&INDEX(K$1:K$104,1)&CHAR(10),\"\"),\nIF(L52=\"M\",\"-\"&INDEX(L$1:L$104,1)&CHAR(10),\"\"),\nIF(M52=\"M\",\"-\"&INDEX(M$1:M119,1)&CHAR(10),\"\"),\nIF(N52=\"M\",\"-\"&INDEX(N$1:N$104,1)&CHAR(10),\"\"),\nIF(O52=\"M\",\"-\"&INDEX(O$1:O$104,1)&CHAR(10),\"\"),\nIF(P52=\"M\",\"-\"&INDEX(P$1:P$104,1)&CHAR(10),\"\"),\nIF(Q52=\"M\",\"-\"&INDEX(Q$1:Q$104,1)&CHAR(10),\"\"),\nIF(R52=\"M\",\"-\"&INDEX(R$1:R$104,1)&CHAR(10),\"\"),\nIF(S52=\"M\",\"-\"&INDEX(S$1:S$104,1)&CHAR(10),\"\"),\nIF(T52=\"M\",\"-\"&INDEX(T$1:T$104,1)&CHAR(10),\"\"),\nIF(U52=\"M\",\"-\"&INDEX(U$1:U$104,1)&CHAR(10),\"\"),\nIF(V52=\"M\",\"-\"&INDEX(V$1:V$104,1)&CHAR(10),\"\"),\nIF(W52=\"M\",\"-\"&INDEX(W$1:W$104,1)&CHAR(10),\"\"),\nIF(X52=\"M\",\"-\"&INDEX(X$1:X$104,1)&CHAR(10),\"\"),\nIF(Y52=\"M\",\"-\"&INDEX(Y$1:Y$104,1)&CHAR(10),\"\"),\nIF(Z52=\"M\",\"-\"&INDEX(Z$1:Z$104,1)&CHAR(10),\"\"),\nIF(AA52=\"M\",\"-\"&INDEX(AA$1:AA$104,1)&CHAR(10),\"\"),\nIF(AB52=\"M\",\"-\"&INDEX(AB$1:AB$104,1)&CHAR(10),\"\"),\nIF(AC52=\"M\",\"-\"&INDEX(AC$1:AC$104,1)&CHAR(10),\"\"),\nIF(AD52=\"M\",\"-\"&INDEX(AD$1:AD$104,1)&CHAR(10),\"\"))","v":""},"-Confined Space.Statement of Attainment.RIIWHS202 - Enter and work in confined spaces\n","","",""]
["Operator - Dozer",null,null,null,null,null,null,null,null,null,null,null,null,null,null,null,null,null,null,null,null,null,null,null,null,null,null,null,null,null,null,null,null,null,null,null,null,null,null,null,null,null,null,null,null,null,null,null,null,null,null,null,null,null,null,null,null,null,null,null,null,null,null,null,null,null,null,null,null,null,null,null,null,null,null,null,null,null,null,null,null,null,null,null,null,null,null,null,null,null,null,null,null,null,null,null,null,null,null,null,null,null,null,null,"M",null,null,null,null,null,null,null,null,null,null,null,null,null,null,null,null,null,null,null,null,null,null,null,"","-Electrical.Statement of Attainment.UETTDREL14 - Working safely near live electrical apparatus as a non electrical worker \n",{"$f":"CONCATENATE(\nIF(E53=\"M\",\"-\"&INDEX(E$1:E$104,1)&CHAR(10),\"\"),\nIF(F53=\"M\",\"-\"&INDEX(F$1:F$104,1)&CHAR(10),\"\"),\nIF(G53=\"M\",\"-\"&INDEX(G$1:G$104,1)&CHAR(10),\"\"),\nIF(H53=\"M\",\"-\"&INDEX(H$1:H$104,1)&CHAR(10),\"\"),\nIF(I53=\"M\",\"-\"&INDEX(I$1:I$104,1)&CHAR(10),\"\"),\nIF(J53=\"M\",\"-\"&INDEX(J$1:J$104,1)&CHAR(10),\"\"),\nIF(K53=\"M\",\"-\"&INDEX(K$1:K$104,1)&CHAR(10),\"\"),\nIF(L53=\"M\",\"-\"&INDEX(L$1:L$104,1)&CHAR(10),\"\"),\nIF(M53=\"M\",\"-\"&INDEX(M$1:M120,1)&CHAR(10),\"\"),\nIF(N53=\"M\",\"-\"&INDEX(N$1:N$104,1)&CHAR(10),\"\"),\nIF(O53=\"M\",\"-\"&INDEX(O$1:O$104,1)&CHAR(10),\"\"),\nIF(P53=\"M\",\"-\"&INDEX(P$1:P$104,1)&CHAR(10),\"\"),\nIF(Q53=\"M\",\"-\"&INDEX(Q$1:Q$104,1)&CHAR(10),\"\"),\nIF(R53=\"M\",\"-\"&INDEX(R$1:R$104,1)&CHAR(10),\"\"),\nIF(S53=\"M\",\"-\"&INDEX(S$1:S$104,1)&CHAR(10),\"\"),\nIF(T53=\"M\",\"-\"&INDEX(T$1:T$104,1)&CHAR(10),\"\"),\nIF(U53=\"M\",\"-\"&INDEX(U$1:U$104,1)&CHAR(10),\"\"),\nIF(V53=\"M\",\"-\"&INDEX(V$1:V$104,1)&CHAR(10),\"\"),\nIF(W53=\"M\",\"-\"&INDEX(W$1:W$104,1)&CHAR(10),\"\"),\nIF(X53=\"M\",\"-\"&INDEX(X$1:X$104,1)&CHAR(10),\"\"),\nIF(Y53=\"M\",\"-\"&INDEX(Y$1:Y$104,1)&CHAR(10),\"\"),\nIF(Z53=\"M\",\"-\"&INDEX(Z$1:Z$104,1)&CHAR(10),\"\"),\nIF(AA53=\"M\",\"-\"&INDEX(AA$1:AA$104,1)&CHAR(10),\"\"),\nIF(AB53=\"M\",\"-\"&INDEX(AB$1:AB$104,1)&CHAR(10),\"\"),\nIF(AC53=\"M\",\"-\"&INDEX(AC$1:AC$104,1)&CHAR(10),\"\"),\nIF(AD53=\"M\",\"-\"&INDEX(AD$1:AD$104,1)&CHAR(10),\"\"))","v":""},"","","-Electrical.Statement of Attainment.UETTDREL14 - Working safely near live electrical apparatus as a non electrical worker \n",""]
["Operator - Excavator",null,null,null,null,null,null,null,null,null,null,null,null,null,null,null,null,null,null,null,null,null,null,null,null,null,null,null,null,null,null,null,null,null,null,null,null,null,null,null,null,null,null,null,null,null,null,null,null,null,null,null,null,null,null,null,null,null,null,null,null,null,null,null,null,null,null,null,null,null,null,null,null,null,null,null,null,null,null,null,null,null,null,null,null,null,null,null,null,null,null,null,null,null,null,null,null,null,null,null,null,null,null,null,null,null,null,null,null,null,null,null,null,null,null,null,null,null,null,null,null,null,null,null,null,null,null,null,"","",{"$f":"CONCATENATE(\nIF(E54=\"M\",\"-\"&INDEX(E$1:E$104,1)&CHAR(10),\"\"),\nIF(F54=\"M\",\"-\"&INDEX(F$1:F$104,1)&CHAR(10),\"\"),\nIF(G54=\"M\",\"-\"&INDEX(G$1:G$104,1)&CHAR(10),\"\"),\nIF(H54=\"M\",\"-\"&INDEX(H$1:H$104,1)&CHAR(10),\"\"),\nIF(I54=\"M\",\"-\"&INDEX(I$1:I$104,1)&CHAR(10),\"\"),\nIF(J54=\"M\",\"-\"&INDEX(J$1:J$104,1)&CHAR(10),\"\"),\nIF(K54=\"M\",\"-\"&INDEX(K$1:K$104,1)&CHAR(10),\"\"),\nIF(L54=\"M\",\"-\"&INDEX(L$1:L$104,1)&CHAR(10),\"\"),\nIF(M54=\"M\",\"-\"&INDEX(M$1:M121,1)&CHAR(10),\"\"),\nIF(N54=\"M\",\"-\"&INDEX(N$1:N$104,1)&CHAR(10),\"\"),\nIF(O54=\"M\",\"-\"&INDEX(O$1:O$104,1)&CHAR(10),\"\"),\nIF(P54=\"M\",\"-\"&INDEX(P$1:P$104,1)&CHAR(10),\"\"),\nIF(Q54=\"M\",\"-\"&INDEX(Q$1:Q$104,1)&CHAR(10),\"\"),\nIF(R54=\"M\",\"-\"&INDEX(R$1:R$104,1)&CHAR(10),\"\"),\nIF(S54=\"M\",\"-\"&INDEX(S$1:S$104,1)&CHAR(10),\"\"),\nIF(T54=\"M\",\"-\"&INDEX(T$1:T$104,1)&CHAR(10),\"\"),\nIF(U54=\"M\",\"-\"&INDEX(U$1:U$104,1)&CHAR(10),\"\"),\nIF(V54=\"M\",\"-\"&INDEX(V$1:V$104,1)&CHAR(10),\"\"),\nIF(W54=\"M\",\"-\"&INDEX(W$1:W$104,1)&CHAR(10),\"\"),\nIF(X54=\"M\",\"-\"&INDEX(X$1:X$104,1)&CHAR(10),\"\"),\nIF(Y54=\"M\",\"-\"&INDEX(Y$1:Y$104,1)&CHAR(10),\"\"),\nIF(Z54=\"M\",\"-\"&INDEX(Z$1:Z$104,1)&CHAR(10),\"\"),\nIF(AA54=\"M\",\"-\"&INDEX(AA$1:AA$104,1)&CHAR(10),\"\"),\nIF(AB54=\"M\",\"-\"&INDEX(AB$1:AB$104,1)&CHAR(10),\"\"),\nIF(AC54=\"M\",\"-\"&INDEX(AC$1:AC$104,1)&CHAR(10),\"\"),\nIF(AD54=\"M\",\"-\"&INDEX(AD$1:AD$104,1)&CHAR(10),\"\"))","v":""},"","","",""]
["Operator - Front End Loader (Track)",null,null,null,null,null,null,null,null,null,null,null,null,null,null,null,null,null,null,null,null,null,null,null,null,null,null,null,null,null,null,null,null,null,null,null,null,null,null,null,null,null,null,null,null,null,null,null,null,null,null,null,null,null,null,null,null,null,null,null,null,null,null,null,null,null,null,null,null,null,null,null,null,null,null,null,null,null,null,null,null,null,null,null,null,null,null,null,null,null,null,null,null,null,null,null,null,null,null,null,null,null,null,null,null,null,null,null,null,null,null,null,null,null,null,null,null,null,null,null,null,null,null,null,null,null,null,null,"","",{"$f":"CONCATENATE(\nIF(E55=\"M\",\"-\"&INDEX(E$1:E$104,1)&CHAR(10),\"\"),\nIF(F55=\"M\",\"-\"&INDEX(F$1:F$104,1)&CHAR(10),\"\"),\nIF(G55=\"M\",\"-\"&INDEX(G$1:G$104,1)&CHAR(10),\"\"),\nIF(H55=\"M\",\"-\"&INDEX(H$1:H$104,1)&CHAR(10),\"\"),\nIF(I55=\"M\",\"-\"&INDEX(I$1:I$104,1)&CHAR(10),\"\"),\nIF(J55=\"M\",\"-\"&INDEX(J$1:J$104,1)&CHAR(10),\"\"),\nIF(K55=\"M\",\"-\"&INDEX(K$1:K$104,1)&CHAR(10),\"\"),\nIF(L55=\"M\",\"-\"&INDEX(L$1:L$104,1)&CHAR(10),\"\"),\nIF(M55=\"M\",\"-\"&INDEX(M$1:M122,1)&CHAR(10),\"\"),\nIF(N55=\"M\",\"-\"&INDEX(N$1:N$104,1)&CHAR(10),\"\"),\nIF(O55=\"M\",\"-\"&INDEX(O$1:O$104,1)&CHAR(10),\"\"),\nIF(P55=\"M\",\"-\"&INDEX(P$1:P$104,1)&CHAR(10),\"\"),\nIF(Q55=\"M\",\"-\"&INDEX(Q$1:Q$104,1)&CHAR(10),\"\"),\nIF(R55=\"M\",\"-\"&INDEX(R$1:R$104,1)&CHAR(10),\"\"),\nIF(S55=\"M\",\"-\"&INDEX(S$1:S$104,1)&CHAR(10),\"\"),\nIF(T55=\"M\",\"-\"&INDEX(T$1:T$104,1)&CHAR(10),\"\"),\nIF(U55=\"M\",\"-\"&INDEX(U$1:U$104,1)&CHAR(10),\"\"),\nIF(V55=\"M\",\"-\"&INDEX(V$1:V$104,1)&CHAR(10),\"\"),\nIF(W55=\"M\",\"-\"&INDEX(W$1:W$104,1)&CHAR(10),\"\"),\nIF(X55=\"M\",\"-\"&INDEX(X$1:X$104,1)&CHAR(10),\"\"),\nIF(Y55=\"M\",\"-\"&INDEX(Y$1:Y$104,1)&CHAR(10),\"\"),\nIF(Z55=\"M\",\"-\"&INDEX(Z$1:Z$104,1)&CHAR(10),\"\"),\nIF(AA55=\"M\",\"-\"&INDEX(AA$1:AA$104,1)&CHAR(10),\"\"),\nIF(AB55=\"M\",\"-\"&INDEX(AB$1:AB$104,1)&CHAR(10),\"\"),\nIF(AC55=\"M\",\"-\"&INDEX(AC$1:AC$104,1)&CHAR(10),\"\"),\nIF(AD55=\"M\",\"-\"&INDEX(AD$1:AD$104,1)&CHAR(10),\"\"))","v":""},"","","",""]
["Operator - Front End Loader (Wheel)",null,null,null,null,null,null,null,null,null,null,null,null,null,null,null,null,null,null,null,null,null,null,null,null,null,null,null,null,null,null,null,null,null,null,null,null,null,null,null,null,null,null,null,null,null,null,null,null,null,null,null,null,null,null,null,null,null,null,null,null,null,null,null,null,null,null,null,null,null,null,null,null,null,null,null,null,null,null,null,null,null,null,null,null,null,null,null,null,null,"M",null,null,null,null,null,null,null,null,null,null,null,null,null,null,null,null,null,null,null,null,null,null,null,null,null,null,null,null,null,null,null,null,null,null,null,null,null,"","-Operator.Statement of Attainment.RIIMPO325 - Conduct civil construction scraper operations\n",{"$f":"CONCATENATE(\nIF(E56=\"M\",\"-\"&INDEX(E$1:E$104,1)&CHAR(10),\"\"),\nIF(F56=\"M\",\"-\"&INDEX(F$1:F$104,1)&CHAR(10),\"\"),\nIF(G56=\"M\",\"-\"&INDEX(G$1:G$104,1)&CHAR(10),\"\"),\nIF(H56=\"M\",\"-\"&INDEX(H$1:H$104,1)&CHAR(10),\"\"),\nIF(I56=\"M\",\"-\"&INDEX(I$1:I$104,1)&CHAR(10),\"\"),\nIF(J56=\"M\",\"-\"&INDEX(J$1:J$104,1)&CHAR(10),\"\"),\nIF(K56=\"M\",\"-\"&INDEX(K$1:K$104,1)&CHAR(10),\"\"),\nIF(L56=\"M\",\"-\"&INDEX(L$1:L$104,1)&CHAR(10),\"\"),\nIF(M56=\"M\",\"-\"&INDEX(M$1:M123,1)&CHAR(10),\"\"),\nIF(N56=\"M\",\"-\"&INDEX(N$1:N$104,1)&CHAR(10),\"\"),\nIF(O56=\"M\",\"-\"&INDEX(O$1:O$104,1)&CHAR(10),\"\"),\nIF(P56=\"M\",\"-\"&INDEX(P$1:P$104,1)&CHAR(10),\"\"),\nIF(Q56=\"M\",\"-\"&INDEX(Q$1:Q$104,1)&CHAR(10),\"\"),\nIF(R56=\"M\",\"-\"&INDEX(R$1:R$104,1)&CHAR(10),\"\"),\nIF(S56=\"M\",\"-\"&INDEX(S$1:S$104,1)&CHAR(10),\"\"),\nIF(T56=\"M\",\"-\"&INDEX(T$1:T$104,1)&CHAR(10),\"\"),\nIF(U56=\"M\",\"-\"&INDEX(U$1:U$104,1)&CHAR(10),\"\"),\nIF(V56=\"M\",\"-\"&INDEX(V$1:V$104,1)&CHAR(10),\"\"),\nIF(W56=\"M\",\"-\"&INDEX(W$1:W$104,1)&CHAR(10),\"\"),\nIF(X56=\"M\",\"-\"&INDEX(X$1:X$104,1)&CHAR(10),\"\"),\nIF(Y56=\"M\",\"-\"&INDEX(Y$1:Y$104,1)&CHAR(10),\"\"),\nIF(Z56=\"M\",\"-\"&INDEX(Z$1:Z$104,1)&CHAR(10),\"\"),\nIF(AA56=\"M\",\"-\"&INDEX(AA$1:AA$104,1)&CHAR(10),\"\"),\nIF(AB56=\"M\",\"-\"&INDEX(AB$1:AB$104,1)&CHAR(10),\"\"),\nIF(AC56=\"M\",\"-\"&INDEX(AC$1:AC$104,1)&CHAR(10),\"\"),\nIF(AD56=\"M\",\"-\"&INDEX(AD$1:AD$104,1)&CHAR(10),\"\"))","v":""},"","","-Operator.Statement of Attainment.RIIMPO325 - Conduct civil construction scraper operations\n",""]
["Operator - Grader",null,null,null,null,null,null,null,null,null,null,null,null,null,null,null,null,null,null,null,null,null,null,null,null,null,null,null,null,null,null,null,null,null,null,null,null,null,null,null,null,null,null,null,null,null,null,null,null,null,null,null,null,null,null,null,null,null,null,null,null,null,null,null,null,null,null,null,null,null,null,null,null,null,null,null,null,null,null,null,null,null,null,null,null,null,null,null,null,null,null,null,null,null,null,null,null,null,null,null,null,null,null,null,null,null,null,null,null,null,null,null,null,null,null,null,"M",null,null,"M",null,null,null,null,null,null,null,null,"","-Operator.Statement of Attainment.RIIMPO205 - Operate roller/compactor\n-Operator.Statement of Attainment.RIIMPO316 - Conduct self-propelled compactor operations\n",{"$f":"CONCATENATE(\nIF(E57=\"M\",\"-\"&INDEX(E$1:E$104,1)&CHAR(10),\"\"),\nIF(F57=\"M\",\"-\"&INDEX(F$1:F$104,1)&CHAR(10),\"\"),\nIF(G57=\"M\",\"-\"&INDEX(G$1:G$104,1)&CHAR(10),\"\"),\nIF(H57=\"M\",\"-\"&INDEX(H$1:H$104,1)&CHAR(10),\"\"),\nIF(I57=\"M\",\"-\"&INDEX(I$1:I$104,1)&CHAR(10),\"\"),\nIF(J57=\"M\",\"-\"&INDEX(J$1:J$104,1)&CHAR(10),\"\"),\nIF(K57=\"M\",\"-\"&INDEX(K$1:K$104,1)&CHAR(10),\"\"),\nIF(L57=\"M\",\"-\"&INDEX(L$1:L$104,1)&CHAR(10),\"\"),\nIF(M57=\"M\",\"-\"&INDEX(M$1:M124,1)&CHAR(10),\"\"),\nIF(N57=\"M\",\"-\"&INDEX(N$1:N$104,1)&CHAR(10),\"\"),\nIF(O57=\"M\",\"-\"&INDEX(O$1:O$104,1)&CHAR(10),\"\"),\nIF(P57=\"M\",\"-\"&INDEX(P$1:P$104,1)&CHAR(10),\"\"),\nIF(Q57=\"M\",\"-\"&INDEX(Q$1:Q$104,1)&CHAR(10),\"\"),\nIF(R57=\"M\",\"-\"&INDEX(R$1:R$104,1)&CHAR(10),\"\"),\nIF(S57=\"M\",\"-\"&INDEX(S$1:S$104,1)&CHAR(10),\"\"),\nIF(T57=\"M\",\"-\"&INDEX(T$1:T$104,1)&CHAR(10),\"\"),\nIF(U57=\"M\",\"-\"&INDEX(U$1:U$104,1)&CHAR(10),\"\"),\nIF(V57=\"M\",\"-\"&INDEX(V$1:V$104,1)&CHAR(10),\"\"),\nIF(W57=\"M\",\"-\"&INDEX(W$1:W$104,1)&CHAR(10),\"\"),\nIF(X57=\"M\",\"-\"&INDEX(X$1:X$104,1)&CHAR(10),\"\"),\nIF(Y57=\"M\",\"-\"&INDEX(Y$1:Y$104,1)&CHAR(10),\"\"),\nIF(Z57=\"M\",\"-\"&INDEX(Z$1:Z$104,1)&CHAR(10),\"\"),\nIF(AA57=\"M\",\"-\"&INDEX(AA$1:AA$104,1)&CHAR(10),\"\"),\nIF(AB57=\"M\",\"-\"&INDEX(AB$1:AB$104,1)&CHAR(10),\"\"),\nIF(AC57=\"M\",\"-\"&INDEX(AC$1:AC$104,1)&CHAR(10),\"\"),\nIF(AD57=\"M\",\"-\"&INDEX(AD$1:AD$104,1)&CHAR(10),\"\"))","v":""},"","","","-Operator.Statement of Attainment.RIIMPO205 - Operate roller/compactor\n-Operator.Statement of Attainment.RIIMPO316 - Conduct self-propelled compactor operations\n"]
["Operator - Integrated Tool Carrier",null,null,null,null,null,null,null,null,null,null,null,null,null,null,null,null,null,null,null,null,null,null,null,null,null,null,null,null,null,null,null,null,null,null,null,null,null,null,null,null,null,null,null,null,null,null,null,null,null,null,null,null,null,null,null,null,null,null,null,null,null,null,null,null,null,null,null,null,null,null,null,null,null,null,null,null,null,null,null,null,null,null,null,null,null,null,null,null,null,null,null,null,null,null,null,null,null,null,null,null,null,null,null,null,null,null,null,null,null,null,null,null,null,null,null,null,null,null,null,null,null,null,null,null,null,"M",null,"","-Operator.Statement of Attainment.RIIMPO323 - Conduct civil construction dozer operations\n",{"$f":"CONCATENATE(\nIF(E58=\"M\",\"-\"&INDEX(E$1:E$104,1)&CHAR(10),\"\"),\nIF(F58=\"M\",\"-\"&INDEX(F$1:F$104,1)&CHAR(10),\"\"),\nIF(G58=\"M\",\"-\"&INDEX(G$1:G$104,1)&CHAR(10),\"\"),\nIF(H58=\"M\",\"-\"&INDEX(H$1:H$104,1)&CHAR(10),\"\"),\nIF(I58=\"M\",\"-\"&INDEX(I$1:I$104,1)&CHAR(10),\"\"),\nIF(J58=\"M\",\"-\"&INDEX(J$1:J$104,1)&CHAR(10),\"\"),\nIF(K58=\"M\",\"-\"&INDEX(K$1:K$104,1)&CHAR(10),\"\"),\nIF(L58=\"M\",\"-\"&INDEX(L$1:L$104,1)&CHAR(10),\"\"),\nIF(M58=\"M\",\"-\"&INDEX(M$1:M125,1)&CHAR(10),\"\"),\nIF(N58=\"M\",\"-\"&INDEX(N$1:N$104,1)&CHAR(10),\"\"),\nIF(O58=\"M\",\"-\"&INDEX(O$1:O$104,1)&CHAR(10),\"\"),\nIF(P58=\"M\",\"-\"&INDEX(P$1:P$104,1)&CHAR(10),\"\"),\nIF(Q58=\"M\",\"-\"&INDEX(Q$1:Q$104,1)&CHAR(10),\"\"),\nIF(R58=\"M\",\"-\"&INDEX(R$1:R$104,1)&CHAR(10),\"\"),\nIF(S58=\"M\",\"-\"&INDEX(S$1:S$104,1)&CHAR(10),\"\"),\nIF(T58=\"M\",\"-\"&INDEX(T$1:T$104,1)&CHAR(10),\"\"),\nIF(U58=\"M\",\"-\"&INDEX(U$1:U$104,1)&CHAR(10),\"\"),\nIF(V58=\"M\",\"-\"&INDEX(V$1:V$104,1)&CHAR(10),\"\"),\nIF(W58=\"M\",\"-\"&INDEX(W$1:W$104,1)&CHAR(10),\"\"),\nIF(X58=\"M\",\"-\"&INDEX(X$1:X$104,1)&CHAR(10),\"\"),\nIF(Y58=\"M\",\"-\"&INDEX(Y$1:Y$104,1)&CHAR(10),\"\"),\nIF(Z58=\"M\",\"-\"&INDEX(Z$1:Z$104,1)&CHAR(10),\"\"),\nIF(AA58=\"M\",\"-\"&INDEX(AA$1:AA$104,1)&CHAR(10),\"\"),\nIF(AB58=\"M\",\"-\"&INDEX(AB$1:AB$104,1)&CHAR(10),\"\"),\nIF(AC58=\"M\",\"-\"&INDEX(AC$1:AC$104,1)&CHAR(10),\"\"),\nIF(AD58=\"M\",\"-\"&INDEX(AD$1:AD$104,1)&CHAR(10),\"\"))","v":""},"","","","-Operator.Statement of Attainment.RIIMPO323 - Conduct civil construction dozer operations\n"]
["Operator - Roller",null,null,null,null,null,null,null,null,null,null,null,null,null,null,null,null,null,null,null,null,null,null,null,null,null,null,null,null,null,null,null,null,null,null,null,null,null,null,null,null,null,null,null,null,null,null,null,null,null,null,null,null,null,null,null,null,null,null,null,null,null,null,null,null,null,null,null,null,null,null,null,null,null,null,null,null,null,null,null,null,null,null,null,null,null,null,null,null,null,null,null,null,null,null,null,null,null,null,null,null,null,null,null,null,null,null,null,null,null,null,null,null,null,null,null,null,null,null,null,null,null,null,"M",null,null,null,null,"","-Operator.Statement of Attainment.RIIMPO320 - Conduct civil construction excavator operations\n",{"$f":"CONCATENATE(\nIF(E59=\"M\",\"-\"&INDEX(E$1:E$104,1)&CHAR(10),\"\"),\nIF(F59=\"M\",\"-\"&INDEX(F$1:F$104,1)&CHAR(10),\"\"),\nIF(G59=\"M\",\"-\"&INDEX(G$1:G$104,1)&CHAR(10),\"\"),\nIF(H59=\"M\",\"-\"&INDEX(H$1:H$104,1)&CHAR(10),\"\"),\nIF(I59=\"M\",\"-\"&INDEX(I$1:I$104,1)&CHAR(10),\"\"),\nIF(J59=\"M\",\"-\"&INDEX(J$1:J$104,1)&CHAR(10),\"\"),\nIF(K59=\"M\",\"-\"&INDEX(K$1:K$104,1)&CHAR(10),\"\"),\nIF(L59=\"M\",\"-\"&INDEX(L$1:L$104,1)&CHAR(10),\"\"),\nIF(M59=\"M\",\"-\"&INDEX(M$1:M126,1)&CHAR(10),\"\"),\nIF(N59=\"M\",\"-\"&INDEX(N$1:N$104,1)&CHAR(10),\"\"),\nIF(O59=\"M\",\"-\"&INDEX(O$1:O$104,1)&CHAR(10),\"\"),\nIF(P59=\"M\",\"-\"&INDEX(P$1:P$104,1)&CHAR(10),\"\"),\nIF(Q59=\"M\",\"-\"&INDEX(Q$1:Q$104,1)&CHAR(10),\"\"),\nIF(R59=\"M\",\"-\"&INDEX(R$1:R$104,1)&CHAR(10),\"\"),\nIF(S59=\"M\",\"-\"&INDEX(S$1:S$104,1)&CHAR(10),\"\"),\nIF(T59=\"M\",\"-\"&INDEX(T$1:T$104,1)&CHAR(10),\"\"),\nIF(U59=\"M\",\"-\"&INDEX(U$1:U$104,1)&CHAR(10),\"\"),\nIF(V59=\"M\",\"-\"&INDEX(V$1:V$104,1)&CHAR(10),\"\"),\nIF(W59=\"M\",\"-\"&INDEX(W$1:W$104,1)&CHAR(10),\"\"),\nIF(X59=\"M\",\"-\"&INDEX(X$1:X$104,1)&CHAR(10),\"\"),\nIF(Y59=\"M\",\"-\"&INDEX(Y$1:Y$104,1)&CHAR(10),\"\"),\nIF(Z59=\"M\",\"-\"&INDEX(Z$1:Z$104,1)&CHAR(10),\"\"),\nIF(AA59=\"M\",\"-\"&INDEX(AA$1:AA$104,1)&CHAR(10),\"\"),\nIF(AB59=\"M\",\"-\"&INDEX(AB$1:AB$104,1)&CHAR(10),\"\"),\nIF(AC59=\"M\",\"-\"&INDEX(AC$1:AC$104,1)&CHAR(10),\"\"),\nIF(AD59=\"M\",\"-\"&INDEX(AD$1:AD$104,1)&CHAR(10),\"\"))","v":""},"","","","-Operator.Statement of Attainment.RIIMPO320 - Conduct civil construction excavator operations\n"]
["Operator - Skidsteer",null,null,null,null,null,null,null,null,null,null,null,null,null,null,null,null,null,null,null,null,null,null,null,null,null,null,null,null,null,null,null,null,null,null,null,null,null,null,null,null,null,null,null,null,null,null,null,null,null,null,null,null,null,null,null,null,null,null,null,null,null,null,null,null,null,null,null,null,null,null,null,null,null,null,null,null,null,null,null,null,null,null,null,null,null,null,null,null,null,null,null,null,null,null,null,null,null,null,null,null,null,null,null,null,null,null,null,null,null,null,null,null,null,null,null,null,null,null,null,null,null,"M",null,null,"M",null,null,"","-Operator.Statement of Attainment.RIIMPO319 - Conduct backhoe/loader operations\n-Operator.Statement of Attainment.RIIMPO322 - Conduct civil construction tracked front end loader operations\n",{"$f":"CONCATENATE(\nIF(E60=\"M\",\"-\"&INDEX(E$1:E$104,1)&CHAR(10),\"\"),\nIF(F60=\"M\",\"-\"&INDEX(F$1:F$104,1)&CHAR(10),\"\"),\nIF(G60=\"M\",\"-\"&INDEX(G$1:G$104,1)&CHAR(10),\"\"),\nIF(H60=\"M\",\"-\"&INDEX(H$1:H$104,1)&CHAR(10),\"\"),\nIF(I60=\"M\",\"-\"&INDEX(I$1:I$104,1)&CHAR(10),\"\"),\nIF(J60=\"M\",\"-\"&INDEX(J$1:J$104,1)&CHAR(10),\"\"),\nIF(K60=\"M\",\"-\"&INDEX(K$1:K$104,1)&CHAR(10),\"\"),\nIF(L60=\"M\",\"-\"&INDEX(L$1:L$104,1)&CHAR(10),\"\"),\nIF(M60=\"M\",\"-\"&INDEX(M$1:M127,1)&CHAR(10),\"\"),\nIF(N60=\"M\",\"-\"&INDEX(N$1:N$104,1)&CHAR(10),\"\"),\nIF(O60=\"M\",\"-\"&INDEX(O$1:O$104,1)&CHAR(10),\"\"),\nIF(P60=\"M\",\"-\"&INDEX(P$1:P$104,1)&CHAR(10),\"\"),\nIF(Q60=\"M\",\"-\"&INDEX(Q$1:Q$104,1)&CHAR(10),\"\"),\nIF(R60=\"M\",\"-\"&INDEX(R$1:R$104,1)&CHAR(10),\"\"),\nIF(S60=\"M\",\"-\"&INDEX(S$1:S$104,1)&CHAR(10),\"\"),\nIF(T60=\"M\",\"-\"&INDEX(T$1:T$104,1)&CHAR(10),\"\"),\nIF(U60=\"M\",\"-\"&INDEX(U$1:U$104,1)&CHAR(10),\"\"),\nIF(V60=\"M\",\"-\"&INDEX(V$1:V$104,1)&CHAR(10),\"\"),\nIF(W60=\"M\",\"-\"&INDEX(W$1:W$104,1)&CHAR(10),\"\"),\nIF(X60=\"M\",\"-\"&INDEX(X$1:X$104,1)&CHAR(10),\"\"),\nIF(Y60=\"M\",\"-\"&INDEX(Y$1:Y$104,1)&CHAR(10),\"\"),\nIF(Z60=\"M\",\"-\"&INDEX(Z$1:Z$104,1)&CHAR(10),\"\"),\nIF(AA60=\"M\",\"-\"&INDEX(AA$1:AA$104,1)&CHAR(10),\"\"),\nIF(AB60=\"M\",\"-\"&INDEX(AB$1:AB$104,1)&CHAR(10),\"\"),\nIF(AC60=\"M\",\"-\"&INDEX(AC$1:AC$104,1)&CHAR(10),\"\"),\nIF(AD60=\"M\",\"-\"&INDEX(AD$1:AD$104,1)&CHAR(10),\"\"))","v":""},"","","","-Operator.Statement of Attainment.RIIMPO319 - Conduct backhoe/loader operations\n-Operator.Statement of Attainment.RIIMPO322 - Conduct civil construction tracked front end loader operations\n"]
["Operator - Tractor",null,null,null,null,null,null,null,null,null,null,null,null,null,null,null,null,null,null,null,null,null,null,null,null,null,null,null,null,null,null,null,null,null,null,null,null,null,null,null,null,null,null,null,null,null,null,null,null,null,null,null,null,null,null,null,null,null,null,null,null,null,null,null,null,null,null,null,null,null,null,null,null,null,null,null,null,null,null,null,null,null,null,null,null,null,null,null,null,null,null,null,null,null,null,null,null,null,null,null,null,null,null,null,null,null,null,null,null,null,null,null,null,null,null,null,null,null,null,null,null,null,"M",null,"M",null,null,null,"","-Operator.Statement of Attainment.RIIMPO319 - Conduct backhoe/loader operations\n-Operator.Statement of Attainment.RIIMPO321 - Conduct civil construction wheeled front end loader operations\n",{"$f":"CONCATENATE(\nIF(E61=\"M\",\"-\"&INDEX(E$1:E$104,1)&CHAR(10),\"\"),\nIF(F61=\"M\",\"-\"&INDEX(F$1:F$104,1)&CHAR(10),\"\"),\nIF(G61=\"M\",\"-\"&INDEX(G$1:G$104,1)&CHAR(10),\"\"),\nIF(H61=\"M\",\"-\"&INDEX(H$1:H$104,1)&CHAR(10),\"\"),\nIF(I61=\"M\",\"-\"&INDEX(I$1:I$104,1)&CHAR(10),\"\"),\nIF(J61=\"M\",\"-\"&INDEX(J$1:J$104,1)&CHAR(10),\"\"),\nIF(K61=\"M\",\"-\"&INDEX(K$1:K$104,1)&CHAR(10),\"\"),\nIF(L61=\"M\",\"-\"&INDEX(L$1:L$104,1)&CHAR(10),\"\"),\nIF(M61=\"M\",\"-\"&INDEX(M$1:M128,1)&CHAR(10),\"\"),\nIF(N61=\"M\",\"-\"&INDEX(N$1:N$104,1)&CHAR(10),\"\"),\nIF(O61=\"M\",\"-\"&INDEX(O$1:O$104,1)&CHAR(10),\"\"),\nIF(P61=\"M\",\"-\"&INDEX(P$1:P$104,1)&CHAR(10),\"\"),\nIF(Q61=\"M\",\"-\"&INDEX(Q$1:Q$104,1)&CHAR(10),\"\"),\nIF(R61=\"M\",\"-\"&INDEX(R$1:R$104,1)&CHAR(10),\"\"),\nIF(S61=\"M\",\"-\"&INDEX(S$1:S$104,1)&CHAR(10),\"\"),\nIF(T61=\"M\",\"-\"&INDEX(T$1:T$104,1)&CHAR(10),\"\"),\nIF(U61=\"M\",\"-\"&INDEX(U$1:U$104,1)&CHAR(10),\"\"),\nIF(V61=\"M\",\"-\"&INDEX(V$1:V$104,1)&CHAR(10),\"\"),\nIF(W61=\"M\",\"-\"&INDEX(W$1:W$104,1)&CHAR(10),\"\"),\nIF(X61=\"M\",\"-\"&INDEX(X$1:X$104,1)&CHAR(10),\"\"),\nIF(Y61=\"M\",\"-\"&INDEX(Y$1:Y$104,1)&CHAR(10),\"\"),\nIF(Z61=\"M\",\"-\"&INDEX(Z$1:Z$104,1)&CHAR(10),\"\"),\nIF(AA61=\"M\",\"-\"&INDEX(AA$1:AA$104,1)&CHAR(10),\"\"),\nIF(AB61=\"M\",\"-\"&INDEX(AB$1:AB$104,1)&CHAR(10),\"\"),\nIF(AC61=\"M\",\"-\"&INDEX(AC$1:AC$104,1)&CHAR(10),\"\"),\nIF(AD61=\"M\",\"-\"&INDEX(AD$1:AD$104,1)&CHAR(10),\"\"))","v":""},"","","","-Operator.Statement of Attainment.RIIMPO319 - Conduct backhoe/loader operations\n-Operator.Statement of Attainment.RIIMPO321 - Conduct civil construction wheeled front end loader operations\n"]
["Operator - Truck (Articulated)",null,null,null,null,null,null,null,null,null,null,null,null,null,null,null,null,null,null,null,null,null,null,null,null,null,null,null,null,null,null,null,null,null,null,null,null,null,null,null,null,null,null,null,null,null,null,null,null,null,null,null,null,null,null,null,null,null,null,null,null,null,null,null,null,null,null,null,null,null,null,null,null,null,null,null,null,null,null,null,null,null,null,null,null,null,null,null,null,"M",null,null,null,null,null,null,null,null,null,null,null,null,null,null,null,null,null,null,null,null,null,null,null,null,null,null,null,null,null,null,null,null,null,null,null,null,null,null,"","-Operator.Statement of Attainment.RIIMPO324 - Conduct civil construction grader operations\n",{"$f":"CONCATENATE(\nIF(E62=\"M\",\"-\"&INDEX(E$1:E$104,1)&CHAR(10),\"\"),\nIF(F62=\"M\",\"-\"&INDEX(F$1:F$104,1)&CHAR(10),\"\"),\nIF(G62=\"M\",\"-\"&INDEX(G$1:G$104,1)&CHAR(10),\"\"),\nIF(H62=\"M\",\"-\"&INDEX(H$1:H$104,1)&CHAR(10),\"\"),\nIF(I62=\"M\",\"-\"&INDEX(I$1:I$104,1)&CHAR(10),\"\"),\nIF(J62=\"M\",\"-\"&INDEX(J$1:J$104,1)&CHAR(10),\"\"),\nIF(K62=\"M\",\"-\"&INDEX(K$1:K$104,1)&CHAR(10),\"\"),\nIF(L62=\"M\",\"-\"&INDEX(L$1:L$104,1)&CHAR(10),\"\"),\nIF(M62=\"M\",\"-\"&INDEX(M$1:M129,1)&CHAR(10),\"\"),\nIF(N62=\"M\",\"-\"&INDEX(N$1:N$104,1)&CHAR(10),\"\"),\nIF(O62=\"M\",\"-\"&INDEX(O$1:O$104,1)&CHAR(10),\"\"),\nIF(P62=\"M\",\"-\"&INDEX(P$1:P$104,1)&CHAR(10),\"\"),\nIF(Q62=\"M\",\"-\"&INDEX(Q$1:Q$104,1)&CHAR(10),\"\"),\nIF(R62=\"M\",\"-\"&INDEX(R$1:R$104,1)&CHAR(10),\"\"),\nIF(S62=\"M\",\"-\"&INDEX(S$1:S$104,1)&CHAR(10),\"\"),\nIF(T62=\"M\",\"-\"&INDEX(T$1:T$104,1)&CHAR(10),\"\"),\nIF(U62=\"M\",\"-\"&INDEX(U$1:U$104,1)&CHAR(10),\"\"),\nIF(V62=\"M\",\"-\"&INDEX(V$1:V$104,1)&CHAR(10),\"\"),\nIF(W62=\"M\",\"-\"&INDEX(W$1:W$104,1)&CHAR(10),\"\"),\nIF(X62=\"M\",\"-\"&INDEX(X$1:X$104,1)&CHAR(10),\"\"),\nIF(Y62=\"M\",\"-\"&INDEX(Y$1:Y$104,1)&CHAR(10),\"\"),\nIF(Z62=\"M\",\"-\"&INDEX(Z$1:Z$104,1)&CHAR(10),\"\"),\nIF(AA62=\"M\",\"-\"&INDEX(AA$1:AA$104,1)&CHAR(10),\"\"),\nIF(AB62=\"M\",\"-\"&INDEX(AB$1:AB$104,1)&CHAR(10),\"\"),\nIF(AC62=\"M\",\"-\"&INDEX(AC$1:AC$104,1)&CHAR(10),\"\"),\nIF(AD62=\"M\",\"-\"&INDEX(AD$1:AD$104,1)&CHAR(10),\"\"))","v":""},"","","-Operator.Statement of Attainment.RIIMPO324 - Conduct civil construction grader operations\n",""]
["Operator - Truck (Belly Dump)",null,null,null,null,null,null,null,null,null,null,null,null,null,null,null,null,null,null,null,null,null,null,null,null,null,null,null,null,null,null,null,null,null,null,null,null,null,null,null,null,null,null,null,null,null,null,null,null,null,null,null,null,null,null,null,null,null,null,null,null,null,null,null,null,null,null,null,null,null,null,null,null,null,null,null,null,null,null,null,null,null,null,null,null,null,null,null,null,null,null,null,null,null,null,null,null,null,null,null,null,null,null,null,null,null,null,null,null,null,null,null,null,null,null,"M",null,null,null,null,null,null,null,null,null,null,null,null,"","-Operator.Statement of Attainment.RIIHAN311 - Conduct operations with integrated tool carrier\n",{"$f":"CONCATENATE(\nIF(E63=\"M\",\"-\"&INDEX(E$1:E$104,1)&CHAR(10),\"\"),\nIF(F63=\"M\",\"-\"&INDEX(F$1:F$104,1)&CHAR(10),\"\"),\nIF(G63=\"M\",\"-\"&INDEX(G$1:G$104,1)&CHAR(10),\"\"),\nIF(H63=\"M\",\"-\"&INDEX(H$1:H$104,1)&CHAR(10),\"\"),\nIF(I63=\"M\",\"-\"&INDEX(I$1:I$104,1)&CHAR(10),\"\"),\nIF(J63=\"M\",\"-\"&INDEX(J$1:J$104,1)&CHAR(10),\"\"),\nIF(K63=\"M\",\"-\"&INDEX(K$1:K$104,1)&CHAR(10),\"\"),\nIF(L63=\"M\",\"-\"&INDEX(L$1:L$104,1)&CHAR(10),\"\"),\nIF(M63=\"M\",\"-\"&INDEX(M$1:M130,1)&CHAR(10),\"\"),\nIF(N63=\"M\",\"-\"&INDEX(N$1:N$104,1)&CHAR(10),\"\"),\nIF(O63=\"M\",\"-\"&INDEX(O$1:O$104,1)&CHAR(10),\"\"),\nIF(P63=\"M\",\"-\"&INDEX(P$1:P$104,1)&CHAR(10),\"\"),\nIF(Q63=\"M\",\"-\"&INDEX(Q$1:Q$104,1)&CHAR(10),\"\"),\nIF(R63=\"M\",\"-\"&INDEX(R$1:R$104,1)&CHAR(10),\"\"),\nIF(S63=\"M\",\"-\"&INDEX(S$1:S$104,1)&CHAR(10),\"\"),\nIF(T63=\"M\",\"-\"&INDEX(T$1:T$104,1)&CHAR(10),\"\"),\nIF(U63=\"M\",\"-\"&INDEX(U$1:U$104,1)&CHAR(10),\"\"),\nIF(V63=\"M\",\"-\"&INDEX(V$1:V$104,1)&CHAR(10),\"\"),\nIF(W63=\"M\",\"-\"&INDEX(W$1:W$104,1)&CHAR(10),\"\"),\nIF(X63=\"M\",\"-\"&INDEX(X$1:X$104,1)&CHAR(10),\"\"),\nIF(Y63=\"M\",\"-\"&INDEX(Y$1:Y$104,1)&CHAR(10),\"\"),\nIF(Z63=\"M\",\"-\"&INDEX(Z$1:Z$104,1)&CHAR(10),\"\"),\nIF(AA63=\"M\",\"-\"&INDEX(AA$1:AA$104,1)&CHAR(10),\"\"),\nIF(AB63=\"M\",\"-\"&INDEX(AB$1:AB$104,1)&CHAR(10),\"\"),\nIF(AC63=\"M\",\"-\"&INDEX(AC$1:AC$104,1)&CHAR(10),\"\"),\nIF(AD63=\"M\",\"-\"&INDEX(AD$1:AD$104,1)&CHAR(10),\"\"))","v":""},"","","","-Operator.Statement of Attainment.RIIHAN311 - Conduct operations with integrated tool carrier\n"]
["Operator - Truck (Tip)",null,null,null,null,null,null,null,null,null,null,null,null,null,null,null,null,null,null,null,null,null,null,null,null,null,null,null,null,null,null,null,null,null,null,null,null,null,null,null,null,null,null,null,null,null,null,null,null,null,null,null,null,null,null,null,null,null,null,null,null,null,null,null,null,null,null,null,null,null,null,null,null,null,null,null,null,null,null,null,null,null,null,null,null,null,null,null,null,null,null,null,null,null,null,null,null,null,null,null,null,null,null,null,null,null,null,null,null,null,null,null,null,null,null,null,null,null,null,null,"M",null,null,null,null,null,null,null,"","-Operator.Statement of Attainment.RIIMPO317 - Conduct roller operations\n",{"$f":"CONCATENATE(\nIF(E64=\"M\",\"-\"&INDEX(E$1:E$104,1)&CHAR(10),\"\"),\nIF(F64=\"M\",\"-\"&INDEX(F$1:F$104,1)&CHAR(10),\"\"),\nIF(G64=\"M\",\"-\"&INDEX(G$1:G$104,1)&CHAR(10),\"\"),\nIF(H64=\"M\",\"-\"&INDEX(H$1:H$104,1)&CHAR(10),\"\"),\nIF(I64=\"M\",\"-\"&INDEX(I$1:I$104,1)&CHAR(10),\"\"),\nIF(J64=\"M\",\"-\"&INDEX(J$1:J$104,1)&CHAR(10),\"\"),\nIF(K64=\"M\",\"-\"&INDEX(K$1:K$104,1)&CHAR(10),\"\"),\nIF(L64=\"M\",\"-\"&INDEX(L$1:L$104,1)&CHAR(10),\"\"),\nIF(M64=\"M\",\"-\"&INDEX(M$1:M131,1)&CHAR(10),\"\"),\nIF(N64=\"M\",\"-\"&INDEX(N$1:N$104,1)&CHAR(10),\"\"),\nIF(O64=\"M\",\"-\"&INDEX(O$1:O$104,1)&CHAR(10),\"\"),\nIF(P64=\"M\",\"-\"&INDEX(P$1:P$104,1)&CHAR(10),\"\"),\nIF(Q64=\"M\",\"-\"&INDEX(Q$1:Q$104,1)&CHAR(10),\"\"),\nIF(R64=\"M\",\"-\"&INDEX(R$1:R$104,1)&CHAR(10),\"\"),\nIF(S64=\"M\",\"-\"&INDEX(S$1:S$104,1)&CHAR(10),\"\"),\nIF(T64=\"M\",\"-\"&INDEX(T$1:T$104,1)&CHAR(10),\"\"),\nIF(U64=\"M\",\"-\"&INDEX(U$1:U$104,1)&CHAR(10),\"\"),\nIF(V64=\"M\",\"-\"&INDEX(V$1:V$104,1)&CHAR(10),\"\"),\nIF(W64=\"M\",\"-\"&INDEX(W$1:W$104,1)&CHAR(10),\"\"),\nIF(X64=\"M\",\"-\"&INDEX(X$1:X$104,1)&CHAR(10),\"\"),\nIF(Y64=\"M\",\"-\"&INDEX(Y$1:Y$104,1)&CHAR(10),\"\"),\nIF(Z64=\"M\",\"-\"&INDEX(Z$1:Z$104,1)&CHAR(10),\"\"),\nIF(AA64=\"M\",\"-\"&INDEX(AA$1:AA$104,1)&CHAR(10),\"\"),\nIF(AB64=\"M\",\"-\"&INDEX(AB$1:AB$104,1)&CHAR(10),\"\"),\nIF(AC64=\"M\",\"-\"&INDEX(AC$1:AC$104,1)&CHAR(10),\"\"),\nIF(AD64=\"M\",\"-\"&INDEX(AD$1:AD$104,1)&CHAR(10),\"\"))","v":""},"","","","-Operator.Statement of Attainment.RIIMPO317 - Conduct roller operations\n"]
["Operator - Truck (rigid haul)",null,null,null,null,null,null,null,null,null,null,null,null,null,null,null,null,null,null,null,null,null,null,null,null,null,null,null,null,null,null,null,null,null,null,null,null,null,null,null,null,null,null,null,null,null,null,null,null,null,null,null,null,null,null,null,null,null,null,null,null,null,null,null,null,null,null,null,null,null,null,null,null,null,null,null,null,null,null,null,null,null,null,null,null,null,null,null,null,null,null,null,null,null,null,null,null,null,null,null,null,null,null,null,null,null,null,null,null,null,null,null,null,null,null,null,null,null,null,null,null,"M",null,null,null,null,null,null,"","-Operator.Statement of Attainment.RIIMPO318 - Conduct civil construction skid steer loader operations\n",{"$f":"CONCATENATE(\nIF(E65=\"M\",\"-\"&INDEX(E$1:E$104,1)&CHAR(10),\"\"),\nIF(F65=\"M\",\"-\"&INDEX(F$1:F$104,1)&CHAR(10),\"\"),\nIF(G65=\"M\",\"-\"&INDEX(G$1:G$104,1)&CHAR(10),\"\"),\nIF(H65=\"M\",\"-\"&INDEX(H$1:H$104,1)&CHAR(10),\"\"),\nIF(I65=\"M\",\"-\"&INDEX(I$1:I$104,1)&CHAR(10),\"\"),\nIF(J65=\"M\",\"-\"&INDEX(J$1:J$104,1)&CHAR(10),\"\"),\nIF(K65=\"M\",\"-\"&INDEX(K$1:K$104,1)&CHAR(10),\"\"),\nIF(L65=\"M\",\"-\"&INDEX(L$1:L$104,1)&CHAR(10),\"\"),\nIF(M65=\"M\",\"-\"&INDEX(M$1:M132,1)&CHAR(10),\"\"),\nIF(N65=\"M\",\"-\"&INDEX(N$1:N$104,1)&CHAR(10),\"\"),\nIF(O65=\"M\",\"-\"&INDEX(O$1:O$104,1)&CHAR(10),\"\"),\nIF(P65=\"M\",\"-\"&INDEX(P$1:P$104,1)&CHAR(10),\"\"),\nIF(Q65=\"M\",\"-\"&INDEX(Q$1:Q$104,1)&CHAR(10),\"\"),\nIF(R65=\"M\",\"-\"&INDEX(R$1:R$104,1)&CHAR(10),\"\"),\nIF(S65=\"M\",\"-\"&INDEX(S$1:S$104,1)&CHAR(10),\"\"),\nIF(T65=\"M\",\"-\"&INDEX(T$1:T$104,1)&CHAR(10),\"\"),\nIF(U65=\"M\",\"-\"&INDEX(U$1:U$104,1)&CHAR(10),\"\"),\nIF(V65=\"M\",\"-\"&INDEX(V$1:V$104,1)&CHAR(10),\"\"),\nIF(W65=\"M\",\"-\"&INDEX(W$1:W$104,1)&CHAR(10),\"\"),\nIF(X65=\"M\",\"-\"&INDEX(X$1:X$104,1)&CHAR(10),\"\"),\nIF(Y65=\"M\",\"-\"&INDEX(Y$1:Y$104,1)&CHAR(10),\"\"),\nIF(Z65=\"M\",\"-\"&INDEX(Z$1:Z$104,1)&CHAR(10),\"\"),\nIF(AA65=\"M\",\"-\"&INDEX(AA$1:AA$104,1)&CHAR(10),\"\"),\nIF(AB65=\"M\",\"-\"&INDEX(AB$1:AB$104,1)&CHAR(10),\"\"),\nIF(AC65=\"M\",\"-\"&INDEX(AC$1:AC$104,1)&CHAR(10),\"\"),\nIF(AD65=\"M\",\"-\"&INDEX(AD$1:AD$104,1)&CHAR(10),\"\"))","v":""},"","","","-Operator.Statement of Attainment.RIIMPO318 - Conduct civil construction skid steer loader operations\n"]
["Operator - Water Cart",null,null,null,null,null,null,null,null,null,null,null,null,null,null,null,null,null,null,null,null,null,null,null,null,null,null,null,null,null,null,null,null,null,null,null,null,null,null,null,null,null,null,null,null,null,null,null,null,null,null,null,null,null,null,null,null,null,null,null,null,null,null,null,null,null,null,null,null,null,null,null,null,null,null,null,null,null,null,null,null,null,null,null,null,null,null,null,null,null,null,null,null,null,null,null,null,null,null,null,null,null,null,null,null,null,null,null,null,null,null,null,null,null,null,null,null,null,"M",null,null,null,null,null,null,null,null,null,"","-Operator.Statement of Attainment.RIIMPO315 - Conduct tractor operations\n",{"$f":"CONCATENATE(\nIF(E66=\"M\",\"-\"&INDEX(E$1:E$104,1)&CHAR(10),\"\"),\nIF(F66=\"M\",\"-\"&INDEX(F$1:F$104,1)&CHAR(10),\"\"),\nIF(G66=\"M\",\"-\"&INDEX(G$1:G$104,1)&CHAR(10),\"\"),\nIF(H66=\"M\",\"-\"&INDEX(H$1:H$104,1)&CHAR(10),\"\"),\nIF(I66=\"M\",\"-\"&INDEX(I$1:I$104,1)&CHAR(10),\"\"),\nIF(J66=\"M\",\"-\"&INDEX(J$1:J$104,1)&CHAR(10),\"\"),\nIF(K66=\"M\",\"-\"&INDEX(K$1:K$104,1)&CHAR(10),\"\"),\nIF(L66=\"M\",\"-\"&INDEX(L$1:L$104,1)&CHAR(10),\"\"),\nIF(M66=\"M\",\"-\"&INDEX(M$1:M133,1)&CHAR(10),\"\"),\nIF(N66=\"M\",\"-\"&INDEX(N$1:N$104,1)&CHAR(10),\"\"),\nIF(O66=\"M\",\"-\"&INDEX(O$1:O$104,1)&CHAR(10),\"\"),\nIF(P66=\"M\",\"-\"&INDEX(P$1:P$104,1)&CHAR(10),\"\"),\nIF(Q66=\"M\",\"-\"&INDEX(Q$1:Q$104,1)&CHAR(10),\"\"),\nIF(R66=\"M\",\"-\"&INDEX(R$1:R$104,1)&CHAR(10),\"\"),\nIF(S66=\"M\",\"-\"&INDEX(S$1:S$104,1)&CHAR(10),\"\"),\nIF(T66=\"M\",\"-\"&INDEX(T$1:T$104,1)&CHAR(10),\"\"),\nIF(U66=\"M\",\"-\"&INDEX(U$1:U$104,1)&CHAR(10),\"\"),\nIF(V66=\"M\",\"-\"&INDEX(V$1:V$104,1)&CHAR(10),\"\"),\nIF(W66=\"M\",\"-\"&INDEX(W$1:W$104,1)&CHAR(10),\"\"),\nIF(X66=\"M\",\"-\"&INDEX(X$1:X$104,1)&CHAR(10),\"\"),\nIF(Y66=\"M\",\"-\"&INDEX(Y$1:Y$104,1)&CHAR(10),\"\"),\nIF(Z66=\"M\",\"-\"&INDEX(Z$1:Z$104,1)&CHAR(10),\"\"),\nIF(AA66=\"M\",\"-\"&INDEX(AA$1:AA$104,1)&CHAR(10),\"\"),\nIF(AB66=\"M\",\"-\"&INDEX(AB$1:AB$104,1)&CHAR(10),\"\"),\nIF(AC66=\"M\",\"-\"&INDEX(AC$1:AC$104,1)&CHAR(10),\"\"),\nIF(AD66=\"M\",\"-\"&INDEX(AD$1:AD$104,1)&CHAR(10),\"\"))","v":""},"","","","-Operator.Statement of Attainment.RIIMPO315 - Conduct tractor operations\n"]
["Pole & Line - Inspector","M","M","M",null,"M","M","M",null,null,"SE1000, RF0003",null,null,"M",null,null,null,null,null,null,"M","M",null,null,null,"M",null,null,null,null,null,null,null,null,null,null,null,null,null,null,null,null,null,null,null,null,null,null,null,null,null,null,null,null,null,null,null,null,null,null,null,null,null,null,null,null,null,null,null,null,null,null,null,null,null,null,null,null,null,null,null,null,null,null,null,null,null,null,null,null,null,null,null,"M",null,null,null,null,null,null,null,null,null,null,null,null,null,null,null,null,null,null,null,null,null,null,null,null,null,null,null,null,null,null,null,null,null,null,"-First Aid.Statement of Attainment.HLTAID001 - Perform CPR\n-Electrical.Statement of Attainment.UETTDRRF06 - Perform rescue from a live LV panel\n-Electrical.Statement of Attainment.UETTDRRF10 - First Aid in an ESI Environment","-Operator.Statement of Attainment.RIIMPO337 - Conduct articulated haul truck operations\n",{"$f":"CONCATENATE(\nIF(E67=\"M\",\"-\"&INDEX(E$1:E$104,1)&CHAR(10),\"\"),\nIF(F67=\"M\",\"-\"&INDEX(F$1:F$104,1)&CHAR(10),\"\"),\nIF(G67=\"M\",\"-\"&INDEX(G$1:G$104,1)&CHAR(10),\"\"),\nIF(H67=\"M\",\"-\"&INDEX(H$1:H$104,1)&CHAR(10),\"\"),\nIF(I67=\"M\",\"-\"&INDEX(I$1:I$104,1)&CHAR(10),\"\"),\nIF(J67=\"M\",\"-\"&INDEX(J$1:J$104,1)&CHAR(10),\"\"),\nIF(K67=\"M\",\"-\"&INDEX(K$1:K$104,1)&CHAR(10),\"\"),\nIF(L67=\"M\",\"-\"&INDEX(L$1:L$104,1)&CHAR(10),\"\"),\nIF(M67=\"M\",\"-\"&INDEX(M$1:M134,1)&CHAR(10),\"\"),\nIF(N67=\"M\",\"-\"&INDEX(N$1:N$104,1)&CHAR(10),\"\"),\nIF(O67=\"M\",\"-\"&INDEX(O$1:O$104,1)&CHAR(10),\"\"),\nIF(P67=\"M\",\"-\"&INDEX(P$1:P$104,1)&CHAR(10),\"\"),\nIF(Q67=\"M\",\"-\"&INDEX(Q$1:Q$104,1)&CHAR(10),\"\"),\nIF(R67=\"M\",\"-\"&INDEX(R$1:R$104,1)&CHAR(10),\"\"),\nIF(S67=\"M\",\"-\"&INDEX(S$1:S$104,1)&CHAR(10),\"\"),\nIF(T67=\"M\",\"-\"&INDEX(T$1:T$104,1)&CHAR(10),\"\"),\nIF(U67=\"M\",\"-\"&INDEX(U$1:U$104,1)&CHAR(10),\"\"),\nIF(V67=\"M\",\"-\"&INDEX(V$1:V$104,1)&CHAR(10),\"\"),\nIF(W67=\"M\",\"-\"&INDEX(W$1:W$104,1)&CHAR(10),\"\"),\nIF(X67=\"M\",\"-\"&INDEX(X$1:X$104,1)&CHAR(10),\"\"),\nIF(Y67=\"M\",\"-\"&INDEX(Y$1:Y$104,1)&CHAR(10),\"\"),\nIF(Z67=\"M\",\"-\"&INDEX(Z$1:Z$104,1)&CHAR(10),\"\"),\nIF(AA67=\"M\",\"-\"&INDEX(AA$1:AA$104,1)&CHAR(10),\"\"),\nIF(AB67=\"M\",\"-\"&INDEX(AB$1:AB$104,1)&CHAR(10),\"\"),\nIF(AC67=\"M\",\"-\"&INDEX(AC$1:AC$104,1)&CHAR(10),\"\"),\nIF(AD67=\"M\",\"-\"&INDEX(AD$1:AD$104,1)&CHAR(10),\"\"))","v":"-Electrical.Statement of Attainment.UETTDRRF01 - Apply ESI safety rules, codes of practice and procedures for work\n-Network Operator.Certificate.I0102 - Ausgrid - Environmental Awareness\n-Electrical.Statement of Attainment.UETTDRRF09 - Apply access procedures to work on or near electrical network infrastructure\n-Network Operator.Certificate.M1425 - Pole Inspection and Treatment\n-Network Operator.Certificate.TTDO1374 - Introduction to overhead line components\n-Network Operator.Certificate.TTDO1375 - Line inspection\n-Network Operator.Certificate.TTPO0003 - Private Pole and Aerial Mains Inspection: Bushfire Risks\n"},"","","-Operator.Statement of Attainment.RIIMPO337 - Conduct articulated haul truck operations\n",""]
["Pole & Line - Labourer","M","M","M",null,"M","M","M",null,null,"SE1000, RF0003",null,null,null,null,null,null,null,null,null,null,null,null,null,null,null,null,null,null,null,null,null,null,null,null,null,null,null,null,null,null,null,null,null,null,null,null,null,null,null,null,null,null,null,null,null,null,null,null,null,null,null,null,null,null,null,null,null,null,null,null,null,null,null,null,null,null,null,null,null,null,null,null,null,null,null,null,null,null,null,null,null,"M",null,null,null,null,null,null,null,null,null,null,null,null,null,null,null,null,null,null,null,null,null,null,null,null,null,null,null,null,null,null,null,null,null,null,null,"-First Aid.Statement of Attainment.HLTAID001 - Perform CPR\n-Electrical.Statement of Attainment.UETTDRRF06 - Perform rescue from a live LV panel\n-Electrical.Statement of Attainment.UETTDRRF10 - First Aid in an ESI Environment","-Operator.Statement of Attainment.RIIMPO336 - Conduct belly dump truck operations\n",{"$f":"CONCATENATE(\nIF(E68=\"M\",\"-\"&INDEX(E$1:E$104,1)&CHAR(10),\"\"),\nIF(F68=\"M\",\"-\"&INDEX(F$1:F$104,1)&CHAR(10),\"\"),\nIF(G68=\"M\",\"-\"&INDEX(G$1:G$104,1)&CHAR(10),\"\"),\nIF(H68=\"M\",\"-\"&INDEX(H$1:H$104,1)&CHAR(10),\"\"),\nIF(I68=\"M\",\"-\"&INDEX(I$1:I$104,1)&CHAR(10),\"\"),\nIF(J68=\"M\",\"-\"&INDEX(J$1:J$104,1)&CHAR(10),\"\"),\nIF(K68=\"M\",\"-\"&INDEX(K$1:K$104,1)&CHAR(10),\"\"),\nIF(L68=\"M\",\"-\"&INDEX(L$1:L$104,1)&CHAR(10),\"\"),\nIF(M68=\"M\",\"-\"&INDEX(M$1:M135,1)&CHAR(10),\"\"),\nIF(N68=\"M\",\"-\"&INDEX(N$1:N$104,1)&CHAR(10),\"\"),\nIF(O68=\"M\",\"-\"&INDEX(O$1:O$104,1)&CHAR(10),\"\"),\nIF(P68=\"M\",\"-\"&INDEX(P$1:P$104,1)&CHAR(10),\"\"),\nIF(Q68=\"M\",\"-\"&INDEX(Q$1:Q$104,1)&CHAR(10),\"\"),\nIF(R68=\"M\",\"-\"&INDEX(R$1:R$104,1)&CHAR(10),\"\"),\nIF(S68=\"M\",\"-\"&INDEX(S$1:S$104,1)&CHAR(10),\"\"),\nIF(T68=\"M\",\"-\"&INDEX(T$1:T$104,1)&CHAR(10),\"\"),\nIF(U68=\"M\",\"-\"&INDEX(U$1:U$104,1)&CHAR(10),\"\"),\nIF(V68=\"M\",\"-\"&INDEX(V$1:V$104,1)&CHAR(10),\"\"),\nIF(W68=\"M\",\"-\"&INDEX(W$1:W$104,1)&CHAR(10),\"\"),\nIF(X68=\"M\",\"-\"&INDEX(X$1:X$104,1)&CHAR(10),\"\"),\nIF(Y68=\"M\",\"-\"&INDEX(Y$1:Y$104,1)&CHAR(10),\"\"),\nIF(Z68=\"M\",\"-\"&INDEX(Z$1:Z$104,1)&CHAR(10),\"\"),\nIF(AA68=\"M\",\"-\"&INDEX(AA$1:AA$104,1)&CHAR(10),\"\"),\nIF(AB68=\"M\",\"-\"&INDEX(AB$1:AB$104,1)&CHAR(10),\"\"),\nIF(AC68=\"M\",\"-\"&INDEX(AC$1:AC$104,1)&CHAR(10),\"\"),\nIF(AD68=\"M\",\"-\"&INDEX(AD$1:AD$104,1)&CHAR(10),\"\"))","v":"-Electrical.Statement of Attainment.UETTDRRF01 - Apply ESI safety rules, codes of practice and procedures for work\n-Network Operator.Certificate.I0102 - Ausgrid - Environmental Awareness\n-Electrical.Statement of Attainment.UETTDRRF09 - Apply access procedures to work on or near electrical network infrastructure\n"},"","","-Operator.Statement of Attainment.RIIMPO336 - Conduct belly dump truck operations\n",""]
["Pole & Line - Supervisor","M","M","M",null,"M","M","M",null,null,"SE1000, RF0003",null,null,"M","M",null,null,null,null,null,"M","M",null,null,null,"M",null,null,null,null,null,null,null,null,null,null,null,null,null,null,null,"M",null,null,null,null,null,null,null,null,null,null,null,null,null,null,null,null,null,null,null,null,null,null,null,null,null,null,null,null,null,null,null,null,null,null,null,null,null,null,null,null,null,null,null,null,null,null,null,null,null,null,null,null,null,"M",null,null,null,null,null,null,null,null,null,null,null,null,null,null,null,null,null,null,null,null,null,null,null,null,null,null,null,null,null,null,null,null,"-First Aid.Statement of Attainment.HLTAID001 - Perform CPR\n-Electrical.Statement of Attainment.UETTDRRF06 - Perform rescue from a live LV panel\n-Electrical.Statement of Attainment.UETTDRRF10 - First Aid in an ESI Environment","-Chemical Use.Qualified.AHCCHM303 & AHCCHM304 – Level 3 Chemical users Qualification \n-Operator.Statement of Attainment.RIIVEH304 - Conduct tip truck operations\n",{"$f":"CONCATENATE(\nIF(E69=\"M\",\"-\"&INDEX(E$1:E$104,1)&CHAR(10),\"\"),\nIF(F69=\"M\",\"-\"&INDEX(F$1:F$104,1)&CHAR(10),\"\"),\nIF(G69=\"M\",\"-\"&INDEX(G$1:G$104,1)&CHAR(10),\"\"),\nIF(H69=\"M\",\"-\"&INDEX(H$1:H$104,1)&CHAR(10),\"\"),\nIF(I69=\"M\",\"-\"&INDEX(I$1:I$104,1)&CHAR(10),\"\"),\nIF(J69=\"M\",\"-\"&INDEX(J$1:J$104,1)&CHAR(10),\"\"),\nIF(K69=\"M\",\"-\"&INDEX(K$1:K$104,1)&CHAR(10),\"\"),\nIF(L69=\"M\",\"-\"&INDEX(L$1:L$104,1)&CHAR(10),\"\"),\nIF(M69=\"M\",\"-\"&INDEX(M$1:M136,1)&CHAR(10),\"\"),\nIF(N69=\"M\",\"-\"&INDEX(N$1:N$104,1)&CHAR(10),\"\"),\nIF(O69=\"M\",\"-\"&INDEX(O$1:O$104,1)&CHAR(10),\"\"),\nIF(P69=\"M\",\"-\"&INDEX(P$1:P$104,1)&CHAR(10),\"\"),\nIF(Q69=\"M\",\"-\"&INDEX(Q$1:Q$104,1)&CHAR(10),\"\"),\nIF(R69=\"M\",\"-\"&INDEX(R$1:R$104,1)&CHAR(10),\"\"),\nIF(S69=\"M\",\"-\"&INDEX(S$1:S$104,1)&CHAR(10),\"\"),\nIF(T69=\"M\",\"-\"&INDEX(T$1:T$104,1)&CHAR(10),\"\"),\nIF(U69=\"M\",\"-\"&INDEX(U$1:U$104,1)&CHAR(10),\"\"),\nIF(V69=\"M\",\"-\"&INDEX(V$1:V$104,1)&CHAR(10),\"\"),\nIF(W69=\"M\",\"-\"&INDEX(W$1:W$104,1)&CHAR(10),\"\"),\nIF(X69=\"M\",\"-\"&INDEX(X$1:X$104,1)&CHAR(10),\"\"),\nIF(Y69=\"M\",\"-\"&INDEX(Y$1:Y$104,1)&CHAR(10),\"\"),\nIF(Z69=\"M\",\"-\"&INDEX(Z$1:Z$104,1)&CHAR(10),\"\"),\nIF(AA69=\"M\",\"-\"&INDEX(AA$1:AA$104,1)&CHAR(10),\"\"),\nIF(AB69=\"M\",\"-\"&INDEX(AB$1:AB$104,1)&CHAR(10),\"\"),\nIF(AC69=\"M\",\"-\"&INDEX(AC$1:AC$104,1)&CHAR(10),\"\"),\nIF(AD69=\"M\",\"-\"&INDEX(AD$1:AD$104,1)&CHAR(10),\"\"))","v":"-Electrical.Statement of Attainment.UETTDRRF01 - Apply ESI safety rules, codes of practice and procedures for work\n-Network Operator.Certificate.I0102 - Ausgrid - Environmental Awareness\n-Electrical.Statement of Attainment.UETTDRRF09 - Apply access procedures to work on or near electrical network infrastructure\n-Network Operator.Certificate.M1425 - Pole Inspection and Treatment\n-Network Operator.Certificate.M1429 - Handling Burnt CCA Poles\n-Network Operator.Certificate.TTDO1374 - Introduction to overhead line components\n-Network Operator.Certificate.TTDO1375 - Line inspection\n-Network Operator.Certificate.TTPO0003 - Private Pole and Aerial Mains Inspection: Bushfire Risks\n"},"-Chemical Use.Qualified.AHCCHM303 & AHCCHM304 – Level 3 Chemical users Qualification \n","","-Operator.Statement of Attainment.RIIVEH304 - Conduct tip truck operations\n",""]
["Pole & Line - Termite Treatment Officer","M","M","M",null,"M","M","M",null,null,"SE1000, RF0003",null,null,"M",null,null,null,null,null,null,null,null,null,null,null,null,null,null,null,null,null,null,null,null,null,null,null,null,null,null,null,null,null,null,null,null,null,null,null,null,null,null,null,null,null,null,null,null,null,null,null,null,null,null,null,null,null,null,null,null,null,null,null,null,null,null,null,null,null,null,null,null,null,null,null,null,null,null,null,null,null,null,null,null,"M",null,null,null,null,null,null,null,null,null,null,null,null,null,null,null,null,null,null,null,null,null,null,null,null,null,null,null,null,null,null,null,null,null,"-First Aid.Statement of Attainment.HLTAID001 - Perform CPR\n-Electrical.Statement of Attainment.UETTDRRF06 - Perform rescue from a live LV panel\n-Electrical.Statement of Attainment.UETTDRRF10 - First Aid in an ESI Environment","-Operator.Statement of Attainment.RIIMPO338 - Conduct rigid haul truck operations\n",{"$f":"CONCATENATE(\nIF(E70=\"M\",\"-\"&INDEX(E$1:E$104,1)&CHAR(10),\"\"),\nIF(F70=\"M\",\"-\"&INDEX(F$1:F$104,1)&CHAR(10),\"\"),\nIF(G70=\"M\",\"-\"&INDEX(G$1:G$104,1)&CHAR(10),\"\"),\nIF(H70=\"M\",\"-\"&INDEX(H$1:H$104,1)&CHAR(10),\"\"),\nIF(I70=\"M\",\"-\"&INDEX(I$1:I$104,1)&CHAR(10),\"\"),\nIF(J70=\"M\",\"-\"&INDEX(J$1:J$104,1)&CHAR(10),\"\"),\nIF(K70=\"M\",\"-\"&INDEX(K$1:K$104,1)&CHAR(10),\"\"),\nIF(L70=\"M\",\"-\"&INDEX(L$1:L$104,1)&CHAR(10),\"\"),\nIF(M70=\"M\",\"-\"&INDEX(M$1:M137,1)&CHAR(10),\"\"),\nIF(N70=\"M\",\"-\"&INDEX(N$1:N$104,1)&CHAR(10),\"\"),\nIF(O70=\"M\",\"-\"&INDEX(O$1:O$104,1)&CHAR(10),\"\"),\nIF(P70=\"M\",\"-\"&INDEX(P$1:P$104,1)&CHAR(10),\"\"),\nIF(Q70=\"M\",\"-\"&INDEX(Q$1:Q$104,1)&CHAR(10),\"\"),\nIF(R70=\"M\",\"-\"&INDEX(R$1:R$104,1)&CHAR(10),\"\"),\nIF(S70=\"M\",\"-\"&INDEX(S$1:S$104,1)&CHAR(10),\"\"),\nIF(T70=\"M\",\"-\"&INDEX(T$1:T$104,1)&CHAR(10),\"\"),\nIF(U70=\"M\",\"-\"&INDEX(U$1:U$104,1)&CHAR(10),\"\"),\nIF(V70=\"M\",\"-\"&INDEX(V$1:V$104,1)&CHAR(10),\"\"),\nIF(W70=\"M\",\"-\"&INDEX(W$1:W$104,1)&CHAR(10),\"\"),\nIF(X70=\"M\",\"-\"&INDEX(X$1:X$104,1)&CHAR(10),\"\"),\nIF(Y70=\"M\",\"-\"&INDEX(Y$1:Y$104,1)&CHAR(10),\"\"),\nIF(Z70=\"M\",\"-\"&INDEX(Z$1:Z$104,1)&CHAR(10),\"\"),\nIF(AA70=\"M\",\"-\"&INDEX(AA$1:AA$104,1)&CHAR(10),\"\"),\nIF(AB70=\"M\",\"-\"&INDEX(AB$1:AB$104,1)&CHAR(10),\"\"),\nIF(AC70=\"M\",\"-\"&INDEX(AC$1:AC$104,1)&CHAR(10),\"\"),\nIF(AD70=\"M\",\"-\"&INDEX(AD$1:AD$104,1)&CHAR(10),\"\"))","v":"-Electrical.Statement of Attainment.UETTDRRF01 - Apply ESI safety rules, codes of practice and procedures for work\n-Network Operator.Certificate.I0102 - Ausgrid - Environmental Awareness\n-Electrical.Statement of Attainment.UETTDRRF09 - Apply access procedures to work on or near electrical network infrastructure\n-Network Operator.Certificate.M1425 - Pole Inspection and Treatment\n"},"","","-Operator.Statement of Attainment.RIIMPO338 - Conduct rigid haul truck operations\n",""]
["Pole Reinforcement  - Worker","M","M","M",null,"M","M","M",null,null,"SE1000, RF0003",null,null,"M",null,null,null,null,null,null,null,null,null,null,null,null,null,null,null,null,null,null,null,null,null,null,null,null,null,null,null,null,"M",null,null,null,null,null,null,null,null,null,null,null,null,null,null,null,null,null,null,null,null,null,null,null,null,null,null,null,null,null,null,null,null,null,null,null,null,null,null,null,null,null,null,null,null,null,null,null,null,"M",null,null,null,null,null,null,null,null,null,null,null,null,null,null,null,null,null,null,null,null,null,null,null,null,null,"M",null,null,null,null,null,null,null,null,null,null,{"$f":"CONCATENATE(IF(B71=\"M\",\"-\"&$B$1,\"\"),IF(B71=\"M\",CHAR(10),\"\"),IF(C71=\"M\",\"-\"&$C$1,\"\"),IF(C71=\"M\",CHAR(10),\"\"),IF(D71=\"M\",\"-\"&$D$1,\"\"))","v":"-First Aid.Statement of Attainment.HLTAID001 - Perform CPR\n-Electrical.Statement of Attainment.UETTDRRF06 - Perform rescue from a live LV panel\n-Electrical.Statement of Attainment.UETTDRRF10 - First Aid in an ESI Environment"},{"$f":"CONCATENATE(EB71,EC71,ED71,EE71)","v":"-Chemical Use.Qualified.AHCCHM401 & AHCCHM402 – Level 4 Chemical users Qualification \n-Operator.Statement of Attainment.RIIMPO326 - Conduct civil construction water cart operations\n-Operator.Statement of Attainment.RIIMPO206 - Conduct bulk water truck operations\n"},{"$f":"CONCATENATE(\nIF(E71=\"M\",\"-\"&INDEX(E$1:E$104,1)&CHAR(10),\"\"),\nIF(F71=\"M\",\"-\"&INDEX(F$1:F$104,1)&CHAR(10),\"\"),\nIF(G71=\"M\",\"-\"&INDEX(G$1:G$104,1)&CHAR(10),\"\"),\nIF(H71=\"M\",\"-\"&INDEX(H$1:H$104,1)&CHAR(10),\"\"),\nIF(I71=\"M\",\"-\"&INDEX(I$1:I$104,1)&CHAR(10),\"\"),\nIF(J71=\"M\",\"-\"&INDEX(J$1:J$104,1)&CHAR(10),\"\"),\nIF(K71=\"M\",\"-\"&INDEX(K$1:K$104,1)&CHAR(10),\"\"),\nIF(L71=\"M\",\"-\"&INDEX(L$1:L$104,1)&CHAR(10),\"\"),\nIF(M71=\"M\",\"-\"&INDEX(M$1:M138,1)&CHAR(10),\"\"),\nIF(N71=\"M\",\"-\"&INDEX(N$1:N$104,1)&CHAR(10),\"\"),\nIF(O71=\"M\",\"-\"&INDEX(O$1:O$104,1)&CHAR(10),\"\"),\nIF(P71=\"M\",\"-\"&INDEX(P$1:P$104,1)&CHAR(10),\"\"),\nIF(Q71=\"M\",\"-\"&INDEX(Q$1:Q$104,1)&CHAR(10),\"\"),\nIF(R71=\"M\",\"-\"&INDEX(R$1:R$104,1)&CHAR(10),\"\"),\nIF(S71=\"M\",\"-\"&INDEX(S$1:S$104,1)&CHAR(10),\"\"),\nIF(T71=\"M\",\"-\"&INDEX(T$1:T$104,1)&CHAR(10),\"\"),\nIF(U71=\"M\",\"-\"&INDEX(U$1:U$104,1)&CHAR(10),\"\"),\nIF(V71=\"M\",\"-\"&INDEX(V$1:V$104,1)&CHAR(10),\"\"),\nIF(W71=\"M\",\"-\"&INDEX(W$1:W$104,1)&CHAR(10),\"\"),\nIF(X71=\"M\",\"-\"&INDEX(X$1:X$104,1)&CHAR(10),\"\"),\nIF(Y71=\"M\",\"-\"&INDEX(Y$1:Y$104,1)&CHAR(10),\"\"),\nIF(Z71=\"M\",\"-\"&INDEX(Z$1:Z$104,1)&CHAR(10),\"\"),\nIF(AA71=\"M\",\"-\"&INDEX(AA$1:AA$104,1)&CHAR(10),\"\"),\nIF(AB71=\"M\",\"-\"&INDEX(AB$1:AB$104,1)&CHAR(10),\"\"),\nIF(AC71=\"M\",\"-\"&INDEX(AC$1:AC$104,1)&CHAR(10),\"\"),\nIF(AD71=\"M\",\"-\"&INDEX(AD$1:AD$104,1)&CHAR(10),\"\"))","v":"-Electrical.Statement of Attainment.UETTDRRF01 - Apply ESI safety rules, codes of practice and procedures for work\n-Network Operator.Certificate.I0102 - Ausgrid - Environmental Awareness\n-Electrical.Statement of Attainment.UETTDRRF09 - Apply access procedures to work on or near electrical network infrastructure\n-Network Operator.Certificate.M1425 - Pole Inspection and Treatment\n"},{"$f":"CONCATENATE(\nIF(AE71=\"M\",\"-\"&INDEX(AE$1:AE$104,1)&CHAR(10),\"\"),\nIF(AF71=\"M\",\"-\"&INDEX(AF$1:AF$104,1)&CHAR(10),\"\"),\nIF(AG71=\"M\",\"-\"&INDEX(AG$1:AG$104,1)&CHAR(10),\"\"),\nIF(AH71=\"M\",\"-\"&INDEX(AH$1:AH$104,1)&CHAR(10),\"\"),\nIF(AI71=\"M\",\"-\"&INDEX(AI$1:AI$104,1)&CHAR(10),\"\"),\nIF(AJ71=\"M\",\"-\"&INDEX(AJ$1:AJ$104,1)&CHAR(10),\"\"),\nIF(AK71=\"M\",\"-\"&INDEX(AK$1:AK$104,1)&CHAR(10),\"\"),\nIF(AL71=\"M\",\"-\"&INDEX(AL$1:AL$104,1)&CHAR(10),\"\"),\nIF(AM71=\"M\",\"-\"&INDEX(AM$1:AM$104,1)&CHAR(10),\"\"),\nIF(AN71=\"M\",\"-\"&INDEX(AN$1:AN$104,1)&CHAR(10),\"\"),\nIF(AO71=\"M\",\"-\"&INDEX(AO$1:AO$104,1)&CHAR(10),\"\"),\nIF(AP71=\"M\",\"-\"&INDEX(AP$1:AP$104,1)&CHAR(10),\"\"),\nIF(AQ71=\"M\",\"-\"&INDEX(AQ$1:AQ$104,1)&CHAR(10),\"\"),\nIF(AR71=\"M\",\"-\"&INDEX(AR$1:AR$104,1)&CHAR(10),\"\"),\nIF(AS71=\"M\",\"-\"&INDEX(AS$1:AS$104,1)&CHAR(10),\"\"),\nIF(AT71=\"M\",\"-\"&INDEX(AT$1:AT$104,1)&CHAR(10),\"\"),\nIF(AU71=\"M\",\"-\"&INDEX(AU$1:AU$104,1)&CHAR(10),\"\"),\nIF(AV71=\"M\",\"-\"&INDEX(AV$1:AV$104,1)&CHAR(10),\"\"),\nIF(AW71=\"M\",\"-\"&INDEX(AW$1:AW$104,1)&CHAR(10),\"\"),\nIF(AX71=\"M\",\"-\"&INDEX(AX$1:AX$104,1)&CHAR(10),\"\"),\nIF(AY71=\"M\",\"-\"&INDEX(AY$1:AY$104,1)&CHAR(10),\"\"),\nIF(AZ71=\"M\",\"-\"&INDEX(AZ$1:AZ$104,1)&CHAR(10),\"\"),\nIF(BA71=\"M\",\"-\"&INDEX(BA$1:BA$104,1)&CHAR(10),\"\"),\nIF(BB71=\"M\",\"-\"&INDEX(BB$1:BB$104,1)&CHAR(10),\"\"),\nIF(BC71=\"M\",\"-\"&INDEX(BC$1:BC$104,1)&CHAR(10),\"\"))","v":"-Chemical Use.Qualified.AHCCHM401 & AHCCHM402 – Level 4 Chemical users Qualification \n"},{"$f":"CONCATENATE(\nIF(BD71=\"M\",\"-\"&INDEX(BD$1:BD$104,1)&CHAR(10),\"\"),\nIF(BE71=\"M\",\"-\"&INDEX(BE$1:BE$104,1)&CHAR(10),\"\"),\nIF(BF71=\"M\",\"-\"&INDEX(BF$1:BF$104,1)&CHAR(10),\"\"),\nIF(BG71=\"M\",\"-\"&INDEX(BG$1:BG$104,1)&CHAR(10),\"\"),\nIF(BH71=\"M\",\"-\"&INDEX(BH$1:BH$104,1)&CHAR(10),\"\"),\nIF(BI71=\"M\",\"-\"&INDEX(BI$1:BI$104,1)&CHAR(10),\"\"),\nIF(BJ71=\"M\",\"-\"&INDEX(BJ$1:BJ$104,1)&CHAR(10),\"\"),\nIF(BK71=\"M\",\"-\"&INDEX(BK$1:BK$104,1)&CHAR(10),\"\"),\nIF(BL71=\"M\",\"-\"&INDEX(BL$1:BL$104,1)&CHAR(10),\"\"),\nIF(BM71=\"M\",\"-\"&INDEX(BM$1:BM$104,1)&CHAR(10),\"\"),\nIF(BN71=\"M\",\"-\"&INDEX(BN$1:BN$104,1)&CHAR(10),\"\"),\nIF(BO71=\"M\",\"-\"&INDEX(BO$1:BO$104,1)&CHAR(10),\"\"),\nIF(BP71=\"M\",\"-\"&INDEX(BP$1:BP$104,1)&CHAR(10),\"\"),\nIF(BQ71=\"M\",\"-\"&INDEX(BQ$1:BQ$104,1)&CHAR(10),\"\"),\nIF(BR71=\"M\",\"-\"&INDEX(BR$1:BR$104,1)&CHAR(10),\"\"),\nIF(BS71=\"M\",\"-\"&INDEX(BS$1:BS$104,1)&CHAR(10),\"\"),\nIF(BT71=\"M\",\"-\"&INDEX(BT$1:BT$104,1)&CHAR(10),\"\"),\nIF(BU71=\"M\",\"-\"&INDEX(BU$1:BU$104,1)&CHAR(10),\"\"),\nIF(BV71=\"M\",\"-\"&INDEX(BV$1:BV$104,1)&CHAR(10),\"\"),\nIF(BW71=\"M\",\"-\"&INDEX(BW$1:BW$104,1)&CHAR(10),\"\"),\nIF(BX71=\"M\",\"-\"&INDEX(BX$1:BX$104,1)&CHAR(10),\"\"),\nIF(BY71=\"M\",\"-\"&INDEX(BY$1:BY$104,1)&CHAR(10),\"\"),\nIF(BZ71=\"M\",\"-\"&INDEX(BZ$1:BZ$104,1)&CHAR(10),\"\"),\nIF(CA71=\"M\",\"-\"&INDEX(CA$1:CA$104,1)&CHAR(10),\"\"),\nIF(CB71=\"M\",\"-\"&INDEX(CB$1:CB$104,1)&CHAR(10),\"\"),\nIF(CC71=\"M\",\"-\"&INDEX(CC$1:CC$104,1)&CHAR(10),\"\"))","v":""},{"$f":"CONCATENATE(\nIF(CD71=\"M\",\"-\"&INDEX(CD$1:CD$104,1)&CHAR(10),\"\"),\nIF(CE71=\"M\",\"-\"&INDEX(CE$1:CE$104,1)&CHAR(10),\"\"),\nIF(CF71=\"M\",\"-\"&INDEX(CF$1:CF$104,1)&CHAR(10),\"\"),\nIF(CG71=\"M\",\"-\"&INDEX(CG$1:CG$104,1)&CHAR(10),\"\"),\nIF(CH71=\"M\",\"-\"&INDEX(CH$1:CH$104,1)&CHAR(10),\"\"),\nIF(CI71=\"M\",\"-\"&INDEX(CI$1:CI$104,1)&CHAR(10),\"\"),\nIF(CJ71=\"M\",\"-\"&INDEX(CJ$1:CJ$104,1)&CHAR(10),\"\"),\nIF(CK71=\"M\",\"-\"&INDEX(CK$1:CK$104,1)&CHAR(10),\"\"),\nIF(CL71=\"M\",\"-\"&INDEX(CL$1:CL$104,1)&CHAR(10),\"\"),\nIF(CM71=\"M\",\"-\"&INDEX(CM$1:CM$104,1)&CHAR(10),\"\"),\nIF(CN71=\"M\",\"-\"&INDEX(CN$1:CN$104,1)&CHAR(10),\"\"),\nIF(CO71=\"M\",\"-\"&INDEX(CO$1:CO$104,1)&CHAR(10),\"\"),\nIF(CP71=\"M\",\"-\"&INDEX(CP$1:CP$104,1)&CHAR(10),\"\"),\nIF(CQ71=\"M\",\"-\"&INDEX(CQ$1:CQ$104,1)&CHAR(10),\"\"),\nIF(CR71=\"M\",\"-\"&INDEX(CR$1:CR$104,1)&CHAR(10),\"\"),\nIF(CS71=\"M\",\"-\"&INDEX(CS$1:CS$104,1)&CHAR(10),\"\"),\nIF(CT71=\"M\",\"-\"&INDEX(CT$1:CT$104,1)&CHAR(10),\"\"),\nIF(CU71=\"M\",\"-\"&INDEX(CU$1:CU$104,1)&CHAR(10),\"\"),\nIF(CV71=\"M\",\"-\"&INDEX(CV$1:CV$104,1)&CHAR(10),\"\"),\nIF(CW71=\"M\",\"-\"&INDEX(CW$1:CW$104,1)&CHAR(10),\"\"),\nIF(CX71=\"M\",\"-\"&INDEX(CX$1:CX$104,1)&CHAR(10),\"\"),\nIF(CY71=\"M\",\"-\"&INDEX(CY$1:CY$104,1)&CHAR(10),\"\"),\nIF(CZ71=\"M\",\"-\"&INDEX(CZ$1:CZ$104,1)&CHAR(10),\"\"),\nIF(DA71=\"M\",\"-\"&INDEX(DA$1:DA$104,1)&CHAR(10),\"\"),\nIF(DB71=\"M\",\"-\"&INDEX(DB$1:DB$104,1)&CHAR(10),\"\"),\nIF(DC71=\"M\",\"-\"&INDEX(DC$1:DC$104,1)&CHAR(10),\"\"))","v":"-Operator.Statement of Attainment.RIIMPO326 - Conduct civil construction water cart operations\n"},{"$f":"CONCATENATE(\nIF(DD71=\"M\",\"-\"&INDEX(DD$1:DD$104,1)&CHAR(10),\"\"),\nIF(DE71=\"M\",\"-\"&INDEX(DE$1:DE$104,1)&CHAR(10),\"\"),\nIF(DF71=\"M\",\"-\"&INDEX(DF$1:DF$104,1)&CHAR(10),\"\"),\nIF(DG71=\"M\",\"-\"&INDEX(DG$1:DG$104,1)&CHAR(10),\"\"),\nIF(DH71=\"M\",\"-\"&INDEX(DH$1:DH$104,1)&CHAR(10),\"\"),\nIF(DI71=\"M\",\"-\"&INDEX(DI$1:DI$104,1)&CHAR(10),\"\"),\nIF(DJ71=\"M\",\"-\"&INDEX(DJ$1:DJ$104,1)&CHAR(10),\"\"),\nIF(DK71=\"M\",\"-\"&INDEX(DK$1:DK$104,1)&CHAR(10),\"\"),\nIF(DL71=\"M\",\"-\"&INDEX(DL$1:DL$104,1)&CHAR(10),\"\"),\nIF(DM71=\"M\",\"-\"&INDEX(DM$1:DM$104,1)&CHAR(10),\"\"),\nIF(DN71=\"M\",\"-\"&INDEX(DN$1:DN$104,1)&CHAR(10),\"\"),\nIF(DO71=\"M\",\"-\"&INDEX(DO$1:DO$104,1)&CHAR(10),\"\"),\nIF(DP71=\"M\",\"-\"&INDEX(DP$1:DP$104,1)&CHAR(10),\"\"),\nIF(DQ71=\"M\",\"-\"&INDEX(DQ$1:DQ$104,1)&CHAR(10),\"\"),\nIF(DR71=\"M\",\"-\"&INDEX(DR$1:DR$104,1)&CHAR(10),\"\"),\nIF(DS71=\"M\",\"-\"&INDEX(DS$1:DS$104,1)&CHAR(10),\"\"),\nIF(DT71=\"M\",\"-\"&INDEX(DT$1:DT$104,1)&CHAR(10),\"\"),\nIF(DU71=\"M\",\"-\"&INDEX(DU$1:DU$104,1)&CHAR(10),\"\"),\nIF(DV71=\"M\",\"-\"&INDEX(DV$1:DV$104,1)&CHAR(10),\"\"),\nIF(DW71=\"M\",\"-\"&INDEX(DW$1:DW$104,1)&CHAR(10),\"\"))","v":"-Operator.Statement of Attainment.RIIMPO206 - Conduct bulk water truck operations\n"}]
["Pole Reinforcement - Other Contract Management",null,null,"M",null,"M","M","M",null,null,"SE1000, RF0003",null,null,null,null,null,null,null,null,null,null,null,null,null,null,null,null,null,null,null,null,null,null,null,null,null,null,null,null,null,null,"M",null,null,null,null,null,null,null,null,null,null,null,null,null,null,null,null,null,null,null,null,null,null,null,null,null,null,null,null,null,null,null,null,null,null,null,null,null,null,null,null,null,null,null,null,null,null,null,null,null,null,null,null,null,null,null,null,null,"M",null,null,null,"M","M",null,"M","M","M",null,null,"M",null,null,null,null,null,null,null,null,null,null,null,null,null,null,null,null,"-Electrical.Statement of Attainment.UETTDRRF10 - First Aid in an ESI Environment","-Chemical Use.Qualified.AHCCHM303 & AHCCHM304 – Level 3 Chemical users Qualification \n-Traffic Controller.Statement of Attainment.RIIWHS302 - Implement traffic management plan\n-Electrical.Statement of Attainment.UETTDREL13 - Comply with environmental and incidental response procedures\n-Electrical.Statement of Attainment.UETTDREL14 - Working safely near live electrical apparatus as a non electrical worker \n-Electrical.Statement of Attainment.UETTDREL17 - Operate asset inspection machinery and equipment near live electrical apparatus\n-Electrical.Statement of Attainment.UETTDREL18 - Inspect and treat poles and inspect electrical apparatus\n-Electrical.Statement of Attainment.UETTDREL19 - Identify & interpret characteristics of elec apparatus associated with power industry \n-OH&S-WHS.Statement of Attainment.UEENEEE101 - Apply OHS practices in the workplace\n",{"$f":"CONCATENATE(\nIF(E72=\"M\",\"-\"&INDEX(E$1:E$104,1)&CHAR(10),\"\"),\nIF(F72=\"M\",\"-\"&INDEX(F$1:F$104,1)&CHAR(10),\"\"),\nIF(G72=\"M\",\"-\"&INDEX(G$1:G$104,1)&CHAR(10),\"\"),\nIF(H72=\"M\",\"-\"&INDEX(H$1:H$104,1)&CHAR(10),\"\"),\nIF(I72=\"M\",\"-\"&INDEX(I$1:I$104,1)&CHAR(10),\"\"),\nIF(J72=\"M\",\"-\"&INDEX(J$1:J$104,1)&CHAR(10),\"\"),\nIF(K72=\"M\",\"-\"&INDEX(K$1:K$104,1)&CHAR(10),\"\"),\nIF(L72=\"M\",\"-\"&INDEX(L$1:L$104,1)&CHAR(10),\"\"),\nIF(M72=\"M\",\"-\"&INDEX(M$1:M139,1)&CHAR(10),\"\"),\nIF(N72=\"M\",\"-\"&INDEX(N$1:N$104,1)&CHAR(10),\"\"),\nIF(O72=\"M\",\"-\"&INDEX(O$1:O$104,1)&CHAR(10),\"\"),\nIF(P72=\"M\",\"-\"&INDEX(P$1:P$104,1)&CHAR(10),\"\"),\nIF(Q72=\"M\",\"-\"&INDEX(Q$1:Q$104,1)&CHAR(10),\"\"),\nIF(R72=\"M\",\"-\"&INDEX(R$1:R$104,1)&CHAR(10),\"\"),\nIF(S72=\"M\",\"-\"&INDEX(S$1:S$104,1)&CHAR(10),\"\"),\nIF(T72=\"M\",\"-\"&INDEX(T$1:T$104,1)&CHAR(10),\"\"),\nIF(U72=\"M\",\"-\"&INDEX(U$1:U$104,1)&CHAR(10),\"\"),\nIF(V72=\"M\",\"-\"&INDEX(V$1:V$104,1)&CHAR(10),\"\"),\nIF(W72=\"M\",\"-\"&INDEX(W$1:W$104,1)&CHAR(10),\"\"),\nIF(X72=\"M\",\"-\"&INDEX(X$1:X$104,1)&CHAR(10),\"\"),\nIF(Y72=\"M\",\"-\"&INDEX(Y$1:Y$104,1)&CHAR(10),\"\"),\nIF(Z72=\"M\",\"-\"&INDEX(Z$1:Z$104,1)&CHAR(10),\"\"),\nIF(AA72=\"M\",\"-\"&INDEX(AA$1:AA$104,1)&CHAR(10),\"\"),\nIF(AB72=\"M\",\"-\"&INDEX(AB$1:AB$104,1)&CHAR(10),\"\"),\nIF(AC72=\"M\",\"-\"&INDEX(AC$1:AC$104,1)&CHAR(10),\"\"),\nIF(AD72=\"M\",\"-\"&INDEX(AD$1:AD$104,1)&CHAR(10),\"\"))","v":"-Electrical.Statement of Attainment.UETTDRRF01 - Apply ESI safety rules, codes of practice and procedures for work\n-Network Operator.Certificate.I0102 - Ausgrid - Environmental Awareness\n-Electrical.Statement of Attainment.UETTDRRF09 - Apply access procedures to work on or near electrical network infrastructure\n"},"-Chemical Use.Qualified.AHCCHM303 & AHCCHM304 – Level 3 Chemical users Qualification \n","","-Traffic Controller.Statement of Attainment.RIIWHS302 - Implement traffic management plan\n-Electrical.Statement of Attainment.UETTDREL13 - Comply with environmental and incidental response procedures\n-Electrical.Statement of Attainment.UETTDREL14 - Working safely near live electrical apparatus as a non electrical worker \n-Electrical.Statement of Attainment.UETTDREL17 - Operate asset inspection machinery and equipment near live electrical apparatus\n","-Electrical.Statement of Attainment.UETTDREL18 - Inspect and treat poles and inspect electrical apparatus\n-Electrical.Statement of Attainment.UETTDREL19 - Identify & interpret characteristics of elec apparatus associated with power industry \n-OH&S-WHS.Statement of Attainment.UEENEEE101 - Apply OHS practices in the workplace\n"]
["Pole Reinforcement - Safety Observer / Assistant","M","M","M",null,"M","M","M",null,null,"SE1000, RF0003",null,null,null,null,null,null,null,null,null,null,null,null,null,null,null,null,null,null,null,null,null,null,null,null,null,null,null,null,null,null,"M",null,null,null,null,null,null,null,null,null,null,null,null,null,null,null,null,null,null,null,null,null,null,null,null,null,null,null,null,null,null,null,null,null,null,null,null,null,null,null,null,null,null,null,null,null,null,null,null,null,null,null,null,null,null,null,null,null,"M",null,null,null,"M","M",null,"M","M","M",null,null,"M",null,null,null,null,null,null,null,null,null,null,null,null,null,null,null,null,"-First Aid.Statement of Attainment.HLTAID001 - Perform CPR\n-Electrical.Statement of Attainment.UETTDRRF06 - Perform rescue from a live LV panel\n-Electrical.Statement of Attainment.UETTDRRF10 - First Aid in an ESI Environment","-Chemical Use.Qualified.AHCCHM303 & AHCCHM304 – Level 3 Chemical users Qualification \n-Traffic Controller.Statement of Attainment.RIIWHS302 - Implement traffic management plan\n-Electrical.Statement of Attainment.UETTDREL13 - Comply with environmental and incidental response procedures\n-Electrical.Statement of Attainment.UETTDREL14 - Working safely near live electrical apparatus as a non electrical worker \n-Electrical.Statement of Attainment.UETTDREL17 - Operate asset inspection machinery and equipment near live electrical apparatus\n-Electrical.Statement of Attainment.UETTDREL18 - Inspect and treat poles and inspect electrical apparatus\n-Electrical.Statement of Attainment.UETTDREL19 - Identify & interpret characteristics of elec apparatus associated with power industry \n-OH&S-WHS.Statement of Attainment.UEENEEE101 - Apply OHS practices in the workplace\n",{"$f":"CONCATENATE(\nIF(E73=\"M\",\"-\"&INDEX(E$1:E$104,1)&CHAR(10),\"\"),\nIF(F73=\"M\",\"-\"&INDEX(F$1:F$104,1)&CHAR(10),\"\"),\nIF(G73=\"M\",\"-\"&INDEX(G$1:G$104,1)&CHAR(10),\"\"),\nIF(H73=\"M\",\"-\"&INDEX(H$1:H$104,1)&CHAR(10),\"\"),\nIF(I73=\"M\",\"-\"&INDEX(I$1:I$104,1)&CHAR(10),\"\"),\nIF(J73=\"M\",\"-\"&INDEX(J$1:J$104,1)&CHAR(10),\"\"),\nIF(K73=\"M\",\"-\"&INDEX(K$1:K$104,1)&CHAR(10),\"\"),\nIF(L73=\"M\",\"-\"&INDEX(L$1:L$104,1)&CHAR(10),\"\"),\nIF(M73=\"M\",\"-\"&INDEX(M$1:M140,1)&CHAR(10),\"\"),\nIF(N73=\"M\",\"-\"&INDEX(N$1:N$104,1)&CHAR(10),\"\"),\nIF(O73=\"M\",\"-\"&INDEX(O$1:O$104,1)&CHAR(10),\"\"),\nIF(P73=\"M\",\"-\"&INDEX(P$1:P$104,1)&CHAR(10),\"\"),\nIF(Q73=\"M\",\"-\"&INDEX(Q$1:Q$104,1)&CHAR(10),\"\"),\nIF(R73=\"M\",\"-\"&INDEX(R$1:R$104,1)&CHAR(10),\"\"),\nIF(S73=\"M\",\"-\"&INDEX(S$1:S$104,1)&CHAR(10),\"\"),\nIF(T73=\"M\",\"-\"&INDEX(T$1:T$104,1)&CHAR(10),\"\"),\nIF(U73=\"M\",\"-\"&INDEX(U$1:U$104,1)&CHAR(10),\"\"),\nIF(V73=\"M\",\"-\"&INDEX(V$1:V$104,1)&CHAR(10),\"\"),\nIF(W73=\"M\",\"-\"&INDEX(W$1:W$104,1)&CHAR(10),\"\"),\nIF(X73=\"M\",\"-\"&INDEX(X$1:X$104,1)&CHAR(10),\"\"),\nIF(Y73=\"M\",\"-\"&INDEX(Y$1:Y$104,1)&CHAR(10),\"\"),\nIF(Z73=\"M\",\"-\"&INDEX(Z$1:Z$104,1)&CHAR(10),\"\"),\nIF(AA73=\"M\",\"-\"&INDEX(AA$1:AA$104,1)&CHAR(10),\"\"),\nIF(AB73=\"M\",\"-\"&INDEX(AB$1:AB$104,1)&CHAR(10),\"\"),\nIF(AC73=\"M\",\"-\"&INDEX(AC$1:AC$104,1)&CHAR(10),\"\"),\nIF(AD73=\"M\",\"-\"&INDEX(AD$1:AD$104,1)&CHAR(10),\"\"))","v":"-Electrical.Statement of Attainment.UETTDRRF01 - Apply ESI safety rules, codes of practice and procedures for work\n-Network Operator.Certificate.I0102 - Ausgrid - Environmental Awareness\n-Electrical.Statement of Attainment.UETTDRRF09 - Apply access procedures to work on or near electrical network infrastructure\n"},"-Chemical Use.Qualified.AHCCHM303 & AHCCHM304 – Level 3 Chemical users Qualification \n","","-Traffic Controller.Statement of Attainment.RIIWHS302 - Implement traffic management plan\n-Electrical.Statement of Attainment.UETTDREL13 - Comply with environmental and incidental response procedures\n-Electrical.Statement of Attainment.UETTDREL14 - Working safely near live electrical apparatus as a non electrical worker \n-Electrical.Statement of Attainment.UETTDREL17 - Operate asset inspection machinery and equipment near live electrical apparatus\n","-Electrical.Statement of Attainment.UETTDREL18 - Inspect and treat poles and inspect electrical apparatus\n-Electrical.Statement of Attainment.UETTDREL19 - Identify & interpret characteristics of elec apparatus associated with power industry \n-OH&S-WHS.Statement of Attainment.UEENEEE101 - Apply OHS practices in the workplace\n"]
["Pole Reinforcement - Supervisor","M","M","M",null,"M","M","M",null,null,"SE1000, RF0003",null,null,null,null,null,null,null,null,null,null,null,null,null,null,null,null,null,null,null,null,null,null,null,null,null,null,null,null,null,null,null,null,null,null,null,null,null,null,null,null,null,null,null,null,null,null,null,null,null,null,null,null,null,null,null,null,null,null,null,null,null,null,null,null,null,null,null,null,null,null,null,null,null,null,null,null,null,null,null,null,null,null,null,null,null,null,null,null,null,null,null,null,"M","M",null,"M","M","M",null,null,"M",null,null,null,null,null,null,null,null,null,null,null,null,null,null,null,null,"-First Aid.Statement of Attainment.HLTAID001 - Perform CPR\n-Electrical.Statement of Attainment.UETTDRRF06 - Perform rescue from a live LV panel\n-Electrical.Statement of Attainment.UETTDRRF10 - First Aid in an ESI Environment","-Electrical.Statement of Attainment.UETTDREL13 - Comply with environmental and incidental response procedures\n-Electrical.Statement of Attainment.UETTDREL14 - Working safely near live electrical apparatus as a non electrical worker \n-Electrical.Statement of Attainment.UETTDREL17 - Operate asset inspection machinery and equipment near live electrical apparatus\n-Electrical.Statement of Attainment.UETTDREL18 - Inspect and treat poles and inspect electrical apparatus\n-Electrical.Statement of Attainment.UETTDREL19 - Identify & interpret characteristics of elec apparatus associated with power industry \n-OH&S-WHS.Statement of Attainment.UEENEEE101 - Apply OHS practices in the workplace\n",{"$f":"CONCATENATE(\nIF(E74=\"M\",\"-\"&INDEX(E$1:E$104,1)&CHAR(10),\"\"),\nIF(F74=\"M\",\"-\"&INDEX(F$1:F$104,1)&CHAR(10),\"\"),\nIF(G74=\"M\",\"-\"&INDEX(G$1:G$104,1)&CHAR(10),\"\"),\nIF(H74=\"M\",\"-\"&INDEX(H$1:H$104,1)&CHAR(10),\"\"),\nIF(I74=\"M\",\"-\"&INDEX(I$1:I$104,1)&CHAR(10),\"\"),\nIF(J74=\"M\",\"-\"&INDEX(J$1:J$104,1)&CHAR(10),\"\"),\nIF(K74=\"M\",\"-\"&INDEX(K$1:K$104,1)&CHAR(10),\"\"),\nIF(L74=\"M\",\"-\"&INDEX(L$1:L$104,1)&CHAR(10),\"\"),\nIF(M74=\"M\",\"-\"&INDEX(M$1:M141,1)&CHAR(10),\"\"),\nIF(N74=\"M\",\"-\"&INDEX(N$1:N$104,1)&CHAR(10),\"\"),\nIF(O74=\"M\",\"-\"&INDEX(O$1:O$104,1)&CHAR(10),\"\"),\nIF(P74=\"M\",\"-\"&INDEX(P$1:P$104,1)&CHAR(10),\"\"),\nIF(Q74=\"M\",\"-\"&INDEX(Q$1:Q$104,1)&CHAR(10),\"\"),\nIF(R74=\"M\",\"-\"&INDEX(R$1:R$104,1)&CHAR(10),\"\"),\nIF(S74=\"M\",\"-\"&INDEX(S$1:S$104,1)&CHAR(10),\"\"),\nIF(T74=\"M\",\"-\"&INDEX(T$1:T$104,1)&CHAR(10),\"\"),\nIF(U74=\"M\",\"-\"&INDEX(U$1:U$104,1)&CHAR(10),\"\"),\nIF(V74=\"M\",\"-\"&INDEX(V$1:V$104,1)&CHAR(10),\"\"),\nIF(W74=\"M\",\"-\"&INDEX(W$1:W$104,1)&CHAR(10),\"\"),\nIF(X74=\"M\",\"-\"&INDEX(X$1:X$104,1)&CHAR(10),\"\"),\nIF(Y74=\"M\",\"-\"&INDEX(Y$1:Y$104,1)&CHAR(10),\"\"),\nIF(Z74=\"M\",\"-\"&INDEX(Z$1:Z$104,1)&CHAR(10),\"\"),\nIF(AA74=\"M\",\"-\"&INDEX(AA$1:AA$104,1)&CHAR(10),\"\"),\nIF(AB74=\"M\",\"-\"&INDEX(AB$1:AB$104,1)&CHAR(10),\"\"),\nIF(AC74=\"M\",\"-\"&INDEX(AC$1:AC$104,1)&CHAR(10),\"\"),\nIF(AD74=\"M\",\"-\"&INDEX(AD$1:AD$104,1)&CHAR(10),\"\"))","v":"-Electrical.Statement of Attainment.UETTDRRF01 - Apply ESI safety rules, codes of practice and procedures for work\n-Network Operator.Certificate.I0102 - Ausgrid - Environmental Awareness\n-Electrical.Statement of Attainment.UETTDRRF09 - Apply access procedures to work on or near electrical network infrastructure\n"},"","","-Electrical.Statement of Attainment.UETTDREL13 - Comply with environmental and incidental response procedures\n-Electrical.Statement of Attainment.UETTDREL14 - Working safely near live electrical apparatus as a non electrical worker \n-Electrical.Statement of Attainment.UETTDREL17 - Operate asset inspection machinery and equipment near live electrical apparatus\n","-Electrical.Statement of Attainment.UETTDREL18 - Inspect and treat poles and inspect electrical apparatus\n-Electrical.Statement of Attainment.UETTDREL19 - Identify & interpret characteristics of elec apparatus associated with power industry \n-OH&S-WHS.Statement of Attainment.UEENEEE101 - Apply OHS practices in the workplace\n"]
["Pole Replacement - Apprentice Electrical Technician",null,"M","M",null,"M","M","M",null,"M","SE1000, RF0003, SC1100",null,null,null,"N",null,"N",null,null,"M",null,null,null,null,null,null,null,null,null,null,"M","M","M","SE1004/RF0002",null,null,null,null,null,null,null,null,null,null,null,null,null,null,null,null,null,null,null,null,null,null,null,null,null,null,null,null,null,null,null,null,null,null,null,null,null,null,null,null,null,null,null,null,null,null,null,null,null,null,null,null,null,null,null,null,null,null,null,null,null,null,null,null,null,"M",null,null,null,"M","M",null,"M","M","M",null,null,"M",null,null,null,null,null,null,null,null,null,null,null,null,null,null,null,null,"-Electrical.Statement of Attainment.UETTDRRF06 - Perform rescue from a live LV panel\n-Electrical.Statement of Attainment.UETTDRRF10 - First Aid in an ESI Environment","-Electrical.Statement of Attainment.UETTDRRF02 - Perform Pole Top Rescue \n-Electrical.Statement of Attainment.UETTDRRF03 - LV Release & Rescue from an EWP\n-Electrical.Statement of Attainment.UETTDRRF08 - CCD Release & Rescue from an EWP\n-Traffic Controller.Statement of Attainment.RIIWHS302 - Implement traffic management plan\n-Electrical.Statement of Attainment.UETTDREL13 - Comply with environmental and incidental response procedures\n-Electrical.Statement of Attainment.UETTDREL14 - Working safely near live electrical apparatus as a non electrical worker \n-Electrical.Statement of Attainment.UETTDREL17 - Operate asset inspection machinery and equipment near live electrical apparatus\n-Electrical.Statement of Attainment.UETTDREL18 - Inspect and treat poles and inspect electrical apparatus\n-Electrical.Statement of Attainment.UETTDREL19 - Identify & interpret characteristics of elec apparatus associated with power industry \n-OH&S-WHS.Statement of Attainment.UEENEEE101 - Apply OHS practices in the workplace\n",{"$f":"CONCATENATE(\nIF(E75=\"M\",\"-\"&INDEX(E$1:E$104,1)&CHAR(10),\"\"),\nIF(F75=\"M\",\"-\"&INDEX(F$1:F$104,1)&CHAR(10),\"\"),\nIF(G75=\"M\",\"-\"&INDEX(G$1:G$104,1)&CHAR(10),\"\"),\nIF(H75=\"M\",\"-\"&INDEX(H$1:H$104,1)&CHAR(10),\"\"),\nIF(I75=\"M\",\"-\"&INDEX(I$1:I$104,1)&CHAR(10),\"\"),\nIF(J75=\"M\",\"-\"&INDEX(J$1:J$104,1)&CHAR(10),\"\"),\nIF(K75=\"M\",\"-\"&INDEX(K$1:K$104,1)&CHAR(10),\"\"),\nIF(L75=\"M\",\"-\"&INDEX(L$1:L$104,1)&CHAR(10),\"\"),\nIF(M75=\"M\",\"-\"&INDEX(M$1:M142,1)&CHAR(10),\"\"),\nIF(N75=\"M\",\"-\"&INDEX(N$1:N$104,1)&CHAR(10),\"\"),\nIF(O75=\"M\",\"-\"&INDEX(O$1:O$104,1)&CHAR(10),\"\"),\nIF(P75=\"M\",\"-\"&INDEX(P$1:P$104,1)&CHAR(10),\"\"),\nIF(Q75=\"M\",\"-\"&INDEX(Q$1:Q$104,1)&CHAR(10),\"\"),\nIF(R75=\"M\",\"-\"&INDEX(R$1:R$104,1)&CHAR(10),\"\"),\nIF(S75=\"M\",\"-\"&INDEX(S$1:S$104,1)&CHAR(10),\"\"),\nIF(T75=\"M\",\"-\"&INDEX(T$1:T$104,1)&CHAR(10),\"\"),\nIF(U75=\"M\",\"-\"&INDEX(U$1:U$104,1)&CHAR(10),\"\"),\nIF(V75=\"M\",\"-\"&INDEX(V$1:V$104,1)&CHAR(10),\"\"),\nIF(W75=\"M\",\"-\"&INDEX(W$1:W$104,1)&CHAR(10),\"\"),\nIF(X75=\"M\",\"-\"&INDEX(X$1:X$104,1)&CHAR(10),\"\"),\nIF(Y75=\"M\",\"-\"&INDEX(Y$1:Y$104,1)&CHAR(10),\"\"),\nIF(Z75=\"M\",\"-\"&INDEX(Z$1:Z$104,1)&CHAR(10),\"\"),\nIF(AA75=\"M\",\"-\"&INDEX(AA$1:AA$104,1)&CHAR(10),\"\"),\nIF(AB75=\"M\",\"-\"&INDEX(AB$1:AB$104,1)&CHAR(10),\"\"),\nIF(AC75=\"M\",\"-\"&INDEX(AC$1:AC$104,1)&CHAR(10),\"\"),\nIF(AD75=\"M\",\"-\"&INDEX(AD$1:AD$104,1)&CHAR(10),\"\"))","v":"-Electrical.Statement of Attainment.UETTDRRF01 - Apply ESI safety rules, codes of practice and procedures for work\n-Network Operator.Certificate.I0102 - Ausgrid - Environmental Awareness\n-Electrical.Statement of Attainment.UETTDRRF09 - Apply access procedures to work on or near electrical network infrastructure\n-Network Operator.Certificate.SC1100A - Working Near or Around Underground Cables\n-Network Operator.Certificate.M1809 - Ausgrid - Pre-working aloft procedures (NS146)\n"},"-Electrical.Statement of Attainment.UETTDRRF02 - Perform Pole Top Rescue \n-Electrical.Statement of Attainment.UETTDRRF03 - LV Release & Rescue from an EWP\n-Electrical.Statement of Attainment.UETTDRRF08 - CCD Release & Rescue from an EWP\n","","-Traffic Controller.Statement of Attainment.RIIWHS302 - Implement traffic management plan\n-Electrical.Statement of Attainment.UETTDREL13 - Comply with environmental and incidental response procedures\n-Electrical.Statement of Attainment.UETTDREL14 - Working safely near live electrical apparatus as a non electrical worker \n-Electrical.Statement of Attainment.UETTDREL17 - Operate asset inspection machinery and equipment near live electrical apparatus\n","-Electrical.Statement of Attainment.UETTDREL18 - Inspect and treat poles and inspect electrical apparatus\n-Electrical.Statement of Attainment.UETTDREL19 - Identify & interpret characteristics of elec apparatus associated with power industry \n-OH&S-WHS.Statement of Attainment.UEENEEE101 - Apply OHS practices in the workplace\n"]
["Pole Replacement - Apprentice Linesman",null,"M","M",null,"M","M","M",null,"M","SE1000, RF0003, SC1100",null,null,null,"N",null,"N",null,null,"M",null,null,null,null,null,null,null,null,null,null,"M","M","M","SE1004/RF0002",null,null,null,null,null,null,null,null,null,null,null,null,null,null,null,null,null,null,null,null,null,null,null,null,null,null,null,null,null,null,null,null,null,null,null,null,null,null,null,null,null,null,null,null,null,null,null,null,null,null,null,null,null,null,null,null,null,null,null,null,null,null,null,null,null,null,null,null,null,null,"M",null,null,null,null,null,null,null,null,null,null,null,null,null,null,null,null,null,null,null,null,null,null,null,"-Electrical.Statement of Attainment.UETTDRRF06 - Perform rescue from a live LV panel\n-Electrical.Statement of Attainment.UETTDRRF10 - First Aid in an ESI Environment","-Electrical.Statement of Attainment.UETTDRRF02 - Perform Pole Top Rescue \n-Electrical.Statement of Attainment.UETTDRRF03 - LV Release & Rescue from an EWP\n-Electrical.Statement of Attainment.UETTDRRF08 - CCD Release & Rescue from an EWP\n-Electrical.Statement of Attainment.UETTDREL14 - Working safely near live electrical apparatus as a non electrical worker \n",{"$f":"CONCATENATE(\nIF(E76=\"M\",\"-\"&INDEX(E$1:E$104,1)&CHAR(10),\"\"),\nIF(F76=\"M\",\"-\"&INDEX(F$1:F$104,1)&CHAR(10),\"\"),\nIF(G76=\"M\",\"-\"&INDEX(G$1:G$104,1)&CHAR(10),\"\"),\nIF(H76=\"M\",\"-\"&INDEX(H$1:H$104,1)&CHAR(10),\"\"),\nIF(I76=\"M\",\"-\"&INDEX(I$1:I$104,1)&CHAR(10),\"\"),\nIF(J76=\"M\",\"-\"&INDEX(J$1:J$104,1)&CHAR(10),\"\"),\nIF(K76=\"M\",\"-\"&INDEX(K$1:K$104,1)&CHAR(10),\"\"),\nIF(L76=\"M\",\"-\"&INDEX(L$1:L$104,1)&CHAR(10),\"\"),\nIF(M76=\"M\",\"-\"&INDEX(M$1:M143,1)&CHAR(10),\"\"),\nIF(N76=\"M\",\"-\"&INDEX(N$1:N$104,1)&CHAR(10),\"\"),\nIF(O76=\"M\",\"-\"&INDEX(O$1:O$104,1)&CHAR(10),\"\"),\nIF(P76=\"M\",\"-\"&INDEX(P$1:P$104,1)&CHAR(10),\"\"),\nIF(Q76=\"M\",\"-\"&INDEX(Q$1:Q$104,1)&CHAR(10),\"\"),\nIF(R76=\"M\",\"-\"&INDEX(R$1:R$104,1)&CHAR(10),\"\"),\nIF(S76=\"M\",\"-\"&INDEX(S$1:S$104,1)&CHAR(10),\"\"),\nIF(T76=\"M\",\"-\"&INDEX(T$1:T$104,1)&CHAR(10),\"\"),\nIF(U76=\"M\",\"-\"&INDEX(U$1:U$104,1)&CHAR(10),\"\"),\nIF(V76=\"M\",\"-\"&INDEX(V$1:V$104,1)&CHAR(10),\"\"),\nIF(W76=\"M\",\"-\"&INDEX(W$1:W$104,1)&CHAR(10),\"\"),\nIF(X76=\"M\",\"-\"&INDEX(X$1:X$104,1)&CHAR(10),\"\"),\nIF(Y76=\"M\",\"-\"&INDEX(Y$1:Y$104,1)&CHAR(10),\"\"),\nIF(Z76=\"M\",\"-\"&INDEX(Z$1:Z$104,1)&CHAR(10),\"\"),\nIF(AA76=\"M\",\"-\"&INDEX(AA$1:AA$104,1)&CHAR(10),\"\"),\nIF(AB76=\"M\",\"-\"&INDEX(AB$1:AB$104,1)&CHAR(10),\"\"),\nIF(AC76=\"M\",\"-\"&INDEX(AC$1:AC$104,1)&CHAR(10),\"\"),\nIF(AD76=\"M\",\"-\"&INDEX(AD$1:AD$104,1)&CHAR(10),\"\"))","v":"-Electrical.Statement of Attainment.UETTDRRF01 - Apply ESI safety rules, codes of practice and procedures for work\n-Network Operator.Certificate.I0102 - Ausgrid - Environmental Awareness\n-Electrical.Statement of Attainment.UETTDRRF09 - Apply access procedures to work on or near electrical network infrastructure\n-Network Operator.Certificate.SC1100A - Working Near or Around Underground Cables\n-Network Operator.Certificate.M1809 - Ausgrid - Pre-working aloft procedures (NS146)\n"},"-Electrical.Statement of Attainment.UETTDRRF02 - Perform Pole Top Rescue \n-Electrical.Statement of Attainment.UETTDRRF03 - LV Release & Rescue from an EWP\n-Electrical.Statement of Attainment.UETTDRRF08 - CCD Release & Rescue from an EWP\n","","-Electrical.Statement of Attainment.UETTDREL14 - Working safely near live electrical apparatus as a non electrical worker \n",""]
["Pole Replacement - Electrical Technician",null,"M","M",null,"M","M","M",null,"M","SE1000, RF0003, SC1100",null,null,null,"N",null,"N",null,null,"M",null,null,null,"M","M",null,"N",null,null,null,"M","M","M","SE1004/RF0002",null,null,null,null,null,null,null,null,null,null,null,null,null,null,null,null,null,null,null,null,null,null,null,null,null,null,null,null,null,null,null,null,null,null,null,null,null,null,null,null,null,null,null,null,null,null,null,null,null,null,null,null,null,null,null,null,null,null,null,null,null,null,null,null,null,null,null,null,null,null,null,null,null,null,null,null,null,null,null,null,null,null,null,null,null,null,null,null,null,null,null,null,null,null,"-Electrical.Statement of Attainment.UETTDRRF06 - Perform rescue from a live LV panel\n-Electrical.Statement of Attainment.UETTDRRF10 - First Aid in an ESI Environment","-Electrical.Statement of Attainment.UETTDRRF02 - Perform Pole Top Rescue \n-Electrical.Statement of Attainment.UETTDRRF03 - LV Release & Rescue from an EWP\n-Electrical.Statement of Attainment.UETTDRRF08 - CCD Release & Rescue from an EWP\n",{"$f":"CONCATENATE(\nIF(E77=\"M\",\"-\"&INDEX(E$1:E$104,1)&CHAR(10),\"\"),\nIF(F77=\"M\",\"-\"&INDEX(F$1:F$104,1)&CHAR(10),\"\"),\nIF(G77=\"M\",\"-\"&INDEX(G$1:G$104,1)&CHAR(10),\"\"),\nIF(H77=\"M\",\"-\"&INDEX(H$1:H$104,1)&CHAR(10),\"\"),\nIF(I77=\"M\",\"-\"&INDEX(I$1:I$104,1)&CHAR(10),\"\"),\nIF(J77=\"M\",\"-\"&INDEX(J$1:J$104,1)&CHAR(10),\"\"),\nIF(K77=\"M\",\"-\"&INDEX(K$1:K$104,1)&CHAR(10),\"\"),\nIF(L77=\"M\",\"-\"&INDEX(L$1:L$104,1)&CHAR(10),\"\"),\nIF(M77=\"M\",\"-\"&INDEX(M$1:M144,1)&CHAR(10),\"\"),\nIF(N77=\"M\",\"-\"&INDEX(N$1:N$104,1)&CHAR(10),\"\"),\nIF(O77=\"M\",\"-\"&INDEX(O$1:O$104,1)&CHAR(10),\"\"),\nIF(P77=\"M\",\"-\"&INDEX(P$1:P$104,1)&CHAR(10),\"\"),\nIF(Q77=\"M\",\"-\"&INDEX(Q$1:Q$104,1)&CHAR(10),\"\"),\nIF(R77=\"M\",\"-\"&INDEX(R$1:R$104,1)&CHAR(10),\"\"),\nIF(S77=\"M\",\"-\"&INDEX(S$1:S$104,1)&CHAR(10),\"\"),\nIF(T77=\"M\",\"-\"&INDEX(T$1:T$104,1)&CHAR(10),\"\"),\nIF(U77=\"M\",\"-\"&INDEX(U$1:U$104,1)&CHAR(10),\"\"),\nIF(V77=\"M\",\"-\"&INDEX(V$1:V$104,1)&CHAR(10),\"\"),\nIF(W77=\"M\",\"-\"&INDEX(W$1:W$104,1)&CHAR(10),\"\"),\nIF(X77=\"M\",\"-\"&INDEX(X$1:X$104,1)&CHAR(10),\"\"),\nIF(Y77=\"M\",\"-\"&INDEX(Y$1:Y$104,1)&CHAR(10),\"\"),\nIF(Z77=\"M\",\"-\"&INDEX(Z$1:Z$104,1)&CHAR(10),\"\"),\nIF(AA77=\"M\",\"-\"&INDEX(AA$1:AA$104,1)&CHAR(10),\"\"),\nIF(AB77=\"M\",\"-\"&INDEX(AB$1:AB$104,1)&CHAR(10),\"\"),\nIF(AC77=\"M\",\"-\"&INDEX(AC$1:AC$104,1)&CHAR(10),\"\"),\nIF(AD77=\"M\",\"-\"&INDEX(AD$1:AD$104,1)&CHAR(10),\"\"))","v":"-Electrical.Statement of Attainment.UETTDRRF01 - Apply ESI safety rules, codes of practice and procedures for work\n-Network Operator.Certificate.I0102 - Ausgrid - Environmental Awareness\n-Electrical.Statement of Attainment.UETTDRRF09 - Apply access procedures to work on or near electrical network infrastructure\n-Network Operator.Certificate.SC1100A - Working Near or Around Underground Cables\n-Network Operator.Certificate.M1809 - Ausgrid - Pre-working aloft procedures (NS146)\n-Network Operator.Certificate.TTDO1570 - Ausgrid - Application of temporary insulation\n-Network Operator.Certificate.TTGE1574 - Neutral and Phase Identification Using Test Lamps\n"},"-Electrical.Statement of Attainment.UETTDRRF02 - Perform Pole Top Rescue \n-Electrical.Statement of Attainment.UETTDRRF03 - LV Release & Rescue from an EWP\n-Electrical.Statement of Attainment.UETTDRRF08 - CCD Release & Rescue from an EWP\n","","",""]
["Pole Replacement - Linesman",null,"M","M",null,"M","M","M",null,"M","SE1000, RF0003, SC1100",null,null,null,"N",null,"N",null,null,"M",null,null,null,"M","M",null,"N",null,null,null,"M","M","M","SE1004/RF0002",null,null,null,null,null,null,null,null,null,null,null,null,null,null,null,null,null,null,null,null,null,null,null,null,null,null,null,null,null,null,null,null,null,null,null,null,null,null,null,null,null,null,null,null,null,null,null,null,null,null,null,null,null,null,null,null,null,null,null,null,null,null,null,null,null,null,null,null,null,null,"M",null,null,null,null,null,null,null,null,null,null,null,null,null,null,null,null,null,null,null,null,null,null,null,"-Electrical.Statement of Attainment.UETTDRRF06 - Perform rescue from a live LV panel\n-Electrical.Statement of Attainment.UETTDRRF10 - First Aid in an ESI Environment","-Electrical.Statement of Attainment.UETTDRRF02 - Perform Pole Top Rescue \n-Electrical.Statement of Attainment.UETTDRRF03 - LV Release & Rescue from an EWP\n-Electrical.Statement of Attainment.UETTDRRF08 - CCD Release & Rescue from an EWP\n-Electrical.Statement of Attainment.UETTDREL14 - Working safely near live electrical apparatus as a non electrical worker \n",{"$f":"CONCATENATE(\nIF(E78=\"M\",\"-\"&INDEX(E$1:E$104,1)&CHAR(10),\"\"),\nIF(F78=\"M\",\"-\"&INDEX(F$1:F$104,1)&CHAR(10),\"\"),\nIF(G78=\"M\",\"-\"&INDEX(G$1:G$104,1)&CHAR(10),\"\"),\nIF(H78=\"M\",\"-\"&INDEX(H$1:H$104,1)&CHAR(10),\"\"),\nIF(I78=\"M\",\"-\"&INDEX(I$1:I$104,1)&CHAR(10),\"\"),\nIF(J78=\"M\",\"-\"&INDEX(J$1:J$104,1)&CHAR(10),\"\"),\nIF(K78=\"M\",\"-\"&INDEX(K$1:K$104,1)&CHAR(10),\"\"),\nIF(L78=\"M\",\"-\"&INDEX(L$1:L$104,1)&CHAR(10),\"\"),\nIF(M78=\"M\",\"-\"&INDEX(M$1:M145,1)&CHAR(10),\"\"),\nIF(N78=\"M\",\"-\"&INDEX(N$1:N$104,1)&CHAR(10),\"\"),\nIF(O78=\"M\",\"-\"&INDEX(O$1:O$104,1)&CHAR(10),\"\"),\nIF(P78=\"M\",\"-\"&INDEX(P$1:P$104,1)&CHAR(10),\"\"),\nIF(Q78=\"M\",\"-\"&INDEX(Q$1:Q$104,1)&CHAR(10),\"\"),\nIF(R78=\"M\",\"-\"&INDEX(R$1:R$104,1)&CHAR(10),\"\"),\nIF(S78=\"M\",\"-\"&INDEX(S$1:S$104,1)&CHAR(10),\"\"),\nIF(T78=\"M\",\"-\"&INDEX(T$1:T$104,1)&CHAR(10),\"\"),\nIF(U78=\"M\",\"-\"&INDEX(U$1:U$104,1)&CHAR(10),\"\"),\nIF(V78=\"M\",\"-\"&INDEX(V$1:V$104,1)&CHAR(10),\"\"),\nIF(W78=\"M\",\"-\"&INDEX(W$1:W$104,1)&CHAR(10),\"\"),\nIF(X78=\"M\",\"-\"&INDEX(X$1:X$104,1)&CHAR(10),\"\"),\nIF(Y78=\"M\",\"-\"&INDEX(Y$1:Y$104,1)&CHAR(10),\"\"),\nIF(Z78=\"M\",\"-\"&INDEX(Z$1:Z$104,1)&CHAR(10),\"\"),\nIF(AA78=\"M\",\"-\"&INDEX(AA$1:AA$104,1)&CHAR(10),\"\"),\nIF(AB78=\"M\",\"-\"&INDEX(AB$1:AB$104,1)&CHAR(10),\"\"),\nIF(AC78=\"M\",\"-\"&INDEX(AC$1:AC$104,1)&CHAR(10),\"\"),\nIF(AD78=\"M\",\"-\"&INDEX(AD$1:AD$104,1)&CHAR(10),\"\"))","v":"-Electrical.Statement of Attainment.UETTDRRF01 - Apply ESI safety rules, codes of practice and procedures for work\n-Network Operator.Certificate.I0102 - Ausgrid - Environmental Awareness\n-Electrical.Statement of Attainment.UETTDRRF09 - Apply access procedures to work on or near electrical network infrastructure\n-Network Operator.Certificate.SC1100A - Working Near or Around Underground Cables\n-Network Operator.Certificate.M1809 - Ausgrid - Pre-working aloft procedures (NS146)\n-Network Operator.Certificate.TTDO1570 - Ausgrid - Application of temporary insulation\n-Network Operator.Certificate.TTGE1574 - Neutral and Phase Identification Using Test Lamps\n"},"-Electrical.Statement of Attainment.UETTDRRF02 - Perform Pole Top Rescue \n-Electrical.Statement of Attainment.UETTDRRF03 - LV Release & Rescue from an EWP\n-Electrical.Statement of Attainment.UETTDRRF08 - CCD Release & Rescue from an EWP\n","","-Electrical.Statement of Attainment.UETTDREL14 - Working safely near live electrical apparatus as a non electrical worker \n",""]
["Pole Replacement - Plant Operator / Labourer",null,"M","M",null,"M","M","M",null,"M","SE1000, RF0003, SC1100",null,null,null,"N",null,"N",null,null,"N",null,null,null,null,null,null,null,null,null,null,"M","N",null,"SE1004/RF0002",null,null,null,null,null,null,null,null,null,null,null,null,null,null,null,null,null,null,null,null,null,null,null,null,null,null,null,null,null,null,null,null,null,null,null,null,null,null,null,null,null,null,null,null,null,null,null,null,null,null,null,null,null,null,null,null,null,null,null,null,null,null,null,null,"M","M",null,null,null,null,"M",null,null,null,null,null,null,null,null,null,null,null,null,null,null,null,null,null,null,null,null,null,null,null,"-Electrical.Statement of Attainment.UETTDRRF06 - Perform rescue from a live LV panel\n-Electrical.Statement of Attainment.UETTDRRF10 - First Aid in an ESI Environment","-Electrical.Statement of Attainment.UETTDRRF02 - Perform Pole Top Rescue \n-Traffic Controller.Statement of Attainment.RIIWHS205 - Control traffic with a stop/slow bat\n-Traffic Controller.Statement of Attainment.RIIWHS302 - Implement traffic management plan\n-Electrical.Statement of Attainment.UETTDREL14 - Working safely near live electrical apparatus as a non electrical worker \n",{"$f":"CONCATENATE(\nIF(E79=\"M\",\"-\"&INDEX(E$1:E$104,1)&CHAR(10),\"\"),\nIF(F79=\"M\",\"-\"&INDEX(F$1:F$104,1)&CHAR(10),\"\"),\nIF(G79=\"M\",\"-\"&INDEX(G$1:G$104,1)&CHAR(10),\"\"),\nIF(H79=\"M\",\"-\"&INDEX(H$1:H$104,1)&CHAR(10),\"\"),\nIF(I79=\"M\",\"-\"&INDEX(I$1:I$104,1)&CHAR(10),\"\"),\nIF(J79=\"M\",\"-\"&INDEX(J$1:J$104,1)&CHAR(10),\"\"),\nIF(K79=\"M\",\"-\"&INDEX(K$1:K$104,1)&CHAR(10),\"\"),\nIF(L79=\"M\",\"-\"&INDEX(L$1:L$104,1)&CHAR(10),\"\"),\nIF(M79=\"M\",\"-\"&INDEX(M$1:M146,1)&CHAR(10),\"\"),\nIF(N79=\"M\",\"-\"&INDEX(N$1:N$104,1)&CHAR(10),\"\"),\nIF(O79=\"M\",\"-\"&INDEX(O$1:O$104,1)&CHAR(10),\"\"),\nIF(P79=\"M\",\"-\"&INDEX(P$1:P$104,1)&CHAR(10),\"\"),\nIF(Q79=\"M\",\"-\"&INDEX(Q$1:Q$104,1)&CHAR(10),\"\"),\nIF(R79=\"M\",\"-\"&INDEX(R$1:R$104,1)&CHAR(10),\"\"),\nIF(S79=\"M\",\"-\"&INDEX(S$1:S$104,1)&CHAR(10),\"\"),\nIF(T79=\"M\",\"-\"&INDEX(T$1:T$104,1)&CHAR(10),\"\"),\nIF(U79=\"M\",\"-\"&INDEX(U$1:U$104,1)&CHAR(10),\"\"),\nIF(V79=\"M\",\"-\"&INDEX(V$1:V$104,1)&CHAR(10),\"\"),\nIF(W79=\"M\",\"-\"&INDEX(W$1:W$104,1)&CHAR(10),\"\"),\nIF(X79=\"M\",\"-\"&INDEX(X$1:X$104,1)&CHAR(10),\"\"),\nIF(Y79=\"M\",\"-\"&INDEX(Y$1:Y$104,1)&CHAR(10),\"\"),\nIF(Z79=\"M\",\"-\"&INDEX(Z$1:Z$104,1)&CHAR(10),\"\"),\nIF(AA79=\"M\",\"-\"&INDEX(AA$1:AA$104,1)&CHAR(10),\"\"),\nIF(AB79=\"M\",\"-\"&INDEX(AB$1:AB$104,1)&CHAR(10),\"\"),\nIF(AC79=\"M\",\"-\"&INDEX(AC$1:AC$104,1)&CHAR(10),\"\"),\nIF(AD79=\"M\",\"-\"&INDEX(AD$1:AD$104,1)&CHAR(10),\"\"))","v":"-Electrical.Statement of Attainment.UETTDRRF01 - Apply ESI safety rules, codes of practice and procedures for work\n-Network Operator.Certificate.I0102 - Ausgrid - Environmental Awareness\n-Electrical.Statement of Attainment.UETTDRRF09 - Apply access procedures to work on or near electrical network infrastructure\n-Network Operator.Certificate.SC1100A - Working Near or Around Underground Cables\n"},"-Electrical.Statement of Attainment.UETTDRRF02 - Perform Pole Top Rescue \n","","-Traffic Controller.Statement of Attainment.RIIWHS205 - Control traffic with a stop/slow bat\n-Traffic Controller.Statement of Attainment.RIIWHS302 - Implement traffic management plan\n-Electrical.Statement of Attainment.UETTDREL14 - Working safely near live electrical apparatus as a non electrical worker \n",""]
["Pole Replacement - Supervisor",null,"M","M",null,"M","M","M",null,"M","SE1000, RF0003, SC1100",null,null,null,"N",null,"N",null,null,null,null,null,null,"N","N",null,null,null,null,null,null,null,null,null,null,null,null,null,null,null,null,null,null,null,null,null,null,null,null,null,null,null,null,null,null,null,null,null,null,null,null,null,null,null,null,null,null,null,null,null,null,null,null,null,null,null,null,null,null,null,null,null,null,null,null,null,null,null,null,null,null,null,null,null,null,null,null,null,null,null,"M",null,null,null,null,"M",null,null,null,null,null,null,null,null,null,null,null,null,null,null,null,null,null,null,null,null,null,null,"-Electrical.Statement of Attainment.UETTDRRF06 - Perform rescue from a live LV panel\n-Electrical.Statement of Attainment.UETTDRRF10 - First Aid in an ESI Environment","-Working at Height.Statement of Attainment.RIIWHS204 - Work safely at height\n-Electrical.Statement of Attainment.UETTDREL16 - Working safely near live electrical apparatus\n",{"$f":"CONCATENATE(\nIF(E80=\"M\",\"-\"&INDEX(E$1:E$104,1)&CHAR(10),\"\"),\nIF(F80=\"M\",\"-\"&INDEX(F$1:F$104,1)&CHAR(10),\"\"),\nIF(G80=\"M\",\"-\"&INDEX(G$1:G$104,1)&CHAR(10),\"\"),\nIF(H80=\"M\",\"-\"&INDEX(H$1:H$104,1)&CHAR(10),\"\"),\nIF(I80=\"M\",\"-\"&INDEX(I$1:I$104,1)&CHAR(10),\"\"),\nIF(J80=\"M\",\"-\"&INDEX(J$1:J$104,1)&CHAR(10),\"\"),\nIF(K80=\"M\",\"-\"&INDEX(K$1:K$104,1)&CHAR(10),\"\"),\nIF(L80=\"M\",\"-\"&INDEX(L$1:L$104,1)&CHAR(10),\"\"),\nIF(M80=\"M\",\"-\"&INDEX(M$1:M147,1)&CHAR(10),\"\"),\nIF(N80=\"M\",\"-\"&INDEX(N$1:N$104,1)&CHAR(10),\"\"),\nIF(O80=\"M\",\"-\"&INDEX(O$1:O$104,1)&CHAR(10),\"\"),\nIF(P80=\"M\",\"-\"&INDEX(P$1:P$104,1)&CHAR(10),\"\"),\nIF(Q80=\"M\",\"-\"&INDEX(Q$1:Q$104,1)&CHAR(10),\"\"),\nIF(R80=\"M\",\"-\"&INDEX(R$1:R$104,1)&CHAR(10),\"\"),\nIF(S80=\"M\",\"-\"&INDEX(S$1:S$104,1)&CHAR(10),\"\"),\nIF(T80=\"M\",\"-\"&INDEX(T$1:T$104,1)&CHAR(10),\"\"),\nIF(U80=\"M\",\"-\"&INDEX(U$1:U$104,1)&CHAR(10),\"\"),\nIF(V80=\"M\",\"-\"&INDEX(V$1:V$104,1)&CHAR(10),\"\"),\nIF(W80=\"M\",\"-\"&INDEX(W$1:W$104,1)&CHAR(10),\"\"),\nIF(X80=\"M\",\"-\"&INDEX(X$1:X$104,1)&CHAR(10),\"\"),\nIF(Y80=\"M\",\"-\"&INDEX(Y$1:Y$104,1)&CHAR(10),\"\"),\nIF(Z80=\"M\",\"-\"&INDEX(Z$1:Z$104,1)&CHAR(10),\"\"),\nIF(AA80=\"M\",\"-\"&INDEX(AA$1:AA$104,1)&CHAR(10),\"\"),\nIF(AB80=\"M\",\"-\"&INDEX(AB$1:AB$104,1)&CHAR(10),\"\"),\nIF(AC80=\"M\",\"-\"&INDEX(AC$1:AC$104,1)&CHAR(10),\"\"),\nIF(AD80=\"M\",\"-\"&INDEX(AD$1:AD$104,1)&CHAR(10),\"\"))","v":"-Electrical.Statement of Attainment.UETTDRRF01 - Apply ESI safety rules, codes of practice and procedures for work\n-Network Operator.Certificate.I0102 - Ausgrid - Environmental Awareness\n-Electrical.Statement of Attainment.UETTDRRF09 - Apply access procedures to work on or near electrical network infrastructure\n-Network Operator.Certificate.SC1100A - Working Near or Around Underground Cables\n"},"","","-Working at Height.Statement of Attainment.RIIWHS204 - Work safely at height\n-Electrical.Statement of Attainment.UETTDREL16 - Working safely near live electrical apparatus\n",""]
["Rigger - Advanced",null,null,null,null,null,null,null,null,null,null,null,null,null,null,null,null,null,null,null,null,null,null,null,null,null,null,null,null,null,null,null,null,null,null,null,null,null,null,null,null,null,null,null,null,null,null,null,null,null,null,null,null,null,null,"M",null,null,null,null,null,null,null,null,null,null,null,null,null,null,null,null,null,null,null,null,null,null,null,null,null,null,null,null,null,null,null,null,null,null,null,null,null,null,null,null,null,null,null,null,"M",null,null,null,null,"M",null,null,null,null,null,null,null,null,null,null,null,null,null,null,null,null,null,null,null,null,null,null,"","-High Risk Work.Licence.Advanced Rigging (RA)\n-Working at Height.Statement of Attainment.RIIWHS204 - Work safely at height\n-Electrical.Statement of Attainment.UETTDREL16 - Working safely near live electrical apparatus\n",{"$f":"CONCATENATE(\nIF(E81=\"M\",\"-\"&INDEX(E$1:E$104,1)&CHAR(10),\"\"),\nIF(F81=\"M\",\"-\"&INDEX(F$1:F$104,1)&CHAR(10),\"\"),\nIF(G81=\"M\",\"-\"&INDEX(G$1:G$104,1)&CHAR(10),\"\"),\nIF(H81=\"M\",\"-\"&INDEX(H$1:H$104,1)&CHAR(10),\"\"),\nIF(I81=\"M\",\"-\"&INDEX(I$1:I$104,1)&CHAR(10),\"\"),\nIF(J81=\"M\",\"-\"&INDEX(J$1:J$104,1)&CHAR(10),\"\"),\nIF(K81=\"M\",\"-\"&INDEX(K$1:K$104,1)&CHAR(10),\"\"),\nIF(L81=\"M\",\"-\"&INDEX(L$1:L$104,1)&CHAR(10),\"\"),\nIF(M81=\"M\",\"-\"&INDEX(M$1:M148,1)&CHAR(10),\"\"),\nIF(N81=\"M\",\"-\"&INDEX(N$1:N$104,1)&CHAR(10),\"\"),\nIF(O81=\"M\",\"-\"&INDEX(O$1:O$104,1)&CHAR(10),\"\"),\nIF(P81=\"M\",\"-\"&INDEX(P$1:P$104,1)&CHAR(10),\"\"),\nIF(Q81=\"M\",\"-\"&INDEX(Q$1:Q$104,1)&CHAR(10),\"\"),\nIF(R81=\"M\",\"-\"&INDEX(R$1:R$104,1)&CHAR(10),\"\"),\nIF(S81=\"M\",\"-\"&INDEX(S$1:S$104,1)&CHAR(10),\"\"),\nIF(T81=\"M\",\"-\"&INDEX(T$1:T$104,1)&CHAR(10),\"\"),\nIF(U81=\"M\",\"-\"&INDEX(U$1:U$104,1)&CHAR(10),\"\"),\nIF(V81=\"M\",\"-\"&INDEX(V$1:V$104,1)&CHAR(10),\"\"),\nIF(W81=\"M\",\"-\"&INDEX(W$1:W$104,1)&CHAR(10),\"\"),\nIF(X81=\"M\",\"-\"&INDEX(X$1:X$104,1)&CHAR(10),\"\"),\nIF(Y81=\"M\",\"-\"&INDEX(Y$1:Y$104,1)&CHAR(10),\"\"),\nIF(Z81=\"M\",\"-\"&INDEX(Z$1:Z$104,1)&CHAR(10),\"\"),\nIF(AA81=\"M\",\"-\"&INDEX(AA$1:AA$104,1)&CHAR(10),\"\"),\nIF(AB81=\"M\",\"-\"&INDEX(AB$1:AB$104,1)&CHAR(10),\"\"),\nIF(AC81=\"M\",\"-\"&INDEX(AC$1:AC$104,1)&CHAR(10),\"\"),\nIF(AD81=\"M\",\"-\"&INDEX(AD$1:AD$104,1)&CHAR(10),\"\"))","v":""},"","-High Risk Work.Licence.Advanced Rigging (RA)\n","-Working at Height.Statement of Attainment.RIIWHS204 - Work safely at height\n-Electrical.Statement of Attainment.UETTDREL16 - Working safely near live electrical apparatus\n",""]
["Rigger - Basic",null,null,null,null,null,null,null,null,null,null,null,null,null,null,null,null,null,null,null,null,null,null,null,null,null,null,null,null,null,null,null,null,null,null,null,null,null,null,null,null,null,null,null,null,null,null,null,null,null,null,null,null,null,null,null,null,"M",null,null,null,null,null,null,null,null,null,null,null,null,null,null,null,null,null,null,null,null,null,null,null,null,null,null,null,null,null,null,null,null,null,null,null,null,null,null,null,null,null,null,"M",null,null,null,null,"M",null,null,null,null,null,null,null,null,null,null,null,null,null,null,null,null,null,null,null,null,null,null,"","-High Risk Work.Licence.Basic Rigging (RB)\n-Working at Height.Statement of Attainment.RIIWHS204 - Work safely at height\n-Electrical.Statement of Attainment.UETTDREL16 - Working safely near live electrical apparatus\n",{"$f":"CONCATENATE(\nIF(E82=\"M\",\"-\"&INDEX(E$1:E$104,1)&CHAR(10),\"\"),\nIF(F82=\"M\",\"-\"&INDEX(F$1:F$104,1)&CHAR(10),\"\"),\nIF(G82=\"M\",\"-\"&INDEX(G$1:G$104,1)&CHAR(10),\"\"),\nIF(H82=\"M\",\"-\"&INDEX(H$1:H$104,1)&CHAR(10),\"\"),\nIF(I82=\"M\",\"-\"&INDEX(I$1:I$104,1)&CHAR(10),\"\"),\nIF(J82=\"M\",\"-\"&INDEX(J$1:J$104,1)&CHAR(10),\"\"),\nIF(K82=\"M\",\"-\"&INDEX(K$1:K$104,1)&CHAR(10),\"\"),\nIF(L82=\"M\",\"-\"&INDEX(L$1:L$104,1)&CHAR(10),\"\"),\nIF(M82=\"M\",\"-\"&INDEX(M$1:M149,1)&CHAR(10),\"\"),\nIF(N82=\"M\",\"-\"&INDEX(N$1:N$104,1)&CHAR(10),\"\"),\nIF(O82=\"M\",\"-\"&INDEX(O$1:O$104,1)&CHAR(10),\"\"),\nIF(P82=\"M\",\"-\"&INDEX(P$1:P$104,1)&CHAR(10),\"\"),\nIF(Q82=\"M\",\"-\"&INDEX(Q$1:Q$104,1)&CHAR(10),\"\"),\nIF(R82=\"M\",\"-\"&INDEX(R$1:R$104,1)&CHAR(10),\"\"),\nIF(S82=\"M\",\"-\"&INDEX(S$1:S$104,1)&CHAR(10),\"\"),\nIF(T82=\"M\",\"-\"&INDEX(T$1:T$104,1)&CHAR(10),\"\"),\nIF(U82=\"M\",\"-\"&INDEX(U$1:U$104,1)&CHAR(10),\"\"),\nIF(V82=\"M\",\"-\"&INDEX(V$1:V$104,1)&CHAR(10),\"\"),\nIF(W82=\"M\",\"-\"&INDEX(W$1:W$104,1)&CHAR(10),\"\"),\nIF(X82=\"M\",\"-\"&INDEX(X$1:X$104,1)&CHAR(10),\"\"),\nIF(Y82=\"M\",\"-\"&INDEX(Y$1:Y$104,1)&CHAR(10),\"\"),\nIF(Z82=\"M\",\"-\"&INDEX(Z$1:Z$104,1)&CHAR(10),\"\"),\nIF(AA82=\"M\",\"-\"&INDEX(AA$1:AA$104,1)&CHAR(10),\"\"),\nIF(AB82=\"M\",\"-\"&INDEX(AB$1:AB$104,1)&CHAR(10),\"\"),\nIF(AC82=\"M\",\"-\"&INDEX(AC$1:AC$104,1)&CHAR(10),\"\"),\nIF(AD82=\"M\",\"-\"&INDEX(AD$1:AD$104,1)&CHAR(10),\"\"))","v":""},"","-High Risk Work.Licence.Basic Rigging (RB)\n","-Working at Height.Statement of Attainment.RIIWHS204 - Work safely at height\n-Electrical.Statement of Attainment.UETTDREL16 - Working safely near live electrical apparatus\n",""]
["Rigger - Intermediate",null,null,null,null,null,null,null,null,null,null,null,null,null,null,null,null,null,null,null,null,null,null,null,null,null,null,null,null,null,null,null,null,null,null,null,null,null,null,null,null,null,null,null,null,null,null,null,null,null,null,null,null,null,null,null,null,null,null,null,null,null,null,null,null,"M",null,null,null,null,null,null,null,null,null,null,null,null,null,null,null,null,null,null,null,null,null,null,null,null,null,null,null,null,null,null,null,null,null,null,"M",null,"M",null,null,"M",null,null,null,null,null,null,null,null,null,null,null,null,null,null,null,null,null,null,null,null,null,null,"","-High Risk Work.Licence.Intermediate Rigging (RI)\n-Working at Height.Statement of Attainment.RIIWHS204 - Work safely at height\n-Electrical.Certificate III.UET30612 - Certificate III in ESI - Power Systems - Distribution Overhead (Linesman) \n-Electrical.Statement of Attainment.UETTDREL16 - Working safely near live electrical apparatus\n",{"$f":"CONCATENATE(\nIF(E83=\"M\",\"-\"&INDEX(E$1:E$104,1)&CHAR(10),\"\"),\nIF(F83=\"M\",\"-\"&INDEX(F$1:F$104,1)&CHAR(10),\"\"),\nIF(G83=\"M\",\"-\"&INDEX(G$1:G$104,1)&CHAR(10),\"\"),\nIF(H83=\"M\",\"-\"&INDEX(H$1:H$104,1)&CHAR(10),\"\"),\nIF(I83=\"M\",\"-\"&INDEX(I$1:I$104,1)&CHAR(10),\"\"),\nIF(J83=\"M\",\"-\"&INDEX(J$1:J$104,1)&CHAR(10),\"\"),\nIF(K83=\"M\",\"-\"&INDEX(K$1:K$104,1)&CHAR(10),\"\"),\nIF(L83=\"M\",\"-\"&INDEX(L$1:L$104,1)&CHAR(10),\"\"),\nIF(M83=\"M\",\"-\"&INDEX(M$1:M150,1)&CHAR(10),\"\"),\nIF(N83=\"M\",\"-\"&INDEX(N$1:N$104,1)&CHAR(10),\"\"),\nIF(O83=\"M\",\"-\"&INDEX(O$1:O$104,1)&CHAR(10),\"\"),\nIF(P83=\"M\",\"-\"&INDEX(P$1:P$104,1)&CHAR(10),\"\"),\nIF(Q83=\"M\",\"-\"&INDEX(Q$1:Q$104,1)&CHAR(10),\"\"),\nIF(R83=\"M\",\"-\"&INDEX(R$1:R$104,1)&CHAR(10),\"\"),\nIF(S83=\"M\",\"-\"&INDEX(S$1:S$104,1)&CHAR(10),\"\"),\nIF(T83=\"M\",\"-\"&INDEX(T$1:T$104,1)&CHAR(10),\"\"),\nIF(U83=\"M\",\"-\"&INDEX(U$1:U$104,1)&CHAR(10),\"\"),\nIF(V83=\"M\",\"-\"&INDEX(V$1:V$104,1)&CHAR(10),\"\"),\nIF(W83=\"M\",\"-\"&INDEX(W$1:W$104,1)&CHAR(10),\"\"),\nIF(X83=\"M\",\"-\"&INDEX(X$1:X$104,1)&CHAR(10),\"\"),\nIF(Y83=\"M\",\"-\"&INDEX(Y$1:Y$104,1)&CHAR(10),\"\"),\nIF(Z83=\"M\",\"-\"&INDEX(Z$1:Z$104,1)&CHAR(10),\"\"),\nIF(AA83=\"M\",\"-\"&INDEX(AA$1:AA$104,1)&CHAR(10),\"\"),\nIF(AB83=\"M\",\"-\"&INDEX(AB$1:AB$104,1)&CHAR(10),\"\"),\nIF(AC83=\"M\",\"-\"&INDEX(AC$1:AC$104,1)&CHAR(10),\"\"),\nIF(AD83=\"M\",\"-\"&INDEX(AD$1:AD$104,1)&CHAR(10),\"\"))","v":""},"","-High Risk Work.Licence.Intermediate Rigging (RI)\n","-Working at Height.Statement of Attainment.RIIWHS204 - Work safely at height\n-Electrical.Certificate III.UET30612 - Certificate III in ESI - Power Systems - Distribution Overhead (Linesman) \n-Electrical.Statement of Attainment.UETTDREL16 - Working safely near live electrical apparatus\n",""]
["Scaffolder - Advanced",null,null,null,null,null,null,null,null,null,null,null,null,null,null,null,null,null,null,null,null,null,null,null,null,null,null,null,null,null,null,null,null,null,null,null,null,null,null,null,null,null,null,null,null,null,null,null,null,null,null,null,null,null,null,null,"M",null,null,null,null,null,null,null,null,null,null,null,null,null,null,null,null,null,null,null,null,null,null,null,null,null,null,null,null,null,null,null,null,null,null,null,null,null,null,null,null,null,null,null,null,null,null,null,"M",null,null,null,null,null,null,null,null,null,null,null,null,null,null,null,null,null,null,null,null,null,null,null,"","-High Risk Work.Licence.Advanced Scaffolding (SA)\n-Electrical.Statement of Attainment.UETTDREL14 - Working safely near live electrical apparatus as a non electrical worker \n",{"$f":"CONCATENATE(\nIF(E84=\"M\",\"-\"&INDEX(E$1:E$104,1)&CHAR(10),\"\"),\nIF(F84=\"M\",\"-\"&INDEX(F$1:F$104,1)&CHAR(10),\"\"),\nIF(G84=\"M\",\"-\"&INDEX(G$1:G$104,1)&CHAR(10),\"\"),\nIF(H84=\"M\",\"-\"&INDEX(H$1:H$104,1)&CHAR(10),\"\"),\nIF(I84=\"M\",\"-\"&INDEX(I$1:I$104,1)&CHAR(10),\"\"),\nIF(J84=\"M\",\"-\"&INDEX(J$1:J$104,1)&CHAR(10),\"\"),\nIF(K84=\"M\",\"-\"&INDEX(K$1:K$104,1)&CHAR(10),\"\"),\nIF(L84=\"M\",\"-\"&INDEX(L$1:L$104,1)&CHAR(10),\"\"),\nIF(M84=\"M\",\"-\"&INDEX(M$1:M151,1)&CHAR(10),\"\"),\nIF(N84=\"M\",\"-\"&INDEX(N$1:N$104,1)&CHAR(10),\"\"),\nIF(O84=\"M\",\"-\"&INDEX(O$1:O$104,1)&CHAR(10),\"\"),\nIF(P84=\"M\",\"-\"&INDEX(P$1:P$104,1)&CHAR(10),\"\"),\nIF(Q84=\"M\",\"-\"&INDEX(Q$1:Q$104,1)&CHAR(10),\"\"),\nIF(R84=\"M\",\"-\"&INDEX(R$1:R$104,1)&CHAR(10),\"\"),\nIF(S84=\"M\",\"-\"&INDEX(S$1:S$104,1)&CHAR(10),\"\"),\nIF(T84=\"M\",\"-\"&INDEX(T$1:T$104,1)&CHAR(10),\"\"),\nIF(U84=\"M\",\"-\"&INDEX(U$1:U$104,1)&CHAR(10),\"\"),\nIF(V84=\"M\",\"-\"&INDEX(V$1:V$104,1)&CHAR(10),\"\"),\nIF(W84=\"M\",\"-\"&INDEX(W$1:W$104,1)&CHAR(10),\"\"),\nIF(X84=\"M\",\"-\"&INDEX(X$1:X$104,1)&CHAR(10),\"\"),\nIF(Y84=\"M\",\"-\"&INDEX(Y$1:Y$104,1)&CHAR(10),\"\"),\nIF(Z84=\"M\",\"-\"&INDEX(Z$1:Z$104,1)&CHAR(10),\"\"),\nIF(AA84=\"M\",\"-\"&INDEX(AA$1:AA$104,1)&CHAR(10),\"\"),\nIF(AB84=\"M\",\"-\"&INDEX(AB$1:AB$104,1)&CHAR(10),\"\"),\nIF(AC84=\"M\",\"-\"&INDEX(AC$1:AC$104,1)&CHAR(10),\"\"),\nIF(AD84=\"M\",\"-\"&INDEX(AD$1:AD$104,1)&CHAR(10),\"\"))","v":""},"","-High Risk Work.Licence.Advanced Scaffolding (SA)\n","-Electrical.Statement of Attainment.UETTDREL14 - Working safely near live electrical apparatus as a non electrical worker \n",""]
["Scaffolder - Basic",null,null,null,null,null,null,null,null,null,null,null,null,null,null,null,null,null,null,null,null,null,null,null,null,null,null,null,null,null,null,null,null,null,null,null,null,null,null,null,null,null,null,null,null,null,null,null,null,null,null,null,null,null,null,null,null,null,"M",null,null,null,null,null,null,null,null,null,null,null,null,null,null,null,null,null,null,null,null,null,null,null,null,null,null,null,null,null,null,null,null,null,null,null,null,null,null,null,null,null,null,null,null,null,null,null,null,null,null,null,null,null,null,null,null,null,null,null,null,null,null,null,null,null,null,null,null,null,"","-High Risk Work.Licence.Basic Scaffolding (SB)\n",{"$f":"CONCATENATE(\nIF(E85=\"M\",\"-\"&INDEX(E$1:E$104,1)&CHAR(10),\"\"),\nIF(F85=\"M\",\"-\"&INDEX(F$1:F$104,1)&CHAR(10),\"\"),\nIF(G85=\"M\",\"-\"&INDEX(G$1:G$104,1)&CHAR(10),\"\"),\nIF(H85=\"M\",\"-\"&INDEX(H$1:H$104,1)&CHAR(10),\"\"),\nIF(I85=\"M\",\"-\"&INDEX(I$1:I$104,1)&CHAR(10),\"\"),\nIF(J85=\"M\",\"-\"&INDEX(J$1:J$104,1)&CHAR(10),\"\"),\nIF(K85=\"M\",\"-\"&INDEX(K$1:K$104,1)&CHAR(10),\"\"),\nIF(L85=\"M\",\"-\"&INDEX(L$1:L$104,1)&CHAR(10),\"\"),\nIF(M85=\"M\",\"-\"&INDEX(M$1:M152,1)&CHAR(10),\"\"),\nIF(N85=\"M\",\"-\"&INDEX(N$1:N$104,1)&CHAR(10),\"\"),\nIF(O85=\"M\",\"-\"&INDEX(O$1:O$104,1)&CHAR(10),\"\"),\nIF(P85=\"M\",\"-\"&INDEX(P$1:P$104,1)&CHAR(10),\"\"),\nIF(Q85=\"M\",\"-\"&INDEX(Q$1:Q$104,1)&CHAR(10),\"\"),\nIF(R85=\"M\",\"-\"&INDEX(R$1:R$104,1)&CHAR(10),\"\"),\nIF(S85=\"M\",\"-\"&INDEX(S$1:S$104,1)&CHAR(10),\"\"),\nIF(T85=\"M\",\"-\"&INDEX(T$1:T$104,1)&CHAR(10),\"\"),\nIF(U85=\"M\",\"-\"&INDEX(U$1:U$104,1)&CHAR(10),\"\"),\nIF(V85=\"M\",\"-\"&INDEX(V$1:V$104,1)&CHAR(10),\"\"),\nIF(W85=\"M\",\"-\"&INDEX(W$1:W$104,1)&CHAR(10),\"\"),\nIF(X85=\"M\",\"-\"&INDEX(X$1:X$104,1)&CHAR(10),\"\"),\nIF(Y85=\"M\",\"-\"&INDEX(Y$1:Y$104,1)&CHAR(10),\"\"),\nIF(Z85=\"M\",\"-\"&INDEX(Z$1:Z$104,1)&CHAR(10),\"\"),\nIF(AA85=\"M\",\"-\"&INDEX(AA$1:AA$104,1)&CHAR(10),\"\"),\nIF(AB85=\"M\",\"-\"&INDEX(AB$1:AB$104,1)&CHAR(10),\"\"),\nIF(AC85=\"M\",\"-\"&INDEX(AC$1:AC$104,1)&CHAR(10),\"\"),\nIF(AD85=\"M\",\"-\"&INDEX(AD$1:AD$104,1)&CHAR(10),\"\"))","v":""},"","-High Risk Work.Licence.Basic Scaffolding (SB)\n","",""]
["Scaffolder - Intermediate",null,null,null,null,null,null,null,null,null,null,null,null,null,null,null,null,null,null,null,null,null,null,null,null,null,null,null,null,null,null,null,null,null,null,null,null,null,null,null,null,null,null,null,null,null,null,null,null,null,null,null,null,null,null,null,null,null,null,null,null,null,null,null,null,null,"M",null,null,null,null,null,null,null,null,null,null,null,null,null,null,null,null,null,null,null,null,null,null,null,null,null,null,null,null,null,null,null,null,null,null,null,null,null,null,null,null,null,null,null,null,null,null,null,null,null,null,null,null,null,null,null,null,null,null,null,null,null,"","-High Risk Work.Licence.Intermediate Scaffolding (SI)\n",{"$f":"CONCATENATE(\nIF(E86=\"M\",\"-\"&INDEX(E$1:E$104,1)&CHAR(10),\"\"),\nIF(F86=\"M\",\"-\"&INDEX(F$1:F$104,1)&CHAR(10),\"\"),\nIF(G86=\"M\",\"-\"&INDEX(G$1:G$104,1)&CHAR(10),\"\"),\nIF(H86=\"M\",\"-\"&INDEX(H$1:H$104,1)&CHAR(10),\"\"),\nIF(I86=\"M\",\"-\"&INDEX(I$1:I$104,1)&CHAR(10),\"\"),\nIF(J86=\"M\",\"-\"&INDEX(J$1:J$104,1)&CHAR(10),\"\"),\nIF(K86=\"M\",\"-\"&INDEX(K$1:K$104,1)&CHAR(10),\"\"),\nIF(L86=\"M\",\"-\"&INDEX(L$1:L$104,1)&CHAR(10),\"\"),\nIF(M86=\"M\",\"-\"&INDEX(M$1:M153,1)&CHAR(10),\"\"),\nIF(N86=\"M\",\"-\"&INDEX(N$1:N$104,1)&CHAR(10),\"\"),\nIF(O86=\"M\",\"-\"&INDEX(O$1:O$104,1)&CHAR(10),\"\"),\nIF(P86=\"M\",\"-\"&INDEX(P$1:P$104,1)&CHAR(10),\"\"),\nIF(Q86=\"M\",\"-\"&INDEX(Q$1:Q$104,1)&CHAR(10),\"\"),\nIF(R86=\"M\",\"-\"&INDEX(R$1:R$104,1)&CHAR(10),\"\"),\nIF(S86=\"M\",\"-\"&INDEX(S$1:S$104,1)&CHAR(10),\"\"),\nIF(T86=\"M\",\"-\"&INDEX(T$1:T$104,1)&CHAR(10),\"\"),\nIF(U86=\"M\",\"-\"&INDEX(U$1:U$104,1)&CHAR(10),\"\"),\nIF(V86=\"M\",\"-\"&INDEX(V$1:V$104,1)&CHAR(10),\"\"),\nIF(W86=\"M\",\"-\"&INDEX(W$1:W$104,1)&CHAR(10),\"\"),\nIF(X86=\"M\",\"-\"&INDEX(X$1:X$104,1)&CHAR(10),\"\"),\nIF(Y86=\"M\",\"-\"&INDEX(Y$1:Y$104,1)&CHAR(10),\"\"),\nIF(Z86=\"M\",\"-\"&INDEX(Z$1:Z$104,1)&CHAR(10),\"\"),\nIF(AA86=\"M\",\"-\"&INDEX(AA$1:AA$104,1)&CHAR(10),\"\"),\nIF(AB86=\"M\",\"-\"&INDEX(AB$1:AB$104,1)&CHAR(10),\"\"),\nIF(AC86=\"M\",\"-\"&INDEX(AC$1:AC$104,1)&CHAR(10),\"\"),\nIF(AD86=\"M\",\"-\"&INDEX(AD$1:AD$104,1)&CHAR(10),\"\"))","v":""},"","-High Risk Work.Licence.Intermediate Scaffolding (SI)\n","",""]
["Streetlight - Auditor","M",null,"M",null,"M","M","M",null,null,"SE1000, RF0003",null,null,null,null,null,null,null,null,null,null,null,"M",null,null,null,null,null,null,null,null,null,null,null,null,null,null,null,null,null,null,null,null,null,null,null,null,null,null,null,null,null,null,null,null,null,null,null,null,null,null,null,null,null,null,null,null,null,null,null,null,null,null,null,null,null,null,null,null,null,null,null,null,null,null,null,null,null,null,null,null,null,null,null,null,null,null,null,null,null,null,null,null,null,null,null,null,null,null,null,null,null,null,null,null,null,null,null,null,null,null,null,null,null,null,null,null,null,"-First Aid.Statement of Attainment.HLTAID001 - Perform CPR\n-Electrical.Statement of Attainment.UETTDRRF10 - First Aid in an ESI Environment","",{"$f":"CONCATENATE(\nIF(E87=\"M\",\"-\"&INDEX(E$1:E$104,1)&CHAR(10),\"\"),\nIF(F87=\"M\",\"-\"&INDEX(F$1:F$104,1)&CHAR(10),\"\"),\nIF(G87=\"M\",\"-\"&INDEX(G$1:G$104,1)&CHAR(10),\"\"),\nIF(H87=\"M\",\"-\"&INDEX(H$1:H$104,1)&CHAR(10),\"\"),\nIF(I87=\"M\",\"-\"&INDEX(I$1:I$104,1)&CHAR(10),\"\"),\nIF(J87=\"M\",\"-\"&INDEX(J$1:J$104,1)&CHAR(10),\"\"),\nIF(K87=\"M\",\"-\"&INDEX(K$1:K$104,1)&CHAR(10),\"\"),\nIF(L87=\"M\",\"-\"&INDEX(L$1:L$104,1)&CHAR(10),\"\"),\nIF(M87=\"M\",\"-\"&INDEX(M$1:M154,1)&CHAR(10),\"\"),\nIF(N87=\"M\",\"-\"&INDEX(N$1:N$104,1)&CHAR(10),\"\"),\nIF(O87=\"M\",\"-\"&INDEX(O$1:O$104,1)&CHAR(10),\"\"),\nIF(P87=\"M\",\"-\"&INDEX(P$1:P$104,1)&CHAR(10),\"\"),\nIF(Q87=\"M\",\"-\"&INDEX(Q$1:Q$104,1)&CHAR(10),\"\"),\nIF(R87=\"M\",\"-\"&INDEX(R$1:R$104,1)&CHAR(10),\"\"),\nIF(S87=\"M\",\"-\"&INDEX(S$1:S$104,1)&CHAR(10),\"\"),\nIF(T87=\"M\",\"-\"&INDEX(T$1:T$104,1)&CHAR(10),\"\"),\nIF(U87=\"M\",\"-\"&INDEX(U$1:U$104,1)&CHAR(10),\"\"),\nIF(V87=\"M\",\"-\"&INDEX(V$1:V$104,1)&CHAR(10),\"\"),\nIF(W87=\"M\",\"-\"&INDEX(W$1:W$104,1)&CHAR(10),\"\"),\nIF(X87=\"M\",\"-\"&INDEX(X$1:X$104,1)&CHAR(10),\"\"),\nIF(Y87=\"M\",\"-\"&INDEX(Y$1:Y$104,1)&CHAR(10),\"\"),\nIF(Z87=\"M\",\"-\"&INDEX(Z$1:Z$104,1)&CHAR(10),\"\"),\nIF(AA87=\"M\",\"-\"&INDEX(AA$1:AA$104,1)&CHAR(10),\"\"),\nIF(AB87=\"M\",\"-\"&INDEX(AB$1:AB$104,1)&CHAR(10),\"\"),\nIF(AC87=\"M\",\"-\"&INDEX(AC$1:AC$104,1)&CHAR(10),\"\"),\nIF(AD87=\"M\",\"-\"&INDEX(AD$1:AD$104,1)&CHAR(10),\"\"))","v":"-Electrical.Statement of Attainment.UETTDRRF01 - Apply ESI safety rules, codes of practice and procedures for work\n-Network Operator.Certificate.I0102 - Ausgrid - Environmental Awareness\n-Electrical.Statement of Attainment.UETTDRRF09 - Apply access procedures to work on or near electrical network infrastructure\n-Network Operator.Certificate.TTDO1399 - Luminaire Servicing Worker\n"},"","","",""]
["Streetlight - EWP Observer","M","M","M",null,"M","M","M",null,null,"SE1000, RF0003",null,null,null,null,null,null,null,null,null,null,null,null,null,null,null,null,null,null,null,null,"M","M",null,null,null,null,"N",null,null,null,null,null,null,null,null,null,null,null,null,null,null,null,null,null,null,null,null,null,null,null,null,null,null,null,null,null,null,null,null,null,null,null,null,null,null,null,null,null,null,null,null,null,null,null,null,null,null,null,null,null,null,null,null,null,null,null,null,null,null,null,null,null,null,null,null,null,null,null,null,null,null,null,null,null,null,null,null,null,null,null,null,null,null,null,null,null,null,"-First Aid.Statement of Attainment.HLTAID001 - Perform CPR\n-Electrical.Statement of Attainment.UETTDRRF06 - Perform rescue from a live LV panel\n-Electrical.Statement of Attainment.UETTDRRF10 - First Aid in an ESI Environment","-Electrical.Statement of Attainment.UETTDRRF03 - LV Release & Rescue from an EWP\n-Electrical.Statement of Attainment.UETTDRRF08 - CCD Release & Rescue from an EWP\n",{"$f":"CONCATENATE(\nIF(E88=\"M\",\"-\"&INDEX(E$1:E$104,1)&CHAR(10),\"\"),\nIF(F88=\"M\",\"-\"&INDEX(F$1:F$104,1)&CHAR(10),\"\"),\nIF(G88=\"M\",\"-\"&INDEX(G$1:G$104,1)&CHAR(10),\"\"),\nIF(H88=\"M\",\"-\"&INDEX(H$1:H$104,1)&CHAR(10),\"\"),\nIF(I88=\"M\",\"-\"&INDEX(I$1:I$104,1)&CHAR(10),\"\"),\nIF(J88=\"M\",\"-\"&INDEX(J$1:J$104,1)&CHAR(10),\"\"),\nIF(K88=\"M\",\"-\"&INDEX(K$1:K$104,1)&CHAR(10),\"\"),\nIF(L88=\"M\",\"-\"&INDEX(L$1:L$104,1)&CHAR(10),\"\"),\nIF(M88=\"M\",\"-\"&INDEX(M$1:M155,1)&CHAR(10),\"\"),\nIF(N88=\"M\",\"-\"&INDEX(N$1:N$104,1)&CHAR(10),\"\"),\nIF(O88=\"M\",\"-\"&INDEX(O$1:O$104,1)&CHAR(10),\"\"),\nIF(P88=\"M\",\"-\"&INDEX(P$1:P$104,1)&CHAR(10),\"\"),\nIF(Q88=\"M\",\"-\"&INDEX(Q$1:Q$104,1)&CHAR(10),\"\"),\nIF(R88=\"M\",\"-\"&INDEX(R$1:R$104,1)&CHAR(10),\"\"),\nIF(S88=\"M\",\"-\"&INDEX(S$1:S$104,1)&CHAR(10),\"\"),\nIF(T88=\"M\",\"-\"&INDEX(T$1:T$104,1)&CHAR(10),\"\"),\nIF(U88=\"M\",\"-\"&INDEX(U$1:U$104,1)&CHAR(10),\"\"),\nIF(V88=\"M\",\"-\"&INDEX(V$1:V$104,1)&CHAR(10),\"\"),\nIF(W88=\"M\",\"-\"&INDEX(W$1:W$104,1)&CHAR(10),\"\"),\nIF(X88=\"M\",\"-\"&INDEX(X$1:X$104,1)&CHAR(10),\"\"),\nIF(Y88=\"M\",\"-\"&INDEX(Y$1:Y$104,1)&CHAR(10),\"\"),\nIF(Z88=\"M\",\"-\"&INDEX(Z$1:Z$104,1)&CHAR(10),\"\"),\nIF(AA88=\"M\",\"-\"&INDEX(AA$1:AA$104,1)&CHAR(10),\"\"),\nIF(AB88=\"M\",\"-\"&INDEX(AB$1:AB$104,1)&CHAR(10),\"\"),\nIF(AC88=\"M\",\"-\"&INDEX(AC$1:AC$104,1)&CHAR(10),\"\"),\nIF(AD88=\"M\",\"-\"&INDEX(AD$1:AD$104,1)&CHAR(10),\"\"))","v":"-Electrical.Statement of Attainment.UETTDRRF01 - Apply ESI safety rules, codes of practice and procedures for work\n-Network Operator.Certificate.I0102 - Ausgrid - Environmental Awareness\n-Electrical.Statement of Attainment.UETTDRRF09 - Apply access procedures to work on or near electrical network infrastructure\n"},"-Electrical.Statement of Attainment.UETTDRRF03 - LV Release & Rescue from an EWP\n-Electrical.Statement of Attainment.UETTDRRF08 - CCD Release & Rescue from an EWP\n","","",""]
["Streetlight - Servicing Worker","M","M","M",null,"M","M","M",null,null,"SE1000, RF0003",null,null,null,null,null,null,null,null,null,null,null,"M",null,null,null,null,null,null,null,null,"M","M",null,null,null,null,"N",null,null,null,null,null,null,null,null,null,null,null,null,null,null,null,null,null,null,null,null,null,null,null,null,null,null,null,null,null,null,null,null,null,null,null,null,null,null,null,null,null,null,null,null,null,null,null,null,null,null,null,null,null,null,null,null,null,null,null,null,null,null,null,null,null,null,null,null,null,null,null,null,null,null,null,null,null,null,null,null,null,null,null,null,null,null,null,null,null,null,"-First Aid.Statement of Attainment.HLTAID001 - Perform CPR\n-Electrical.Statement of Attainment.UETTDRRF06 - Perform rescue from a live LV panel\n-Electrical.Statement of Attainment.UETTDRRF10 - First Aid in an ESI Environment","-Electrical.Statement of Attainment.UETTDRRF03 - LV Release & Rescue from an EWP\n-Electrical.Statement of Attainment.UETTDRRF08 - CCD Release & Rescue from an EWP\n",{"$f":"CONCATENATE(\nIF(E89=\"M\",\"-\"&INDEX(E$1:E$104,1)&CHAR(10),\"\"),\nIF(F89=\"M\",\"-\"&INDEX(F$1:F$104,1)&CHAR(10),\"\"),\nIF(G89=\"M\",\"-\"&INDEX(G$1:G$104,1)&CHAR(10),\"\"),\nIF(H89=\"M\",\"-\"&INDEX(H$1:H$104,1)&CHAR(10),\"\"),\nIF(I89=\"M\",\"-\"&INDEX(I$1:I$104,1)&CHAR(10),\"\"),\nIF(J89=\"M\",\"-\"&INDEX(J$1:J$104,1)&CHAR(10),\"\"),\nIF(K89=\"M\",\"-\"&INDEX(K$1:K$104,1)&CHAR(10),\"\"),\nIF(L89=\"M\",\"-\"&INDEX(L$1:L$104,1)&CHAR(10),\"\"),\nIF(M89=\"M\",\"-\"&INDEX(M$1:M156,1)&CHAR(10),\"\"),\nIF(N89=\"M\",\"-\"&INDEX(N$1:N$104,1)&CHAR(10),\"\"),\nIF(O89=\"M\",\"-\"&INDEX(O$1:O$104,1)&CHAR(10),\"\"),\nIF(P89=\"M\",\"-\"&INDEX(P$1:P$104,1)&CHAR(10),\"\"),\nIF(Q89=\"M\",\"-\"&INDEX(Q$1:Q$104,1)&CHAR(10),\"\"),\nIF(R89=\"M\",\"-\"&INDEX(R$1:R$104,1)&CHAR(10),\"\"),\nIF(S89=\"M\",\"-\"&INDEX(S$1:S$104,1)&CHAR(10),\"\"),\nIF(T89=\"M\",\"-\"&INDEX(T$1:T$104,1)&CHAR(10),\"\"),\nIF(U89=\"M\",\"-\"&INDEX(U$1:U$104,1)&CHAR(10),\"\"),\nIF(V89=\"M\",\"-\"&INDEX(V$1:V$104,1)&CHAR(10),\"\"),\nIF(W89=\"M\",\"-\"&INDEX(W$1:W$104,1)&CHAR(10),\"\"),\nIF(X89=\"M\",\"-\"&INDEX(X$1:X$104,1)&CHAR(10),\"\"),\nIF(Y89=\"M\",\"-\"&INDEX(Y$1:Y$104,1)&CHAR(10),\"\"),\nIF(Z89=\"M\",\"-\"&INDEX(Z$1:Z$104,1)&CHAR(10),\"\"),\nIF(AA89=\"M\",\"-\"&INDEX(AA$1:AA$104,1)&CHAR(10),\"\"),\nIF(AB89=\"M\",\"-\"&INDEX(AB$1:AB$104,1)&CHAR(10),\"\"),\nIF(AC89=\"M\",\"-\"&INDEX(AC$1:AC$104,1)&CHAR(10),\"\"),\nIF(AD89=\"M\",\"-\"&INDEX(AD$1:AD$104,1)&CHAR(10),\"\"))","v":"-Electrical.Statement of Attainment.UETTDRRF01 - Apply ESI safety rules, codes of practice and procedures for work\n-Network Operator.Certificate.I0102 - Ausgrid - Environmental Awareness\n-Electrical.Statement of Attainment.UETTDRRF09 - Apply access procedures to work on or near electrical network infrastructure\n-Network Operator.Certificate.TTDO1399 - Luminaire Servicing Worker\n"},"-Electrical.Statement of Attainment.UETTDRRF03 - LV Release & Rescue from an EWP\n-Electrical.Statement of Attainment.UETTDRRF08 - CCD Release & Rescue from an EWP\n","","",""]
["Streetlight - Servicing Worker (Electrical)","M","M","M",null,"M","M","M",null,null,"SE1000, RF0003",null,null,null,null,null,null,"M",null,"M",null,null,"M","M",null,null,null,null,null,null,"SE1004/RF0002","M","M",null,null,null,null,"N",null,null,null,null,null,null,null,null,null,null,null,null,null,null,null,null,null,null,null,null,null,null,null,null,null,null,null,null,null,null,null,null,null,null,null,null,null,null,null,null,null,null,null,null,null,null,null,null,null,null,"M",null,null,null,null,null,null,null,null,null,null,null,null,null,null,null,null,null,null,null,null,null,null,null,null,null,null,null,null,null,null,null,null,null,null,null,null,null,null,null,"-First Aid.Statement of Attainment.HLTAID001 - Perform CPR\n-Electrical.Statement of Attainment.UETTDRRF06 - Perform rescue from a live LV panel\n-Electrical.Statement of Attainment.UETTDRRF10 - First Aid in an ESI Environment","-Electrical.Statement of Attainment.UETTDRRF03 - LV Release & Rescue from an EWP\n-Electrical.Statement of Attainment.UETTDRRF08 - CCD Release & Rescue from an EWP\n-Network Operator.Certificate.M1398 - Streetlight Serving Worker Electrical (Electrically Trained and Qualified)\n",{"$f":"CONCATENATE(\nIF(E90=\"M\",\"-\"&INDEX(E$1:E$104,1)&CHAR(10),\"\"),\nIF(F90=\"M\",\"-\"&INDEX(F$1:F$104,1)&CHAR(10),\"\"),\nIF(G90=\"M\",\"-\"&INDEX(G$1:G$104,1)&CHAR(10),\"\"),\nIF(H90=\"M\",\"-\"&INDEX(H$1:H$104,1)&CHAR(10),\"\"),\nIF(I90=\"M\",\"-\"&INDEX(I$1:I$104,1)&CHAR(10),\"\"),\nIF(J90=\"M\",\"-\"&INDEX(J$1:J$104,1)&CHAR(10),\"\"),\nIF(K90=\"M\",\"-\"&INDEX(K$1:K$104,1)&CHAR(10),\"\"),\nIF(L90=\"M\",\"-\"&INDEX(L$1:L$104,1)&CHAR(10),\"\"),\nIF(M90=\"M\",\"-\"&INDEX(M$1:M157,1)&CHAR(10),\"\"),\nIF(N90=\"M\",\"-\"&INDEX(N$1:N$104,1)&CHAR(10),\"\"),\nIF(O90=\"M\",\"-\"&INDEX(O$1:O$104,1)&CHAR(10),\"\"),\nIF(P90=\"M\",\"-\"&INDEX(P$1:P$104,1)&CHAR(10),\"\"),\nIF(Q90=\"M\",\"-\"&INDEX(Q$1:Q$104,1)&CHAR(10),\"\"),\nIF(R90=\"M\",\"-\"&INDEX(R$1:R$104,1)&CHAR(10),\"\"),\nIF(S90=\"M\",\"-\"&INDEX(S$1:S$104,1)&CHAR(10),\"\"),\nIF(T90=\"M\",\"-\"&INDEX(T$1:T$104,1)&CHAR(10),\"\"),\nIF(U90=\"M\",\"-\"&INDEX(U$1:U$104,1)&CHAR(10),\"\"),\nIF(V90=\"M\",\"-\"&INDEX(V$1:V$104,1)&CHAR(10),\"\"),\nIF(W90=\"M\",\"-\"&INDEX(W$1:W$104,1)&CHAR(10),\"\"),\nIF(X90=\"M\",\"-\"&INDEX(X$1:X$104,1)&CHAR(10),\"\"),\nIF(Y90=\"M\",\"-\"&INDEX(Y$1:Y$104,1)&CHAR(10),\"\"),\nIF(Z90=\"M\",\"-\"&INDEX(Z$1:Z$104,1)&CHAR(10),\"\"),\nIF(AA90=\"M\",\"-\"&INDEX(AA$1:AA$104,1)&CHAR(10),\"\"),\nIF(AB90=\"M\",\"-\"&INDEX(AB$1:AB$104,1)&CHAR(10),\"\"),\nIF(AC90=\"M\",\"-\"&INDEX(AC$1:AC$104,1)&CHAR(10),\"\"),\nIF(AD90=\"M\",\"-\"&INDEX(AD$1:AD$104,1)&CHAR(10),\"\"))","v":"-Electrical.Statement of Attainment.UETTDRRF01 - Apply ESI safety rules, codes of practice and procedures for work\n-Network Operator.Certificate.I0102 - Ausgrid - Environmental Awareness\n-Electrical.Statement of Attainment.UETTDRRF09 - Apply access procedures to work on or near electrical network infrastructure\n-Network Operator.Certificate.M1503 - Ausgrid - Lineworkers Fall Arrest Harness \n-Network Operator.Certificate.M1809 - Ausgrid - Pre-working aloft procedures (NS146)\n-Network Operator.Certificate.TTDO1399 - Luminaire Servicing Worker\n-Network Operator.Certificate.TTDO1570 - Ausgrid - Application of temporary insulation\n"},"-Electrical.Statement of Attainment.UETTDRRF03 - LV Release & Rescue from an EWP\n-Electrical.Statement of Attainment.UETTDRRF08 - CCD Release & Rescue from an EWP\n","","-Network Operator.Certificate.M1398 - Streetlight Serving Worker Electrical (Electrically Trained and Qualified)\n",""]
["Streetlight - Servicing Worker (Lineworker)","M","M","M",null,"M","M","M",null,null,"SE1000, RF0003",null,null,null,null,null,null,"M",null,"M",null,null,"M","M",null,null,null,null,null,null,"SE1004/RF0002","M","M",null,null,null,null,"N",null,null,null,null,null,null,null,null,null,null,null,null,null,null,null,null,null,null,null,null,null,null,null,null,null,null,null,null,null,null,null,null,null,null,null,null,null,null,null,null,null,null,null,null,null,null,null,null,null,null,"M",null,null,null,null,null,null,null,null,null,null,null,null,null,null,null,null,null,null,null,null,null,null,null,null,null,null,null,null,null,null,null,null,null,null,null,null,null,null,null,"-First Aid.Statement of Attainment.HLTAID001 - Perform CPR\n-Electrical.Statement of Attainment.UETTDRRF06 - Perform rescue from a live LV panel\n-Electrical.Statement of Attainment.UETTDRRF10 - First Aid in an ESI Environment","-Electrical.Statement of Attainment.UETTDRRF03 - LV Release & Rescue from an EWP\n-Electrical.Statement of Attainment.UETTDRRF08 - CCD Release & Rescue from an EWP\n-Network Operator.Certificate.M1398 - Streetlight Serving Worker Electrical (Electrically Trained and Qualified)\n",{"$f":"CONCATENATE(\nIF(E91=\"M\",\"-\"&INDEX(E$1:E$104,1)&CHAR(10),\"\"),\nIF(F91=\"M\",\"-\"&INDEX(F$1:F$104,1)&CHAR(10),\"\"),\nIF(G91=\"M\",\"-\"&INDEX(G$1:G$104,1)&CHAR(10),\"\"),\nIF(H91=\"M\",\"-\"&INDEX(H$1:H$104,1)&CHAR(10),\"\"),\nIF(I91=\"M\",\"-\"&INDEX(I$1:I$104,1)&CHAR(10),\"\"),\nIF(J91=\"M\",\"-\"&INDEX(J$1:J$104,1)&CHAR(10),\"\"),\nIF(K91=\"M\",\"-\"&INDEX(K$1:K$104,1)&CHAR(10),\"\"),\nIF(L91=\"M\",\"-\"&INDEX(L$1:L$104,1)&CHAR(10),\"\"),\nIF(M91=\"M\",\"-\"&INDEX(M$1:M158,1)&CHAR(10),\"\"),\nIF(N91=\"M\",\"-\"&INDEX(N$1:N$104,1)&CHAR(10),\"\"),\nIF(O91=\"M\",\"-\"&INDEX(O$1:O$104,1)&CHAR(10),\"\"),\nIF(P91=\"M\",\"-\"&INDEX(P$1:P$104,1)&CHAR(10),\"\"),\nIF(Q91=\"M\",\"-\"&INDEX(Q$1:Q$104,1)&CHAR(10),\"\"),\nIF(R91=\"M\",\"-\"&INDEX(R$1:R$104,1)&CHAR(10),\"\"),\nIF(S91=\"M\",\"-\"&INDEX(S$1:S$104,1)&CHAR(10),\"\"),\nIF(T91=\"M\",\"-\"&INDEX(T$1:T$104,1)&CHAR(10),\"\"),\nIF(U91=\"M\",\"-\"&INDEX(U$1:U$104,1)&CHAR(10),\"\"),\nIF(V91=\"M\",\"-\"&INDEX(V$1:V$104,1)&CHAR(10),\"\"),\nIF(W91=\"M\",\"-\"&INDEX(W$1:W$104,1)&CHAR(10),\"\"),\nIF(X91=\"M\",\"-\"&INDEX(X$1:X$104,1)&CHAR(10),\"\"),\nIF(Y91=\"M\",\"-\"&INDEX(Y$1:Y$104,1)&CHAR(10),\"\"),\nIF(Z91=\"M\",\"-\"&INDEX(Z$1:Z$104,1)&CHAR(10),\"\"),\nIF(AA91=\"M\",\"-\"&INDEX(AA$1:AA$104,1)&CHAR(10),\"\"),\nIF(AB91=\"M\",\"-\"&INDEX(AB$1:AB$104,1)&CHAR(10),\"\"),\nIF(AC91=\"M\",\"-\"&INDEX(AC$1:AC$104,1)&CHAR(10),\"\"),\nIF(AD91=\"M\",\"-\"&INDEX(AD$1:AD$104,1)&CHAR(10),\"\"))","v":"-Electrical.Statement of Attainment.UETTDRRF01 - Apply ESI safety rules, codes of practice and procedures for work\n-Network Operator.Certificate.I0102 - Ausgrid - Environmental Awareness\n-Electrical.Statement of Attainment.UETTDRRF09 - Apply access procedures to work on or near electrical network infrastructure\n-Network Operator.Certificate.M1503 - Ausgrid - Lineworkers Fall Arrest Harness \n-Network Operator.Certificate.M1809 - Ausgrid - Pre-working aloft procedures (NS146)\n-Network Operator.Certificate.TTDO1399 - Luminaire Servicing Worker\n-Network Operator.Certificate.TTDO1570 - Ausgrid - Application of temporary insulation\n"},"-Electrical.Statement of Attainment.UETTDRRF03 - LV Release & Rescue from an EWP\n-Electrical.Statement of Attainment.UETTDRRF08 - CCD Release & Rescue from an EWP\n","","-Network Operator.Certificate.M1398 - Streetlight Serving Worker Electrical (Electrically Trained and Qualified)\n",""]
["Streetlight - Supervisor","M","M","M",null,"M","M","M",null,null,"SE1000, RF0003",null,null,null,null,null,null,null,null,null,null,null,"M",null,null,null,null,null,null,null,null,null,null,null,null,null,null,null,null,null,null,null,null,null,null,null,null,null,null,null,null,null,null,null,null,null,null,null,null,null,null,null,null,null,null,null,null,null,null,null,null,null,null,null,null,null,null,null,null,null,null,null,null,null,null,null,null,null,null,null,null,null,null,null,null,null,null,"M",null,"M",null,null,null,null,null,null,null,null,null,null,null,null,null,null,null,null,null,null,null,null,null,null,null,null,null,null,null,null,"-First Aid.Statement of Attainment.HLTAID001 - Perform CPR\n-Electrical.Statement of Attainment.UETTDRRF06 - Perform rescue from a live LV panel\n-Electrical.Statement of Attainment.UETTDRRF10 - First Aid in an ESI Environment","-Traffic Controller.Statement of Attainment.RIICWD503 - Prepare work zone traffic management plan\n-Traffic Controller.Statement of Attainment.RIIWHS302 - Implement traffic management plan\n",{"$f":"CONCATENATE(\nIF(E92=\"M\",\"-\"&INDEX(E$1:E$104,1)&CHAR(10),\"\"),\nIF(F92=\"M\",\"-\"&INDEX(F$1:F$104,1)&CHAR(10),\"\"),\nIF(G92=\"M\",\"-\"&INDEX(G$1:G$104,1)&CHAR(10),\"\"),\nIF(H92=\"M\",\"-\"&INDEX(H$1:H$104,1)&CHAR(10),\"\"),\nIF(I92=\"M\",\"-\"&INDEX(I$1:I$104,1)&CHAR(10),\"\"),\nIF(J92=\"M\",\"-\"&INDEX(J$1:J$104,1)&CHAR(10),\"\"),\nIF(K92=\"M\",\"-\"&INDEX(K$1:K$104,1)&CHAR(10),\"\"),\nIF(L92=\"M\",\"-\"&INDEX(L$1:L$104,1)&CHAR(10),\"\"),\nIF(M92=\"M\",\"-\"&INDEX(M$1:M159,1)&CHAR(10),\"\"),\nIF(N92=\"M\",\"-\"&INDEX(N$1:N$104,1)&CHAR(10),\"\"),\nIF(O92=\"M\",\"-\"&INDEX(O$1:O$104,1)&CHAR(10),\"\"),\nIF(P92=\"M\",\"-\"&INDEX(P$1:P$104,1)&CHAR(10),\"\"),\nIF(Q92=\"M\",\"-\"&INDEX(Q$1:Q$104,1)&CHAR(10),\"\"),\nIF(R92=\"M\",\"-\"&INDEX(R$1:R$104,1)&CHAR(10),\"\"),\nIF(S92=\"M\",\"-\"&INDEX(S$1:S$104,1)&CHAR(10),\"\"),\nIF(T92=\"M\",\"-\"&INDEX(T$1:T$104,1)&CHAR(10),\"\"),\nIF(U92=\"M\",\"-\"&INDEX(U$1:U$104,1)&CHAR(10),\"\"),\nIF(V92=\"M\",\"-\"&INDEX(V$1:V$104,1)&CHAR(10),\"\"),\nIF(W92=\"M\",\"-\"&INDEX(W$1:W$104,1)&CHAR(10),\"\"),\nIF(X92=\"M\",\"-\"&INDEX(X$1:X$104,1)&CHAR(10),\"\"),\nIF(Y92=\"M\",\"-\"&INDEX(Y$1:Y$104,1)&CHAR(10),\"\"),\nIF(Z92=\"M\",\"-\"&INDEX(Z$1:Z$104,1)&CHAR(10),\"\"),\nIF(AA92=\"M\",\"-\"&INDEX(AA$1:AA$104,1)&CHAR(10),\"\"),\nIF(AB92=\"M\",\"-\"&INDEX(AB$1:AB$104,1)&CHAR(10),\"\"),\nIF(AC92=\"M\",\"-\"&INDEX(AC$1:AC$104,1)&CHAR(10),\"\"),\nIF(AD92=\"M\",\"-\"&INDEX(AD$1:AD$104,1)&CHAR(10),\"\"))","v":"-Electrical.Statement of Attainment.UETTDRRF01 - Apply ESI safety rules, codes of practice and procedures for work\n-Network Operator.Certificate.I0102 - Ausgrid - Environmental Awareness\n-Electrical.Statement of Attainment.UETTDRRF09 - Apply access procedures to work on or near electrical network infrastructure\n-Network Operator.Certificate.TTDO1399 - Luminaire Servicing Worker\n"},"","","-Traffic Controller.Statement of Attainment.RIICWD503 - Prepare work zone traffic management plan\n-Traffic Controller.Statement of Attainment.RIIWHS302 - Implement traffic management plan\n",""]
["Substation Civil - Designated Officer","M","M","M",null,"M","M","M","M","M","SC1200","N",null,null,null,"M","M",null,null,null,null,null,null,null,null,null,null,null,null,null,null,null,null,null,null,null,"N",null,null,null,null,null,null,null,"M",null,null,null,null,null,null,null,null,null,null,null,null,null,null,null,null,null,null,null,null,null,null,null,null,null,null,null,null,null,null,null,null,null,null,null,null,null,null,null,null,null,null,null,null,null,null,null,null,null,null,null,null,null,null,null,null,null,null,null,"M",null,null,null,null,null,null,null,null,null,null,null,null,null,null,null,null,null,null,null,null,null,null,null,"-First Aid.Statement of Attainment.HLTAID001 - Perform CPR\n-Electrical.Statement of Attainment.UETTDRRF06 - Perform rescue from a live LV panel\n-Electrical.Statement of Attainment.UETTDRRF10 - First Aid in an ESI Environment","-Electrical.Statement of Attainment.UETTDRRF07 - Perform cable pit/trench/excavation rescue\n-Electrical.Statement of Attainment.UETTDREL14 - Working safely near live electrical apparatus as a non electrical worker \n",{"$f":"CONCATENATE(\nIF(E93=\"M\",\"-\"&INDEX(E$1:E$104,1)&CHAR(10),\"\"),\nIF(F93=\"M\",\"-\"&INDEX(F$1:F$104,1)&CHAR(10),\"\"),\nIF(G93=\"M\",\"-\"&INDEX(G$1:G$104,1)&CHAR(10),\"\"),\nIF(H93=\"M\",\"-\"&INDEX(H$1:H$104,1)&CHAR(10),\"\"),\nIF(I93=\"M\",\"-\"&INDEX(I$1:I$104,1)&CHAR(10),\"\"),\nIF(J93=\"M\",\"-\"&INDEX(J$1:J$104,1)&CHAR(10),\"\"),\nIF(K93=\"M\",\"-\"&INDEX(K$1:K$104,1)&CHAR(10),\"\"),\nIF(L93=\"M\",\"-\"&INDEX(L$1:L$104,1)&CHAR(10),\"\"),\nIF(M93=\"M\",\"-\"&INDEX(M$1:M160,1)&CHAR(10),\"\"),\nIF(N93=\"M\",\"-\"&INDEX(N$1:N$104,1)&CHAR(10),\"\"),\nIF(O93=\"M\",\"-\"&INDEX(O$1:O$104,1)&CHAR(10),\"\"),\nIF(P93=\"M\",\"-\"&INDEX(P$1:P$104,1)&CHAR(10),\"\"),\nIF(Q93=\"M\",\"-\"&INDEX(Q$1:Q$104,1)&CHAR(10),\"\"),\nIF(R93=\"M\",\"-\"&INDEX(R$1:R$104,1)&CHAR(10),\"\"),\nIF(S93=\"M\",\"-\"&INDEX(S$1:S$104,1)&CHAR(10),\"\"),\nIF(T93=\"M\",\"-\"&INDEX(T$1:T$104,1)&CHAR(10),\"\"),\nIF(U93=\"M\",\"-\"&INDEX(U$1:U$104,1)&CHAR(10),\"\"),\nIF(V93=\"M\",\"-\"&INDEX(V$1:V$104,1)&CHAR(10),\"\"),\nIF(W93=\"M\",\"-\"&INDEX(W$1:W$104,1)&CHAR(10),\"\"),\nIF(X93=\"M\",\"-\"&INDEX(X$1:X$104,1)&CHAR(10),\"\"),\nIF(Y93=\"M\",\"-\"&INDEX(Y$1:Y$104,1)&CHAR(10),\"\"),\nIF(Z93=\"M\",\"-\"&INDEX(Z$1:Z$104,1)&CHAR(10),\"\"),\nIF(AA93=\"M\",\"-\"&INDEX(AA$1:AA$104,1)&CHAR(10),\"\"),\nIF(AB93=\"M\",\"-\"&INDEX(AB$1:AB$104,1)&CHAR(10),\"\"),\nIF(AC93=\"M\",\"-\"&INDEX(AC$1:AC$104,1)&CHAR(10),\"\"),\nIF(AD93=\"M\",\"-\"&INDEX(AD$1:AD$104,1)&CHAR(10),\"\"))","v":"-Electrical.Statement of Attainment.UETTDRRF01 - Apply ESI safety rules, codes of practice and procedures for work\n-Network Operator.Certificate.I0102 - Ausgrid - Environmental Awareness\n-Electrical.Statement of Attainment.UETTDRRF09 - Apply access procedures to work on or near electrical network infrastructure\n-Network Operator.Access.SC1000A - Ausgrid - Substation Entry\n-Network Operator.Certificate.SC1100A - Working Near or Around Underground Cables\n-Network Operator.Certificate.QUAL00066 - GIS Map Reading\n-Network Operator.Certificate.SSAB1001 - Ausgrid - Asbestos Awareness\n"},"-Electrical.Statement of Attainment.UETTDRRF07 - Perform cable pit/trench/excavation rescue\n","","-Electrical.Statement of Attainment.UETTDREL14 - Working safely near live electrical apparatus as a non electrical worker \n",""]
["Substation Civil - Field recorder","M","M","M",null,"M","M","M","M","M","SC1200",null,"M",null,null,"M","M",null,null,null,null,null,null,null,null,null,null,null,null,null,null,null,null,null,null,null,null,null,null,null,null,null,null,null,null,null,null,null,null,null,null,null,null,null,null,null,null,null,null,null,null,null,null,null,null,null,null,null,null,null,null,null,null,null,null,null,null,null,null,null,null,null,null,null,null,null,null,null,null,null,null,null,null,null,null,null,null,null,null,null,null,null,null,null,"M",null,null,null,null,null,null,null,null,null,null,null,null,null,null,null,null,null,null,null,null,null,null,null,"-First Aid.Statement of Attainment.HLTAID001 - Perform CPR\n-Electrical.Statement of Attainment.UETTDRRF06 - Perform rescue from a live LV panel\n-Electrical.Statement of Attainment.UETTDRRF10 - First Aid in an ESI Environment","-Electrical.Statement of Attainment.UETTDREL14 - Working safely near live electrical apparatus as a non electrical worker \n",{"$f":"CONCATENATE(\nIF(E94=\"M\",\"-\"&INDEX(E$1:E$104,1)&CHAR(10),\"\"),\nIF(F94=\"M\",\"-\"&INDEX(F$1:F$104,1)&CHAR(10),\"\"),\nIF(G94=\"M\",\"-\"&INDEX(G$1:G$104,1)&CHAR(10),\"\"),\nIF(H94=\"M\",\"-\"&INDEX(H$1:H$104,1)&CHAR(10),\"\"),\nIF(I94=\"M\",\"-\"&INDEX(I$1:I$104,1)&CHAR(10),\"\"),\nIF(J94=\"M\",\"-\"&INDEX(J$1:J$104,1)&CHAR(10),\"\"),\nIF(K94=\"M\",\"-\"&INDEX(K$1:K$104,1)&CHAR(10),\"\"),\nIF(L94=\"M\",\"-\"&INDEX(L$1:L$104,1)&CHAR(10),\"\"),\nIF(M94=\"M\",\"-\"&INDEX(M$1:M161,1)&CHAR(10),\"\"),\nIF(N94=\"M\",\"-\"&INDEX(N$1:N$104,1)&CHAR(10),\"\"),\nIF(O94=\"M\",\"-\"&INDEX(O$1:O$104,1)&CHAR(10),\"\"),\nIF(P94=\"M\",\"-\"&INDEX(P$1:P$104,1)&CHAR(10),\"\"),\nIF(Q94=\"M\",\"-\"&INDEX(Q$1:Q$104,1)&CHAR(10),\"\"),\nIF(R94=\"M\",\"-\"&INDEX(R$1:R$104,1)&CHAR(10),\"\"),\nIF(S94=\"M\",\"-\"&INDEX(S$1:S$104,1)&CHAR(10),\"\"),\nIF(T94=\"M\",\"-\"&INDEX(T$1:T$104,1)&CHAR(10),\"\"),\nIF(U94=\"M\",\"-\"&INDEX(U$1:U$104,1)&CHAR(10),\"\"),\nIF(V94=\"M\",\"-\"&INDEX(V$1:V$104,1)&CHAR(10),\"\"),\nIF(W94=\"M\",\"-\"&INDEX(W$1:W$104,1)&CHAR(10),\"\"),\nIF(X94=\"M\",\"-\"&INDEX(X$1:X$104,1)&CHAR(10),\"\"),\nIF(Y94=\"M\",\"-\"&INDEX(Y$1:Y$104,1)&CHAR(10),\"\"),\nIF(Z94=\"M\",\"-\"&INDEX(Z$1:Z$104,1)&CHAR(10),\"\"),\nIF(AA94=\"M\",\"-\"&INDEX(AA$1:AA$104,1)&CHAR(10),\"\"),\nIF(AB94=\"M\",\"-\"&INDEX(AB$1:AB$104,1)&CHAR(10),\"\"),\nIF(AC94=\"M\",\"-\"&INDEX(AC$1:AC$104,1)&CHAR(10),\"\"),\nIF(AD94=\"M\",\"-\"&INDEX(AD$1:AD$104,1)&CHAR(10),\"\"))","v":"-Electrical.Statement of Attainment.UETTDRRF01 - Apply ESI safety rules, codes of practice and procedures for work\n-Network Operator.Certificate.I0102 - Ausgrid - Environmental Awareness\n-Electrical.Statement of Attainment.UETTDRRF09 - Apply access procedures to work on or near electrical network infrastructure\n-Network Operator.Access.SC1000A - Ausgrid - Substation Entry\n-Network Operator.Certificate.SC1100A - Working Near or Around Underground Cables\n-Network Operator.Certificate.AMGS0001 - Field Recording of Network Assets\n-Network Operator.Certificate.QUAL00066 - GIS Map Reading\n-Network Operator.Certificate.SSAB1001 - Ausgrid - Asbestos Awareness\n"},"","","-Electrical.Statement of Attainment.UETTDREL14 - Working safely near live electrical apparatus as a non electrical worker \n",""]
["Substation Civil - Labourer / tradesman","M","M","M",null,"M","M","M","M","M","SC1200",null,null,null,null,null,"M",null,null,null,null,null,null,null,null,null,null,null,null,null,null,null,null,null,null,null,"N",null,null,null,null,null,null,null,"N",null,null,null,null,null,null,null,null,null,null,null,null,null,null,null,null,null,null,null,null,null,null,null,null,null,null,null,null,null,null,null,null,null,null,null,null,null,null,null,null,null,null,null,null,null,null,null,null,null,null,null,null,null,null,null,null,null,null,null,null,null,null,null,null,null,null,null,null,null,null,null,null,null,null,null,null,null,null,null,null,null,null,null,"-First Aid.Statement of Attainment.HLTAID001 - Perform CPR\n-Electrical.Statement of Attainment.UETTDRRF06 - Perform rescue from a live LV panel\n-Electrical.Statement of Attainment.UETTDRRF10 - First Aid in an ESI Environment","",{"$f":"CONCATENATE(\nIF(E95=\"M\",\"-\"&INDEX(E$1:E$104,1)&CHAR(10),\"\"),\nIF(F95=\"M\",\"-\"&INDEX(F$1:F$104,1)&CHAR(10),\"\"),\nIF(G95=\"M\",\"-\"&INDEX(G$1:G$104,1)&CHAR(10),\"\"),\nIF(H95=\"M\",\"-\"&INDEX(H$1:H$104,1)&CHAR(10),\"\"),\nIF(I95=\"M\",\"-\"&INDEX(I$1:I$104,1)&CHAR(10),\"\"),\nIF(J95=\"M\",\"-\"&INDEX(J$1:J$104,1)&CHAR(10),\"\"),\nIF(K95=\"M\",\"-\"&INDEX(K$1:K$104,1)&CHAR(10),\"\"),\nIF(L95=\"M\",\"-\"&INDEX(L$1:L$104,1)&CHAR(10),\"\"),\nIF(M95=\"M\",\"-\"&INDEX(M$1:M162,1)&CHAR(10),\"\"),\nIF(N95=\"M\",\"-\"&INDEX(N$1:N$104,1)&CHAR(10),\"\"),\nIF(O95=\"M\",\"-\"&INDEX(O$1:O$104,1)&CHAR(10),\"\"),\nIF(P95=\"M\",\"-\"&INDEX(P$1:P$104,1)&CHAR(10),\"\"),\nIF(Q95=\"M\",\"-\"&INDEX(Q$1:Q$104,1)&CHAR(10),\"\"),\nIF(R95=\"M\",\"-\"&INDEX(R$1:R$104,1)&CHAR(10),\"\"),\nIF(S95=\"M\",\"-\"&INDEX(S$1:S$104,1)&CHAR(10),\"\"),\nIF(T95=\"M\",\"-\"&INDEX(T$1:T$104,1)&CHAR(10),\"\"),\nIF(U95=\"M\",\"-\"&INDEX(U$1:U$104,1)&CHAR(10),\"\"),\nIF(V95=\"M\",\"-\"&INDEX(V$1:V$104,1)&CHAR(10),\"\"),\nIF(W95=\"M\",\"-\"&INDEX(W$1:W$104,1)&CHAR(10),\"\"),\nIF(X95=\"M\",\"-\"&INDEX(X$1:X$104,1)&CHAR(10),\"\"),\nIF(Y95=\"M\",\"-\"&INDEX(Y$1:Y$104,1)&CHAR(10),\"\"),\nIF(Z95=\"M\",\"-\"&INDEX(Z$1:Z$104,1)&CHAR(10),\"\"),\nIF(AA95=\"M\",\"-\"&INDEX(AA$1:AA$104,1)&CHAR(10),\"\"),\nIF(AB95=\"M\",\"-\"&INDEX(AB$1:AB$104,1)&CHAR(10),\"\"),\nIF(AC95=\"M\",\"-\"&INDEX(AC$1:AC$104,1)&CHAR(10),\"\"),\nIF(AD95=\"M\",\"-\"&INDEX(AD$1:AD$104,1)&CHAR(10),\"\"))","v":"-Electrical.Statement of Attainment.UETTDRRF01 - Apply ESI safety rules, codes of practice and procedures for work\n-Network Operator.Certificate.I0102 - Ausgrid - Environmental Awareness\n-Electrical.Statement of Attainment.UETTDRRF09 - Apply access procedures to work on or near electrical network infrastructure\n-Network Operator.Access.SC1000A - Ausgrid - Substation Entry\n-Network Operator.Certificate.SC1100A - Working Near or Around Underground Cables\n-Network Operator.Certificate.SSAB1001 - Ausgrid - Asbestos Awareness\n"},"","","",""]
["Substation Civil - Machine operator","M","M","M",null,"M","M","M","M","M","SC1200",null,null,null,null,null,"M",null,null,null,null,null,null,null,null,null,null,null,null,null,null,null,null,null,null,null,null,null,null,null,null,null,null,null,"M",null,null,null,null,null,null,null,null,null,null,null,null,null,null,null,null,null,null,null,null,null,null,null,null,null,null,null,null,null,null,null,null,null,null,null,null,null,null,null,null,null,null,null,null,null,null,null,null,null,null,null,"N",null,null,null,null,null,"M",null,null,null,null,null,null,null,null,null,null,null,null,null,null,null,null,null,null,null,null,null,null,null,null,null,"-First Aid.Statement of Attainment.HLTAID001 - Perform CPR\n-Electrical.Statement of Attainment.UETTDRRF06 - Perform rescue from a live LV panel\n-Electrical.Statement of Attainment.UETTDRRF10 - First Aid in an ESI Environment","-Electrical.Statement of Attainment.UETTDRRF07 - Perform cable pit/trench/excavation rescue\n-Electrical.Certificate III.UET30612 - Certificate III in ESI - Power Systems - Distribution Overhead (Linesman) \n",{"$f":"CONCATENATE(\nIF(E96=\"M\",\"-\"&INDEX(E$1:E$104,1)&CHAR(10),\"\"),\nIF(F96=\"M\",\"-\"&INDEX(F$1:F$104,1)&CHAR(10),\"\"),\nIF(G96=\"M\",\"-\"&INDEX(G$1:G$104,1)&CHAR(10),\"\"),\nIF(H96=\"M\",\"-\"&INDEX(H$1:H$104,1)&CHAR(10),\"\"),\nIF(I96=\"M\",\"-\"&INDEX(I$1:I$104,1)&CHAR(10),\"\"),\nIF(J96=\"M\",\"-\"&INDEX(J$1:J$104,1)&CHAR(10),\"\"),\nIF(K96=\"M\",\"-\"&INDEX(K$1:K$104,1)&CHAR(10),\"\"),\nIF(L96=\"M\",\"-\"&INDEX(L$1:L$104,1)&CHAR(10),\"\"),\nIF(M96=\"M\",\"-\"&INDEX(M$1:M163,1)&CHAR(10),\"\"),\nIF(N96=\"M\",\"-\"&INDEX(N$1:N$104,1)&CHAR(10),\"\"),\nIF(O96=\"M\",\"-\"&INDEX(O$1:O$104,1)&CHAR(10),\"\"),\nIF(P96=\"M\",\"-\"&INDEX(P$1:P$104,1)&CHAR(10),\"\"),\nIF(Q96=\"M\",\"-\"&INDEX(Q$1:Q$104,1)&CHAR(10),\"\"),\nIF(R96=\"M\",\"-\"&INDEX(R$1:R$104,1)&CHAR(10),\"\"),\nIF(S96=\"M\",\"-\"&INDEX(S$1:S$104,1)&CHAR(10),\"\"),\nIF(T96=\"M\",\"-\"&INDEX(T$1:T$104,1)&CHAR(10),\"\"),\nIF(U96=\"M\",\"-\"&INDEX(U$1:U$104,1)&CHAR(10),\"\"),\nIF(V96=\"M\",\"-\"&INDEX(V$1:V$104,1)&CHAR(10),\"\"),\nIF(W96=\"M\",\"-\"&INDEX(W$1:W$104,1)&CHAR(10),\"\"),\nIF(X96=\"M\",\"-\"&INDEX(X$1:X$104,1)&CHAR(10),\"\"),\nIF(Y96=\"M\",\"-\"&INDEX(Y$1:Y$104,1)&CHAR(10),\"\"),\nIF(Z96=\"M\",\"-\"&INDEX(Z$1:Z$104,1)&CHAR(10),\"\"),\nIF(AA96=\"M\",\"-\"&INDEX(AA$1:AA$104,1)&CHAR(10),\"\"),\nIF(AB96=\"M\",\"-\"&INDEX(AB$1:AB$104,1)&CHAR(10),\"\"),\nIF(AC96=\"M\",\"-\"&INDEX(AC$1:AC$104,1)&CHAR(10),\"\"),\nIF(AD96=\"M\",\"-\"&INDEX(AD$1:AD$104,1)&CHAR(10),\"\"))","v":"-Electrical.Statement of Attainment.UETTDRRF01 - Apply ESI safety rules, codes of practice and procedures for work\n-Network Operator.Certificate.I0102 - Ausgrid - Environmental Awareness\n-Electrical.Statement of Attainment.UETTDRRF09 - Apply access procedures to work on or near electrical network infrastructure\n-Network Operator.Access.SC1000A - Ausgrid - Substation Entry\n-Network Operator.Certificate.SC1100A - Working Near or Around Underground Cables\n-Network Operator.Certificate.SSAB1001 - Ausgrid - Asbestos Awareness\n"},"-Electrical.Statement of Attainment.UETTDRRF07 - Perform cable pit/trench/excavation rescue\n","","-Electrical.Certificate III.UET30612 - Certificate III in ESI - Power Systems - Distribution Overhead (Linesman) \n",""]
["Substation Civil - Standby Person","M","M","M",null,"M","M","M","M","M","SC1200","N",null,null,null,null,"M",null,null,null,null,null,null,null,null,null,null,null,null,null,null,null,null,null,null,null,"N",null,null,null,null,null,null,null,"N",null,null,null,null,null,null,null,null,null,null,null,null,null,null,null,null,null,null,null,null,null,null,null,null,null,null,null,null,null,null,null,null,null,null,null,null,null,null,null,null,null,null,null,null,null,null,null,null,null,null,null,null,"M",null,"M",null,null,null,null,"M",null,null,null,null,null,null,null,null,null,null,null,null,null,null,null,null,null,null,null,null,null,null,null,"-First Aid.Statement of Attainment.HLTAID001 - Perform CPR\n-Electrical.Statement of Attainment.UETTDRRF06 - Perform rescue from a live LV panel\n-Electrical.Statement of Attainment.UETTDRRF10 - First Aid in an ESI Environment","-Traffic Controller.Statement of Attainment.RIICWD503 - Prepare work zone traffic management plan\n-Traffic Controller.Statement of Attainment.RIIWHS302 - Implement traffic management plan\n-Electrical.Statement of Attainment.UETTDREL14 - Working safely near live electrical apparatus as a non electrical worker \n",{"$f":"CONCATENATE(\nIF(E97=\"M\",\"-\"&INDEX(E$1:E$104,1)&CHAR(10),\"\"),\nIF(F97=\"M\",\"-\"&INDEX(F$1:F$104,1)&CHAR(10),\"\"),\nIF(G97=\"M\",\"-\"&INDEX(G$1:G$104,1)&CHAR(10),\"\"),\nIF(H97=\"M\",\"-\"&INDEX(H$1:H$104,1)&CHAR(10),\"\"),\nIF(I97=\"M\",\"-\"&INDEX(I$1:I$104,1)&CHAR(10),\"\"),\nIF(J97=\"M\",\"-\"&INDEX(J$1:J$104,1)&CHAR(10),\"\"),\nIF(K97=\"M\",\"-\"&INDEX(K$1:K$104,1)&CHAR(10),\"\"),\nIF(L97=\"M\",\"-\"&INDEX(L$1:L$104,1)&CHAR(10),\"\"),\nIF(M97=\"M\",\"-\"&INDEX(M$1:M164,1)&CHAR(10),\"\"),\nIF(N97=\"M\",\"-\"&INDEX(N$1:N$104,1)&CHAR(10),\"\"),\nIF(O97=\"M\",\"-\"&INDEX(O$1:O$104,1)&CHAR(10),\"\"),\nIF(P97=\"M\",\"-\"&INDEX(P$1:P$104,1)&CHAR(10),\"\"),\nIF(Q97=\"M\",\"-\"&INDEX(Q$1:Q$104,1)&CHAR(10),\"\"),\nIF(R97=\"M\",\"-\"&INDEX(R$1:R$104,1)&CHAR(10),\"\"),\nIF(S97=\"M\",\"-\"&INDEX(S$1:S$104,1)&CHAR(10),\"\"),\nIF(T97=\"M\",\"-\"&INDEX(T$1:T$104,1)&CHAR(10),\"\"),\nIF(U97=\"M\",\"-\"&INDEX(U$1:U$104,1)&CHAR(10),\"\"),\nIF(V97=\"M\",\"-\"&INDEX(V$1:V$104,1)&CHAR(10),\"\"),\nIF(W97=\"M\",\"-\"&INDEX(W$1:W$104,1)&CHAR(10),\"\"),\nIF(X97=\"M\",\"-\"&INDEX(X$1:X$104,1)&CHAR(10),\"\"),\nIF(Y97=\"M\",\"-\"&INDEX(Y$1:Y$104,1)&CHAR(10),\"\"),\nIF(Z97=\"M\",\"-\"&INDEX(Z$1:Z$104,1)&CHAR(10),\"\"),\nIF(AA97=\"M\",\"-\"&INDEX(AA$1:AA$104,1)&CHAR(10),\"\"),\nIF(AB97=\"M\",\"-\"&INDEX(AB$1:AB$104,1)&CHAR(10),\"\"),\nIF(AC97=\"M\",\"-\"&INDEX(AC$1:AC$104,1)&CHAR(10),\"\"),\nIF(AD97=\"M\",\"-\"&INDEX(AD$1:AD$104,1)&CHAR(10),\"\"))","v":"-Electrical.Statement of Attainment.UETTDRRF01 - Apply ESI safety rules, codes of practice and procedures for work\n-Network Operator.Certificate.I0102 - Ausgrid - Environmental Awareness\n-Electrical.Statement of Attainment.UETTDRRF09 - Apply access procedures to work on or near electrical network infrastructure\n-Network Operator.Access.SC1000A - Ausgrid - Substation Entry\n-Network Operator.Certificate.SC1100A - Working Near or Around Underground Cables\n-Network Operator.Certificate.SSAB1001 - Ausgrid - Asbestos Awareness\n"},"","","-Traffic Controller.Statement of Attainment.RIICWD503 - Prepare work zone traffic management plan\n-Traffic Controller.Statement of Attainment.RIIWHS302 - Implement traffic management plan\n-Electrical.Statement of Attainment.UETTDREL14 - Working safely near live electrical apparatus as a non electrical worker \n",""]
["Substation Entry Authorisation","M","M","M",null,"M","M","M","M",null,"SE1000, RF0003, SC1000A",null,null,null,null,null,null,null,null,null,null,null,null,null,null,null,null,null,null,null,null,null,null,null,null,null,null,null,null,null,null,null,null,null,null,null,null,null,null,null,null,null,null,null,null,null,null,null,null,null,null,null,null,null,null,null,null,null,null,null,null,null,null,null,null,null,null,null,null,null,null,null,null,null,null,null,null,null,null,null,null,null,null,null,null,null,null,null,null,null,null,null,null,null,null,null,null,null,null,null,null,null,null,null,null,null,null,null,null,null,null,null,null,null,null,null,null,null,"-First Aid.Statement of Attainment.HLTAID001 - Perform CPR\n-Electrical.Statement of Attainment.UETTDRRF06 - Perform rescue from a live LV panel\n-Electrical.Statement of Attainment.UETTDRRF10 - First Aid in an ESI Environment","",{"$f":"CONCATENATE(\nIF(E98=\"M\",\"-\"&INDEX(E$1:E$104,1)&CHAR(10),\"\"),\nIF(F98=\"M\",\"-\"&INDEX(F$1:F$104,1)&CHAR(10),\"\"),\nIF(G98=\"M\",\"-\"&INDEX(G$1:G$104,1)&CHAR(10),\"\"),\nIF(H98=\"M\",\"-\"&INDEX(H$1:H$104,1)&CHAR(10),\"\"),\nIF(I98=\"M\",\"-\"&INDEX(I$1:I$104,1)&CHAR(10),\"\"),\nIF(J98=\"M\",\"-\"&INDEX(J$1:J$104,1)&CHAR(10),\"\"),\nIF(K98=\"M\",\"-\"&INDEX(K$1:K$104,1)&CHAR(10),\"\"),\nIF(L98=\"M\",\"-\"&INDEX(L$1:L$104,1)&CHAR(10),\"\"),\nIF(M98=\"M\",\"-\"&INDEX(M$1:M165,1)&CHAR(10),\"\"),\nIF(N98=\"M\",\"-\"&INDEX(N$1:N$104,1)&CHAR(10),\"\"),\nIF(O98=\"M\",\"-\"&INDEX(O$1:O$104,1)&CHAR(10),\"\"),\nIF(P98=\"M\",\"-\"&INDEX(P$1:P$104,1)&CHAR(10),\"\"),\nIF(Q98=\"M\",\"-\"&INDEX(Q$1:Q$104,1)&CHAR(10),\"\"),\nIF(R98=\"M\",\"-\"&INDEX(R$1:R$104,1)&CHAR(10),\"\"),\nIF(S98=\"M\",\"-\"&INDEX(S$1:S$104,1)&CHAR(10),\"\"),\nIF(T98=\"M\",\"-\"&INDEX(T$1:T$104,1)&CHAR(10),\"\"),\nIF(U98=\"M\",\"-\"&INDEX(U$1:U$104,1)&CHAR(10),\"\"),\nIF(V98=\"M\",\"-\"&INDEX(V$1:V$104,1)&CHAR(10),\"\"),\nIF(W98=\"M\",\"-\"&INDEX(W$1:W$104,1)&CHAR(10),\"\"),\nIF(X98=\"M\",\"-\"&INDEX(X$1:X$104,1)&CHAR(10),\"\"),\nIF(Y98=\"M\",\"-\"&INDEX(Y$1:Y$104,1)&CHAR(10),\"\"),\nIF(Z98=\"M\",\"-\"&INDEX(Z$1:Z$104,1)&CHAR(10),\"\"),\nIF(AA98=\"M\",\"-\"&INDEX(AA$1:AA$104,1)&CHAR(10),\"\"),\nIF(AB98=\"M\",\"-\"&INDEX(AB$1:AB$104,1)&CHAR(10),\"\"),\nIF(AC98=\"M\",\"-\"&INDEX(AC$1:AC$104,1)&CHAR(10),\"\"),\nIF(AD98=\"M\",\"-\"&INDEX(AD$1:AD$104,1)&CHAR(10),\"\"))","v":"-Electrical.Statement of Attainment.UETTDRRF01 - Apply ESI safety rules, codes of practice and procedures for work\n-Network Operator.Certificate.I0102 - Ausgrid - Environmental Awareness\n-Electrical.Statement of Attainment.UETTDRRF09 - Apply access procedures to work on or near electrical network infrastructure\n-Network Operator.Access.SC1000A - Ausgrid - Substation Entry\n"},"","","",""]
["Tower Refurb - Designated Officer","M",null,"M",null,"M","M","M",null,null,"SE1000, RF0003",null,null,null,null,null,null,null,null,null,null,null,null,null,null,null,null,null,null,null,null,null,null,null,null,"M",null,"M",null,null,null,null,null,null,null,null,null,null,null,null,null,null,null,null,null,null,null,null,null,null,null,null,null,null,null,null,null,null,null,null,null,null,null,null,null,null,null,null,null,null,null,null,null,null,null,null,null,null,null,null,null,null,null,null,null,null,null,null,null,null,null,null,null,null,null,null,null,null,null,null,null,null,null,null,null,null,null,null,null,null,null,null,null,null,null,null,null,null,"-First Aid.Statement of Attainment.HLTAID001 - Perform CPR\n-Electrical.Statement of Attainment.UETTDRRF10 - First Aid in an ESI Environment","-Electrical.Statement of Attainment.UETTDRRF04 - Perform tower rescue\n-First Aid.Statement of Attainment.HLTAID003 - Provide First Aid\n",{"$f":"CONCATENATE(\nIF(E99=\"M\",\"-\"&INDEX(E$1:E$104,1)&CHAR(10),\"\"),\nIF(F99=\"M\",\"-\"&INDEX(F$1:F$104,1)&CHAR(10),\"\"),\nIF(G99=\"M\",\"-\"&INDEX(G$1:G$104,1)&CHAR(10),\"\"),\nIF(H99=\"M\",\"-\"&INDEX(H$1:H$104,1)&CHAR(10),\"\"),\nIF(I99=\"M\",\"-\"&INDEX(I$1:I$104,1)&CHAR(10),\"\"),\nIF(J99=\"M\",\"-\"&INDEX(J$1:J$104,1)&CHAR(10),\"\"),\nIF(K99=\"M\",\"-\"&INDEX(K$1:K$104,1)&CHAR(10),\"\"),\nIF(L99=\"M\",\"-\"&INDEX(L$1:L$104,1)&CHAR(10),\"\"),\nIF(M99=\"M\",\"-\"&INDEX(M$1:M166,1)&CHAR(10),\"\"),\nIF(N99=\"M\",\"-\"&INDEX(N$1:N$104,1)&CHAR(10),\"\"),\nIF(O99=\"M\",\"-\"&INDEX(O$1:O$104,1)&CHAR(10),\"\"),\nIF(P99=\"M\",\"-\"&INDEX(P$1:P$104,1)&CHAR(10),\"\"),\nIF(Q99=\"M\",\"-\"&INDEX(Q$1:Q$104,1)&CHAR(10),\"\"),\nIF(R99=\"M\",\"-\"&INDEX(R$1:R$104,1)&CHAR(10),\"\"),\nIF(S99=\"M\",\"-\"&INDEX(S$1:S$104,1)&CHAR(10),\"\"),\nIF(T99=\"M\",\"-\"&INDEX(T$1:T$104,1)&CHAR(10),\"\"),\nIF(U99=\"M\",\"-\"&INDEX(U$1:U$104,1)&CHAR(10),\"\"),\nIF(V99=\"M\",\"-\"&INDEX(V$1:V$104,1)&CHAR(10),\"\"),\nIF(W99=\"M\",\"-\"&INDEX(W$1:W$104,1)&CHAR(10),\"\"),\nIF(X99=\"M\",\"-\"&INDEX(X$1:X$104,1)&CHAR(10),\"\"),\nIF(Y99=\"M\",\"-\"&INDEX(Y$1:Y$104,1)&CHAR(10),\"\"),\nIF(Z99=\"M\",\"-\"&INDEX(Z$1:Z$104,1)&CHAR(10),\"\"),\nIF(AA99=\"M\",\"-\"&INDEX(AA$1:AA$104,1)&CHAR(10),\"\"),\nIF(AB99=\"M\",\"-\"&INDEX(AB$1:AB$104,1)&CHAR(10),\"\"),\nIF(AC99=\"M\",\"-\"&INDEX(AC$1:AC$104,1)&CHAR(10),\"\"),\nIF(AD99=\"M\",\"-\"&INDEX(AD$1:AD$104,1)&CHAR(10),\"\"))","v":"-Electrical.Statement of Attainment.UETTDRRF01 - Apply ESI safety rules, codes of practice and procedures for work\n-Network Operator.Certificate.I0102 - Ausgrid - Environmental Awareness\n-Electrical.Statement of Attainment.UETTDRRF09 - Apply access procedures to work on or near electrical network infrastructure\n"},"-Electrical.Statement of Attainment.UETTDRRF04 - Perform tower rescue\n-First Aid.Statement of Attainment.HLTAID003 - Provide First Aid\n","","",""]
["Tower Refurb - Tradesperson / labourer on or near transmission ","M",null,"M",null,"M","M","M",null,null,"SE1000, RF0003",null,null,null,null,null,null,null,null,null,null,null,null,null,null,null,null,null,null,null,null,null,null,null,null,"M",null,"N",null,null,null,null,null,null,null,null,null,null,null,null,null,null,null,null,null,null,null,null,null,null,null,null,null,null,null,null,null,null,null,null,null,null,null,null,null,null,null,null,null,null,null,null,null,null,null,null,null,null,null,null,null,null,null,null,null,null,null,null,null,null,null,null,null,null,null,null,null,null,null,null,null,null,null,null,null,null,null,null,null,null,null,null,null,null,null,null,null,null,"-First Aid.Statement of Attainment.HLTAID001 - Perform CPR\n-Electrical.Statement of Attainment.UETTDRRF10 - First Aid in an ESI Environment","-Electrical.Statement of Attainment.UETTDRRF04 - Perform tower rescue\n",{"$f":"CONCATENATE(\nIF(E100=\"M\",\"-\"&INDEX(E$1:E$104,1)&CHAR(10),\"\"),\nIF(F100=\"M\",\"-\"&INDEX(F$1:F$104,1)&CHAR(10),\"\"),\nIF(G100=\"M\",\"-\"&INDEX(G$1:G$104,1)&CHAR(10),\"\"),\nIF(H100=\"M\",\"-\"&INDEX(H$1:H$104,1)&CHAR(10),\"\"),\nIF(I100=\"M\",\"-\"&INDEX(I$1:I$104,1)&CHAR(10),\"\"),\nIF(J100=\"M\",\"-\"&INDEX(J$1:J$104,1)&CHAR(10),\"\"),\nIF(K100=\"M\",\"-\"&INDEX(K$1:K$104,1)&CHAR(10),\"\"),\nIF(L100=\"M\",\"-\"&INDEX(L$1:L$104,1)&CHAR(10),\"\"),\nIF(M100=\"M\",\"-\"&INDEX(M$1:M167,1)&CHAR(10),\"\"),\nIF(N100=\"M\",\"-\"&INDEX(N$1:N$104,1)&CHAR(10),\"\"),\nIF(O100=\"M\",\"-\"&INDEX(O$1:O$104,1)&CHAR(10),\"\"),\nIF(P100=\"M\",\"-\"&INDEX(P$1:P$104,1)&CHAR(10),\"\"),\nIF(Q100=\"M\",\"-\"&INDEX(Q$1:Q$104,1)&CHAR(10),\"\"),\nIF(R100=\"M\",\"-\"&INDEX(R$1:R$104,1)&CHAR(10),\"\"),\nIF(S100=\"M\",\"-\"&INDEX(S$1:S$104,1)&CHAR(10),\"\"),\nIF(T100=\"M\",\"-\"&INDEX(T$1:T$104,1)&CHAR(10),\"\"),\nIF(U100=\"M\",\"-\"&INDEX(U$1:U$104,1)&CHAR(10),\"\"),\nIF(V100=\"M\",\"-\"&INDEX(V$1:V$104,1)&CHAR(10),\"\"),\nIF(W100=\"M\",\"-\"&INDEX(W$1:W$104,1)&CHAR(10),\"\"),\nIF(X100=\"M\",\"-\"&INDEX(X$1:X$104,1)&CHAR(10),\"\"),\nIF(Y100=\"M\",\"-\"&INDEX(Y$1:Y$104,1)&CHAR(10),\"\"),\nIF(Z100=\"M\",\"-\"&INDEX(Z$1:Z$104,1)&CHAR(10),\"\"),\nIF(AA100=\"M\",\"-\"&INDEX(AA$1:AA$104,1)&CHAR(10),\"\"),\nIF(AB100=\"M\",\"-\"&INDEX(AB$1:AB$104,1)&CHAR(10),\"\"),\nIF(AC100=\"M\",\"-\"&INDEX(AC$1:AC$104,1)&CHAR(10),\"\"),\nIF(AD100=\"M\",\"-\"&INDEX(AD$1:AD$104,1)&CHAR(10),\"\"))","v":"-Electrical.Statement of Attainment.UETTDRRF01 - Apply ESI safety rules, codes of practice and procedures for work\n-Network Operator.Certificate.I0102 - Ausgrid - Environmental Awareness\n-Electrical.Statement of Attainment.UETTDRRF09 - Apply access procedures to work on or near electrical network infrastructure\n"},"-Electrical.Statement of Attainment.UETTDRRF04 - Perform tower rescue\n","","",""]
["Traffic Controller - Implement Traffic Control Plans",null,null,null,null,null,null,null,null,null,null,null,null,null,null,null,null,null,null,null,null,null,null,null,null,null,null,null,null,null,null,null,null,null,null,null,null,null,null,null,null,null,null,null,null,null,null,null,null,null,null,null,null,null,null,null,null,null,null,null,null,null,null,null,null,null,null,null,null,null,null,null,null,null,null,null,null,null,null,null,null,null,null,null,null,"M",null,null,null,null,null,null,null,null,null,null,null,null,null,null,null,null,null,null,null,null,null,null,null,null,null,null,null,null,null,null,null,null,null,null,null,null,null,null,null,null,null,null,"","-Management.Statement of Attainment.RIICOM201 - Communicate in the workplace\n",{"$f":"CONCATENATE(\nIF(E101=\"M\",\"-\"&INDEX(E$1:E$104,1)&CHAR(10),\"\"),\nIF(F101=\"M\",\"-\"&INDEX(F$1:F$104,1)&CHAR(10),\"\"),\nIF(G101=\"M\",\"-\"&INDEX(G$1:G$104,1)&CHAR(10),\"\"),\nIF(H101=\"M\",\"-\"&INDEX(H$1:H$104,1)&CHAR(10),\"\"),\nIF(I101=\"M\",\"-\"&INDEX(I$1:I$104,1)&CHAR(10),\"\"),\nIF(J101=\"M\",\"-\"&INDEX(J$1:J$104,1)&CHAR(10),\"\"),\nIF(K101=\"M\",\"-\"&INDEX(K$1:K$104,1)&CHAR(10),\"\"),\nIF(L101=\"M\",\"-\"&INDEX(L$1:L$104,1)&CHAR(10),\"\"),\nIF(M101=\"M\",\"-\"&INDEX(M$1:M168,1)&CHAR(10),\"\"),\nIF(N101=\"M\",\"-\"&INDEX(N$1:N$104,1)&CHAR(10),\"\"),\nIF(O101=\"M\",\"-\"&INDEX(O$1:O$104,1)&CHAR(10),\"\"),\nIF(P101=\"M\",\"-\"&INDEX(P$1:P$104,1)&CHAR(10),\"\"),\nIF(Q101=\"M\",\"-\"&INDEX(Q$1:Q$104,1)&CHAR(10),\"\"),\nIF(R101=\"M\",\"-\"&INDEX(R$1:R$104,1)&CHAR(10),\"\"),\nIF(S101=\"M\",\"-\"&INDEX(S$1:S$104,1)&CHAR(10),\"\"),\nIF(T101=\"M\",\"-\"&INDEX(T$1:T$104,1)&CHAR(10),\"\"),\nIF(U101=\"M\",\"-\"&INDEX(U$1:U$104,1)&CHAR(10),\"\"),\nIF(V101=\"M\",\"-\"&INDEX(V$1:V$104,1)&CHAR(10),\"\"),\nIF(W101=\"M\",\"-\"&INDEX(W$1:W$104,1)&CHAR(10),\"\"),\nIF(X101=\"M\",\"-\"&INDEX(X$1:X$104,1)&CHAR(10),\"\"),\nIF(Y101=\"M\",\"-\"&INDEX(Y$1:Y$104,1)&CHAR(10),\"\"),\nIF(Z101=\"M\",\"-\"&INDEX(Z$1:Z$104,1)&CHAR(10),\"\"),\nIF(AA101=\"M\",\"-\"&INDEX(AA$1:AA$104,1)&CHAR(10),\"\"),\nIF(AB101=\"M\",\"-\"&INDEX(AB$1:AB$104,1)&CHAR(10),\"\"),\nIF(AC101=\"M\",\"-\"&INDEX(AC$1:AC$104,1)&CHAR(10),\"\"),\nIF(AD101=\"M\",\"-\"&INDEX(AD$1:AD$104,1)&CHAR(10),\"\"))","v":""},"","","-Management.Statement of Attainment.RIICOM201 - Communicate in the workplace\n",""]
["Traffic Controller - Prepare a Work Zone Traffic Management ",null,null,null,null,null,null,null,null,null,null,null,null,null,null,null,null,null,null,null,null,null,null,null,null,null,null,null,null,null,null,null,null,null,null,null,null,null,null,null,null,null,null,null,null,null,null,null,null,null,null,null,null,null,null,null,null,null,null,null,null,null,null,null,null,null,null,null,null,null,null,null,null,null,null,null,null,null,null,null,null,null,null,null,null,null,"M","M",null,null,null,null,null,null,null,null,null,null,null,null,null,null,null,null,null,null,null,null,null,null,null,null,null,null,null,null,null,null,null,null,null,null,null,null,null,null,null,null,"","-Management.Statement of Attainment.RIIGOV401 - Apply, monitor and report on compliance systems\n-Management.Statement of Attainment.RIIRIS301 - Apply risk management processes \n",{"$f":"CONCATENATE(\nIF(E102=\"M\",\"-\"&INDEX(E$1:E$104,1)&CHAR(10),\"\"),\nIF(F102=\"M\",\"-\"&INDEX(F$1:F$104,1)&CHAR(10),\"\"),\nIF(G102=\"M\",\"-\"&INDEX(G$1:G$104,1)&CHAR(10),\"\"),\nIF(H102=\"M\",\"-\"&INDEX(H$1:H$104,1)&CHAR(10),\"\"),\nIF(I102=\"M\",\"-\"&INDEX(I$1:I$104,1)&CHAR(10),\"\"),\nIF(J102=\"M\",\"-\"&INDEX(J$1:J$104,1)&CHAR(10),\"\"),\nIF(K102=\"M\",\"-\"&INDEX(K$1:K$104,1)&CHAR(10),\"\"),\nIF(L102=\"M\",\"-\"&INDEX(L$1:L$104,1)&CHAR(10),\"\"),\nIF(M102=\"M\",\"-\"&INDEX(M$1:M169,1)&CHAR(10),\"\"),\nIF(N102=\"M\",\"-\"&INDEX(N$1:N$104,1)&CHAR(10),\"\"),\nIF(O102=\"M\",\"-\"&INDEX(O$1:O$104,1)&CHAR(10),\"\"),\nIF(P102=\"M\",\"-\"&INDEX(P$1:P$104,1)&CHAR(10),\"\"),\nIF(Q102=\"M\",\"-\"&INDEX(Q$1:Q$104,1)&CHAR(10),\"\"),\nIF(R102=\"M\",\"-\"&INDEX(R$1:R$104,1)&CHAR(10),\"\"),\nIF(S102=\"M\",\"-\"&INDEX(S$1:S$104,1)&CHAR(10),\"\"),\nIF(T102=\"M\",\"-\"&INDEX(T$1:T$104,1)&CHAR(10),\"\"),\nIF(U102=\"M\",\"-\"&INDEX(U$1:U$104,1)&CHAR(10),\"\"),\nIF(V102=\"M\",\"-\"&INDEX(V$1:V$104,1)&CHAR(10),\"\"),\nIF(W102=\"M\",\"-\"&INDEX(W$1:W$104,1)&CHAR(10),\"\"),\nIF(X102=\"M\",\"-\"&INDEX(X$1:X$104,1)&CHAR(10),\"\"),\nIF(Y102=\"M\",\"-\"&INDEX(Y$1:Y$104,1)&CHAR(10),\"\"),\nIF(Z102=\"M\",\"-\"&INDEX(Z$1:Z$104,1)&CHAR(10),\"\"),\nIF(AA102=\"M\",\"-\"&INDEX(AA$1:AA$104,1)&CHAR(10),\"\"),\nIF(AB102=\"M\",\"-\"&INDEX(AB$1:AB$104,1)&CHAR(10),\"\"),\nIF(AC102=\"M\",\"-\"&INDEX(AC$1:AC$104,1)&CHAR(10),\"\"),\nIF(AD102=\"M\",\"-\"&INDEX(AD$1:AD$104,1)&CHAR(10),\"\"))","v":""},"","","-Management.Statement of Attainment.RIIGOV401 - Apply, monitor and report on compliance systems\n-Management.Statement of Attainment.RIIRIS301 - Apply risk management processes \n",""]
["Traffic Controller - Stop/Go",null,null,null,null,null,null,null,null,null,null,null,null,null,null,null,null,null,null,null,null,null,null,null,null,null,null,null,null,null,null,null,null,null,null,null,null,null,null,null,null,null,null,null,null,null,null,null,null,null,null,null,null,null,null,null,null,null,null,null,null,null,null,null,null,null,null,null,null,null,null,null,null,null,null,null,null,null,null,null,null,null,null,null,null,"M",null,null,null,null,null,null,null,null,null,null,null,null,null,null,null,null,null,null,null,null,null,null,null,null,null,null,null,null,null,null,null,null,null,null,null,null,null,null,null,null,null,null,"","-Management.Statement of Attainment.RIICOM201 - Communicate in the workplace\n",{"$f":"CONCATENATE(\nIF(E103=\"M\",\"-\"&INDEX(E$1:E$104,1)&CHAR(10),\"\"),\nIF(F103=\"M\",\"-\"&INDEX(F$1:F$104,1)&CHAR(10),\"\"),\nIF(G103=\"M\",\"-\"&INDEX(G$1:G$104,1)&CHAR(10),\"\"),\nIF(H103=\"M\",\"-\"&INDEX(H$1:H$104,1)&CHAR(10),\"\"),\nIF(I103=\"M\",\"-\"&INDEX(I$1:I$104,1)&CHAR(10),\"\"),\nIF(J103=\"M\",\"-\"&INDEX(J$1:J$104,1)&CHAR(10),\"\"),\nIF(K103=\"M\",\"-\"&INDEX(K$1:K$104,1)&CHAR(10),\"\"),\nIF(L103=\"M\",\"-\"&INDEX(L$1:L$104,1)&CHAR(10),\"\"),\nIF(M103=\"M\",\"-\"&INDEX(M$1:M170,1)&CHAR(10),\"\"),\nIF(N103=\"M\",\"-\"&INDEX(N$1:N$104,1)&CHAR(10),\"\"),\nIF(O103=\"M\",\"-\"&INDEX(O$1:O$104,1)&CHAR(10),\"\"),\nIF(P103=\"M\",\"-\"&INDEX(P$1:P$104,1)&CHAR(10),\"\"),\nIF(Q103=\"M\",\"-\"&INDEX(Q$1:Q$104,1)&CHAR(10),\"\"),\nIF(R103=\"M\",\"-\"&INDEX(R$1:R$104,1)&CHAR(10),\"\"),\nIF(S103=\"M\",\"-\"&INDEX(S$1:S$104,1)&CHAR(10),\"\"),\nIF(T103=\"M\",\"-\"&INDEX(T$1:T$104,1)&CHAR(10),\"\"),\nIF(U103=\"M\",\"-\"&INDEX(U$1:U$104,1)&CHAR(10),\"\"),\nIF(V103=\"M\",\"-\"&INDEX(V$1:V$104,1)&CHAR(10),\"\"),\nIF(W103=\"M\",\"-\"&INDEX(W$1:W$104,1)&CHAR(10),\"\"),\nIF(X103=\"M\",\"-\"&INDEX(X$1:X$104,1)&CHAR(10),\"\"),\nIF(Y103=\"M\",\"-\"&INDEX(Y$1:Y$104,1)&CHAR(10),\"\"),\nIF(Z103=\"M\",\"-\"&INDEX(Z$1:Z$104,1)&CHAR(10),\"\"),\nIF(AA103=\"M\",\"-\"&INDEX(AA$1:AA$104,1)&CHAR(10),\"\"),\nIF(AB103=\"M\",\"-\"&INDEX(AB$1:AB$104,1)&CHAR(10),\"\"),\nIF(AC103=\"M\",\"-\"&INDEX(AC$1:AC$104,1)&CHAR(10),\"\"),\nIF(AD103=\"M\",\"-\"&INDEX(AD$1:AD$104,1)&CHAR(10),\"\"))","v":""},"","","-Management.Statement of Attainment.RIICOM201 - Communicate in the workplace\n",""]
["Traffic Controller - Supervisor",null,null,null,null,null,null,null,null,null,null,null,null,null,null,null,null,null,null,null,null,null,null,null,null,null,null,null,null,null,null,null,null,null,null,null,null,null,null,null,null,null,null,null,null,null,null,null,null,null,null,null,null,null,null,null,null,null,null,null,null,null,null,null,null,null,null,null,null,null,null,null,null,null,null,null,null,null,null,null,null,null,null,null,null,null,null,null,null,null,null,null,null,null,null,null,null,null,null,null,"M",null,null,null,null,null,null,null,null,null,null,null,null,null,null,null,null,null,null,null,null,null,null,null,null,null,null,null,"","-Working at Height.Statement of Attainment.RIIWHS204 - Work safely at height\n",{"$f":"CONCATENATE(\nIF(E104=\"M\",\"-\"&INDEX(E$1:E$104,1)&CHAR(10),\"\"),\nIF(F104=\"M\",\"-\"&INDEX(F$1:F$104,1)&CHAR(10),\"\"),\nIF(G104=\"M\",\"-\"&INDEX(G$1:G$104,1)&CHAR(10),\"\"),\nIF(H104=\"M\",\"-\"&INDEX(H$1:H$104,1)&CHAR(10),\"\"),\nIF(I104=\"M\",\"-\"&INDEX(I$1:I$104,1)&CHAR(10),\"\"),\nIF(J104=\"M\",\"-\"&INDEX(J$1:J$104,1)&CHAR(10),\"\"),\nIF(K104=\"M\",\"-\"&INDEX(K$1:K$104,1)&CHAR(10),\"\"),\nIF(L104=\"M\",\"-\"&INDEX(L$1:L$104,1)&CHAR(10),\"\"),\nIF(M104=\"M\",\"-\"&INDEX(M$1:M171,1)&CHAR(10),\"\"),\nIF(N104=\"M\",\"-\"&INDEX(N$1:N$104,1)&CHAR(10),\"\"),\nIF(O104=\"M\",\"-\"&INDEX(O$1:O$104,1)&CHAR(10),\"\"),\nIF(P104=\"M\",\"-\"&INDEX(P$1:P$104,1)&CHAR(10),\"\"),\nIF(Q104=\"M\",\"-\"&INDEX(Q$1:Q$104,1)&CHAR(10),\"\"),\nIF(R104=\"M\",\"-\"&INDEX(R$1:R$104,1)&CHAR(10),\"\"),\nIF(S104=\"M\",\"-\"&INDEX(S$1:S$104,1)&CHAR(10),\"\"),\nIF(T104=\"M\",\"-\"&INDEX(T$1:T$104,1)&CHAR(10),\"\"),\nIF(U104=\"M\",\"-\"&INDEX(U$1:U$104,1)&CHAR(10),\"\"),\nIF(V104=\"M\",\"-\"&INDEX(V$1:V$104,1)&CHAR(10),\"\"),\nIF(W104=\"M\",\"-\"&INDEX(W$1:W$104,1)&CHAR(10),\"\"),\nIF(X104=\"M\",\"-\"&INDEX(X$1:X$104,1)&CHAR(10),\"\"),\nIF(Y104=\"M\",\"-\"&INDEX(Y$1:Y$104,1)&CHAR(10),\"\"),\nIF(Z104=\"M\",\"-\"&INDEX(Z$1:Z$104,1)&CHAR(10),\"\"),\nIF(AA104=\"M\",\"-\"&INDEX(AA$1:AA$104,1)&CHAR(10),\"\"),\nIF(AB104=\"M\",\"-\"&INDEX(AB$1:AB$104,1)&CHAR(10),\"\"),\nIF(AC104=\"M\",\"-\"&INDEX(AC$1:AC$104,1)&CHAR(10),\"\"),\nIF(AD104=\"M\",\"-\"&INDEX(AD$1:AD$104,1)&CHAR(10),\"\"))","v":""},"","","-Working at Height.Statement of Attainment.RIIWHS204 - Work safely at height\n",""]
["UG Service Location - Supervisor","M","M","M",null,"M","M","M",null,null,"SE1000, RF0003",null,null,null,null,null,null,null,null,null,null,null,null,null,null,null,null,null,null,null,null,null,null,null,null,null,null,null,null,null,null,null,null,null,null,null,null,null,null,null,null,null,null,null,null,null,null,null,null,null,null,null,null,null,null,null,null,null,null,null,null,null,null,null,null,null,null,null,null,null,null,null,null,null,null,null,null,null,null,null,null,null,null,null,null,null,null,null,null,null,"M",null,null,null,null,null,null,null,null,null,null,null,null,null,null,null,null,null,null,null,null,null,null,null,null,null,null,null,"-First Aid.Statement of Attainment.HLTAID001 - Perform CPR\n-Electrical.Statement of Attainment.UETTDRRF06 - Perform rescue from a live LV panel\n-Electrical.Statement of Attainment.UETTDRRF10 - First Aid in an ESI Environment","-Working at Height.Statement of Attainment.RIIWHS204 - Work safely at height\n",{"$f":"CONCATENATE(\nIF(E105=\"M\",\"-\"&INDEX(E$1:E$104,1)&CHAR(10),\"\"),\nIF(F105=\"M\",\"-\"&INDEX(F$1:F$104,1)&CHAR(10),\"\"),\nIF(G105=\"M\",\"-\"&INDEX(G$1:G$104,1)&CHAR(10),\"\"),\nIF(H105=\"M\",\"-\"&INDEX(H$1:H$104,1)&CHAR(10),\"\"),\nIF(I105=\"M\",\"-\"&INDEX(I$1:I$104,1)&CHAR(10),\"\"),\nIF(J105=\"M\",\"-\"&INDEX(J$1:J$104,1)&CHAR(10),\"\"),\nIF(K105=\"M\",\"-\"&INDEX(K$1:K$104,1)&CHAR(10),\"\"),\nIF(L105=\"M\",\"-\"&INDEX(L$1:L$104,1)&CHAR(10),\"\"),\nIF(M105=\"M\",\"-\"&INDEX(M$1:M172,1)&CHAR(10),\"\"),\nIF(N105=\"M\",\"-\"&INDEX(N$1:N$104,1)&CHAR(10),\"\"),\nIF(O105=\"M\",\"-\"&INDEX(O$1:O$104,1)&CHAR(10),\"\"),\nIF(P105=\"M\",\"-\"&INDEX(P$1:P$104,1)&CHAR(10),\"\"),\nIF(Q105=\"M\",\"-\"&INDEX(Q$1:Q$104,1)&CHAR(10),\"\"),\nIF(R105=\"M\",\"-\"&INDEX(R$1:R$104,1)&CHAR(10),\"\"),\nIF(S105=\"M\",\"-\"&INDEX(S$1:S$104,1)&CHAR(10),\"\"),\nIF(T105=\"M\",\"-\"&INDEX(T$1:T$104,1)&CHAR(10),\"\"),\nIF(U105=\"M\",\"-\"&INDEX(U$1:U$104,1)&CHAR(10),\"\"),\nIF(V105=\"M\",\"-\"&INDEX(V$1:V$104,1)&CHAR(10),\"\"),\nIF(W105=\"M\",\"-\"&INDEX(W$1:W$104,1)&CHAR(10),\"\"),\nIF(X105=\"M\",\"-\"&INDEX(X$1:X$104,1)&CHAR(10),\"\"),\nIF(Y105=\"M\",\"-\"&INDEX(Y$1:Y$104,1)&CHAR(10),\"\"),\nIF(Z105=\"M\",\"-\"&INDEX(Z$1:Z$104,1)&CHAR(10),\"\"),\nIF(AA105=\"M\",\"-\"&INDEX(AA$1:AA$104,1)&CHAR(10),\"\"),\nIF(AB105=\"M\",\"-\"&INDEX(AB$1:AB$104,1)&CHAR(10),\"\"),\nIF(AC105=\"M\",\"-\"&INDEX(AC$1:AC$104,1)&CHAR(10),\"\"),\nIF(AD105=\"M\",\"-\"&INDEX(AD$1:AD$104,1)&CHAR(10),\"\"))","v":"-Electrical.Statement of Attainment.UETTDRRF01 - Apply ESI safety rules, codes of practice and procedures for work\n-Network Operator.Certificate.I0102 - Ausgrid - Environmental Awareness\n-Electrical.Statement of Attainment.UETTDRRF09 - Apply access procedures to work on or near electrical network infrastructure\n"},"","","-Working at Height.Statement of Attainment.RIIWHS204 - Work safely at height\n",""]
["UG Service Location - Worker","M","M","M",null,"M","M","M",null,null,"SE1000, RF0003",null,null,null,null,null,null,null,null,null,null,null,null,null,null,null,null,null,null,null,null,null,null,null,null,null,null,null,null,null,null,null,null,null,null,null,null,null,null,null,null,null,null,null,null,null,null,null,null,null,null,null,null,null,null,null,null,null,null,null,null,null,null,null,null,null,null,null,null,null,null,null,null,null,null,null,null,null,null,null,null,null,null,null,null,null,null,null,"M","M",null,null,null,null,null,null,null,null,null,null,"M",null,null,null,null,null,null,null,null,null,null,null,null,null,null,null,null,null,"-First Aid.Statement of Attainment.HLTAID001 - Perform CPR\n-Electrical.Statement of Attainment.UETTDRRF06 - Perform rescue from a live LV panel\n-Electrical.Statement of Attainment.UETTDRRF10 - First Aid in an ESI Environment","-Traffic Controller.Statement of Attainment.RIIWHS205 - Control traffic with a stop/slow bat\n-Traffic Controller.Statement of Attainment.RIIWHS302 - Implement traffic management plan\n-OH&S-WHS.Statement of Attainment.RIIWHS201 - Work safely and follow WHS policies and work procedures \n",{"$f":"CONCATENATE(\nIF(E106=\"M\",\"-\"&INDEX(E$1:E$104,1)&CHAR(10),\"\"),\nIF(F106=\"M\",\"-\"&INDEX(F$1:F$104,1)&CHAR(10),\"\"),\nIF(G106=\"M\",\"-\"&INDEX(G$1:G$104,1)&CHAR(10),\"\"),\nIF(H106=\"M\",\"-\"&INDEX(H$1:H$104,1)&CHAR(10),\"\"),\nIF(I106=\"M\",\"-\"&INDEX(I$1:I$104,1)&CHAR(10),\"\"),\nIF(J106=\"M\",\"-\"&INDEX(J$1:J$104,1)&CHAR(10),\"\"),\nIF(K106=\"M\",\"-\"&INDEX(K$1:K$104,1)&CHAR(10),\"\"),\nIF(L106=\"M\",\"-\"&INDEX(L$1:L$104,1)&CHAR(10),\"\"),\nIF(M106=\"M\",\"-\"&INDEX(M$1:M173,1)&CHAR(10),\"\"),\nIF(N106=\"M\",\"-\"&INDEX(N$1:N$104,1)&CHAR(10),\"\"),\nIF(O106=\"M\",\"-\"&INDEX(O$1:O$104,1)&CHAR(10),\"\"),\nIF(P106=\"M\",\"-\"&INDEX(P$1:P$104,1)&CHAR(10),\"\"),\nIF(Q106=\"M\",\"-\"&INDEX(Q$1:Q$104,1)&CHAR(10),\"\"),\nIF(R106=\"M\",\"-\"&INDEX(R$1:R$104,1)&CHAR(10),\"\"),\nIF(S106=\"M\",\"-\"&INDEX(S$1:S$104,1)&CHAR(10),\"\"),\nIF(T106=\"M\",\"-\"&INDEX(T$1:T$104,1)&CHAR(10),\"\"),\nIF(U106=\"M\",\"-\"&INDEX(U$1:U$104,1)&CHAR(10),\"\"),\nIF(V106=\"M\",\"-\"&INDEX(V$1:V$104,1)&CHAR(10),\"\"),\nIF(W106=\"M\",\"-\"&INDEX(W$1:W$104,1)&CHAR(10),\"\"),\nIF(X106=\"M\",\"-\"&INDEX(X$1:X$104,1)&CHAR(10),\"\"),\nIF(Y106=\"M\",\"-\"&INDEX(Y$1:Y$104,1)&CHAR(10),\"\"),\nIF(Z106=\"M\",\"-\"&INDEX(Z$1:Z$104,1)&CHAR(10),\"\"),\nIF(AA106=\"M\",\"-\"&INDEX(AA$1:AA$104,1)&CHAR(10),\"\"),\nIF(AB106=\"M\",\"-\"&INDEX(AB$1:AB$104,1)&CHAR(10),\"\"),\nIF(AC106=\"M\",\"-\"&INDEX(AC$1:AC$104,1)&CHAR(10),\"\"),\nIF(AD106=\"M\",\"-\"&INDEX(AD$1:AD$104,1)&CHAR(10),\"\"))","v":"-Electrical.Statement of Attainment.UETTDRRF01 - Apply ESI safety rules, codes of practice and procedures for work\n-Network Operator.Certificate.I0102 - Ausgrid - Environmental Awareness\n-Electrical.Statement of Attainment.UETTDRRF09 - Apply access procedures to work on or near electrical network infrastructure\n"},"","","-Traffic Controller.Statement of Attainment.RIIWHS205 - Control traffic with a stop/slow bat\n-Traffic Controller.Statement of Attainment.RIIWHS302 - Implement traffic management plan\n","-OH&S-WHS.Statement of Attainment.RIIWHS201 - Work safely and follow WHS policies and work procedures \n"]
["Vegatation - Tree Climber / Observer","M","M","M",null,"M","M","M",null,null,"SE1000, RF0003",null,null,null,null,null,null,null,null,null,null,null,null,null,null,null,null,null,null,null,null,null,null,null,null,null,null,"N",null,null,null,null,null,null,null,"M","M","M",null,"M","M",null,null,"M","M",null,null,null,null,null,null,null,null,null,null,null,null,null,null,null,null,null,null,null,null,null,null,null,"N","N","M","M","M","N",null,null,null,null,null,null,null,null,null,null,null,null,null,"M","M",null,null,null,null,null,null,null,null,null,null,null,"M",null,null,null,null,null,null,null,null,null,null,null,null,null,null,null,null,null,"-First Aid.Statement of Attainment.HLTAID001 - Perform CPR\n-Electrical.Statement of Attainment.UETTDRRF06 - Perform rescue from a live LV panel\n-Electrical.Statement of Attainment.UETTDRRF10 - First Aid in an ESI Environment","-Electrical.Statement of Attainment.UETTDRVC21 – Use climbing techniques to cut vegetation near live electrical apparatus\n-Electrical.Statement of Attainment.UETTDRVC23 - Plan for the removal of vegetation up to veg exclusion zone near live electrical appar\n-Electrical.Statement of Attainment.UETTDRVC24 – Assess vegetation and recommend control measures in an ESI environment  \n-Electrical.Statement of Attainment.UETTDRVC26 – Cut vegetation at ground near live electrical apparatus\n-Electrical.Statement of Attainment.UETTDRVC27 - Monitor safety compliance for vegetation control work in an ESI environment\n-Electrical.Statement of Attainment.UETTDRVC33 - Apply pruning techniques to vegetation control near live electrical apparatus\n-Electrical.Statement of Attainment.UETTDRVC34 – Undertake release & rescue from a tree near live electrical apparatus\n-Horticulture.Statement of Attainment.AHCARB312 - Use standard climbing techniques to access trees\n-Horticulture.Statement of Attainment.AHCPCM201 - Recognise plants\n-Horticulture.Statement of Attainment.AHCPCM203 - Fell small trees\n-Traffic Controller.Statement of Attainment.RIICWD503 - Prepare work zone traffic management plan\n-Traffic Controller.Statement of Attainment.RIIWHS205 - Control traffic with a stop/slow bat\n-OH&S-WHS.Statement of Attainment.RIIWHS201 - Work safely and follow WHS policies and work procedures \n",{"$f":"CONCATENATE(\nIF(E107=\"M\",\"-\"&INDEX(E$1:E$104,1)&CHAR(10),\"\"),\nIF(F107=\"M\",\"-\"&INDEX(F$1:F$104,1)&CHAR(10),\"\"),\nIF(G107=\"M\",\"-\"&INDEX(G$1:G$104,1)&CHAR(10),\"\"),\nIF(H107=\"M\",\"-\"&INDEX(H$1:H$104,1)&CHAR(10),\"\"),\nIF(I107=\"M\",\"-\"&INDEX(I$1:I$104,1)&CHAR(10),\"\"),\nIF(J107=\"M\",\"-\"&INDEX(J$1:J$104,1)&CHAR(10),\"\"),\nIF(K107=\"M\",\"-\"&INDEX(K$1:K$104,1)&CHAR(10),\"\"),\nIF(L107=\"M\",\"-\"&INDEX(L$1:L$104,1)&CHAR(10),\"\"),\nIF(M107=\"M\",\"-\"&INDEX(M$1:M174,1)&CHAR(10),\"\"),\nIF(N107=\"M\",\"-\"&INDEX(N$1:N$104,1)&CHAR(10),\"\"),\nIF(O107=\"M\",\"-\"&INDEX(O$1:O$104,1)&CHAR(10),\"\"),\nIF(P107=\"M\",\"-\"&INDEX(P$1:P$104,1)&CHAR(10),\"\"),\nIF(Q107=\"M\",\"-\"&INDEX(Q$1:Q$104,1)&CHAR(10),\"\"),\nIF(R107=\"M\",\"-\"&INDEX(R$1:R$104,1)&CHAR(10),\"\"),\nIF(S107=\"M\",\"-\"&INDEX(S$1:S$104,1)&CHAR(10),\"\"),\nIF(T107=\"M\",\"-\"&INDEX(T$1:T$104,1)&CHAR(10),\"\"),\nIF(U107=\"M\",\"-\"&INDEX(U$1:U$104,1)&CHAR(10),\"\"),\nIF(V107=\"M\",\"-\"&INDEX(V$1:V$104,1)&CHAR(10),\"\"),\nIF(W107=\"M\",\"-\"&INDEX(W$1:W$104,1)&CHAR(10),\"\"),\nIF(X107=\"M\",\"-\"&INDEX(X$1:X$104,1)&CHAR(10),\"\"),\nIF(Y107=\"M\",\"-\"&INDEX(Y$1:Y$104,1)&CHAR(10),\"\"),\nIF(Z107=\"M\",\"-\"&INDEX(Z$1:Z$104,1)&CHAR(10),\"\"),\nIF(AA107=\"M\",\"-\"&INDEX(AA$1:AA$104,1)&CHAR(10),\"\"),\nIF(AB107=\"M\",\"-\"&INDEX(AB$1:AB$104,1)&CHAR(10),\"\"),\nIF(AC107=\"M\",\"-\"&INDEX(AC$1:AC$104,1)&CHAR(10),\"\"),\nIF(AD107=\"M\",\"-\"&INDEX(AD$1:AD$104,1)&CHAR(10),\"\"))","v":"-Electrical.Statement of Attainment.UETTDRRF01 - Apply ESI safety rules, codes of practice and procedures for work\n-Network Operator.Certificate.I0102 - Ausgrid - Environmental Awareness\n-Electrical.Statement of Attainment.UETTDRRF09 - Apply access procedures to work on or near electrical network infrastructure\n"},"-Electrical.Statement of Attainment.UETTDRVC21 – Use climbing techniques to cut vegetation near live electrical apparatus\n-Electrical.Statement of Attainment.UETTDRVC23 - Plan for the removal of vegetation up to veg exclusion zone near live electrical appar\n-Electrical.Statement of Attainment.UETTDRVC24 – Assess vegetation and recommend control measures in an ESI environment  \n-Electrical.Statement of Attainment.UETTDRVC26 – Cut vegetation at ground near live electrical apparatus\n-Electrical.Statement of Attainment.UETTDRVC27 - Monitor safety compliance for vegetation control work in an ESI environment\n-Electrical.Statement of Attainment.UETTDRVC33 - Apply pruning techniques to vegetation control near live electrical apparatus\n-Electrical.Statement of Attainment.UETTDRVC34 – Undertake release & rescue from a tree near live electrical apparatus\n","-Horticulture.Statement of Attainment.AHCARB312 - Use standard climbing techniques to access trees\n","-Horticulture.Statement of Attainment.AHCPCM201 - Recognise plants\n-Horticulture.Statement of Attainment.AHCPCM203 - Fell small trees\n-Traffic Controller.Statement of Attainment.RIICWD503 - Prepare work zone traffic management plan\n-Traffic Controller.Statement of Attainment.RIIWHS205 - Control traffic with a stop/slow bat\n","-OH&S-WHS.Statement of Attainment.RIIWHS201 - Work safely and follow WHS policies and work procedures \n"]
["Vegetation - Application of Working Earths - Line Worker","M","M","M",null,"M","M","M",null,null,"SE1000, RF0003",null,null,null,null,null,null,"M","M","N",null,null,null,"M","M",null,"M",null,null,null,"SE1004/RF0002",null,null,null,null,null,null,"N",null,null,null,null,null,null,null,null,null,null,null,null,null,null,null,null,null,null,null,null,null,"M",null,null,null,null,null,null,null,null,null,null,null,null,null,null,null,null,null,null,null,null,null,"M",null,null,null,null,null,null,null,null,null,null,null,null,null,null,null,null,"M",null,null,null,null,null,null,null,null,null,null,null,"M",null,null,null,null,null,null,null,null,null,null,null,null,null,null,null,null,null,"-First Aid.Statement of Attainment.HLTAID001 - Perform CPR\n-Electrical.Statement of Attainment.UETTDRRF06 - Perform rescue from a live LV panel\n-Electrical.Statement of Attainment.UETTDRRF10 - First Aid in an ESI Environment","-High Risk Work.Licence.Boom Type Elevated Work Platform (WP)\n-Horticulture.Statement of Attainment.AHCPCM201 - Recognise plants\n-Traffic Controller.Statement of Attainment.RIIWHS205 - Control traffic with a stop/slow bat\n-OH&S-WHS.Statement of Attainment.RIIWHS201 - Work safely and follow WHS policies and work procedures \n",{"$f":"CONCATENATE(\nIF(E108=\"M\",\"-\"&INDEX(E$1:E$104,1)&CHAR(10),\"\"),\nIF(F108=\"M\",\"-\"&INDEX(F$1:F$104,1)&CHAR(10),\"\"),\nIF(G108=\"M\",\"-\"&INDEX(G$1:G$104,1)&CHAR(10),\"\"),\nIF(H108=\"M\",\"-\"&INDEX(H$1:H$104,1)&CHAR(10),\"\"),\nIF(I108=\"M\",\"-\"&INDEX(I$1:I$104,1)&CHAR(10),\"\"),\nIF(J108=\"M\",\"-\"&INDEX(J$1:J$104,1)&CHAR(10),\"\"),\nIF(K108=\"M\",\"-\"&INDEX(K$1:K$104,1)&CHAR(10),\"\"),\nIF(L108=\"M\",\"-\"&INDEX(L$1:L$104,1)&CHAR(10),\"\"),\nIF(M108=\"M\",\"-\"&INDEX(M$1:M175,1)&CHAR(10),\"\"),\nIF(N108=\"M\",\"-\"&INDEX(N$1:N$104,1)&CHAR(10),\"\"),\nIF(O108=\"M\",\"-\"&INDEX(O$1:O$104,1)&CHAR(10),\"\"),\nIF(P108=\"M\",\"-\"&INDEX(P$1:P$104,1)&CHAR(10),\"\"),\nIF(Q108=\"M\",\"-\"&INDEX(Q$1:Q$104,1)&CHAR(10),\"\"),\nIF(R108=\"M\",\"-\"&INDEX(R$1:R$104,1)&CHAR(10),\"\"),\nIF(S108=\"M\",\"-\"&INDEX(S$1:S$104,1)&CHAR(10),\"\"),\nIF(T108=\"M\",\"-\"&INDEX(T$1:T$104,1)&CHAR(10),\"\"),\nIF(U108=\"M\",\"-\"&INDEX(U$1:U$104,1)&CHAR(10),\"\"),\nIF(V108=\"M\",\"-\"&INDEX(V$1:V$104,1)&CHAR(10),\"\"),\nIF(W108=\"M\",\"-\"&INDEX(W$1:W$104,1)&CHAR(10),\"\"),\nIF(X108=\"M\",\"-\"&INDEX(X$1:X$104,1)&CHAR(10),\"\"),\nIF(Y108=\"M\",\"-\"&INDEX(Y$1:Y$104,1)&CHAR(10),\"\"),\nIF(Z108=\"M\",\"-\"&INDEX(Z$1:Z$104,1)&CHAR(10),\"\"),\nIF(AA108=\"M\",\"-\"&INDEX(AA$1:AA$104,1)&CHAR(10),\"\"),\nIF(AB108=\"M\",\"-\"&INDEX(AB$1:AB$104,1)&CHAR(10),\"\"),\nIF(AC108=\"M\",\"-\"&INDEX(AC$1:AC$104,1)&CHAR(10),\"\"),\nIF(AD108=\"M\",\"-\"&INDEX(AD$1:AD$104,1)&CHAR(10),\"\"))","v":"-Electrical.Statement of Attainment.UETTDRRF01 - Apply ESI safety rules, codes of practice and procedures for work\n-Network Operator.Certificate.I0102 - Ausgrid - Environmental Awareness\n-Electrical.Statement of Attainment.UETTDRRF09 - Apply access procedures to work on or near electrical network infrastructure\n-Network Operator.Certificate.M1503 - Ausgrid - Lineworkers Fall Arrest Harness \n-Network Operator.Certificate.M1806 - Safe Working Aloft \n-Network Operator.Certificate.TTDO1570 - Ausgrid - Application of temporary insulation\n-Network Operator.Certificate.TTGE1574 - Neutral and Phase Identification Using Test Lamps\n-Network Operator.Certificate.TTDO1804 - Ausgrid - Erection of Earths\n"},"","-High Risk Work.Licence.Boom Type Elevated Work Platform (WP)\n","-Horticulture.Statement of Attainment.AHCPCM201 - Recognise plants\n-Traffic Controller.Statement of Attainment.RIIWHS205 - Control traffic with a stop/slow bat\n","-OH&S-WHS.Statement of Attainment.RIIWHS201 - Work safely and follow WHS policies and work procedures \n"]
["Vegetation - Application of Working Earths - Other Electrical","M","M","M",null,"M","M","M",null,null,"SE1000, RF0003",null,null,null,null,null,null,"M","M","N",null,null,null,"M","M",null,"M",null,null,null,"SE1004/RF0002",null,null,null,null,null,null,"N",null,null,null,"N","N",null,null,null,null,null,null,null,null,null,null,null,null,null,null,null,null,"M",null,null,null,null,null,null,null,null,null,null,null,null,null,null,null,null,null,null,null,null,null,"M",null,null,null,null,null,null,null,null,null,null,null,null,null,null,null,"M","M","M",null,null,null,null,null,null,null,null,null,null,null,null,null,null,null,null,null,null,null,null,null,null,null,null,null,null,null,null,"-First Aid.Statement of Attainment.HLTAID001 - Perform CPR\n-Electrical.Statement of Attainment.UETTDRRF06 - Perform rescue from a live LV panel\n-Electrical.Statement of Attainment.UETTDRRF10 - First Aid in an ESI Environment","-High Risk Work.Licence.Boom Type Elevated Work Platform (WP)\n-Horticulture.Statement of Attainment.AHCPCM201 - Recognise plants\n-Traffic Controller.Statement of Attainment.RIICWD503 - Prepare work zone traffic management plan\n-Traffic Controller.Statement of Attainment.RIIWHS205 - Control traffic with a stop/slow bat\n-Traffic Controller.Statement of Attainment.RIIWHS302 - Implement traffic management plan\n",{"$f":"CONCATENATE(\nIF(E109=\"M\",\"-\"&INDEX(E$1:E$104,1)&CHAR(10),\"\"),\nIF(F109=\"M\",\"-\"&INDEX(F$1:F$104,1)&CHAR(10),\"\"),\nIF(G109=\"M\",\"-\"&INDEX(G$1:G$104,1)&CHAR(10),\"\"),\nIF(H109=\"M\",\"-\"&INDEX(H$1:H$104,1)&CHAR(10),\"\"),\nIF(I109=\"M\",\"-\"&INDEX(I$1:I$104,1)&CHAR(10),\"\"),\nIF(J109=\"M\",\"-\"&INDEX(J$1:J$104,1)&CHAR(10),\"\"),\nIF(K109=\"M\",\"-\"&INDEX(K$1:K$104,1)&CHAR(10),\"\"),\nIF(L109=\"M\",\"-\"&INDEX(L$1:L$104,1)&CHAR(10),\"\"),\nIF(M109=\"M\",\"-\"&INDEX(M$1:M176,1)&CHAR(10),\"\"),\nIF(N109=\"M\",\"-\"&INDEX(N$1:N$104,1)&CHAR(10),\"\"),\nIF(O109=\"M\",\"-\"&INDEX(O$1:O$104,1)&CHAR(10),\"\"),\nIF(P109=\"M\",\"-\"&INDEX(P$1:P$104,1)&CHAR(10),\"\"),\nIF(Q109=\"M\",\"-\"&INDEX(Q$1:Q$104,1)&CHAR(10),\"\"),\nIF(R109=\"M\",\"-\"&INDEX(R$1:R$104,1)&CHAR(10),\"\"),\nIF(S109=\"M\",\"-\"&INDEX(S$1:S$104,1)&CHAR(10),\"\"),\nIF(T109=\"M\",\"-\"&INDEX(T$1:T$104,1)&CHAR(10),\"\"),\nIF(U109=\"M\",\"-\"&INDEX(U$1:U$104,1)&CHAR(10),\"\"),\nIF(V109=\"M\",\"-\"&INDEX(V$1:V$104,1)&CHAR(10),\"\"),\nIF(W109=\"M\",\"-\"&INDEX(W$1:W$104,1)&CHAR(10),\"\"),\nIF(X109=\"M\",\"-\"&INDEX(X$1:X$104,1)&CHAR(10),\"\"),\nIF(Y109=\"M\",\"-\"&INDEX(Y$1:Y$104,1)&CHAR(10),\"\"),\nIF(Z109=\"M\",\"-\"&INDEX(Z$1:Z$104,1)&CHAR(10),\"\"),\nIF(AA109=\"M\",\"-\"&INDEX(AA$1:AA$104,1)&CHAR(10),\"\"),\nIF(AB109=\"M\",\"-\"&INDEX(AB$1:AB$104,1)&CHAR(10),\"\"),\nIF(AC109=\"M\",\"-\"&INDEX(AC$1:AC$104,1)&CHAR(10),\"\"),\nIF(AD109=\"M\",\"-\"&INDEX(AD$1:AD$104,1)&CHAR(10),\"\"))","v":"-Electrical.Statement of Attainment.UETTDRRF01 - Apply ESI safety rules, codes of practice and procedures for work\n-Network Operator.Certificate.I0102 - Ausgrid - Environmental Awareness\n-Electrical.Statement of Attainment.UETTDRRF09 - Apply access procedures to work on or near electrical network infrastructure\n-Network Operator.Certificate.M1503 - Ausgrid - Lineworkers Fall Arrest Harness \n-Network Operator.Certificate.M1806 - Safe Working Aloft \n-Network Operator.Certificate.TTDO1570 - Ausgrid - Application of temporary insulation\n-Network Operator.Certificate.TTGE1574 - Neutral and Phase Identification Using Test Lamps\n-Network Operator.Certificate.TTDO1804 - Ausgrid - Erection of Earths\n"},"","-High Risk Work.Licence.Boom Type Elevated Work Platform (WP)\n","-Horticulture.Statement of Attainment.AHCPCM201 - Recognise plants\n-Traffic Controller.Statement of Attainment.RIICWD503 - Prepare work zone traffic management plan\n-Traffic Controller.Statement of Attainment.RIIWHS205 - Control traffic with a stop/slow bat\n-Traffic Controller.Statement of Attainment.RIIWHS302 - Implement traffic management plan\n",""]
["Vegetation - Chipper Operator","M","M","M",null,"M","M","M",null,null,"SE1000, RF0003",null,null,null,null,null,null,null,null,null,null,null,null,null,null,null,null,null,null,null,null,null,null,null,null,null,null,"N",null,null,null,"N","N",null,null,null,null,null,null,null,null,null,null,null,null,null,null,null,null,null,null,null,null,null,null,null,null,null,null,null,null,null,null,null,null,null,null,null,null,null,null,null,null,null,null,null,null,null,null,null,null,null,null,null,null,null,null,null,null,null,null,null,null,null,null,null,null,null,null,null,null,null,null,null,null,null,null,null,null,null,null,null,null,null,null,null,null,null,"-First Aid.Statement of Attainment.HLTAID001 - Perform CPR\n-Electrical.Statement of Attainment.UETTDRRF06 - Perform rescue from a live LV panel\n-Electrical.Statement of Attainment.UETTDRRF10 - First Aid in an ESI Environment","",{"$f":"CONCATENATE(\nIF(E110=\"M\",\"-\"&INDEX(E$1:E$104,1)&CHAR(10),\"\"),\nIF(F110=\"M\",\"-\"&INDEX(F$1:F$104,1)&CHAR(10),\"\"),\nIF(G110=\"M\",\"-\"&INDEX(G$1:G$104,1)&CHAR(10),\"\"),\nIF(H110=\"M\",\"-\"&INDEX(H$1:H$104,1)&CHAR(10),\"\"),\nIF(I110=\"M\",\"-\"&INDEX(I$1:I$104,1)&CHAR(10),\"\"),\nIF(J110=\"M\",\"-\"&INDEX(J$1:J$104,1)&CHAR(10),\"\"),\nIF(K110=\"M\",\"-\"&INDEX(K$1:K$104,1)&CHAR(10),\"\"),\nIF(L110=\"M\",\"-\"&INDEX(L$1:L$104,1)&CHAR(10),\"\"),\nIF(M110=\"M\",\"-\"&INDEX(M$1:M177,1)&CHAR(10),\"\"),\nIF(N110=\"M\",\"-\"&INDEX(N$1:N$104,1)&CHAR(10),\"\"),\nIF(O110=\"M\",\"-\"&INDEX(O$1:O$104,1)&CHAR(10),\"\"),\nIF(P110=\"M\",\"-\"&INDEX(P$1:P$104,1)&CHAR(10),\"\"),\nIF(Q110=\"M\",\"-\"&INDEX(Q$1:Q$104,1)&CHAR(10),\"\"),\nIF(R110=\"M\",\"-\"&INDEX(R$1:R$104,1)&CHAR(10),\"\"),\nIF(S110=\"M\",\"-\"&INDEX(S$1:S$104,1)&CHAR(10),\"\"),\nIF(T110=\"M\",\"-\"&INDEX(T$1:T$104,1)&CHAR(10),\"\"),\nIF(U110=\"M\",\"-\"&INDEX(U$1:U$104,1)&CHAR(10),\"\"),\nIF(V110=\"M\",\"-\"&INDEX(V$1:V$104,1)&CHAR(10),\"\"),\nIF(W110=\"M\",\"-\"&INDEX(W$1:W$104,1)&CHAR(10),\"\"),\nIF(X110=\"M\",\"-\"&INDEX(X$1:X$104,1)&CHAR(10),\"\"),\nIF(Y110=\"M\",\"-\"&INDEX(Y$1:Y$104,1)&CHAR(10),\"\"),\nIF(Z110=\"M\",\"-\"&INDEX(Z$1:Z$104,1)&CHAR(10),\"\"),\nIF(AA110=\"M\",\"-\"&INDEX(AA$1:AA$104,1)&CHAR(10),\"\"),\nIF(AB110=\"M\",\"-\"&INDEX(AB$1:AB$104,1)&CHAR(10),\"\"),\nIF(AC110=\"M\",\"-\"&INDEX(AC$1:AC$104,1)&CHAR(10),\"\"),\nIF(AD110=\"M\",\"-\"&INDEX(AD$1:AD$104,1)&CHAR(10),\"\"))","v":"-Electrical.Statement of Attainment.UETTDRRF01 - Apply ESI safety rules, codes of practice and procedures for work\n-Network Operator.Certificate.I0102 - Ausgrid - Environmental Awareness\n-Electrical.Statement of Attainment.UETTDRRF09 - Apply access procedures to work on or near electrical network infrastructure\n"},"","","",""]
["Vegetation - EWP Operator / Observer HV Catt Authorised","M","M","M",null,"M","M","M",null,null,"SE1000, RF0003",null,null,null,null,null,null,null,null,null,null,null,null,null,null,null,null,null,null,null,null,"M","M",null,null,null,null,"N",null,null,null,"N","N",null,null,null,"M","M","M","M","M",null,null,"M",null,null,null,null,null,"M",null,null,null,null,null,null,null,null,null,null,null,null,null,null,null,null,null,null,null,null,null,"M","M",null,"M",null,null,null,null,null,null,null,null,null,null,null,null,null,null,null,null,null,null,null,null,null,null,null,null,null,null,null,null,null,null,null,null,null,null,null,null,null,null,null,null,null,null,null,"-First Aid.Statement of Attainment.HLTAID001 - Perform CPR\n-Electrical.Statement of Attainment.UETTDRRF06 - Perform rescue from a live LV panel\n-Electrical.Statement of Attainment.UETTDRRF10 - First Aid in an ESI Environment","-Electrical.Statement of Attainment.UETTDRRF03 - LV Release & Rescue from an EWP\n-Electrical.Statement of Attainment.UETTDRRF08 - CCD Release & Rescue from an EWP\n-Electrical.Statement of Attainment.UETTDRVC23 - Plan for the removal of vegetation up to veg exclusion zone near live electrical appar\n-Electrical.Statement of Attainment.UETTDRVC24 – Assess vegetation and recommend control measures in an ESI environment  \n-Electrical.Statement of Attainment.UETTDRVC25 – Use EWP to cut above ground vegetation near live electrical apparatus\n-Electrical.Statement of Attainment.UETTDRVC26 – Cut vegetation at ground near live electrical apparatus\n-Electrical.Statement of Attainment.UETTDRVC27 - Monitor safety compliance for vegetation control work in an ESI environment\n-Electrical.Statement of Attainment.UETTDRVC33 - Apply pruning techniques to vegetation control near live electrical apparatus\n-High Risk Work.Licence.Boom Type Elevated Work Platform (WP)\n-Horticulture.Statement of Attainment.AHCPCM201 - Recognise plants\n-Horticulture.Statement of Attainment.AHCPCM203 - Fell small trees\n-Horticulture.Statement of Attainment.FWPCOT2239 - Trim and cut felled trees\n",{"$f":"CONCATENATE(\nIF(E111=\"M\",\"-\"&INDEX(E$1:E$104,1)&CHAR(10),\"\"),\nIF(F111=\"M\",\"-\"&INDEX(F$1:F$104,1)&CHAR(10),\"\"),\nIF(G111=\"M\",\"-\"&INDEX(G$1:G$104,1)&CHAR(10),\"\"),\nIF(H111=\"M\",\"-\"&INDEX(H$1:H$104,1)&CHAR(10),\"\"),\nIF(I111=\"M\",\"-\"&INDEX(I$1:I$104,1)&CHAR(10),\"\"),\nIF(J111=\"M\",\"-\"&INDEX(J$1:J$104,1)&CHAR(10),\"\"),\nIF(K111=\"M\",\"-\"&INDEX(K$1:K$104,1)&CHAR(10),\"\"),\nIF(L111=\"M\",\"-\"&INDEX(L$1:L$104,1)&CHAR(10),\"\"),\nIF(M111=\"M\",\"-\"&INDEX(M$1:M178,1)&CHAR(10),\"\"),\nIF(N111=\"M\",\"-\"&INDEX(N$1:N$104,1)&CHAR(10),\"\"),\nIF(O111=\"M\",\"-\"&INDEX(O$1:O$104,1)&CHAR(10),\"\"),\nIF(P111=\"M\",\"-\"&INDEX(P$1:P$104,1)&CHAR(10),\"\"),\nIF(Q111=\"M\",\"-\"&INDEX(Q$1:Q$104,1)&CHAR(10),\"\"),\nIF(R111=\"M\",\"-\"&INDEX(R$1:R$104,1)&CHAR(10),\"\"),\nIF(S111=\"M\",\"-\"&INDEX(S$1:S$104,1)&CHAR(10),\"\"),\nIF(T111=\"M\",\"-\"&INDEX(T$1:T$104,1)&CHAR(10),\"\"),\nIF(U111=\"M\",\"-\"&INDEX(U$1:U$104,1)&CHAR(10),\"\"),\nIF(V111=\"M\",\"-\"&INDEX(V$1:V$104,1)&CHAR(10),\"\"),\nIF(W111=\"M\",\"-\"&INDEX(W$1:W$104,1)&CHAR(10),\"\"),\nIF(X111=\"M\",\"-\"&INDEX(X$1:X$104,1)&CHAR(10),\"\"),\nIF(Y111=\"M\",\"-\"&INDEX(Y$1:Y$104,1)&CHAR(10),\"\"),\nIF(Z111=\"M\",\"-\"&INDEX(Z$1:Z$104,1)&CHAR(10),\"\"),\nIF(AA111=\"M\",\"-\"&INDEX(AA$1:AA$104,1)&CHAR(10),\"\"),\nIF(AB111=\"M\",\"-\"&INDEX(AB$1:AB$104,1)&CHAR(10),\"\"),\nIF(AC111=\"M\",\"-\"&INDEX(AC$1:AC$104,1)&CHAR(10),\"\"),\nIF(AD111=\"M\",\"-\"&INDEX(AD$1:AD$104,1)&CHAR(10),\"\"))","v":"-Electrical.Statement of Attainment.UETTDRRF01 - Apply ESI safety rules, codes of practice and procedures for work\n-Network Operator.Certificate.I0102 - Ausgrid - Environmental Awareness\n-Electrical.Statement of Attainment.UETTDRRF09 - Apply access procedures to work on or near electrical network infrastructure\n"},"-Electrical.Statement of Attainment.UETTDRRF03 - LV Release & Rescue from an EWP\n-Electrical.Statement of Attainment.UETTDRRF08 - CCD Release & Rescue from an EWP\n-Electrical.Statement of Attainment.UETTDRVC23 - Plan for the removal of vegetation up to veg exclusion zone near live electrical appar\n-Electrical.Statement of Attainment.UETTDRVC24 – Assess vegetation and recommend control measures in an ESI environment  \n-Electrical.Statement of Attainment.UETTDRVC25 – Use EWP to cut above ground vegetation near live electrical apparatus\n-Electrical.Statement of Attainment.UETTDRVC26 – Cut vegetation at ground near live electrical apparatus\n-Electrical.Statement of Attainment.UETTDRVC27 - Monitor safety compliance for vegetation control work in an ESI environment\n-Electrical.Statement of Attainment.UETTDRVC33 - Apply pruning techniques to vegetation control near live electrical apparatus\n","-High Risk Work.Licence.Boom Type Elevated Work Platform (WP)\n","-Horticulture.Statement of Attainment.AHCPCM201 - Recognise plants\n-Horticulture.Statement of Attainment.AHCPCM203 - Fell small trees\n-Horticulture.Statement of Attainment.FWPCOT2239 - Trim and cut felled trees\n",""]
["Vegetation - EWP Operator / Observer LV Authorised","M","M","M",null,"M","M","M",null,null,"SE1000, RF0003",null,null,null,null,null,null,null,null,null,null,null,null,null,null,null,null,null,null,null,null,"M","M",null,null,null,null,"N",null,null,null,"N","N",null,null,null,"M","M","M","M","M",null,null,"M",null,null,null,null,null,"M",null,null,null,null,null,null,null,null,null,null,null,null,null,null,null,null,null,null,null,null,null,"M","M",null,"M",null,null,null,null,null,null,null,null,null,null,null,null,null,null,null,null,null,null,"M","M",null,null,null,null,null,null,"M","M",null,null,null,null,null,null,null,null,null,null,null,null,null,null,null,"-First Aid.Statement of Attainment.HLTAID001 - Perform CPR\n-Electrical.Statement of Attainment.UETTDRRF06 - Perform rescue from a live LV panel\n-Electrical.Statement of Attainment.UETTDRRF10 - First Aid in an ESI Environment","-Electrical.Statement of Attainment.UETTDRRF03 - LV Release & Rescue from an EWP\n-Electrical.Statement of Attainment.UETTDRRF08 - CCD Release & Rescue from an EWP\n-Electrical.Statement of Attainment.UETTDRVC23 - Plan for the removal of vegetation up to veg exclusion zone near live electrical appar\n-Electrical.Statement of Attainment.UETTDRVC24 – Assess vegetation and recommend control measures in an ESI environment  \n-Electrical.Statement of Attainment.UETTDRVC25 – Use EWP to cut above ground vegetation near live electrical apparatus\n-Electrical.Statement of Attainment.UETTDRVC26 – Cut vegetation at ground near live electrical apparatus\n-Electrical.Statement of Attainment.UETTDRVC27 - Monitor safety compliance for vegetation control work in an ESI environment\n-Electrical.Statement of Attainment.UETTDRVC33 - Apply pruning techniques to vegetation control near live electrical apparatus\n-High Risk Work.Licence.Boom Type Elevated Work Platform (WP)\n-Horticulture.Statement of Attainment.AHCPCM201 - Recognise plants\n-Horticulture.Statement of Attainment.AHCPCM203 - Fell small trees\n-Horticulture.Statement of Attainment.FWPCOT2239 - Trim and cut felled trees\n-Electrical.Statement of Attainment.UETTDREL13 - Comply with environmental and incidental response procedures\n-Electrical.Statement of Attainment.UETTDREL14 - Working safely near live electrical apparatus as a non electrical worker \n-OH&S-WHS.Statement of Attainment.UEENEEE101 - Apply OHS practices in the workplace\n-Operator Chainsaw.Statement of Attainment.AHCMOM213 - Operate and maintain chainsaws\n",{"$f":"CONCATENATE(\nIF(E112=\"M\",\"-\"&INDEX(E$1:E$104,1)&CHAR(10),\"\"),\nIF(F112=\"M\",\"-\"&INDEX(F$1:F$104,1)&CHAR(10),\"\"),\nIF(G112=\"M\",\"-\"&INDEX(G$1:G$104,1)&CHAR(10),\"\"),\nIF(H112=\"M\",\"-\"&INDEX(H$1:H$104,1)&CHAR(10),\"\"),\nIF(I112=\"M\",\"-\"&INDEX(I$1:I$104,1)&CHAR(10),\"\"),\nIF(J112=\"M\",\"-\"&INDEX(J$1:J$104,1)&CHAR(10),\"\"),\nIF(K112=\"M\",\"-\"&INDEX(K$1:K$104,1)&CHAR(10),\"\"),\nIF(L112=\"M\",\"-\"&INDEX(L$1:L$104,1)&CHAR(10),\"\"),\nIF(M112=\"M\",\"-\"&INDEX(M$1:M179,1)&CHAR(10),\"\"),\nIF(N112=\"M\",\"-\"&INDEX(N$1:N$104,1)&CHAR(10),\"\"),\nIF(O112=\"M\",\"-\"&INDEX(O$1:O$104,1)&CHAR(10),\"\"),\nIF(P112=\"M\",\"-\"&INDEX(P$1:P$104,1)&CHAR(10),\"\"),\nIF(Q112=\"M\",\"-\"&INDEX(Q$1:Q$104,1)&CHAR(10),\"\"),\nIF(R112=\"M\",\"-\"&INDEX(R$1:R$104,1)&CHAR(10),\"\"),\nIF(S112=\"M\",\"-\"&INDEX(S$1:S$104,1)&CHAR(10),\"\"),\nIF(T112=\"M\",\"-\"&INDEX(T$1:T$104,1)&CHAR(10),\"\"),\nIF(U112=\"M\",\"-\"&INDEX(U$1:U$104,1)&CHAR(10),\"\"),\nIF(V112=\"M\",\"-\"&INDEX(V$1:V$104,1)&CHAR(10),\"\"),\nIF(W112=\"M\",\"-\"&INDEX(W$1:W$104,1)&CHAR(10),\"\"),\nIF(X112=\"M\",\"-\"&INDEX(X$1:X$104,1)&CHAR(10),\"\"),\nIF(Y112=\"M\",\"-\"&INDEX(Y$1:Y$104,1)&CHAR(10),\"\"),\nIF(Z112=\"M\",\"-\"&INDEX(Z$1:Z$104,1)&CHAR(10),\"\"),\nIF(AA112=\"M\",\"-\"&INDEX(AA$1:AA$104,1)&CHAR(10),\"\"),\nIF(AB112=\"M\",\"-\"&INDEX(AB$1:AB$104,1)&CHAR(10),\"\"),\nIF(AC112=\"M\",\"-\"&INDEX(AC$1:AC$104,1)&CHAR(10),\"\"),\nIF(AD112=\"M\",\"-\"&INDEX(AD$1:AD$104,1)&CHAR(10),\"\"))","v":"-Electrical.Statement of Attainment.UETTDRRF01 - Apply ESI safety rules, codes of practice and procedures for work\n-Network Operator.Certificate.I0102 - Ausgrid - Environmental Awareness\n-Electrical.Statement of Attainment.UETTDRRF09 - Apply access procedures to work on or near electrical network infrastructure\n"},"-Electrical.Statement of Attainment.UETTDRRF03 - LV Release & Rescue from an EWP\n-Electrical.Statement of Attainment.UETTDRRF08 - CCD Release & Rescue from an EWP\n-Electrical.Statement of Attainment.UETTDRVC23 - Plan for the removal of vegetation up to veg exclusion zone near live electrical appar\n-Electrical.Statement of Attainment.UETTDRVC24 – Assess vegetation and recommend control measures in an ESI environment  \n-Electrical.Statement of Attainment.UETTDRVC25 – Use EWP to cut above ground vegetation near live electrical apparatus\n-Electrical.Statement of Attainment.UETTDRVC26 – Cut vegetation at ground near live electrical apparatus\n-Electrical.Statement of Attainment.UETTDRVC27 - Monitor safety compliance for vegetation control work in an ESI environment\n-Electrical.Statement of Attainment.UETTDRVC33 - Apply pruning techniques to vegetation control near live electrical apparatus\n","-High Risk Work.Licence.Boom Type Elevated Work Platform (WP)\n","-Horticulture.Statement of Attainment.AHCPCM201 - Recognise plants\n-Horticulture.Statement of Attainment.AHCPCM203 - Fell small trees\n-Horticulture.Statement of Attainment.FWPCOT2239 - Trim and cut felled trees\n-Electrical.Statement of Attainment.UETTDREL13 - Comply with environmental and incidental response procedures\n-Electrical.Statement of Attainment.UETTDREL14 - Working safely near live electrical apparatus as a non electrical worker \n","-OH&S-WHS.Statement of Attainment.UEENEEE101 - Apply OHS practices in the workplace\n-Operator Chainsaw.Statement of Attainment.AHCMOM213 - Operate and maintain chainsaws\n"]
["Vegetation - Ground Machinery Operator / Observer","M","M","M",null,"M","M","M",null,null,"SE1000, RF0003",null,null,null,null,null,null,null,null,null,null,null,null,null,null,null,null,null,null,null,null,null,null,null,null,null,null,"N",null,null,null,"N","N",null,null,null,"M","M",null,"M","M",null,null,"M",null,null,null,null,null,null,null,null,null,null,null,null,null,null,null,null,null,null,null,null,null,null,null,null,null,null,null,"M",null,null,null,null,null,null,null,null,null,null,null,null,null,null,null,null,null,null,null,null,"M","M",null,null,null,null,null,null,null,"M",null,null,null,null,null,null,null,null,null,null,null,null,null,null,null,null,"-First Aid.Statement of Attainment.HLTAID001 - Perform CPR\n-Electrical.Statement of Attainment.UETTDRRF06 - Perform rescue from a live LV panel\n-Electrical.Statement of Attainment.UETTDRRF10 - First Aid in an ESI Environment","-Electrical.Statement of Attainment.UETTDRVC23 - Plan for the removal of vegetation up to veg exclusion zone near live electrical appar\n-Electrical.Statement of Attainment.UETTDRVC24 – Assess vegetation and recommend control measures in an ESI environment  \n-Electrical.Statement of Attainment.UETTDRVC26 – Cut vegetation at ground near live electrical apparatus\n-Electrical.Statement of Attainment.UETTDRVC27 - Monitor safety compliance for vegetation control work in an ESI environment\n-Electrical.Statement of Attainment.UETTDRVC33 - Apply pruning techniques to vegetation control near live electrical apparatus\n-Horticulture.Statement of Attainment.AHCPCM201 - Recognise plants\n-Electrical.Certificate III.UET30612 - Certificate III in ESI - Power Systems - Distribution Overhead (Linesman) \n-Electrical.Statement of Attainment.UETTDREL13 - Comply with environmental and incidental response procedures\n-OH&S-WHS.Statement of Attainment.UEENEEE101 - Apply OHS practices in the workplace\n",{"$f":"CONCATENATE(\nIF(E113=\"M\",\"-\"&INDEX(E$1:E$104,1)&CHAR(10),\"\"),\nIF(F113=\"M\",\"-\"&INDEX(F$1:F$104,1)&CHAR(10),\"\"),\nIF(G113=\"M\",\"-\"&INDEX(G$1:G$104,1)&CHAR(10),\"\"),\nIF(H113=\"M\",\"-\"&INDEX(H$1:H$104,1)&CHAR(10),\"\"),\nIF(I113=\"M\",\"-\"&INDEX(I$1:I$104,1)&CHAR(10),\"\"),\nIF(J113=\"M\",\"-\"&INDEX(J$1:J$104,1)&CHAR(10),\"\"),\nIF(K113=\"M\",\"-\"&INDEX(K$1:K$104,1)&CHAR(10),\"\"),\nIF(L113=\"M\",\"-\"&INDEX(L$1:L$104,1)&CHAR(10),\"\"),\nIF(M113=\"M\",\"-\"&INDEX(M$1:M180,1)&CHAR(10),\"\"),\nIF(N113=\"M\",\"-\"&INDEX(N$1:N$104,1)&CHAR(10),\"\"),\nIF(O113=\"M\",\"-\"&INDEX(O$1:O$104,1)&CHAR(10),\"\"),\nIF(P113=\"M\",\"-\"&INDEX(P$1:P$104,1)&CHAR(10),\"\"),\nIF(Q113=\"M\",\"-\"&INDEX(Q$1:Q$104,1)&CHAR(10),\"\"),\nIF(R113=\"M\",\"-\"&INDEX(R$1:R$104,1)&CHAR(10),\"\"),\nIF(S113=\"M\",\"-\"&INDEX(S$1:S$104,1)&CHAR(10),\"\"),\nIF(T113=\"M\",\"-\"&INDEX(T$1:T$104,1)&CHAR(10),\"\"),\nIF(U113=\"M\",\"-\"&INDEX(U$1:U$104,1)&CHAR(10),\"\"),\nIF(V113=\"M\",\"-\"&INDEX(V$1:V$104,1)&CHAR(10),\"\"),\nIF(W113=\"M\",\"-\"&INDEX(W$1:W$104,1)&CHAR(10),\"\"),\nIF(X113=\"M\",\"-\"&INDEX(X$1:X$104,1)&CHAR(10),\"\"),\nIF(Y113=\"M\",\"-\"&INDEX(Y$1:Y$104,1)&CHAR(10),\"\"),\nIF(Z113=\"M\",\"-\"&INDEX(Z$1:Z$104,1)&CHAR(10),\"\"),\nIF(AA113=\"M\",\"-\"&INDEX(AA$1:AA$104,1)&CHAR(10),\"\"),\nIF(AB113=\"M\",\"-\"&INDEX(AB$1:AB$104,1)&CHAR(10),\"\"),\nIF(AC113=\"M\",\"-\"&INDEX(AC$1:AC$104,1)&CHAR(10),\"\"),\nIF(AD113=\"M\",\"-\"&INDEX(AD$1:AD$104,1)&CHAR(10),\"\"))","v":"-Electrical.Statement of Attainment.UETTDRRF01 - Apply ESI safety rules, codes of practice and procedures for work\n-Network Operator.Certificate.I0102 - Ausgrid - Environmental Awareness\n-Electrical.Statement of Attainment.UETTDRRF09 - Apply access procedures to work on or near electrical network infrastructure\n"},"-Electrical.Statement of Attainment.UETTDRVC23 - Plan for the removal of vegetation up to veg exclusion zone near live electrical appar\n-Electrical.Statement of Attainment.UETTDRVC24 – Assess vegetation and recommend control measures in an ESI environment  \n-Electrical.Statement of Attainment.UETTDRVC26 – Cut vegetation at ground near live electrical apparatus\n-Electrical.Statement of Attainment.UETTDRVC27 - Monitor safety compliance for vegetation control work in an ESI environment\n-Electrical.Statement of Attainment.UETTDRVC33 - Apply pruning techniques to vegetation control near live electrical apparatus\n","","-Horticulture.Statement of Attainment.AHCPCM201 - Recognise plants\n-Electrical.Certificate III.UET30612 - Certificate III in ESI - Power Systems - Distribution Overhead (Linesman) \n-Electrical.Statement of Attainment.UETTDREL13 - Comply with environmental and incidental response procedures\n","-OH&S-WHS.Statement of Attainment.UEENEEE101 - Apply OHS practices in the workplace\n"]
["Vegetation - Ground Vegetation Control","M","M","M",null,"M","M","M",null,null,"SE1000, RF0003",null,null,null,null,null,null,null,null,null,null,null,null,null,null,null,null,null,null,null,null,null,null,null,null,null,null,"N",null,null,null,"N","N",null,null,null,"M","M",null,"M","M",null,null,"M",null,null,null,null,null,null,null,null,null,null,null,null,null,null,null,null,null,null,null,null,null,null,null,null,null,null,null,"M","M",null,null,null,null,null,null,null,null,null,null,null,null,null,null,null,null,null,null,null,null,"M",null,null,null,null,null,null,null,"M",null,null,null,null,null,null,null,null,null,null,null,null,null,null,null,null,"-First Aid.Statement of Attainment.HLTAID001 - Perform CPR\n-Electrical.Statement of Attainment.UETTDRRF06 - Perform rescue from a live LV panel\n-Electrical.Statement of Attainment.UETTDRRF10 - First Aid in an ESI Environment","-Electrical.Statement of Attainment.UETTDRVC23 - Plan for the removal of vegetation up to veg exclusion zone near live electrical appar\n-Electrical.Statement of Attainment.UETTDRVC24 – Assess vegetation and recommend control measures in an ESI environment  \n-Electrical.Statement of Attainment.UETTDRVC26 – Cut vegetation at ground near live electrical apparatus\n-Electrical.Statement of Attainment.UETTDRVC27 - Monitor safety compliance for vegetation control work in an ESI environment\n-Electrical.Statement of Attainment.UETTDRVC33 - Apply pruning techniques to vegetation control near live electrical apparatus\n-Horticulture.Statement of Attainment.AHCPCM201 - Recognise plants\n-Horticulture.Statement of Attainment.AHCPCM203 - Fell small trees\n-Electrical.Statement of Attainment.UETTDREL13 - Comply with environmental and incidental response procedures\n-OH&S-WHS.Statement of Attainment.UEENEEE101 - Apply OHS practices in the workplace\n",{"$f":"CONCATENATE(\nIF(E114=\"M\",\"-\"&INDEX(E$1:E$104,1)&CHAR(10),\"\"),\nIF(F114=\"M\",\"-\"&INDEX(F$1:F$104,1)&CHAR(10),\"\"),\nIF(G114=\"M\",\"-\"&INDEX(G$1:G$104,1)&CHAR(10),\"\"),\nIF(H114=\"M\",\"-\"&INDEX(H$1:H$104,1)&CHAR(10),\"\"),\nIF(I114=\"M\",\"-\"&INDEX(I$1:I$104,1)&CHAR(10),\"\"),\nIF(J114=\"M\",\"-\"&INDEX(J$1:J$104,1)&CHAR(10),\"\"),\nIF(K114=\"M\",\"-\"&INDEX(K$1:K$104,1)&CHAR(10),\"\"),\nIF(L114=\"M\",\"-\"&INDEX(L$1:L$104,1)&CHAR(10),\"\"),\nIF(M114=\"M\",\"-\"&INDEX(M$1:M181,1)&CHAR(10),\"\"),\nIF(N114=\"M\",\"-\"&INDEX(N$1:N$104,1)&CHAR(10),\"\"),\nIF(O114=\"M\",\"-\"&INDEX(O$1:O$104,1)&CHAR(10),\"\"),\nIF(P114=\"M\",\"-\"&INDEX(P$1:P$104,1)&CHAR(10),\"\"),\nIF(Q114=\"M\",\"-\"&INDEX(Q$1:Q$104,1)&CHAR(10),\"\"),\nIF(R114=\"M\",\"-\"&INDEX(R$1:R$104,1)&CHAR(10),\"\"),\nIF(S114=\"M\",\"-\"&INDEX(S$1:S$104,1)&CHAR(10),\"\"),\nIF(T114=\"M\",\"-\"&INDEX(T$1:T$104,1)&CHAR(10),\"\"),\nIF(U114=\"M\",\"-\"&INDEX(U$1:U$104,1)&CHAR(10),\"\"),\nIF(V114=\"M\",\"-\"&INDEX(V$1:V$104,1)&CHAR(10),\"\"),\nIF(W114=\"M\",\"-\"&INDEX(W$1:W$104,1)&CHAR(10),\"\"),\nIF(X114=\"M\",\"-\"&INDEX(X$1:X$104,1)&CHAR(10),\"\"),\nIF(Y114=\"M\",\"-\"&INDEX(Y$1:Y$104,1)&CHAR(10),\"\"),\nIF(Z114=\"M\",\"-\"&INDEX(Z$1:Z$104,1)&CHAR(10),\"\"),\nIF(AA114=\"M\",\"-\"&INDEX(AA$1:AA$104,1)&CHAR(10),\"\"),\nIF(AB114=\"M\",\"-\"&INDEX(AB$1:AB$104,1)&CHAR(10),\"\"),\nIF(AC114=\"M\",\"-\"&INDEX(AC$1:AC$104,1)&CHAR(10),\"\"),\nIF(AD114=\"M\",\"-\"&INDEX(AD$1:AD$104,1)&CHAR(10),\"\"))","v":"-Electrical.Statement of Attainment.UETTDRRF01 - Apply ESI safety rules, codes of practice and procedures for work\n-Network Operator.Certificate.I0102 - Ausgrid - Environmental Awareness\n-Electrical.Statement of Attainment.UETTDRRF09 - Apply access procedures to work on or near electrical network infrastructure\n"},"-Electrical.Statement of Attainment.UETTDRVC23 - Plan for the removal of vegetation up to veg exclusion zone near live electrical appar\n-Electrical.Statement of Attainment.UETTDRVC24 – Assess vegetation and recommend control measures in an ESI environment  \n-Electrical.Statement of Attainment.UETTDRVC26 – Cut vegetation at ground near live electrical apparatus\n-Electrical.Statement of Attainment.UETTDRVC27 - Monitor safety compliance for vegetation control work in an ESI environment\n-Electrical.Statement of Attainment.UETTDRVC33 - Apply pruning techniques to vegetation control near live electrical apparatus\n","","-Horticulture.Statement of Attainment.AHCPCM201 - Recognise plants\n-Horticulture.Statement of Attainment.AHCPCM203 - Fell small trees\n-Electrical.Statement of Attainment.UETTDREL13 - Comply with environmental and incidental response procedures\n","-OH&S-WHS.Statement of Attainment.UEENEEE101 - Apply OHS practices in the workplace\n"]
["Vegetation - Jarraf Operator / Observer","M","M","M",null,"M","M","M",null,null,"SE1000, RF0003",null,null,null,null,null,null,null,null,null,null,null,null,null,null,null,null,null,null,null,null,null,null,null,null,null,null,"N",null,null,null,"N","N",null,null,null,"M","M",null,"M","M","M","M","M",null,null,null,null,null,null,null,null,null,null,null,null,null,null,null,null,null,null,null,null,null,null,null,null,null,null,null,"M",null,null,null,null,null,null,null,null,null,null,null,null,null,null,null,null,null,null,null,null,null,"M",null,null,null,null,null,null,null,"M","M",null,"M",null,null,null,null,null,null,null,null,null,null,null,null,null,"-First Aid.Statement of Attainment.HLTAID001 - Perform CPR\n-Electrical.Statement of Attainment.UETTDRRF06 - Perform rescue from a live LV panel\n-Electrical.Statement of Attainment.UETTDRRF10 - First Aid in an ESI Environment","-Electrical.Statement of Attainment.UETTDRVC23 - Plan for the removal of vegetation up to veg exclusion zone near live electrical appar\n-Electrical.Statement of Attainment.UETTDRVC24 – Assess vegetation and recommend control measures in an ESI environment  \n-Electrical.Statement of Attainment.UETTDRVC26 – Cut vegetation at ground near live electrical apparatus\n-Electrical.Statement of Attainment.UETTDRVC27 - Monitor safety compliance for vegetation control work in an ESI environment\n-Electrical.Statement of Attainment.UETTDRVC31 – Operate specialised plant & equipment at ground level near live electrical apparatus \n-Electrical.Statement of Attainment.UETTDRVC32 - Use specialised plant to cut vegetation above ground level near live electrical appara\n-Electrical.Statement of Attainment.UETTDRVC33 - Apply pruning techniques to vegetation control near live electrical apparatus\n-Horticulture.Statement of Attainment.AHCPCM201 - Recognise plants\n-Electrical.Statement of Attainment.UETTDREL13 - Comply with environmental and incidental response procedures\n-OH&S-WHS.Statement of Attainment.UEENEEE101 - Apply OHS practices in the workplace\n-Operator Chainsaw.Statement of Attainment.AHCMOM213 - Operate and maintain chainsaws\n-Operator.Statement of Attainment.AHCMOM304 - Operate machinery and equipment\n",{"$f":"CONCATENATE(\nIF(E115=\"M\",\"-\"&INDEX(E$1:E$104,1)&CHAR(10),\"\"),\nIF(F115=\"M\",\"-\"&INDEX(F$1:F$104,1)&CHAR(10),\"\"),\nIF(G115=\"M\",\"-\"&INDEX(G$1:G$104,1)&CHAR(10),\"\"),\nIF(H115=\"M\",\"-\"&INDEX(H$1:H$104,1)&CHAR(10),\"\"),\nIF(I115=\"M\",\"-\"&INDEX(I$1:I$104,1)&CHAR(10),\"\"),\nIF(J115=\"M\",\"-\"&INDEX(J$1:J$104,1)&CHAR(10),\"\"),\nIF(K115=\"M\",\"-\"&INDEX(K$1:K$104,1)&CHAR(10),\"\"),\nIF(L115=\"M\",\"-\"&INDEX(L$1:L$104,1)&CHAR(10),\"\"),\nIF(M115=\"M\",\"-\"&INDEX(M$1:M182,1)&CHAR(10),\"\"),\nIF(N115=\"M\",\"-\"&INDEX(N$1:N$104,1)&CHAR(10),\"\"),\nIF(O115=\"M\",\"-\"&INDEX(O$1:O$104,1)&CHAR(10),\"\"),\nIF(P115=\"M\",\"-\"&INDEX(P$1:P$104,1)&CHAR(10),\"\"),\nIF(Q115=\"M\",\"-\"&INDEX(Q$1:Q$104,1)&CHAR(10),\"\"),\nIF(R115=\"M\",\"-\"&INDEX(R$1:R$104,1)&CHAR(10),\"\"),\nIF(S115=\"M\",\"-\"&INDEX(S$1:S$104,1)&CHAR(10),\"\"),\nIF(T115=\"M\",\"-\"&INDEX(T$1:T$104,1)&CHAR(10),\"\"),\nIF(U115=\"M\",\"-\"&INDEX(U$1:U$104,1)&CHAR(10),\"\"),\nIF(V115=\"M\",\"-\"&INDEX(V$1:V$104,1)&CHAR(10),\"\"),\nIF(W115=\"M\",\"-\"&INDEX(W$1:W$104,1)&CHAR(10),\"\"),\nIF(X115=\"M\",\"-\"&INDEX(X$1:X$104,1)&CHAR(10),\"\"),\nIF(Y115=\"M\",\"-\"&INDEX(Y$1:Y$104,1)&CHAR(10),\"\"),\nIF(Z115=\"M\",\"-\"&INDEX(Z$1:Z$104,1)&CHAR(10),\"\"),\nIF(AA115=\"M\",\"-\"&INDEX(AA$1:AA$104,1)&CHAR(10),\"\"),\nIF(AB115=\"M\",\"-\"&INDEX(AB$1:AB$104,1)&CHAR(10),\"\"),\nIF(AC115=\"M\",\"-\"&INDEX(AC$1:AC$104,1)&CHAR(10),\"\"),\nIF(AD115=\"M\",\"-\"&INDEX(AD$1:AD$104,1)&CHAR(10),\"\"))","v":"-Electrical.Statement of Attainment.UETTDRRF01 - Apply ESI safety rules, codes of practice and procedures for work\n-Network Operator.Certificate.I0102 - Ausgrid - Environmental Awareness\n-Electrical.Statement of Attainment.UETTDRRF09 - Apply access procedures to work on or near electrical network infrastructure\n"},"-Electrical.Statement of Attainment.UETTDRVC23 - Plan for the removal of vegetation up to veg exclusion zone near live electrical appar\n-Electrical.Statement of Attainment.UETTDRVC24 – Assess vegetation and recommend control measures in an ESI environment  \n-Electrical.Statement of Attainment.UETTDRVC26 – Cut vegetation at ground near live electrical apparatus\n-Electrical.Statement of Attainment.UETTDRVC27 - Monitor safety compliance for vegetation control work in an ESI environment\n-Electrical.Statement of Attainment.UETTDRVC31 – Operate specialised plant & equipment at ground level near live electrical apparatus \n-Electrical.Statement of Attainment.UETTDRVC32 - Use specialised plant to cut vegetation above ground level near live electrical appara\n-Electrical.Statement of Attainment.UETTDRVC33 - Apply pruning techniques to vegetation control near live electrical apparatus\n","","-Horticulture.Statement of Attainment.AHCPCM201 - Recognise plants\n-Electrical.Statement of Attainment.UETTDREL13 - Comply with environmental and incidental response procedures\n","-OH&S-WHS.Statement of Attainment.UEENEEE101 - Apply OHS practices in the workplace\n-Operator Chainsaw.Statement of Attainment.AHCMOM213 - Operate and maintain chainsaws\n-Operator.Statement of Attainment.AHCMOM304 - Operate machinery and equipment\n"]
["Vegetation - Other Contract Management","M","M","M",null,"M","M","M",null,null,"SE1000, RF0003",null,null,null,null,null,null,null,null,null,null,null,null,null,null,null,null,null,null,null,null,null,null,null,null,null,null,"N",null,null,null,"N","N","M",null,null,null,null,null,null,null,null,null,null,null,null,null,null,null,null,null,null,null,null,null,null,null,null,null,null,null,null,null,null,null,null,null,null,null,null,null,null,null,null,null,null,null,null,null,null,null,null,null,null,null,null,null,null,null,null,null,null,null,"M","M",null,null,null,null,null,null,"M","M",null,null,null,null,null,null,null,null,null,null,null,null,null,null,null,"-First Aid.Statement of Attainment.HLTAID001 - Perform CPR\n-Electrical.Statement of Attainment.UETTDRRF06 - Perform rescue from a live LV panel\n-Electrical.Statement of Attainment.UETTDRRF10 - First Aid in an ESI Environment","-Chemical Use.Statement of Attainment.AHCCHM201 - Apply chemicals under supervision\n-Electrical.Statement of Attainment.UETTDREL13 - Comply with environmental and incidental response procedures\n-Electrical.Statement of Attainment.UETTDREL14 - Working safely near live electrical apparatus as a non electrical worker \n-OH&S-WHS.Statement of Attainment.UEENEEE101 - Apply OHS practices in the workplace\n-Operator Chainsaw.Statement of Attainment.AHCMOM213 - Operate and maintain chainsaws\n",{"$f":"CONCATENATE(\nIF(E116=\"M\",\"-\"&INDEX(E$1:E$104,1)&CHAR(10),\"\"),\nIF(F116=\"M\",\"-\"&INDEX(F$1:F$104,1)&CHAR(10),\"\"),\nIF(G116=\"M\",\"-\"&INDEX(G$1:G$104,1)&CHAR(10),\"\"),\nIF(H116=\"M\",\"-\"&INDEX(H$1:H$104,1)&CHAR(10),\"\"),\nIF(I116=\"M\",\"-\"&INDEX(I$1:I$104,1)&CHAR(10),\"\"),\nIF(J116=\"M\",\"-\"&INDEX(J$1:J$104,1)&CHAR(10),\"\"),\nIF(K116=\"M\",\"-\"&INDEX(K$1:K$104,1)&CHAR(10),\"\"),\nIF(L116=\"M\",\"-\"&INDEX(L$1:L$104,1)&CHAR(10),\"\"),\nIF(M116=\"M\",\"-\"&INDEX(M$1:M183,1)&CHAR(10),\"\"),\nIF(N116=\"M\",\"-\"&INDEX(N$1:N$104,1)&CHAR(10),\"\"),\nIF(O116=\"M\",\"-\"&INDEX(O$1:O$104,1)&CHAR(10),\"\"),\nIF(P116=\"M\",\"-\"&INDEX(P$1:P$104,1)&CHAR(10),\"\"),\nIF(Q116=\"M\",\"-\"&INDEX(Q$1:Q$104,1)&CHAR(10),\"\"),\nIF(R116=\"M\",\"-\"&INDEX(R$1:R$104,1)&CHAR(10),\"\"),\nIF(S116=\"M\",\"-\"&INDEX(S$1:S$104,1)&CHAR(10),\"\"),\nIF(T116=\"M\",\"-\"&INDEX(T$1:T$104,1)&CHAR(10),\"\"),\nIF(U116=\"M\",\"-\"&INDEX(U$1:U$104,1)&CHAR(10),\"\"),\nIF(V116=\"M\",\"-\"&INDEX(V$1:V$104,1)&CHAR(10),\"\"),\nIF(W116=\"M\",\"-\"&INDEX(W$1:W$104,1)&CHAR(10),\"\"),\nIF(X116=\"M\",\"-\"&INDEX(X$1:X$104,1)&CHAR(10),\"\"),\nIF(Y116=\"M\",\"-\"&INDEX(Y$1:Y$104,1)&CHAR(10),\"\"),\nIF(Z116=\"M\",\"-\"&INDEX(Z$1:Z$104,1)&CHAR(10),\"\"),\nIF(AA116=\"M\",\"-\"&INDEX(AA$1:AA$104,1)&CHAR(10),\"\"),\nIF(AB116=\"M\",\"-\"&INDEX(AB$1:AB$104,1)&CHAR(10),\"\"),\nIF(AC116=\"M\",\"-\"&INDEX(AC$1:AC$104,1)&CHAR(10),\"\"),\nIF(AD116=\"M\",\"-\"&INDEX(AD$1:AD$104,1)&CHAR(10),\"\"))","v":"-Electrical.Statement of Attainment.UETTDRRF01 - Apply ESI safety rules, codes of practice and procedures for work\n-Network Operator.Certificate.I0102 - Ausgrid - Environmental Awareness\n-Electrical.Statement of Attainment.UETTDRRF09 - Apply access procedures to work on or near electrical network infrastructure\n"},"-Chemical Use.Statement of Attainment.AHCCHM201 - Apply chemicals under supervision\n","","-Electrical.Statement of Attainment.UETTDREL13 - Comply with environmental and incidental response procedures\n-Electrical.Statement of Attainment.UETTDREL14 - Working safely near live electrical apparatus as a non electrical worker \n","-OH&S-WHS.Statement of Attainment.UEENEEE101 - Apply OHS practices in the workplace\n-Operator Chainsaw.Statement of Attainment.AHCMOM213 - Operate and maintain chainsaws\n"]
["Vegetation - Scoper / Auditor","M","M","M",null,"M","M","M",null,null,"SE1000, RF0003",null,null,null,null,null,null,null,null,null,null,null,null,null,null,null,null,null,null,null,null,null,null,null,null,null,null,"N",null,null,null,"N","N",null,null,null,"M","M",null,null,null,null,null,null,null,null,null,null,null,null,null,null,null,null,null,null,null,null,null,null,null,null,null,null,null,null,null,null,null,null,null,"M",null,null,null,null,null,null,null,null,null,null,null,null,null,null,null,null,null,null,null,null,null,"M","M",null,null,null,null,null,null,"M","M",null,null,null,null,null,null,null,null,null,null,null,null,null,null,null,"-First Aid.Statement of Attainment.HLTAID001 - Perform CPR\n-Electrical.Statement of Attainment.UETTDRRF06 - Perform rescue from a live LV panel\n-Electrical.Statement of Attainment.UETTDRRF10 - First Aid in an ESI Environment","-Electrical.Statement of Attainment.UETTDRVC23 - Plan for the removal of vegetation up to veg exclusion zone near live electrical appar\n-Electrical.Statement of Attainment.UETTDRVC24 – Assess vegetation and recommend control measures in an ESI environment  \n-Horticulture.Statement of Attainment.AHCPCM201 - Recognise plants\n-Electrical.Statement of Attainment.UETTDREL13 - Comply with environmental and incidental response procedures\n-Electrical.Statement of Attainment.UETTDREL14 - Working safely near live electrical apparatus as a non electrical worker \n-OH&S-WHS.Statement of Attainment.UEENEEE101 - Apply OHS practices in the workplace\n-Operator Chainsaw.Statement of Attainment.AHCMOM213 - Operate and maintain chainsaws\n",{"$f":"CONCATENATE(\nIF(E117=\"M\",\"-\"&INDEX(E$1:E$104,1)&CHAR(10),\"\"),\nIF(F117=\"M\",\"-\"&INDEX(F$1:F$104,1)&CHAR(10),\"\"),\nIF(G117=\"M\",\"-\"&INDEX(G$1:G$104,1)&CHAR(10),\"\"),\nIF(H117=\"M\",\"-\"&INDEX(H$1:H$104,1)&CHAR(10),\"\"),\nIF(I117=\"M\",\"-\"&INDEX(I$1:I$104,1)&CHAR(10),\"\"),\nIF(J117=\"M\",\"-\"&INDEX(J$1:J$104,1)&CHAR(10),\"\"),\nIF(K117=\"M\",\"-\"&INDEX(K$1:K$104,1)&CHAR(10),\"\"),\nIF(L117=\"M\",\"-\"&INDEX(L$1:L$104,1)&CHAR(10),\"\"),\nIF(M117=\"M\",\"-\"&INDEX(M$1:M184,1)&CHAR(10),\"\"),\nIF(N117=\"M\",\"-\"&INDEX(N$1:N$104,1)&CHAR(10),\"\"),\nIF(O117=\"M\",\"-\"&INDEX(O$1:O$104,1)&CHAR(10),\"\"),\nIF(P117=\"M\",\"-\"&INDEX(P$1:P$104,1)&CHAR(10),\"\"),\nIF(Q117=\"M\",\"-\"&INDEX(Q$1:Q$104,1)&CHAR(10),\"\"),\nIF(R117=\"M\",\"-\"&INDEX(R$1:R$104,1)&CHAR(10),\"\"),\nIF(S117=\"M\",\"-\"&INDEX(S$1:S$104,1)&CHAR(10),\"\"),\nIF(T117=\"M\",\"-\"&INDEX(T$1:T$104,1)&CHAR(10),\"\"),\nIF(U117=\"M\",\"-\"&INDEX(U$1:U$104,1)&CHAR(10),\"\"),\nIF(V117=\"M\",\"-\"&INDEX(V$1:V$104,1)&CHAR(10),\"\"),\nIF(W117=\"M\",\"-\"&INDEX(W$1:W$104,1)&CHAR(10),\"\"),\nIF(X117=\"M\",\"-\"&INDEX(X$1:X$104,1)&CHAR(10),\"\"),\nIF(Y117=\"M\",\"-\"&INDEX(Y$1:Y$104,1)&CHAR(10),\"\"),\nIF(Z117=\"M\",\"-\"&INDEX(Z$1:Z$104,1)&CHAR(10),\"\"),\nIF(AA117=\"M\",\"-\"&INDEX(AA$1:AA$104,1)&CHAR(10),\"\"),\nIF(AB117=\"M\",\"-\"&INDEX(AB$1:AB$104,1)&CHAR(10),\"\"),\nIF(AC117=\"M\",\"-\"&INDEX(AC$1:AC$104,1)&CHAR(10),\"\"),\nIF(AD117=\"M\",\"-\"&INDEX(AD$1:AD$104,1)&CHAR(10),\"\"))","v":"-Electrical.Statement of Attainment.UETTDRRF01 - Apply ESI safety rules, codes of practice and procedures for work\n-Network Operator.Certificate.I0102 - Ausgrid - Environmental Awareness\n-Electrical.Statement of Attainment.UETTDRRF09 - Apply access procedures to work on or near electrical network infrastructure\n"},"-Electrical.Statement of Attainment.UETTDRVC23 - Plan for the removal of vegetation up to veg exclusion zone near live electrical appar\n-Electrical.Statement of Attainment.UETTDRVC24 – Assess vegetation and recommend control measures in an ESI environment  \n","","-Horticulture.Statement of Attainment.AHCPCM201 - Recognise plants\n-Electrical.Statement of Attainment.UETTDREL13 - Comply with environmental and incidental response procedures\n-Electrical.Statement of Attainment.UETTDREL14 - Working safely near live electrical apparatus as a non electrical worker \n","-OH&S-WHS.Statement of Attainment.UEENEEE101 - Apply OHS practices in the workplace\n-Operator Chainsaw.Statement of Attainment.AHCMOM213 - Operate and maintain chainsaws\n"]
["Vegetation - Supervisor","M","M","M",null,"M","M","M",null,null,"SE1000, RF0003",null,null,null,null,null,null,null,null,null,null,null,null,null,null,null,null,null,null,null,null,null,null,null,null,null,null,"N",null,null,null,"N","N",null,null,null,"M","M","M","M","M",null,null,"M",null,null,null,null,null,"M",null,null,null,null,null,null,null,null,null,null,null,null,null,null,null,null,null,null,null,null,null,"M","M",null,null,null,null,null,null,null,null,null,null,null,null,null,null,null,null,null,null,null,null,"M","M",null,null,null,null,null,null,"M","M",null,"M",null,null,null,null,null,null,null,null,null,null,null,null,null,{"$f":"CONCATENATE(IF(B118=\"M\",\"-\"&$B$1,\"\"),IF(B118=\"M\",CHAR(10),\"\"),IF(C118=\"M\",\"-\"&$C$1,\"\"),IF(C118=\"M\",CHAR(10),\"\"),IF(D118=\"M\",\"-\"&$D$1,\"\"))","v":"-First Aid.Statement of Attainment.HLTAID001 - Perform CPR\n-Electrical.Statement of Attainment.UETTDRRF06 - Perform rescue from a live LV panel\n-Electrical.Statement of Attainment.UETTDRRF10 - First Aid in an ESI Environment"},{"$f":"CONCATENATE(EB118,EC118,ED118,EE118)","v":"-Electrical.Statement of Attainment.UETTDRVC23 - Plan for the removal of vegetation up to veg exclusion zone near live electrical appar\n-Electrical.Statement of Attainment.UETTDRVC24 – Assess vegetation and recommend control measures in an ESI environment  \n-Electrical.Statement of Attainment.UETTDRVC25 – Use EWP to cut above ground vegetation near live electrical apparatus\n-Electrical.Statement of Attainment.UETTDRVC26 – Cut vegetation at ground near live electrical apparatus\n-Electrical.Statement of Attainment.UETTDRVC27 - Monitor safety compliance for vegetation control work in an ESI environment\n-Electrical.Statement of Attainment.UETTDRVC33 - Apply pruning techniques to vegetation control near live electrical apparatus\n-High Risk Work.Licence.Boom Type Elevated Work Platform (WP)\n-Horticulture.Statement of Attainment.AHCPCM201 - Recognise plants\n-Horticulture.Statement of Attainment.AHCPCM203 - Fell small trees\n-Electrical.Statement of Attainment.UETTDREL13 - Comply with environmental and incidental response procedures\n-Electrical.Statement of Attainment.UETTDREL14 - Working safely near live electrical apparatus as a non electrical worker \n-OH&S-WHS.Statement of Attainment.UEENEEE101 - Apply OHS practices in the workplace\n-Operator Chainsaw.Statement of Attainment.AHCMOM213 - Operate and maintain chainsaws\n-Operator.Statement of Attainment.AHCMOM304 - Operate machinery and equipment\n"},{"$f":"CONCATENATE(\nIF(E118=\"M\",\"-\"&INDEX(E$1:E$104,1)&CHAR(10),\"\"),\nIF(F118=\"M\",\"-\"&INDEX(F$1:F$104,1)&CHAR(10),\"\"),\nIF(G118=\"M\",\"-\"&INDEX(G$1:G$104,1)&CHAR(10),\"\"),\nIF(H118=\"M\",\"-\"&INDEX(H$1:H$104,1)&CHAR(10),\"\"),\nIF(I118=\"M\",\"-\"&INDEX(I$1:I$104,1)&CHAR(10),\"\"),\nIF(J118=\"M\",\"-\"&INDEX(J$1:J$104,1)&CHAR(10),\"\"),\nIF(K118=\"M\",\"-\"&INDEX(K$1:K$104,1)&CHAR(10),\"\"),\nIF(L118=\"M\",\"-\"&INDEX(L$1:L$104,1)&CHAR(10),\"\"),\nIF(M118=\"M\",\"-\"&INDEX(M$1:M185,1)&CHAR(10),\"\"),\nIF(N118=\"M\",\"-\"&INDEX(N$1:N$104,1)&CHAR(10),\"\"),\nIF(O118=\"M\",\"-\"&INDEX(O$1:O$104,1)&CHAR(10),\"\"),\nIF(P118=\"M\",\"-\"&INDEX(P$1:P$104,1)&CHAR(10),\"\"),\nIF(Q118=\"M\",\"-\"&INDEX(Q$1:Q$104,1)&CHAR(10),\"\"),\nIF(R118=\"M\",\"-\"&INDEX(R$1:R$104,1)&CHAR(10),\"\"),\nIF(S118=\"M\",\"-\"&INDEX(S$1:S$104,1)&CHAR(10),\"\"),\nIF(T118=\"M\",\"-\"&INDEX(T$1:T$104,1)&CHAR(10),\"\"),\nIF(U118=\"M\",\"-\"&INDEX(U$1:U$104,1)&CHAR(10),\"\"),\nIF(V118=\"M\",\"-\"&INDEX(V$1:V$104,1)&CHAR(10),\"\"),\nIF(W118=\"M\",\"-\"&INDEX(W$1:W$104,1)&CHAR(10),\"\"),\nIF(X118=\"M\",\"-\"&INDEX(X$1:X$104,1)&CHAR(10),\"\"),\nIF(Y118=\"M\",\"-\"&INDEX(Y$1:Y$104,1)&CHAR(10),\"\"),\nIF(Z118=\"M\",\"-\"&INDEX(Z$1:Z$104,1)&CHAR(10),\"\"),\nIF(AA118=\"M\",\"-\"&INDEX(AA$1:AA$104,1)&CHAR(10),\"\"),\nIF(AB118=\"M\",\"-\"&INDEX(AB$1:AB$104,1)&CHAR(10),\"\"),\nIF(AC118=\"M\",\"-\"&INDEX(AC$1:AC$104,1)&CHAR(10),\"\"),\nIF(AD118=\"M\",\"-\"&INDEX(AD$1:AD$104,1)&CHAR(10),\"\"))","v":"-Electrical.Statement of Attainment.UETTDRRF01 - Apply ESI safety rules, codes of practice and procedures for work\n-Network Operator.Certificate.I0102 - Ausgrid - Environmental Awareness\n-Electrical.Statement of Attainment.UETTDRRF09 - Apply access procedures to work on or near electrical network infrastructure\n"},{"$f":"CONCATENATE(\nIF(AE118=\"M\",\"-\"&INDEX(AE$1:AE$104,1)&CHAR(10),\"\"),\nIF(AF118=\"M\",\"-\"&INDEX(AF$1:AF$104,1)&CHAR(10),\"\"),\nIF(AG118=\"M\",\"-\"&INDEX(AG$1:AG$104,1)&CHAR(10),\"\"),\nIF(AH118=\"M\",\"-\"&INDEX(AH$1:AH$104,1)&CHAR(10),\"\"),\nIF(AI118=\"M\",\"-\"&INDEX(AI$1:AI$104,1)&CHAR(10),\"\"),\nIF(AJ118=\"M\",\"-\"&INDEX(AJ$1:AJ$104,1)&CHAR(10),\"\"),\nIF(AK118=\"M\",\"-\"&INDEX(AK$1:AK$104,1)&CHAR(10),\"\"),\nIF(AL118=\"M\",\"-\"&INDEX(AL$1:AL$104,1)&CHAR(10),\"\"),\nIF(AM118=\"M\",\"-\"&INDEX(AM$1:AM$104,1)&CHAR(10),\"\"),\nIF(AN118=\"M\",\"-\"&INDEX(AN$1:AN$104,1)&CHAR(10),\"\"),\nIF(AO118=\"M\",\"-\"&INDEX(AO$1:AO$104,1)&CHAR(10),\"\"),\nIF(AP118=\"M\",\"-\"&INDEX(AP$1:AP$104,1)&CHAR(10),\"\"),\nIF(AQ118=\"M\",\"-\"&INDEX(AQ$1:AQ$104,1)&CHAR(10),\"\"),\nIF(AR118=\"M\",\"-\"&INDEX(AR$1:AR$104,1)&CHAR(10),\"\"),\nIF(AS118=\"M\",\"-\"&INDEX(AS$1:AS$104,1)&CHAR(10),\"\"),\nIF(AT118=\"M\",\"-\"&INDEX(AT$1:AT$104,1)&CHAR(10),\"\"),\nIF(AU118=\"M\",\"-\"&INDEX(AU$1:AU$104,1)&CHAR(10),\"\"),\nIF(AV118=\"M\",\"-\"&INDEX(AV$1:AV$104,1)&CHAR(10),\"\"),\nIF(AW118=\"M\",\"-\"&INDEX(AW$1:AW$104,1)&CHAR(10),\"\"),\nIF(AX118=\"M\",\"-\"&INDEX(AX$1:AX$104,1)&CHAR(10),\"\"),\nIF(AY118=\"M\",\"-\"&INDEX(AY$1:AY$104,1)&CHAR(10),\"\"),\nIF(AZ118=\"M\",\"-\"&INDEX(AZ$1:AZ$104,1)&CHAR(10),\"\"),\nIF(BA118=\"M\",\"-\"&INDEX(BA$1:BA$104,1)&CHAR(10),\"\"),\nIF(BB118=\"M\",\"-\"&INDEX(BB$1:BB$104,1)&CHAR(10),\"\"),\nIF(BC118=\"M\",\"-\"&INDEX(BC$1:BC$104,1)&CHAR(10),\"\"))","v":"-Electrical.Statement of Attainment.UETTDRVC23 - Plan for the removal of vegetation up to veg exclusion zone near live electrical appar\n-Electrical.Statement of Attainment.UETTDRVC24 – Assess vegetation and recommend control measures in an ESI environment  \n-Electrical.Statement of Attainment.UETTDRVC25 – Use EWP to cut above ground vegetation near live electrical apparatus\n-Electrical.Statement of Attainment.UETTDRVC26 – Cut vegetation at ground near live electrical apparatus\n-Electrical.Statement of Attainment.UETTDRVC27 - Monitor safety compliance for vegetation control work in an ESI environment\n-Electrical.Statement of Attainment.UETTDRVC33 - Apply pruning techniques to vegetation control near live electrical apparatus\n"},{"$f":"CONCATENATE(\nIF(BD118=\"M\",\"-\"&INDEX(BD$1:BD$104,1)&CHAR(10),\"\"),\nIF(BE118=\"M\",\"-\"&INDEX(BE$1:BE$104,1)&CHAR(10),\"\"),\nIF(BF118=\"M\",\"-\"&INDEX(BF$1:BF$104,1)&CHAR(10),\"\"),\nIF(BG118=\"M\",\"-\"&INDEX(BG$1:BG$104,1)&CHAR(10),\"\"),\nIF(BH118=\"M\",\"-\"&INDEX(BH$1:BH$104,1)&CHAR(10),\"\"),\nIF(BI118=\"M\",\"-\"&INDEX(BI$1:BI$104,1)&CHAR(10),\"\"),\nIF(BJ118=\"M\",\"-\"&INDEX(BJ$1:BJ$104,1)&CHAR(10),\"\"),\nIF(BK118=\"M\",\"-\"&INDEX(BK$1:BK$104,1)&CHAR(10),\"\"),\nIF(BL118=\"M\",\"-\"&INDEX(BL$1:BL$104,1)&CHAR(10),\"\"),\nIF(BM118=\"M\",\"-\"&INDEX(BM$1:BM$104,1)&CHAR(10),\"\"),\nIF(BN118=\"M\",\"-\"&INDEX(BN$1:BN$104,1)&CHAR(10),\"\"),\nIF(BO118=\"M\",\"-\"&INDEX(BO$1:BO$104,1)&CHAR(10),\"\"),\nIF(BP118=\"M\",\"-\"&INDEX(BP$1:BP$104,1)&CHAR(10),\"\"),\nIF(BQ118=\"M\",\"-\"&INDEX(BQ$1:BQ$104,1)&CHAR(10),\"\"),\nIF(BR118=\"M\",\"-\"&INDEX(BR$1:BR$104,1)&CHAR(10),\"\"),\nIF(BS118=\"M\",\"-\"&INDEX(BS$1:BS$104,1)&CHAR(10),\"\"),\nIF(BT118=\"M\",\"-\"&INDEX(BT$1:BT$104,1)&CHAR(10),\"\"),\nIF(BU118=\"M\",\"-\"&INDEX(BU$1:BU$104,1)&CHAR(10),\"\"),\nIF(BV118=\"M\",\"-\"&INDEX(BV$1:BV$104,1)&CHAR(10),\"\"),\nIF(BW118=\"M\",\"-\"&INDEX(BW$1:BW$104,1)&CHAR(10),\"\"),\nIF(BX118=\"M\",\"-\"&INDEX(BX$1:BX$104,1)&CHAR(10),\"\"),\nIF(BY118=\"M\",\"-\"&INDEX(BY$1:BY$104,1)&CHAR(10),\"\"),\nIF(BZ118=\"M\",\"-\"&INDEX(BZ$1:BZ$104,1)&CHAR(10),\"\"),\nIF(CA118=\"M\",\"-\"&INDEX(CA$1:CA$104,1)&CHAR(10),\"\"),\nIF(CB118=\"M\",\"-\"&INDEX(CB$1:CB$104,1)&CHAR(10),\"\"),\nIF(CC118=\"M\",\"-\"&INDEX(CC$1:CC$104,1)&CHAR(10),\"\"))","v":"-High Risk Work.Licence.Boom Type Elevated Work Platform (WP)\n"},{"$f":"CONCATENATE(\nIF(CD118=\"M\",\"-\"&INDEX(CD$1:CD$104,1)&CHAR(10),\"\"),\nIF(CE118=\"M\",\"-\"&INDEX(CE$1:CE$104,1)&CHAR(10),\"\"),\nIF(CF118=\"M\",\"-\"&INDEX(CF$1:CF$104,1)&CHAR(10),\"\"),\nIF(CG118=\"M\",\"-\"&INDEX(CG$1:CG$104,1)&CHAR(10),\"\"),\nIF(CH118=\"M\",\"-\"&INDEX(CH$1:CH$104,1)&CHAR(10),\"\"),\nIF(CI118=\"M\",\"-\"&INDEX(CI$1:CI$104,1)&CHAR(10),\"\"),\nIF(CJ118=\"M\",\"-\"&INDEX(CJ$1:CJ$104,1)&CHAR(10),\"\"),\nIF(CK118=\"M\",\"-\"&INDEX(CK$1:CK$104,1)&CHAR(10),\"\"),\nIF(CL118=\"M\",\"-\"&INDEX(CL$1:CL$104,1)&CHAR(10),\"\"),\nIF(CM118=\"M\",\"-\"&INDEX(CM$1:CM$104,1)&CHAR(10),\"\"),\nIF(CN118=\"M\",\"-\"&INDEX(CN$1:CN$104,1)&CHAR(10),\"\"),\nIF(CO118=\"M\",\"-\"&INDEX(CO$1:CO$104,1)&CHAR(10),\"\"),\nIF(CP118=\"M\",\"-\"&INDEX(CP$1:CP$104,1)&CHAR(10),\"\"),\nIF(CQ118=\"M\",\"-\"&INDEX(CQ$1:CQ$104,1)&CHAR(10),\"\"),\nIF(CR118=\"M\",\"-\"&INDEX(CR$1:CR$104,1)&CHAR(10),\"\"),\nIF(CS118=\"M\",\"-\"&INDEX(CS$1:CS$104,1)&CHAR(10),\"\"),\nIF(CT118=\"M\",\"-\"&INDEX(CT$1:CT$104,1)&CHAR(10),\"\"),\nIF(CU118=\"M\",\"-\"&INDEX(CU$1:CU$104,1)&CHAR(10),\"\"),\nIF(CV118=\"M\",\"-\"&INDEX(CV$1:CV$104,1)&CHAR(10),\"\"),\nIF(CW118=\"M\",\"-\"&INDEX(CW$1:CW$104,1)&CHAR(10),\"\"),\nIF(CX118=\"M\",\"-\"&INDEX(CX$1:CX$104,1)&CHAR(10),\"\"),\nIF(CY118=\"M\",\"-\"&INDEX(CY$1:CY$104,1)&CHAR(10),\"\"),\nIF(CZ118=\"M\",\"-\"&INDEX(CZ$1:CZ$104,1)&CHAR(10),\"\"),\nIF(DA118=\"M\",\"-\"&INDEX(DA$1:DA$104,1)&CHAR(10),\"\"),\nIF(DB118=\"M\",\"-\"&INDEX(DB$1:DB$104,1)&CHAR(10),\"\"),\nIF(DC118=\"M\",\"-\"&INDEX(DC$1:DC$104,1)&CHAR(10),\"\"))","v":"-Horticulture.Statement of Attainment.AHCPCM201 - Recognise plants\n-Horticulture.Statement of Attainment.AHCPCM203 - Fell small trees\n-Electrical.Statement of Attainment.UETTDREL13 - Comply with environmental and incidental response procedures\n-Electrical.Statement of Attainment.UETTDREL14 - Working safely near live electrical apparatus as a non electrical worker \n"},{"$f":"CONCATENATE(\nIF(DD118=\"M\",\"-\"&INDEX(DD$1:DD$104,1)&CHAR(10),\"\"),\nIF(DE118=\"M\",\"-\"&INDEX(DE$1:DE$104,1)&CHAR(10),\"\"),\nIF(DF118=\"M\",\"-\"&INDEX(DF$1:DF$104,1)&CHAR(10),\"\"),\nIF(DG118=\"M\",\"-\"&INDEX(DG$1:DG$104,1)&CHAR(10),\"\"),\nIF(DH118=\"M\",\"-\"&INDEX(DH$1:DH$104,1)&CHAR(10),\"\"),\nIF(DI118=\"M\",\"-\"&INDEX(DI$1:DI$104,1)&CHAR(10),\"\"),\nIF(DJ118=\"M\",\"-\"&INDEX(DJ$1:DJ$104,1)&CHAR(10),\"\"),\nIF(DK118=\"M\",\"-\"&INDEX(DK$1:DK$104,1)&CHAR(10),\"\"),\nIF(DL118=\"M\",\"-\"&INDEX(DL$1:DL$104,1)&CHAR(10),\"\"),\nIF(DM118=\"M\",\"-\"&INDEX(DM$1:DM$104,1)&CHAR(10),\"\"),\nIF(DN118=\"M\",\"-\"&INDEX(DN$1:DN$104,1)&CHAR(10),\"\"),\nIF(DO118=\"M\",\"-\"&INDEX(DO$1:DO$104,1)&CHAR(10),\"\"),\nIF(DP118=\"M\",\"-\"&INDEX(DP$1:DP$104,1)&CHAR(10),\"\"),\nIF(DQ118=\"M\",\"-\"&INDEX(DQ$1:DQ$104,1)&CHAR(10),\"\"),\nIF(DR118=\"M\",\"-\"&INDEX(DR$1:DR$104,1)&CHAR(10),\"\"),\nIF(DS118=\"M\",\"-\"&INDEX(DS$1:DS$104,1)&CHAR(10),\"\"),\nIF(DT118=\"M\",\"-\"&INDEX(DT$1:DT$104,1)&CHAR(10),\"\"),\nIF(DU118=\"M\",\"-\"&INDEX(DU$1:DU$104,1)&CHAR(10),\"\"),\nIF(DV118=\"M\",\"-\"&INDEX(DV$1:DV$104,1)&CHAR(10),\"\"),\nIF(DW118=\"M\",\"-\"&INDEX(DW$1:DW$104,1)&CHAR(10),\"\"))","v":"-OH&S-WHS.Statement of Attainment.UEENEEE101 - Apply OHS practices in the workplace\n-Operator Chainsaw.Statement of Attainment.AHCMOM213 - Operate and maintain chainsaws\n-Operator.Statement of Attainment.AHCMOM304 - Operate machinery and equipment\n"}]
["ASP 1","M","M","M",null,"M","M","M","M","M",null,"M",null,null,null,null,null,null,null,null,null,null,null,null,null,null,"M","M","M",null,null,null,null,null,null,null,null,null,null,null,null,null,null,null,null,null,null,null,null,null,null,null,null,null,null,null,null,null,null,null,null,null,null,null,null,null,null,null,null,null,null,null,null,null,null,null,null,null,null,null,null,null,null,null,null,null,null,null,null,null,null,null,null,null,null,null,null,null,null,null,null,null,null,null,null,null,null,null,null,null,null,null,null,null,null,null,null,null,null,null,null,null,null,null,null,null,null,null,"-First Aid.Statement of Attainment.HLTAID001 - Perform CPR\n-Electrical.Statement of Attainment.UETTDRRF06 - Perform rescue from a live LV panel\n-Electrical.Statement of Attainment.UETTDRRF10 - First Aid in an ESI Environment","",{"$f":"CONCATENATE(\nIF(E119=\"M\",\"-\"&INDEX(E$1:E$104,1)&CHAR(10),\"\"),\nIF(F119=\"M\",\"-\"&INDEX(F$1:F$104,1)&CHAR(10),\"\"),\nIF(G119=\"M\",\"-\"&INDEX(G$1:G$104,1)&CHAR(10),\"\"),\nIF(H119=\"M\",\"-\"&INDEX(H$1:H$104,1)&CHAR(10),\"\"),\nIF(I119=\"M\",\"-\"&INDEX(I$1:I$104,1)&CHAR(10),\"\"),\nIF(J119=\"M\",\"-\"&INDEX(J$1:J$104,1)&CHAR(10),\"\"),\nIF(K119=\"M\",\"-\"&INDEX(K$1:K$104,1)&CHAR(10),\"\"),\nIF(L119=\"M\",\"-\"&INDEX(L$1:L$104,1)&CHAR(10),\"\"),\nIF(M119=\"M\",\"-\"&INDEX(M$1:M186,1)&CHAR(10),\"\"),\nIF(N119=\"M\",\"-\"&INDEX(N$1:N$104,1)&CHAR(10),\"\"),\nIF(O119=\"M\",\"-\"&INDEX(O$1:O$104,1)&CHAR(10),\"\"),\nIF(P119=\"M\",\"-\"&INDEX(P$1:P$104,1)&CHAR(10),\"\"),\nIF(Q119=\"M\",\"-\"&INDEX(Q$1:Q$104,1)&CHAR(10),\"\"),\nIF(R119=\"M\",\"-\"&INDEX(R$1:R$104,1)&CHAR(10),\"\"),\nIF(S119=\"M\",\"-\"&INDEX(S$1:S$104,1)&CHAR(10),\"\"),\nIF(T119=\"M\",\"-\"&INDEX(T$1:T$104,1)&CHAR(10),\"\"),\nIF(U119=\"M\",\"-\"&INDEX(U$1:U$104,1)&CHAR(10),\"\"),\nIF(V119=\"M\",\"-\"&INDEX(V$1:V$104,1)&CHAR(10),\"\"),\nIF(W119=\"M\",\"-\"&INDEX(W$1:W$104,1)&CHAR(10),\"\"),\nIF(X119=\"M\",\"-\"&INDEX(X$1:X$104,1)&CHAR(10),\"\"),\nIF(Y119=\"M\",\"-\"&INDEX(Y$1:Y$104,1)&CHAR(10),\"\"),\nIF(Z119=\"M\",\"-\"&INDEX(Z$1:Z$104,1)&CHAR(10),\"\"),\nIF(AA119=\"M\",\"-\"&INDEX(AA$1:AA$104,1)&CHAR(10),\"\"),\nIF(AB119=\"M\",\"-\"&INDEX(AB$1:AB$104,1)&CHAR(10),\"\"),\nIF(AC119=\"M\",\"-\"&INDEX(AC$1:AC$104,1)&CHAR(10),\"\"),\nIF(AD119=\"M\",\"-\"&INDEX(AD$1:AD$104,1)&CHAR(10),\"\"))","v":"-Electrical.Statement of Attainment.UETTDRRF01 - Apply ESI safety rules, codes of practice and procedures for work\n-Network Operator.Certificate.I0102 - Ausgrid - Environmental Awareness\n-Electrical.Statement of Attainment.UETTDRRF09 - Apply access procedures to work on or near electrical network infrastructure\n-Network Operator.Access.SC1000A - Ausgrid - Substation Entry\n-Network Operator.Certificate.SC1100A - Working Near or Around Underground Cables\n-Network Operator.Access.APR0068 - Ausgrid - Access Permit Recipient (Restricted)\n-Network Operator.Certificate.TTDO1804 - Ausgrid - Erection of Earths\n-M2325B - Triple End Cable Sealing\n-TTDO1653 - Application of Overhead Low Voltage Short Circuits\n"},"","","",""]
["ASP 2","M","M","M",null,"M","M","M",null,null,null,null,null,null,null,null,null,null,null,null,null,null,null,null,null,null,null,null,null,null,null,null,null,null,null,null,null,null,null,null,null,null,null,null,null,null,null,null,null,null,null,null,null,null,null,null,null,null,null,null,null,null,null,null,null,null,null,null,null,null,null,null,null,null,null,null,null,null,null,null,null,null,null,null,null,null,null,null,null,null,null,null,null,null,null,null,null,null,null,null,null,null,null,null,null,null,null,null,null,null,null,null,null,null,null,null,null,null,null,null,null,null,null,null,null,null,null,null,"-First Aid.Statement of Attainment.HLTAID001 - Perform CPR\n-Electrical.Statement of Attainment.UETTDRRF06 - Perform rescue from a live LV panel\n-Electrical.Statement of Attainment.UETTDRRF10 - First Aid in an ESI Environment","",{"$f":"CONCATENATE(\nIF(E120=\"M\",\"-\"&INDEX(E$1:E$104,1)&CHAR(10),\"\"),\nIF(F120=\"M\",\"-\"&INDEX(F$1:F$104,1)&CHAR(10),\"\"),\nIF(G120=\"M\",\"-\"&INDEX(G$1:G$104,1)&CHAR(10),\"\"),\nIF(H120=\"M\",\"-\"&INDEX(H$1:H$104,1)&CHAR(10),\"\"),\nIF(I120=\"M\",\"-\"&INDEX(I$1:I$104,1)&CHAR(10),\"\"),\nIF(J120=\"M\",\"-\"&INDEX(J$1:J$104,1)&CHAR(10),\"\"),\nIF(K120=\"M\",\"-\"&INDEX(K$1:K$104,1)&CHAR(10),\"\"),\nIF(L120=\"M\",\"-\"&INDEX(L$1:L$104,1)&CHAR(10),\"\"),\nIF(M120=\"M\",\"-\"&INDEX(M$1:M187,1)&CHAR(10),\"\"),\nIF(N120=\"M\",\"-\"&INDEX(N$1:N$104,1)&CHAR(10),\"\"),\nIF(O120=\"M\",\"-\"&INDEX(O$1:O$104,1)&CHAR(10),\"\"),\nIF(P120=\"M\",\"-\"&INDEX(P$1:P$104,1)&CHAR(10),\"\"),\nIF(Q120=\"M\",\"-\"&INDEX(Q$1:Q$104,1)&CHAR(10),\"\"),\nIF(R120=\"M\",\"-\"&INDEX(R$1:R$104,1)&CHAR(10),\"\"),\nIF(S120=\"M\",\"-\"&INDEX(S$1:S$104,1)&CHAR(10),\"\"),\nIF(T120=\"M\",\"-\"&INDEX(T$1:T$104,1)&CHAR(10),\"\"),\nIF(U120=\"M\",\"-\"&INDEX(U$1:U$104,1)&CHAR(10),\"\"),\nIF(V120=\"M\",\"-\"&INDEX(V$1:V$104,1)&CHAR(10),\"\"),\nIF(W120=\"M\",\"-\"&INDEX(W$1:W$104,1)&CHAR(10),\"\"),\nIF(X120=\"M\",\"-\"&INDEX(X$1:X$104,1)&CHAR(10),\"\"),\nIF(Y120=\"M\",\"-\"&INDEX(Y$1:Y$104,1)&CHAR(10),\"\"),\nIF(Z120=\"M\",\"-\"&INDEX(Z$1:Z$104,1)&CHAR(10),\"\"),\nIF(AA120=\"M\",\"-\"&INDEX(AA$1:AA$104,1)&CHAR(10),\"\"),\nIF(AB120=\"M\",\"-\"&INDEX(AB$1:AB$104,1)&CHAR(10),\"\"),\nIF(AC120=\"M\",\"-\"&INDEX(AC$1:AC$104,1)&CHAR(10),\"\"),\nIF(AD120=\"M\",\"-\"&INDEX(AD$1:AD$104,1)&CHAR(10),\"\"))","v":"-Electrical.Statement of Attainment.UETTDRRF01 - Apply ESI safety rules, codes of practice and procedures for work\n-Network Operator.Certificate.I0102 - Ausgrid - Environmental Awareness\n-Electrical.Statement of Attainment.UETTDRRF09 - Apply access procedures to work on or near electrical network infrastructure\n"},"","","",""]
["ASP 3",null,null,null,null,null,null,null,null,null,null,null,null,null,null,null,null,null,null,null,null,null,null,null,null,null,null,null,null,"M",null,null,null,null,null,null,null,null,null,null,null,null,null,null,null,null,null,null,null,null,null,null,null,null,null,null,null,null,null,null,null,null,null,null,null,null,null,null,null,null,null,null,null,null,null,null,null,null,null,null,null,null,null,null,null,null,null,null,null,null,null,null,null,null,null,null,null,null,null,null,null,null,null,null,null,null,null,null,null,null,null,null,null,null,null,null,null,null,null,null,null,null,null,null,null,null,null,null,"","",{"$f":"CONCATENATE(\nIF(E121=\"M\",\"-\"&INDEX(E$1:E$104,1)&CHAR(10),\"\"),\nIF(F121=\"M\",\"-\"&INDEX(F$1:F$104,1)&CHAR(10),\"\"),\nIF(G121=\"M\",\"-\"&INDEX(G$1:G$104,1)&CHAR(10),\"\"),\nIF(H121=\"M\",\"-\"&INDEX(H$1:H$104,1)&CHAR(10),\"\"),\nIF(I121=\"M\",\"-\"&INDEX(I$1:I$104,1)&CHAR(10),\"\"),\nIF(J121=\"M\",\"-\"&INDEX(J$1:J$104,1)&CHAR(10),\"\"),\nIF(K121=\"M\",\"-\"&INDEX(K$1:K$104,1)&CHAR(10),\"\"),\nIF(L121=\"M\",\"-\"&INDEX(L$1:L$104,1)&CHAR(10),\"\"),\nIF(M121=\"M\",\"-\"&INDEX(M$1:M188,1)&CHAR(10),\"\"),\nIF(N121=\"M\",\"-\"&INDEX(N$1:N$104,1)&CHAR(10),\"\"),\nIF(O121=\"M\",\"-\"&INDEX(O$1:O$104,1)&CHAR(10),\"\"),\nIF(P121=\"M\",\"-\"&INDEX(P$1:P$104,1)&CHAR(10),\"\"),\nIF(Q121=\"M\",\"-\"&INDEX(Q$1:Q$104,1)&CHAR(10),\"\"),\nIF(R121=\"M\",\"-\"&INDEX(R$1:R$104,1)&CHAR(10),\"\"),\nIF(S121=\"M\",\"-\"&INDEX(S$1:S$104,1)&CHAR(10),\"\"),\nIF(T121=\"M\",\"-\"&INDEX(T$1:T$104,1)&CHAR(10),\"\"),\nIF(U121=\"M\",\"-\"&INDEX(U$1:U$104,1)&CHAR(10),\"\"),\nIF(V121=\"M\",\"-\"&INDEX(V$1:V$104,1)&CHAR(10),\"\"),\nIF(W121=\"M\",\"-\"&INDEX(W$1:W$104,1)&CHAR(10),\"\"),\nIF(X121=\"M\",\"-\"&INDEX(X$1:X$104,1)&CHAR(10),\"\"),\nIF(Y121=\"M\",\"-\"&INDEX(Y$1:Y$104,1)&CHAR(10),\"\"),\nIF(Z121=\"M\",\"-\"&INDEX(Z$1:Z$104,1)&CHAR(10),\"\"),\nIF(AA121=\"M\",\"-\"&INDEX(AA$1:AA$104,1)&CHAR(10),\"\"),\nIF(AB121=\"M\",\"-\"&INDEX(AB$1:AB$104,1)&CHAR(10),\"\"),\nIF(AC121=\"M\",\"-\"&INDEX(AC$1:AC$104,1)&CHAR(10),\"\"),\nIF(AD121=\"M\",\"-\"&INDEX(AD$1:AD$104,1)&CHAR(10),\"\"))","v":"-IT_CS Ausgrid Cyber Safety\n"},"","","",""]
[null,null,null,null,null,null,null,null,null,null,null,null,null,null,null,null,null,null,null,null,null,null,null,null,null,null,null,null,null,null,null,null,null,null,null,null,null,null,null,null,null,null,null,null,null,null,null,null,null,null,null,null,null,null,null,null,null,null,null,null,null,null,null,null,null,null,null,null,null,null,null,null,null,null,null,null,null,null,null,null,null,null,null,null,null,null,null,null,null,null,null,null,null,null,null,null,null,null,null,null,null,null,null,null,null,null,null,null,null,null,null,null,null,null,null,null,null,null,null,null,null,null,null,null,null,null,null,null,"","",{"$f":"CONCATENATE(\nIF(E122=\"M\",\"-\"&INDEX(E$1:E$104,1)&CHAR(10),\"\"),\nIF(F122=\"M\",\"-\"&INDEX(F$1:F$104,1)&CHAR(10),\"\"),\nIF(G122=\"M\",\"-\"&INDEX(G$1:G$104,1)&CHAR(10),\"\"),\nIF(H122=\"M\",\"-\"&INDEX(H$1:H$104,1)&CHAR(10),\"\"),\nIF(I122=\"M\",\"-\"&INDEX(I$1:I$104,1)&CHAR(10),\"\"),\nIF(J122=\"M\",\"-\"&INDEX(J$1:J$104,1)&CHAR(10),\"\"),\nIF(K122=\"M\",\"-\"&INDEX(K$1:K$104,1)&CHAR(10),\"\"),\nIF(L122=\"M\",\"-\"&INDEX(L$1:L$104,1)&CHAR(10),\"\"),\nIF(M122=\"M\",\"-\"&INDEX(M$1:M189,1)&CHAR(10),\"\"),\nIF(N122=\"M\",\"-\"&INDEX(N$1:N$104,1)&CHAR(10),\"\"),\nIF(O122=\"M\",\"-\"&INDEX(O$1:O$104,1)&CHAR(10),\"\"),\nIF(P122=\"M\",\"-\"&INDEX(P$1:P$104,1)&CHAR(10),\"\"),\nIF(Q122=\"M\",\"-\"&INDEX(Q$1:Q$104,1)&CHAR(10),\"\"),\nIF(R122=\"M\",\"-\"&INDEX(R$1:R$104,1)&CHAR(10),\"\"),\nIF(S122=\"M\",\"-\"&INDEX(S$1:S$104,1)&CHAR(10),\"\"),\nIF(T122=\"M\",\"-\"&INDEX(T$1:T$104,1)&CHAR(10),\"\"),\nIF(U122=\"M\",\"-\"&INDEX(U$1:U$104,1)&CHAR(10),\"\"),\nIF(V122=\"M\",\"-\"&INDEX(V$1:V$104,1)&CHAR(10),\"\"),\nIF(W122=\"M\",\"-\"&INDEX(W$1:W$104,1)&CHAR(10),\"\"),\nIF(X122=\"M\",\"-\"&INDEX(X$1:X$104,1)&CHAR(10),\"\"),\nIF(Y122=\"M\",\"-\"&INDEX(Y$1:Y$104,1)&CHAR(10),\"\"),\nIF(Z122=\"M\",\"-\"&INDEX(Z$1:Z$104,1)&CHAR(10),\"\"),\nIF(AA122=\"M\",\"-\"&INDEX(AA$1:AA$104,1)&CHAR(10),\"\"),\nIF(AB122=\"M\",\"-\"&INDEX(AB$1:AB$104,1)&CHAR(10),\"\"),\nIF(AC122=\"M\",\"-\"&INDEX(AC$1:AC$104,1)&CHAR(10),\"\"),\nIF(AD122=\"M\",\"-\"&INDEX(AD$1:AD$104,1)&CHAR(10),\"\"))","v":""},"","","",""]

{"sheet":"CurriculaAssignment_Import","index":11,"n_rows":204,"n_cols":8,"rows_kept":204,"cut":false,"hidden":true,"merged":[[0,0,0,5]]}
["Cirricula Assignment"]
[]
[]
[null,"User ID (*required)","First Name","Last Name","Curricula ID (*required)","Assign Date","Priority","Action"]
[1,{"$f":"IF(ISNA(VLOOKUP($A5,DeNormalise!$C$4:$G$203,2,FALSE)),\"\",VLOOKUP($A5,DeNormalise!$C$4:$G$203,2,FALSE))","v":""},{"$f":"IF(LEN($B5)<1,\"\",VLOOKUP($A5,DeNormalise!$C$4:$G$203,3,FALSE))","v":""},{"$f":"IF(LEN($B5)<1,\"\",VLOOKUP($A5,DeNormalise!$C$4:$G$203,4,FALSE))","v":""},{"$f":"IF(LEN($B5)<1,\"\",VLOOKUP($A5,DeNormalise!$C$4:$G$203,5,FALSE))","v":""}]
[2,{"$f":"IF(ISNA(VLOOKUP($A6,DeNormalise!$C$4:$G$203,2,FALSE)),\"\",VLOOKUP($A6,DeNormalise!$C$4:$G$203,2,FALSE))","v":""},{"$f":"IF(LEN($B6)<1,\"\",VLOOKUP($A6,DeNormalise!$C$4:$G$203,3,FALSE))","v":""},{"$f":"IF(LEN($B6)<1,\"\",VLOOKUP($A6,DeNormalise!$C$4:$G$203,4,FALSE))","v":""},{"$f":"IF(LEN($B6)<1,\"\",VLOOKUP($A6,DeNormalise!$C$4:$G$203,5,FALSE))","v":""}]
[3,{"$f":"IF(ISNA(VLOOKUP($A7,DeNormalise!$C$4:$G$203,2,FALSE)),\"\",VLOOKUP($A7,DeNormalise!$C$4:$G$203,2,FALSE))","v":""},{"$f":"IF(LEN($B7)<1,\"\",VLOOKUP($A7,DeNormalise!$C$4:$G$203,3,FALSE))","v":""},{"$f":"IF(LEN($B7)<1,\"\",VLOOKUP($A7,DeNormalise!$C$4:$G$203,4,FALSE))","v":""},{"$f":"IF(LEN($B7)<1,\"\",VLOOKUP($A7,DeNormalise!$C$4:$G$203,5,FALSE))","v":""}]
[4,{"$f":"IF(ISNA(VLOOKUP($A8,DeNormalise!$C$4:$G$203,2,FALSE)),\"\",VLOOKUP($A8,DeNormalise!$C$4:$G$203,2,FALSE))","v":""},{"$f":"IF(LEN($B8)<1,\"\",VLOOKUP($A8,DeNormalise!$C$4:$G$203,3,FALSE))","v":""},{"$f":"IF(LEN($B8)<1,\"\",VLOOKUP($A8,DeNormalise!$C$4:$G$203,4,FALSE))","v":""},{"$f":"IF(LEN($B8)<1,\"\",VLOOKUP($A8,DeNormalise!$C$4:$G$203,5,FALSE))","v":""}]
[5,{"$f":"IF(ISNA(VLOOKUP($A9,DeNormalise!$C$4:$G$203,2,FALSE)),\"\",VLOOKUP($A9,DeNormalise!$C$4:$G$203,2,FALSE))","v":""},{"$f":"IF(LEN($B9)<1,\"\",VLOOKUP($A9,DeNormalise!$C$4:$G$203,3,FALSE))","v":""},{"$f":"IF(LEN($B9)<1,\"\",VLOOKUP($A9,DeNormalise!$C$4:$G$203,4,FALSE))","v":""},{"$f":"IF(LEN($B9)<1,\"\",VLOOKUP($A9,DeNormalise!$C$4:$G$203,5,FALSE))","v":""}]
[6,{"$f":"IF(ISNA(VLOOKUP($A10,DeNormalise!$C$4:$G$203,2,FALSE)),\"\",VLOOKUP($A10,DeNormalise!$C$4:$G$203,2,FALSE))","v":""},{"$f":"IF(LEN($B10)<1,\"\",VLOOKUP($A10,DeNormalise!$C$4:$G$203,3,FALSE))","v":""},{"$f":"IF(LEN($B10)<1,\"\",VLOOKUP($A10,DeNormalise!$C$4:$G$203,4,FALSE))","v":""},{"$f":"IF(LEN($B10)<1,\"\",VLOOKUP($A10,DeNormalise!$C$4:$G$203,5,FALSE))","v":""}]
[7,{"$f":"IF(ISNA(VLOOKUP($A11,DeNormalise!$C$4:$G$203,2,FALSE)),\"\",VLOOKUP($A11,DeNormalise!$C$4:$G$203,2,FALSE))","v":""},{"$f":"IF(LEN($B11)<1,\"\",VLOOKUP($A11,DeNormalise!$C$4:$G$203,3,FALSE))","v":""},{"$f":"IF(LEN($B11)<1,\"\",VLOOKUP($A11,DeNormalise!$C$4:$G$203,4,FALSE))","v":""},{"$f":"IF(LEN($B11)<1,\"\",VLOOKUP($A11,DeNormalise!$C$4:$G$203,5,FALSE))","v":""}]
[8,{"$f":"IF(ISNA(VLOOKUP($A12,DeNormalise!$C$4:$G$203,2,FALSE)),\"\",VLOOKUP($A12,DeNormalise!$C$4:$G$203,2,FALSE))","v":""},{"$f":"IF(LEN($B12)<1,\"\",VLOOKUP($A12,DeNormalise!$C$4:$G$203,3,FALSE))","v":""},{"$f":"IF(LEN($B12)<1,\"\",VLOOKUP($A12,DeNormalise!$C$4:$G$203,4,FALSE))","v":""},{"$f":"IF(LEN($B12)<1,\"\",VLOOKUP($A12,DeNormalise!$C$4:$G$203,5,FALSE))","v":""}]
[9,{"$f":"IF(ISNA(VLOOKUP($A13,DeNormalise!$C$4:$G$203,2,FALSE)),\"\",VLOOKUP($A13,DeNormalise!$C$4:$G$203,2,FALSE))","v":""},{"$f":"IF(LEN($B13)<1,\"\",VLOOKUP($A13,DeNormalise!$C$4:$G$203,3,FALSE))","v":""},{"$f":"IF(LEN($B13)<1,\"\",VLOOKUP($A13,DeNormalise!$C$4:$G$203,4,FALSE))","v":""},{"$f":"IF(LEN($B13)<1,\"\",VLOOKUP($A13,DeNormalise!$C$4:$G$203,5,FALSE))","v":""}]
[10,{"$f":"IF(ISNA(VLOOKUP($A14,DeNormalise!$C$4:$G$203,2,FALSE)),\"\",VLOOKUP($A14,DeNormalise!$C$4:$G$203,2,FALSE))","v":""},{"$f":"IF(LEN($B14)<1,\"\",VLOOKUP($A14,DeNormalise!$C$4:$G$203,3,FALSE))","v":""},{"$f":"IF(LEN($B14)<1,\"\",VLOOKUP($A14,DeNormalise!$C$4:$G$203,4,FALSE))","v":""},{"$f":"IF(LEN($B14)<1,\"\",VLOOKUP($A14,DeNormalise!$C$4:$G$203,5,FALSE))","v":""}]
[11,{"$f":"IF(ISNA(VLOOKUP($A15,DeNormalise!$C$4:$G$203,2,FALSE)),\"\",VLOOKUP($A15,DeNormalise!$C$4:$G$203,2,FALSE))","v":""},{"$f":"IF(LEN($B15)<1,\"\",VLOOKUP($A15,DeNormalise!$C$4:$G$203,3,FALSE))","v":""},{"$f":"IF(LEN($B15)<1,\"\",VLOOKUP($A15,DeNormalise!$C$4:$G$203,4,FALSE))","v":""},{"$f":"IF(LEN($B15)<1,\"\",VLOOKUP($A15,DeNormalise!$C$4:$G$203,5,FALSE))","v":""}]
[12,{"$f":"IF(ISNA(VLOOKUP($A16,DeNormalise!$C$4:$G$203,2,FALSE)),\"\",VLOOKUP($A16,DeNormalise!$C$4:$G$203,2,FALSE))","v":""},{"$f":"IF(LEN($B16)<1,\"\",VLOOKUP($A16,DeNormalise!$C$4:$G$203,3,FALSE))","v":""},{"$f":"IF(LEN($B16)<1,\"\",VLOOKUP($A16,DeNormalise!$C$4:$G$203,4,FALSE))","v":""},{"$f":"IF(LEN($B16)<1,\"\",VLOOKUP($A16,DeNormalise!$C$4:$G$203,5,FALSE))","v":""}]
[13,{"$f":"IF(ISNA(VLOOKUP($A17,DeNormalise!$C$4:$G$203,2,FALSE)),\"\",VLOOKUP($A17,DeNormalise!$C$4:$G$203,2,FALSE))","v":""},{"$f":"IF(LEN($B17)<1,\"\",VLOOKUP($A17,DeNormalise!$C$4:$G$203,3,FALSE))","v":""},{"$f":"IF(LEN($B17)<1,\"\",VLOOKUP($A17,DeNormalise!$C$4:$G$203,4,FALSE))","v":""},{"$f":"IF(LEN($B17)<1,\"\",VLOOKUP($A17,DeNormalise!$C$4:$G$203,5,FALSE))","v":""}]
[14,{"$f":"IF(ISNA(VLOOKUP($A18,DeNormalise!$C$4:$G$203,2,FALSE)),\"\",VLOOKUP($A18,DeNormalise!$C$4:$G$203,2,FALSE))","v":""},{"$f":"IF(LEN($B18)<1,\"\",VLOOKUP($A18,DeNormalise!$C$4:$G$203,3,FALSE))","v":""},{"$f":"IF(LEN($B18)<1,\"\",VLOOKUP($A18,DeNormalise!$C$4:$G$203,4,FALSE))","v":""},{"$f":"IF(LEN($B18)<1,\"\",VLOOKUP($A18,DeNormalise!$C$4:$G$203,5,FALSE))","v":""}]
[15,{"$f":"IF(ISNA(VLOOKUP($A19,DeNormalise!$C$4:$G$203,2,FALSE)),\"\",VLOOKUP($A19,DeNormalise!$C$4:$G$203,2,FALSE))","v":""},{"$f":"IF(LEN($B19)<1,\"\",VLOOKUP($A19,DeNormalise!$C$4:$G$203,3,FALSE))","v":""},{"$f":"IF(LEN($B19)<1,\"\",VLOOKUP($A19,DeNormalise!$C$4:$G$203,4,FALSE))","v":""},{"$f":"IF(LEN($B19)<1,\"\",VLOOKUP($A19,DeNormalise!$C$4:$G$203,5,FALSE))","v":""}]
[16,{"$f":"IF(ISNA(VLOOKUP($A20,DeNormalise!$C$4:$G$203,2,FALSE)),\"\",VLOOKUP($A20,DeNormalise!$C$4:$G$203,2,FALSE))","v":""},{"$f":"IF(LEN($B20)<1,\"\",VLOOKUP($A20,DeNormalise!$C$4:$G$203,3,FALSE))","v":""},{"$f":"IF(LEN($B20)<1,\"\",VLOOKUP($A20,DeNormalise!$C$4:$G$203,4,FALSE))","v":""},{"$f":"IF(LEN($B20)<1,\"\",VLOOKUP($A20,DeNormalise!$C$4:$G$203,5,FALSE))","v":""}]
[17,{"$f":"IF(ISNA(VLOOKUP($A21,DeNormalise!$C$4:$G$203,2,FALSE)),\"\",VLOOKUP($A21,DeNormalise!$C$4:$G$203,2,FALSE))","v":""},{"$f":"IF(LEN($B21)<1,\"\",VLOOKUP($A21,DeNormalise!$C$4:$G$203,3,FALSE))","v":""},{"$f":"IF(LEN($B21)<1,\"\",VLOOKUP($A21,DeNormalise!$C$4:$G$203,4,FALSE))","v":""},{"$f":"IF(LEN($B21)<1,\"\",VLOOKUP($A21,DeNormalise!$C$4:$G$203,5,FALSE))","v":""}]
[18,{"$f":"IF(ISNA(VLOOKUP($A22,DeNormalise!$C$4:$G$203,2,FALSE)),\"\",VLOOKUP($A22,DeNormalise!$C$4:$G$203,2,FALSE))","v":""},{"$f":"IF(LEN($B22)<1,\"\",VLOOKUP($A22,DeNormalise!$C$4:$G$203,3,FALSE))","v":""},{"$f":"IF(LEN($B22)<1,\"\",VLOOKUP($A22,DeNormalise!$C$4:$G$203,4,FALSE))","v":""},{"$f":"IF(LEN($B22)<1,\"\",VLOOKUP($A22,DeNormalise!$C$4:$G$203,5,FALSE))","v":""}]
[19,{"$f":"IF(ISNA(VLOOKUP($A23,DeNormalise!$C$4:$G$203,2,FALSE)),\"\",VLOOKUP($A23,DeNormalise!$C$4:$G$203,2,FALSE))","v":""},{"$f":"IF(LEN($B23)<1,\"\",VLOOKUP($A23,DeNormalise!$C$4:$G$203,3,FALSE))","v":""},{"$f":"IF(LEN($B23)<1,\"\",VLOOKUP($A23,DeNormalise!$C$4:$G$203,4,FALSE))","v":""},{"$f":"IF(LEN($B23)<1,\"\",VLOOKUP($A23,DeNormalise!$C$4:$G$203,5,FALSE))","v":""}]
[20,{"$f":"IF(ISNA(VLOOKUP($A24,DeNormalise!$C$4:$G$203,2,FALSE)),\"\",VLOOKUP($A24,DeNormalise!$C$4:$G$203,2,FALSE))","v":""},{"$f":"IF(LEN($B24)<1,\"\",VLOOKUP($A24,DeNormalise!$C$4:$G$203,3,FALSE))","v":""},{"$f":"IF(LEN($B24)<1,\"\",VLOOKUP($A24,DeNormalise!$C$4:$G$203,4,FALSE))","v":""},{"$f":"IF(LEN($B24)<1,\"\",VLOOKUP($A24,DeNormalise!$C$4:$G$203,5,FALSE))","v":""}]
[21,{"$f":"IF(ISNA(VLOOKUP($A25,DeNormalise!$C$4:$G$203,2,FALSE)),\"\",VLOOKUP($A25,DeNormalise!$C$4:$G$203,2,FALSE))","v":""},{"$f":"IF(LEN($B25)<1,\"\",VLOOKUP($A25,DeNormalise!$C$4:$G$203,3,FALSE))","v":""},{"$f":"IF(LEN($B25)<1,\"\",VLOOKUP($A25,DeNormalise!$C$4:$G$203,4,FALSE))","v":""},{"$f":"IF(LEN($B25)<1,\"\",VLOOKUP($A25,DeNormalise!$C$4:$G$203,5,FALSE))","v":""}]
[22,{"$f":"IF(ISNA(VLOOKUP($A26,DeNormalise!$C$4:$G$203,2,FALSE)),\"\",VLOOKUP($A26,DeNormalise!$C$4:$G$203,2,FALSE))","v":""},{"$f":"IF(LEN($B26)<1,\"\",VLOOKUP($A26,DeNormalise!$C$4:$G$203,3,FALSE))","v":""},{"$f":"IF(LEN($B26)<1,\"\",VLOOKUP($A26,DeNormalise!$C$4:$G$203,4,FALSE))","v":""},{"$f":"IF(LEN($B26)<1,\"\",VLOOKUP($A26,DeNormalise!$C$4:$G$203,5,FALSE))","v":""}]
[23,{"$f":"IF(ISNA(VLOOKUP($A27,DeNormalise!$C$4:$G$203,2,FALSE)),\"\",VLOOKUP($A27,DeNormalise!$C$4:$G$203,2,FALSE))","v":""},{"$f":"IF(LEN($B27)<1,\"\",VLOOKUP($A27,DeNormalise!$C$4:$G$203,3,FALSE))","v":""},{"$f":"IF(LEN($B27)<1,\"\",VLOOKUP($A27,DeNormalise!$C$4:$G$203,4,FALSE))","v":""},{"$f":"IF(LEN($B27)<1,\"\",VLOOKUP($A27,DeNormalise!$C$4:$G$203,5,FALSE))","v":""}]
[24,{"$f":"IF(ISNA(VLOOKUP($A28,DeNormalise!$C$4:$G$203,2,FALSE)),\"\",VLOOKUP($A28,DeNormalise!$C$4:$G$203,2,FALSE))","v":""},{"$f":"IF(LEN($B28)<1,\"\",VLOOKUP($A28,DeNormalise!$C$4:$G$203,3,FALSE))","v":""},{"$f":"IF(LEN($B28)<1,\"\",VLOOKUP($A28,DeNormalise!$C$4:$G$203,4,FALSE))","v":""},{"$f":"IF(LEN($B28)<1,\"\",VLOOKUP($A28,DeNormalise!$C$4:$G$203,5,FALSE))","v":""}]
[25,{"$f":"IF(ISNA(VLOOKUP($A29,DeNormalise!$C$4:$G$203,2,FALSE)),\"\",VLOOKUP($A29,DeNormalise!$C$4:$G$203,2,FALSE))","v":""},{"$f":"IF(LEN($B29)<1,\"\",VLOOKUP($A29,DeNormalise!$C$4:$G$203,3,FALSE))","v":""},{"$f":"IF(LEN($B29)<1,\"\",VLOOKUP($A29,DeNormalise!$C$4:$G$203,4,FALSE))","v":""},{"$f":"IF(LEN($B29)<1,\"\",VLOOKUP($A29,DeNormalise!$C$4:$G$203,5,FALSE))","v":""}]
[26,{"$f":"IF(ISNA(VLOOKUP($A30,DeNormalise!$C$4:$G$203,2,FALSE)),\"\",VLOOKUP($A30,DeNormalise!$C$4:$G$203,2,FALSE))","v":""},{"$f":"IF(LEN($B30)<1,\"\",VLOOKUP($A30,DeNormalise!$C$4:$G$203,3,FALSE))","v":""},{"$f":"IF(LEN($B30)<1,\"\",VLOOKUP($A30,DeNormalise!$C$4:$G$203,4,FALSE))","v":""},{"$f":"IF(LEN($B30)<1,\"\",VLOOKUP($A30,DeNormalise!$C$4:$G$203,5,FALSE))","v":""}]
[27,{"$f":"IF(ISNA(VLOOKUP($A31,DeNormalise!$C$4:$G$203,2,FALSE)),\"\",VLOOKUP($A31,DeNormalise!$C$4:$G$203,2,FALSE))","v":""},{"$f":"IF(LEN($B31)<1,\"\",VLOOKUP($A31,DeNormalise!$C$4:$G$203,3,FALSE))","v":""},{"$f":"IF(LEN($B31)<1,\"\",VLOOKUP($A31,DeNormalise!$C$4:$G$203,4,FALSE))","v":""},{"$f":"IF(LEN($B31)<1,\"\",VLOOKUP($A31,DeNormalise!$C$4:$G$203,5,FALSE))","v":""}]
[28,{"$f":"IF(ISNA(VLOOKUP($A32,DeNormalise!$C$4:$G$203,2,FALSE)),\"\",VLOOKUP($A32,DeNormalise!$C$4:$G$203,2,FALSE))","v":""},{"$f":"IF(LEN($B32)<1,\"\",VLOOKUP($A32,DeNormalise!$C$4:$G$203,3,FALSE))","v":""},{"$f":"IF(LEN($B32)<1,\"\",VLOOKUP($A32,DeNormalise!$C$4:$G$203,4,FALSE))","v":""},{"$f":"IF(LEN($B32)<1,\"\",VLOOKUP($A32,DeNormalise!$C$4:$G$203,5,FALSE))","v":""}]
[29,{"$f":"IF(ISNA(VLOOKUP($A33,DeNormalise!$C$4:$G$203,2,FALSE)),\"\",VLOOKUP($A33,DeNormalise!$C$4:$G$203,2,FALSE))","v":""},{"$f":"IF(LEN($B33)<1,\"\",VLOOKUP($A33,DeNormalise!$C$4:$G$203,3,FALSE))","v":""},{"$f":"IF(LEN($B33)<1,\"\",VLOOKUP($A33,DeNormalise!$C$4:$G$203,4,FALSE))","v":""},{"$f":"IF(LEN($B33)<1,\"\",VLOOKUP($A33,DeNormalise!$C$4:$G$203,5,FALSE))","v":""}]
[30,{"$f":"IF(ISNA(VLOOKUP($A34,DeNormalise!$C$4:$G$203,2,FALSE)),\"\",VLOOKUP($A34,DeNormalise!$C$4:$G$203,2,FALSE))","v":""},{"$f":"IF(LEN($B34)<1,\"\",VLOOKUP($A34,DeNormalise!$C$4:$G$203,3,FALSE))","v":""},{"$f":"IF(LEN($B34)<1,\"\",VLOOKUP($A34,DeNormalise!$C$4:$G$203,4,FALSE))","v":""},{"$f":"IF(LEN($B34)<1,\"\",VLOOKUP($A34,DeNormalise!$C$4:$G$203,5,FALSE))","v":""}]
[31,{"$f":"IF(ISNA(VLOOKUP($A35,DeNormalise!$C$4:$G$203,2,FALSE)),\"\",VLOOKUP($A35,DeNormalise!$C$4:$G$203,2,FALSE))","v":""},{"$f":"IF(LEN($B35)<1,\"\",VLOOKUP($A35,DeNormalise!$C$4:$G$203,3,FALSE))","v":""},{"$f":"IF(LEN($B35)<1,\"\",VLOOKUP($A35,DeNormalise!$C$4:$G$203,4,FALSE))","v":""},{"$f":"IF(LEN($B35)<1,\"\",VLOOKUP($A35,DeNormalise!$C$4:$G$203,5,FALSE))","v":""}]
[32,{"$f":"IF(ISNA(VLOOKUP($A36,DeNormalise!$C$4:$G$203,2,FALSE)),\"\",VLOOKUP($A36,DeNormalise!$C$4:$G$203,2,FALSE))","v":""},{"$f":"IF(LEN($B36)<1,\"\",VLOOKUP($A36,DeNormalise!$C$4:$G$203,3,FALSE))","v":""},{"$f":"IF(LEN($B36)<1,\"\",VLOOKUP($A36,DeNormalise!$C$4:$G$203,4,FALSE))","v":""},{"$f":"IF(LEN($B36)<1,\"\",VLOOKUP($A36,DeNormalise!$C$4:$G$203,5,FALSE))","v":""}]
[33,{"$f":"IF(ISNA(VLOOKUP($A37,DeNormalise!$C$4:$G$203,2,FALSE)),\"\",VLOOKUP($A37,DeNormalise!$C$4:$G$203,2,FALSE))","v":""},{"$f":"IF(LEN($B37)<1,\"\",VLOOKUP($A37,DeNormalise!$C$4:$G$203,3,FALSE))","v":""},{"$f":"IF(LEN($B37)<1,\"\",VLOOKUP($A37,DeNormalise!$C$4:$G$203,4,FALSE))","v":""},{"$f":"IF(LEN($B37)<1,\"\",VLOOKUP($A37,DeNormalise!$C$4:$G$203,5,FALSE))","v":""}]
[34,{"$f":"IF(ISNA(VLOOKUP($A38,DeNormalise!$C$4:$G$203,2,FALSE)),\"\",VLOOKUP($A38,DeNormalise!$C$4:$G$203,2,FALSE))","v":""},{"$f":"IF(LEN($B38)<1,\"\",VLOOKUP($A38,DeNormalise!$C$4:$G$203,3,FALSE))","v":""},{"$f":"IF(LEN($B38)<1,\"\",VLOOKUP($A38,DeNormalise!$C$4:$G$203,4,FALSE))","v":""},{"$f":"IF(LEN($B38)<1,\"\",VLOOKUP($A38,DeNormalise!$C$4:$G$203,5,FALSE))","v":""}]
[35,{"$f":"IF(ISNA(VLOOKUP($A39,DeNormalise!$C$4:$G$203,2,FALSE)),\"\",VLOOKUP($A39,DeNormalise!$C$4:$G$203,2,FALSE))","v":""},{"$f":"IF(LEN($B39)<1,\"\",VLOOKUP($A39,DeNormalise!$C$4:$G$203,3,FALSE))","v":""},{"$f":"IF(LEN($B39)<1,\"\",VLOOKUP($A39,DeNormalise!$C$4:$G$203,4,FALSE))","v":""},{"$f":"IF(LEN($B39)<1,\"\",VLOOKUP($A39,DeNormalise!$C$4:$G$203,5,FALSE))","v":""}]
[36,{"$f":"IF(ISNA(VLOOKUP($A40,DeNormalise!$C$4:$G$203,2,FALSE)),\"\",VLOOKUP($A40,DeNormalise!$C$4:$G$203,2,FALSE))","v":""},{"$f":"IF(LEN($B40)<1,\"\",VLOOKUP($A40,DeNormalise!$C$4:$G$203,3,FALSE))","v":""},{"$f":"IF(LEN($B40)<1,\"\",VLOOKUP($A40,DeNormalise!$C$4:$G$203,4,FALSE))","v":""},{"$f":"IF(LEN($B40)<1,\"\",VLOOKUP($A40,DeNormalise!$C$4:$G$203,5,FALSE))","v":""}]
[37,{"$f":"IF(ISNA(VLOOKUP($A41,DeNormalise!$C$4:$G$203,2,FALSE)),\"\",VLOOKUP($A41,DeNormalise!$C$4:$G$203,2,FALSE))","v":""},{"$f":"IF(LEN($B41)<1,\"\",VLOOKUP($A41,DeNormalise!$C$4:$G$203,3,FALSE))","v":""},{"$f":"IF(LEN($B41)<1,\"\",VLOOKUP($A41,DeNormalise!$C$4:$G$203,4,FALSE))","v":""},{"$f":"IF(LEN($B41)<1,\"\",VLOOKUP($A41,DeNormalise!$C$4:$G$203,5,FALSE))","v":""}]
[38,{"$f":"IF(ISNA(VLOOKUP($A42,DeNormalise!$C$4:$G$203,2,FALSE)),\"\",VLOOKUP($A42,DeNormalise!$C$4:$G$203,2,FALSE))","v":""},{"$f":"IF(LEN($B42)<1,\"\",VLOOKUP($A42,DeNormalise!$C$4:$G$203,3,FALSE))","v":""},{"$f":"IF(LEN($B42)<1,\"\",VLOOKUP($A42,DeNormalise!$C$4:$G$203,4,FALSE))","v":""},{"$f":"IF(LEN($B42)<1,\"\",VLOOKUP($A42,DeNormalise!$C$4:$G$203,5,FALSE))","v":""}]
[39,{"$f":"IF(ISNA(VLOOKUP($A43,DeNormalise!$C$4:$G$203,2,FALSE)),\"\",VLOOKUP($A43,DeNormalise!$C$4:$G$203,2,FALSE))","v":""},{"$f":"IF(LEN($B43)<1,\"\",VLOOKUP($A43,DeNormalise!$C$4:$G$203,3,FALSE))","v":""},{"$f":"IF(LEN($B43)<1,\"\",VLOOKUP($A43,DeNormalise!$C$4:$G$203,4,FALSE))","v":""},{"$f":"IF(LEN($B43)<1,\"\",VLOOKUP($A43,DeNormalise!$C$4:$G$203,5,FALSE))","v":""}]
[40,{"$f":"IF(ISNA(VLOOKUP($A44,DeNormalise!$C$4:$G$203,2,FALSE)),\"\",VLOOKUP($A44,DeNormalise!$C$4:$G$203,2,FALSE))","v":""},{"$f":"IF(LEN($B44)<1,\"\",VLOOKUP($A44,DeNormalise!$C$4:$G$203,3,FALSE))","v":""},{"$f":"IF(LEN($B44)<1,\"\",VLOOKUP($A44,DeNormalise!$C$4:$G$203,4,FALSE))","v":""},{"$f":"IF(LEN($B44)<1,\"\",VLOOKUP($A44,DeNormalise!$C$4:$G$203,5,FALSE))","v":""}]
[41,{"$f":"IF(ISNA(VLOOKUP($A45,DeNormalise!$C$4:$G$203,2,FALSE)),\"\",VLOOKUP($A45,DeNormalise!$C$4:$G$203,2,FALSE))","v":""},{"$f":"IF(LEN($B45)<1,\"\",VLOOKUP($A45,DeNormalise!$C$4:$G$203,3,FALSE))","v":""},{"$f":"IF(LEN($B45)<1,\"\",VLOOKUP($A45,DeNormalise!$C$4:$G$203,4,FALSE))","v":""},{"$f":"IF(LEN($B45)<1,\"\",VLOOKUP($A45,DeNormalise!$C$4:$G$203,5,FALSE))","v":""}]
[42,{"$f":"IF(ISNA(VLOOKUP($A46,DeNormalise!$C$4:$G$203,2,FALSE)),\"\",VLOOKUP($A46,DeNormalise!$C$4:$G$203,2,FALSE))","v":""},{"$f":"IF(LEN($B46)<1,\"\",VLOOKUP($A46,DeNormalise!$C$4:$G$203,3,FALSE))","v":""},{"$f":"IF(LEN($B46)<1,\"\",VLOOKUP($A46,DeNormalise!$C$4:$G$203,4,FALSE))","v":""},{"$f":"IF(LEN($B46)<1,\"\",VLOOKUP($A46,DeNormalise!$C$4:$G$203,5,FALSE))","v":""}]
[43,{"$f":"IF(ISNA(VLOOKUP($A47,DeNormalise!$C$4:$G$203,2,FALSE)),\"\",VLOOKUP($A47,DeNormalise!$C$4:$G$203,2,FALSE))","v":""},{"$f":"IF(LEN($B47)<1,\"\",VLOOKUP($A47,DeNormalise!$C$4:$G$203,3,FALSE))","v":""},{"$f":"IF(LEN($B47)<1,\"\",VLOOKUP($A47,DeNormalise!$C$4:$G$203,4,FALSE))","v":""},{"$f":"IF(LEN($B47)<1,\"\",VLOOKUP($A47,DeNormalise!$C$4:$G$203,5,FALSE))","v":""}]
[44,{"$f":"IF(ISNA(VLOOKUP($A48,DeNormalise!$C$4:$G$203,2,FALSE)),\"\",VLOOKUP($A48,DeNormalise!$C$4:$G$203,2,FALSE))","v":""},{"$f":"IF(LEN($B48)<1,\"\",VLOOKUP($A48,DeNormalise!$C$4:$G$203,3,FALSE))","v":""},{"$f":"IF(LEN($B48)<1,\"\",VLOOKUP($A48,DeNormalise!$C$4:$G$203,4,FALSE))","v":""},{"$f":"IF(LEN($B48)<1,\"\",VLOOKUP($A48,DeNormalise!$C$4:$G$203,5,FALSE))","v":""}]
[45,{"$f":"IF(ISNA(VLOOKUP($A49,DeNormalise!$C$4:$G$203,2,FALSE)),\"\",VLOOKUP($A49,DeNormalise!$C$4:$G$203,2,FALSE))","v":""},{"$f":"IF(LEN($B49)<1,\"\",VLOOKUP($A49,DeNormalise!$C$4:$G$203,3,FALSE))","v":""},{"$f":"IF(LEN($B49)<1,\"\",VLOOKUP($A49,DeNormalise!$C$4:$G$203,4,FALSE))","v":""},{"$f":"IF(LEN($B49)<1,\"\",VLOOKUP($A49,DeNormalise!$C$4:$G$203,5,FALSE))","v":""}]
[46,{"$f":"IF(ISNA(VLOOKUP($A50,DeNormalise!$C$4:$G$203,2,FALSE)),\"\",VLOOKUP($A50,DeNormalise!$C$4:$G$203,2,FALSE))","v":""},{"$f":"IF(LEN($B50)<1,\"\",VLOOKUP($A50,DeNormalise!$C$4:$G$203,3,FALSE))","v":""},{"$f":"IF(LEN($B50)<1,\"\",VLOOKUP($A50,DeNormalise!$C$4:$G$203,4,FALSE))","v":""},{"$f":"IF(LEN($B50)<1,\"\",VLOOKUP($A50,DeNormalise!$C$4:$G$203,5,FALSE))","v":""}]
[47,{"$f":"IF(ISNA(VLOOKUP($A51,DeNormalise!$C$4:$G$203,2,FALSE)),\"\",VLOOKUP($A51,DeNormalise!$C$4:$G$203,2,FALSE))","v":""},{"$f":"IF(LEN($B51)<1,\"\",VLOOKUP($A51,DeNormalise!$C$4:$G$203,3,FALSE))","v":""},{"$f":"IF(LEN($B51)<1,\"\",VLOOKUP($A51,DeNormalise!$C$4:$G$203,4,FALSE))","v":""},{"$f":"IF(LEN($B51)<1,\"\",VLOOKUP($A51,DeNormalise!$C$4:$G$203,5,FALSE))","v":""}]
[48,{"$f":"IF(ISNA(VLOOKUP($A52,DeNormalise!$C$4:$G$203,2,FALSE)),\"\",VLOOKUP($A52,DeNormalise!$C$4:$G$203,2,FALSE))","v":""},{"$f":"IF(LEN($B52)<1,\"\",VLOOKUP($A52,DeNormalise!$C$4:$G$203,3,FALSE))","v":""},{"$f":"IF(LEN($B52)<1,\"\",VLOOKUP($A52,DeNormalise!$C$4:$G$203,4,FALSE))","v":""},{"$f":"IF(LEN($B52)<1,\"\",VLOOKUP($A52,DeNormalise!$C$4:$G$203,5,FALSE))","v":""}]
[49,{"$f":"IF(ISNA(VLOOKUP($A53,DeNormalise!$C$4:$G$203,2,FALSE)),\"\",VLOOKUP($A53,DeNormalise!$C$4:$G$203,2,FALSE))","v":""},{"$f":"IF(LEN($B53)<1,\"\",VLOOKUP($A53,DeNormalise!$C$4:$G$203,3,FALSE))","v":""},{"$f":"IF(LEN($B53)<1,\"\",VLOOKUP($A53,DeNormalise!$C$4:$G$203,4,FALSE))","v":""},{"$f":"IF(LEN($B53)<1,\"\",VLOOKUP($A53,DeNormalise!$C$4:$G$203,5,FALSE))","v":""}]
[50,{"$f":"IF(ISNA(VLOOKUP($A54,DeNormalise!$C$4:$G$203,2,FALSE)),\"\",VLOOKUP($A54,DeNormalise!$C$4:$G$203,2,FALSE))","v":""},{"$f":"IF(LEN($B54)<1,\"\",VLOOKUP($A54,DeNormalise!$C$4:$G$203,3,FALSE))","v":""},{"$f":"IF(LEN($B54)<1,\"\",VLOOKUP($A54,DeNormalise!$C$4:$G$203,4,FALSE))","v":""},{"$f":"IF(LEN($B54)<1,\"\",VLOOKUP($A54,DeNormalise!$C$4:$G$203,5,FALSE))","v":""}]
[51,{"$f":"IF(ISNA(VLOOKUP($A55,DeNormalise!$C$4:$G$203,2,FALSE)),\"\",VLOOKUP($A55,DeNormalise!$C$4:$G$203,2,FALSE))","v":""},{"$f":"IF(LEN($B55)<1,\"\",VLOOKUP($A55,DeNormalise!$C$4:$G$203,3,FALSE))","v":""},{"$f":"IF(LEN($B55)<1,\"\",VLOOKUP($A55,DeNormalise!$C$4:$G$203,4,FALSE))","v":""},{"$f":"IF(LEN($B55)<1,\"\",VLOOKUP($A55,DeNormalise!$C$4:$G$203,5,FALSE))","v":""}]
[52,{"$f":"IF(ISNA(VLOOKUP($A56,DeNormalise!$C$4:$G$203,2,FALSE)),\"\",VLOOKUP($A56,DeNormalise!$C$4:$G$203,2,FALSE))","v":""},{"$f":"IF(LEN($B56)<1,\"\",VLOOKUP($A56,DeNormalise!$C$4:$G$203,3,FALSE))","v":""},{"$f":"IF(LEN($B56)<1,\"\",VLOOKUP($A56,DeNormalise!$C$4:$G$203,4,FALSE))","v":""},{"$f":"IF(LEN($B56)<1,\"\",VLOOKUP($A56,DeNormalise!$C$4:$G$203,5,FALSE))","v":""}]
[53,{"$f":"IF(ISNA(VLOOKUP($A57,DeNormalise!$C$4:$G$203,2,FALSE)),\"\",VLOOKUP($A57,DeNormalise!$C$4:$G$203,2,FALSE))","v":""},{"$f":"IF(LEN($B57)<1,\"\",VLOOKUP($A57,DeNormalise!$C$4:$G$203,3,FALSE))","v":""},{"$f":"IF(LEN($B57)<1,\"\",VLOOKUP($A57,DeNormalise!$C$4:$G$203,4,FALSE))","v":""},{"$f":"IF(LEN($B57)<1,\"\",VLOOKUP($A57,DeNormalise!$C$4:$G$203,5,FALSE))","v":""}]
[54,{"$f":"IF(ISNA(VLOOKUP($A58,DeNormalise!$C$4:$G$203,2,FALSE)),\"\",VLOOKUP($A58,DeNormalise!$C$4:$G$203,2,FALSE))","v":""},{"$f":"IF(LEN($B58)<1,\"\",VLOOKUP($A58,DeNormalise!$C$4:$G$203,3,FALSE))","v":""},{"$f":"IF(LEN($B58)<1,\"\",VLOOKUP($A58,DeNormalise!$C$4:$G$203,4,FALSE))","v":""},{"$f":"IF(LEN($B58)<1,\"\",VLOOKUP($A58,DeNormalise!$C$4:$G$203,5,FALSE))","v":""}]
[55,{"$f":"IF(ISNA(VLOOKUP($A59,DeNormalise!$C$4:$G$203,2,FALSE)),\"\",VLOOKUP($A59,DeNormalise!$C$4:$G$203,2,FALSE))","v":""},{"$f":"IF(LEN($B59)<1,\"\",VLOOKUP($A59,DeNormalise!$C$4:$G$203,3,FALSE))","v":""},{"$f":"IF(LEN($B59)<1,\"\",VLOOKUP($A59,DeNormalise!$C$4:$G$203,4,FALSE))","v":""},{"$f":"IF(LEN($B59)<1,\"\",VLOOKUP($A59,DeNormalise!$C$4:$G$203,5,FALSE))","v":""}]
[56,{"$f":"IF(ISNA(VLOOKUP($A60,DeNormalise!$C$4:$G$203,2,FALSE)),\"\",VLOOKUP($A60,DeNormalise!$C$4:$G$203,2,FALSE))","v":""},{"$f":"IF(LEN($B60)<1,\"\",VLOOKUP($A60,DeNormalise!$C$4:$G$203,3,FALSE))","v":""},{"$f":"IF(LEN($B60)<1,\"\",VLOOKUP($A60,DeNormalise!$C$4:$G$203,4,FALSE))","v":""},{"$f":"IF(LEN($B60)<1,\"\",VLOOKUP($A60,DeNormalise!$C$4:$G$203,5,FALSE))","v":""}]
[57,{"$f":"IF(ISNA(VLOOKUP($A61,DeNormalise!$C$4:$G$203,2,FALSE)),\"\",VLOOKUP($A61,DeNormalise!$C$4:$G$203,2,FALSE))","v":""},{"$f":"IF(LEN($B61)<1,\"\",VLOOKUP($A61,DeNormalise!$C$4:$G$203,3,FALSE))","v":""},{"$f":"IF(LEN($B61)<1,\"\",VLOOKUP($A61,DeNormalise!$C$4:$G$203,4,FALSE))","v":""},{"$f":"IF(LEN($B61)<1,\"\",VLOOKUP($A61,DeNormalise!$C$4:$G$203,5,FALSE))","v":""}]
[58,{"$f":"IF(ISNA(VLOOKUP($A62,DeNormalise!$C$4:$G$203,2,FALSE)),\"\",VLOOKUP($A62,DeNormalise!$C$4:$G$203,2,FALSE))","v":""},{"$f":"IF(LEN($B62)<1,\"\",VLOOKUP($A62,DeNormalise!$C$4:$G$203,3,FALSE))","v":""},{"$f":"IF(LEN($B62)<1,\"\",VLOOKUP($A62,DeNormalise!$C$4:$G$203,4,FALSE))","v":""},{"$f":"IF(LEN($B62)<1,\"\",VLOOKUP($A62,DeNormalise!$C$4:$G$203,5,FALSE))","v":""}]
[59,{"$f":"IF(ISNA(VLOOKUP($A63,DeNormalise!$C$4:$G$203,2,FALSE)),\"\",VLOOKUP($A63,DeNormalise!$C$4:$G$203,2,FALSE))","v":""},{"$f":"IF(LEN($B63)<1,\"\",VLOOKUP($A63,DeNormalise!$C$4:$G$203,3,FALSE))","v":""},{"$f":"IF(LEN($B63)<1,\"\",VLOOKUP($A63,DeNormalise!$C$4:$G$203,4,FALSE))","v":""},{"$f":"IF(LEN($B63)<1,\"\",VLOOKUP($A63,DeNormalise!$C$4:$G$203,5,FALSE))","v":""}]
[60,{"$f":"IF(ISNA(VLOOKUP($A64,DeNormalise!$C$4:$G$203,2,FALSE)),\"\",VLOOKUP($A64,DeNormalise!$C$4:$G$203,2,FALSE))","v":""},{"$f":"IF(LEN($B64)<1,\"\",VLOOKUP($A64,DeNormalise!$C$4:$G$203,3,FALSE))","v":""},{"$f":"IF(LEN($B64)<1,\"\",VLOOKUP($A64,DeNormalise!$C$4:$G$203,4,FALSE))","v":""},{"$f":"IF(LEN($B64)<1,\"\",VLOOKUP($A64,DeNormalise!$C$4:$G$203,5,FALSE))","v":""}]
[61,{"$f":"IF(ISNA(VLOOKUP($A65,DeNormalise!$C$4:$G$203,2,FALSE)),\"\",VLOOKUP($A65,DeNormalise!$C$4:$G$203,2,FALSE))","v":""},{"$f":"IF(LEN($B65)<1,\"\",VLOOKUP($A65,DeNormalise!$C$4:$G$203,3,FALSE))","v":""},{"$f":"IF(LEN($B65)<1,\"\",VLOOKUP($A65,DeNormalise!$C$4:$G$203,4,FALSE))","v":""},{"$f":"IF(LEN($B65)<1,\"\",VLOOKUP($A65,DeNormalise!$C$4:$G$203,5,FALSE))","v":""}]
[62,{"$f":"IF(ISNA(VLOOKUP($A66,DeNormalise!$C$4:$G$203,2,FALSE)),\"\",VLOOKUP($A66,DeNormalise!$C$4:$G$203,2,FALSE))","v":""},{"$f":"IF(LEN($B66)<1,\"\",VLOOKUP($A66,DeNormalise!$C$4:$G$203,3,FALSE))","v":""},{"$f":"IF(LEN($B66)<1,\"\",VLOOKUP($A66,DeNormalise!$C$4:$G$203,4,FALSE))","v":""},{"$f":"IF(LEN($B66)<1,\"\",VLOOKUP($A66,DeNormalise!$C$4:$G$203,5,FALSE))","v":""}]
[63,{"$f":"IF(ISNA(VLOOKUP($A67,DeNormalise!$C$4:$G$203,2,FALSE)),\"\",VLOOKUP($A67,DeNormalise!$C$4:$G$203,2,FALSE))","v":""},{"$f":"IF(LEN($B67)<1,\"\",VLOOKUP($A67,DeNormalise!$C$4:$G$203,3,FALSE))","v":""},{"$f":"IF(LEN($B67)<1,\"\",VLOOKUP($A67,DeNormalise!$C$4:$G$203,4,FALSE))","v":""},{"$f":"IF(LEN($B67)<1,\"\",VLOOKUP($A67,DeNormalise!$C$4:$G$203,5,FALSE))","v":""}]
[64,{"$f":"IF(ISNA(VLOOKUP($A68,DeNormalise!$C$4:$G$203,2,FALSE)),\"\",VLOOKUP($A68,DeNormalise!$C$4:$G$203,2,FALSE))","v":""},{"$f":"IF(LEN($B68)<1,\"\",VLOOKUP($A68,DeNormalise!$C$4:$G$203,3,FALSE))","v":""},{"$f":"IF(LEN($B68)<1,\"\",VLOOKUP($A68,DeNormalise!$C$4:$G$203,4,FALSE))","v":""},{"$f":"IF(LEN($B68)<1,\"\",VLOOKUP($A68,DeNormalise!$C$4:$G$203,5,FALSE))","v":""}]
[65,{"$f":"IF(ISNA(VLOOKUP($A69,DeNormalise!$C$4:$G$203,2,FALSE)),\"\",VLOOKUP($A69,DeNormalise!$C$4:$G$203,2,FALSE))","v":""},{"$f":"IF(LEN($B69)<1,\"\",VLOOKUP($A69,DeNormalise!$C$4:$G$203,3,FALSE))","v":""},{"$f":"IF(LEN($B69)<1,\"\",VLOOKUP($A69,DeNormalise!$C$4:$G$203,4,FALSE))","v":""},{"$f":"IF(LEN($B69)<1,\"\",VLOOKUP($A69,DeNormalise!$C$4:$G$203,5,FALSE))","v":""}]
[66,{"$f":"IF(ISNA(VLOOKUP($A70,DeNormalise!$C$4:$G$203,2,FALSE)),\"\",VLOOKUP($A70,DeNormalise!$C$4:$G$203,2,FALSE))","v":""},{"$f":"IF(LEN($B70)<1,\"\",VLOOKUP($A70,DeNormalise!$C$4:$G$203,3,FALSE))","v":""},{"$f":"IF(LEN($B70)<1,\"\",VLOOKUP($A70,DeNormalise!$C$4:$G$203,4,FALSE))","v":""},{"$f":"IF(LEN($B70)<1,\"\",VLOOKUP($A70,DeNormalise!$C$4:$G$203,5,FALSE))","v":""}]
[67,{"$f":"IF(ISNA(VLOOKUP($A71,DeNormalise!$C$4:$G$203,2,FALSE)),\"\",VLOOKUP($A71,DeNormalise!$C$4:$G$203,2,FALSE))","v":""},{"$f":"IF(LEN($B71)<1,\"\",VLOOKUP($A71,DeNormalise!$C$4:$G$203,3,FALSE))","v":""},{"$f":"IF(LEN($B71)<1,\"\",VLOOKUP($A71,DeNormalise!$C$4:$G$203,4,FALSE))","v":""},{"$f":"IF(LEN($B71)<1,\"\",VLOOKUP($A71,DeNormalise!$C$4:$G$203,5,FALSE))","v":""}]
[68,{"$f":"IF(ISNA(VLOOKUP($A72,DeNormalise!$C$4:$G$203,2,FALSE)),\"\",VLOOKUP($A72,DeNormalise!$C$4:$G$203,2,FALSE))","v":""},{"$f":"IF(LEN($B72)<1,\"\",VLOOKUP($A72,DeNormalise!$C$4:$G$203,3,FALSE))","v":""},{"$f":"IF(LEN($B72)<1,\"\",VLOOKUP($A72,DeNormalise!$C$4:$G$203,4,FALSE))","v":""},{"$f":"IF(LEN($B72)<1,\"\",VLOOKUP($A72,DeNormalise!$C$4:$G$203,5,FALSE))","v":""}]
[69,{"$f":"IF(ISNA(VLOOKUP($A73,DeNormalise!$C$4:$G$203,2,FALSE)),\"\",VLOOKUP($A73,DeNormalise!$C$4:$G$203,2,FALSE))","v":""},{"$f":"IF(LEN($B73)<1,\"\",VLOOKUP($A73,DeNormalise!$C$4:$G$203,3,FALSE))","v":""},{"$f":"IF(LEN($B73)<1,\"\",VLOOKUP($A73,DeNormalise!$C$4:$G$203,4,FALSE))","v":""},{"$f":"IF(LEN($B73)<1,\"\",VLOOKUP($A73,DeNormalise!$C$4:$G$203,5,FALSE))","v":""}]
[70,{"$f":"IF(ISNA(VLOOKUP($A74,DeNormalise!$C$4:$G$203,2,FALSE)),\"\",VLOOKUP($A74,DeNormalise!$C$4:$G$203,2,FALSE))","v":""},{"$f":"IF(LEN($B74)<1,\"\",VLOOKUP($A74,DeNormalise!$C$4:$G$203,3,FALSE))","v":""},{"$f":"IF(LEN($B74)<1,\"\",VLOOKUP($A74,DeNormalise!$C$4:$G$203,4,FALSE))","v":""},{"$f":"IF(LEN($B74)<1,\"\",VLOOKUP($A74,DeNormalise!$C$4:$G$203,5,FALSE))","v":""}]
[71,{"$f":"IF(ISNA(VLOOKUP($A75,DeNormalise!$C$4:$G$203,2,FALSE)),\"\",VLOOKUP($A75,DeNormalise!$C$4:$G$203,2,FALSE))","v":""},{"$f":"IF(LEN($B75)<1,\"\",VLOOKUP($A75,DeNormalise!$C$4:$G$203,3,FALSE))","v":""},{"$f":"IF(LEN($B75)<1,\"\",VLOOKUP($A75,DeNormalise!$C$4:$G$203,4,FALSE))","v":""},{"$f":"IF(LEN($B75)<1,\"\",VLOOKUP($A75,DeNormalise!$C$4:$G$203,5,FALSE))","v":""}]
[72,{"$f":"IF(ISNA(VLOOKUP($A76,DeNormalise!$C$4:$G$203,2,FALSE)),\"\",VLOOKUP($A76,DeNormalise!$C$4:$G$203,2,FALSE))","v":""},{"$f":"IF(LEN($B76)<1,\"\",VLOOKUP($A76,DeNormalise!$C$4:$G$203,3,FALSE))","v":""},{"$f":"IF(LEN($B76)<1,\"\",VLOOKUP($A76,DeNormalise!$C$4:$G$203,4,FALSE))","v":""},{"$f":"IF(LEN($B76)<1,\"\",VLOOKUP($A76,DeNormalise!$C$4:$G$203,5,FALSE))","v":""}]
[73,{"$f":"IF(ISNA(VLOOKUP($A77,DeNormalise!$C$4:$G$203,2,FALSE)),\"\",VLOOKUP($A77,DeNormalise!$C$4:$G$203,2,FALSE))","v":""},{"$f":"IF(LEN($B77)<1,\"\",VLOOKUP($A77,DeNormalise!$C$4:$G$203,3,FALSE))","v":""},{"$f":"IF(LEN($B77)<1,\"\",VLOOKUP($A77,DeNormalise!$C$4:$G$203,4,FALSE))","v":""},{"$f":"IF(LEN($B77)<1,\"\",VLOOKUP($A77,DeNormalise!$C$4:$G$203,5,FALSE))","v":""}]
[74,{"$f":"IF(ISNA(VLOOKUP($A78,DeNormalise!$C$4:$G$203,2,FALSE)),\"\",VLOOKUP($A78,DeNormalise!$C$4:$G$203,2,FALSE))","v":""},{"$f":"IF(LEN($B78)<1,\"\",VLOOKUP($A78,DeNormalise!$C$4:$G$203,3,FALSE))","v":""},{"$f":"IF(LEN($B78)<1,\"\",VLOOKUP($A78,DeNormalise!$C$4:$G$203,4,FALSE))","v":""},{"$f":"IF(LEN($B78)<1,\"\",VLOOKUP($A78,DeNormalise!$C$4:$G$203,5,FALSE))","v":""}]
[75,{"$f":"IF(ISNA(VLOOKUP($A79,DeNormalise!$C$4:$G$203,2,FALSE)),\"\",VLOOKUP($A79,DeNormalise!$C$4:$G$203,2,FALSE))","v":""},{"$f":"IF(LEN($B79)<1,\"\",VLOOKUP($A79,DeNormalise!$C$4:$G$203,3,FALSE))","v":""},{"$f":"IF(LEN($B79)<1,\"\",VLOOKUP($A79,DeNormalise!$C$4:$G$203,4,FALSE))","v":""},{"$f":"IF(LEN($B79)<1,\"\",VLOOKUP($A79,DeNormalise!$C$4:$G$203,5,FALSE))","v":""}]
[76,{"$f":"IF(ISNA(VLOOKUP($A80,DeNormalise!$C$4:$G$203,2,FALSE)),\"\",VLOOKUP($A80,DeNormalise!$C$4:$G$203,2,FALSE))","v":""},{"$f":"IF(LEN($B80)<1,\"\",VLOOKUP($A80,DeNormalise!$C$4:$G$203,3,FALSE))","v":""},{"$f":"IF(LEN($B80)<1,\"\",VLOOKUP($A80,DeNormalise!$C$4:$G$203,4,FALSE))","v":""},{"$f":"IF(LEN($B80)<1,\"\",VLOOKUP($A80,DeNormalise!$C$4:$G$203,5,FALSE))","v":""}]
[77,{"$f":"IF(ISNA(VLOOKUP($A81,DeNormalise!$C$4:$G$203,2,FALSE)),\"\",VLOOKUP($A81,DeNormalise!$C$4:$G$203,2,FALSE))","v":""},{"$f":"IF(LEN($B81)<1,\"\",VLOOKUP($A81,DeNormalise!$C$4:$G$203,3,FALSE))","v":""},{"$f":"IF(LEN($B81)<1,\"\",VLOOKUP($A81,DeNormalise!$C$4:$G$203,4,FALSE))","v":""},{"$f":"IF(LEN($B81)<1,\"\",VLOOKUP($A81,DeNormalise!$C$4:$G$203,5,FALSE))","v":""}]
[78,{"$f":"IF(ISNA(VLOOKUP($A82,DeNormalise!$C$4:$G$203,2,FALSE)),\"\",VLOOKUP($A82,DeNormalise!$C$4:$G$203,2,FALSE))","v":""},{"$f":"IF(LEN($B82)<1,\"\",VLOOKUP($A82,DeNormalise!$C$4:$G$203,3,FALSE))","v":""},{"$f":"IF(LEN($B82)<1,\"\",VLOOKUP($A82,DeNormalise!$C$4:$G$203,4,FALSE))","v":""},{"$f":"IF(LEN($B82)<1,\"\",VLOOKUP($A82,DeNormalise!$C$4:$G$203,5,FALSE))","v":""}]
[79,{"$f":"IF(ISNA(VLOOKUP($A83,DeNormalise!$C$4:$G$203,2,FALSE)),\"\",VLOOKUP($A83,DeNormalise!$C$4:$G$203,2,FALSE))","v":""},{"$f":"IF(LEN($B83)<1,\"\",VLOOKUP($A83,DeNormalise!$C$4:$G$203,3,FALSE))","v":""},{"$f":"IF(LEN($B83)<1,\"\",VLOOKUP($A83,DeNormalise!$C$4:$G$203,4,FALSE))","v":""},{"$f":"IF(LEN($B83)<1,\"\",VLOOKUP($A83,DeNormalise!$C$4:$G$203,5,FALSE))","v":""}]
[80,{"$f":"IF(ISNA(VLOOKUP($A84,DeNormalise!$C$4:$G$203,2,FALSE)),\"\",VLOOKUP($A84,DeNormalise!$C$4:$G$203,2,FALSE))","v":""},{"$f":"IF(LEN($B84)<1,\"\",VLOOKUP($A84,DeNormalise!$C$4:$G$203,3,FALSE))","v":""},{"$f":"IF(LEN($B84)<1,\"\",VLOOKUP($A84,DeNormalise!$C$4:$G$203,4,FALSE))","v":""},{"$f":"IF(LEN($B84)<1,\"\",VLOOKUP($A84,DeNormalise!$C$4:$G$203,5,FALSE))","v":""}]
[81,{"$f":"IF(ISNA(VLOOKUP($A85,DeNormalise!$C$4:$G$203,2,FALSE)),\"\",VLOOKUP($A85,DeNormalise!$C$4:$G$203,2,FALSE))","v":""},{"$f":"IF(LEN($B85)<1,\"\",VLOOKUP($A85,DeNormalise!$C$4:$G$203,3,FALSE))","v":""},{"$f":"IF(LEN($B85)<1,\"\",VLOOKUP($A85,DeNormalise!$C$4:$G$203,4,FALSE))","v":""},{"$f":"IF(LEN($B85)<1,\"\",VLOOKUP($A85,DeNormalise!$C$4:$G$203,5,FALSE))","v":""}]
[82,{"$f":"IF(ISNA(VLOOKUP($A86,DeNormalise!$C$4:$G$203,2,FALSE)),\"\",VLOOKUP($A86,DeNormalise!$C$4:$G$203,2,FALSE))","v":""},{"$f":"IF(LEN($B86)<1,\"\",VLOOKUP($A86,DeNormalise!$C$4:$G$203,3,FALSE))","v":""},{"$f":"IF(LEN($B86)<1,\"\",VLOOKUP($A86,DeNormalise!$C$4:$G$203,4,FALSE))","v":""},{"$f":"IF(LEN($B86)<1,\"\",VLOOKUP($A86,DeNormalise!$C$4:$G$203,5,FALSE))","v":""}]
[83,{"$f":"IF(ISNA(VLOOKUP($A87,DeNormalise!$C$4:$G$203,2,FALSE)),\"\",VLOOKUP($A87,DeNormalise!$C$4:$G$203,2,FALSE))","v":""},{"$f":"IF(LEN($B87)<1,\"\",VLOOKUP($A87,DeNormalise!$C$4:$G$203,3,FALSE))","v":""},{"$f":"IF(LEN($B87)<1,\"\",VLOOKUP($A87,DeNormalise!$C$4:$G$203,4,FALSE))","v":""},{"$f":"IF(LEN($B87)<1,\"\",VLOOKUP($A87,DeNormalise!$C$4:$G$203,5,FALSE))","v":""}]
[84,{"$f":"IF(ISNA(VLOOKUP($A88,DeNormalise!$C$4:$G$203,2,FALSE)),\"\",VLOOKUP($A88,DeNormalise!$C$4:$G$203,2,FALSE))","v":""},{"$f":"IF(LEN($B88)<1,\"\",VLOOKUP($A88,DeNormalise!$C$4:$G$203,3,FALSE))","v":""},{"$f":"IF(LEN($B88)<1,\"\",VLOOKUP($A88,DeNormalise!$C$4:$G$203,4,FALSE))","v":""},{"$f":"IF(LEN($B88)<1,\"\",VLOOKUP($A88,DeNormalise!$C$4:$G$203,5,FALSE))","v":""}]
[85,{"$f":"IF(ISNA(VLOOKUP($A89,DeNormalise!$C$4:$G$203,2,FALSE)),\"\",VLOOKUP($A89,DeNormalise!$C$4:$G$203,2,FALSE))","v":""},{"$f":"IF(LEN($B89)<1,\"\",VLOOKUP($A89,DeNormalise!$C$4:$G$203,3,FALSE))","v":""},{"$f":"IF(LEN($B89)<1,\"\",VLOOKUP($A89,DeNormalise!$C$4:$G$203,4,FALSE))","v":""},{"$f":"IF(LEN($B89)<1,\"\",VLOOKUP($A89,DeNormalise!$C$4:$G$203,5,FALSE))","v":""}]
[86,{"$f":"IF(ISNA(VLOOKUP($A90,DeNormalise!$C$4:$G$203,2,FALSE)),\"\",VLOOKUP($A90,DeNormalise!$C$4:$G$203,2,FALSE))","v":""},{"$f":"IF(LEN($B90)<1,\"\",VLOOKUP($A90,DeNormalise!$C$4:$G$203,3,FALSE))","v":""},{"$f":"IF(LEN($B90)<1,\"\",VLOOKUP($A90,DeNormalise!$C$4:$G$203,4,FALSE))","v":""},{"$f":"IF(LEN($B90)<1,\"\",VLOOKUP($A90,DeNormalise!$C$4:$G$203,5,FALSE))","v":""}]
[87,{"$f":"IF(ISNA(VLOOKUP($A91,DeNormalise!$C$4:$G$203,2,FALSE)),\"\",VLOOKUP($A91,DeNormalise!$C$4:$G$203,2,FALSE))","v":""},{"$f":"IF(LEN($B91)<1,\"\",VLOOKUP($A91,DeNormalise!$C$4:$G$203,3,FALSE))","v":""},{"$f":"IF(LEN($B91)<1,\"\",VLOOKUP($A91,DeNormalise!$C$4:$G$203,4,FALSE))","v":""},{"$f":"IF(LEN($B91)<1,\"\",VLOOKUP($A91,DeNormalise!$C$4:$G$203,5,FALSE))","v":""}]
[88,{"$f":"IF(ISNA(VLOOKUP($A92,DeNormalise!$C$4:$G$203,2,FALSE)),\"\",VLOOKUP($A92,DeNormalise!$C$4:$G$203,2,FALSE))","v":""},{"$f":"IF(LEN($B92)<1,\"\",VLOOKUP($A92,DeNormalise!$C$4:$G$203,3,FALSE))","v":""},{"$f":"IF(LEN($B92)<1,\"\",VLOOKUP($A92,DeNormalise!$C$4:$G$203,4,FALSE))","v":""},{"$f":"IF(LEN($B92)<1,\"\",VLOOKUP($A92,DeNormalise!$C$4:$G$203,5,FALSE))","v":""}]
[89,{"$f":"IF(ISNA(VLOOKUP($A93,DeNormalise!$C$4:$G$203,2,FALSE)),\"\",VLOOKUP($A93,DeNormalise!$C$4:$G$203,2,FALSE))","v":""},{"$f":"IF(LEN($B93)<1,\"\",VLOOKUP($A93,DeNormalise!$C$4:$G$203,3,FALSE))","v":""},{"$f":"IF(LEN($B93)<1,\"\",VLOOKUP($A93,DeNormalise!$C$4:$G$203,4,FALSE))","v":""},{"$f":"IF(LEN($B93)<1,\"\",VLOOKUP($A93,DeNormalise!$C$4:$G$203,5,FALSE))","v":""}]
[90,{"$f":"IF(ISNA(VLOOKUP($A94,DeNormalise!$C$4:$G$203,2,FALSE)),\"\",VLOOKUP($A94,DeNormalise!$C$4:$G$203,2,FALSE))","v":""},{"$f":"IF(LEN($B94)<1,\"\",VLOOKUP($A94,DeNormalise!$C$4:$G$203,3,FALSE))","v":""},{"$f":"IF(LEN($B94)<1,\"\",VLOOKUP($A94,DeNormalise!$C$4:$G$203,4,FALSE))","v":""},{"$f":"IF(LEN($B94)<1,\"\",VLOOKUP($A94,DeNormalise!$C$4:$G$203,5,FALSE))","v":""}]
[91,{"$f":"IF(ISNA(VLOOKUP($A95,DeNormalise!$C$4:$G$203,2,FALSE)),\"\",VLOOKUP($A95,DeNormalise!$C$4:$G$203,2,FALSE))","v":""},{"$f":"IF(LEN($B95)<1,\"\",VLOOKUP($A95,DeNormalise!$C$4:$G$203,3,FALSE))","v":""},{"$f":"IF(LEN($B95)<1,\"\",VLOOKUP($A95,DeNormalise!$C$4:$G$203,4,FALSE))","v":""},{"$f":"IF(LEN($B95)<1,\"\",VLOOKUP($A95,DeNormalise!$C$4:$G$203,5,FALSE))","v":""}]
[92,{"$f":"IF(ISNA(VLOOKUP($A96,DeNormalise!$C$4:$G$203,2,FALSE)),\"\",VLOOKUP($A96,DeNormalise!$C$4:$G$203,2,FALSE))","v":""},{"$f":"IF(LEN($B96)<1,\"\",VLOOKUP($A96,DeNormalise!$C$4:$G$203,3,FALSE))","v":""},{"$f":"IF(LEN($B96)<1,\"\",VLOOKUP($A96,DeNormalise!$C$4:$G$203,4,FALSE))","v":""},{"$f":"IF(LEN($B96)<1,\"\",VLOOKUP($A96,DeNormalise!$C$4:$G$203,5,FALSE))","v":""}]
[93,{"$f":"IF(ISNA(VLOOKUP($A97,DeNormalise!$C$4:$G$203,2,FALSE)),\"\",VLOOKUP($A97,DeNormalise!$C$4:$G$203,2,FALSE))","v":""},{"$f":"IF(LEN($B97)<1,\"\",VLOOKUP($A97,DeNormalise!$C$4:$G$203,3,FALSE))","v":""},{"$f":"IF(LEN($B97)<1,\"\",VLOOKUP($A97,DeNormalise!$C$4:$G$203,4,FALSE))","v":""},{"$f":"IF(LEN($B97)<1,\"\",VLOOKUP($A97,DeNormalise!$C$4:$G$203,5,FALSE))","v":""}]
[94,{"$f":"IF(ISNA(VLOOKUP($A98,DeNormalise!$C$4:$G$203,2,FALSE)),\"\",VLOOKUP($A98,DeNormalise!$C$4:$G$203,2,FALSE))","v":""},{"$f":"IF(LEN($B98)<1,\"\",VLOOKUP($A98,DeNormalise!$C$4:$G$203,3,FALSE))","v":""},{"$f":"IF(LEN($B98)<1,\"\",VLOOKUP($A98,DeNormalise!$C$4:$G$203,4,FALSE))","v":""},{"$f":"IF(LEN($B98)<1,\"\",VLOOKUP($A98,DeNormalise!$C$4:$G$203,5,FALSE))","v":""}]
[95,{"$f":"IF(ISNA(VLOOKUP($A99,DeNormalise!$C$4:$G$203,2,FALSE)),\"\",VLOOKUP($A99,DeNormalise!$C$4:$G$203,2,FALSE))","v":""},{"$f":"IF(LEN($B99)<1,\"\",VLOOKUP($A99,DeNormalise!$C$4:$G$203,3,FALSE))","v":""},{"$f":"IF(LEN($B99)<1,\"\",VLOOKUP($A99,DeNormalise!$C$4:$G$203,4,FALSE))","v":""},{"$f":"IF(LEN($B99)<1,\"\",VLOOKUP($A99,DeNormalise!$C$4:$G$203,5,FALSE))","v":""}]
[96,{"$f":"IF(ISNA(VLOOKUP($A100,DeNormalise!$C$4:$G$203,2,FALSE)),\"\",VLOOKUP($A100,DeNormalise!$C$4:$G$203,2,FALSE))","v":""},{"$f":"IF(LEN($B100)<1,\"\",VLOOKUP($A100,DeNormalise!$C$4:$G$203,3,FALSE))","v":""},{"$f":"IF(LEN($B100)<1,\"\",VLOOKUP($A100,DeNormalise!$C$4:$G$203,4,FALSE))","v":""},{"$f":"IF(LEN($B100)<1,\"\",VLOOKUP($A100,DeNormalise!$C$4:$G$203,5,FALSE))","v":""}]
[97,{"$f":"IF(ISNA(VLOOKUP($A101,DeNormalise!$C$4:$G$203,2,FALSE)),\"\",VLOOKUP($A101,DeNormalise!$C$4:$G$203,2,FALSE))","v":""},{"$f":"IF(LEN($B101)<1,\"\",VLOOKUP($A101,DeNormalise!$C$4:$G$203,3,FALSE))","v":""},{"$f":"IF(LEN($B101)<1,\"\",VLOOKUP($A101,DeNormalise!$C$4:$G$203,4,FALSE))","v":""},{"$f":"IF(LEN($B101)<1,\"\",VLOOKUP($A101,DeNormalise!$C$4:$G$203,5,FALSE))","v":""}]
[98,{"$f":"IF(ISNA(VLOOKUP($A102,DeNormalise!$C$4:$G$203,2,FALSE)),\"\",VLOOKUP($A102,DeNormalise!$C$4:$G$203,2,FALSE))","v":""},{"$f":"IF(LEN($B102)<1,\"\",VLOOKUP($A102,DeNormalise!$C$4:$G$203,3,FALSE))","v":""},{"$f":"IF(LEN($B102)<1,\"\",VLOOKUP($A102,DeNormalise!$C$4:$G$203,4,FALSE))","v":""},{"$f":"IF(LEN($B102)<1,\"\",VLOOKUP($A102,DeNormalise!$C$4:$G$203,5,FALSE))","v":""}]
[99,{"$f":"IF(ISNA(VLOOKUP($A103,DeNormalise!$C$4:$G$203,2,FALSE)),\"\",VLOOKUP($A103,DeNormalise!$C$4:$G$203,2,FALSE))","v":""},{"$f":"IF(LEN($B103)<1,\"\",VLOOKUP($A103,DeNormalise!$C$4:$G$203,3,FALSE))","v":""},{"$f":"IF(LEN($B103)<1,\"\",VLOOKUP($A103,DeNormalise!$C$4:$G$203,4,FALSE))","v":""},{"$f":"IF(LEN($B103)<1,\"\",VLOOKUP($A103,DeNormalise!$C$4:$G$203,5,FALSE))","v":""}]
[100,{"$f":"IF(ISNA(VLOOKUP($A104,DeNormalise!$C$4:$G$203,2,FALSE)),\"\",VLOOKUP($A104,DeNormalise!$C$4:$G$203,2,FALSE))","v":""},{"$f":"IF(LEN($B104)<1,\"\",VLOOKUP($A104,DeNormalise!$C$4:$G$203,3,FALSE))","v":""},{"$f":"IF(LEN($B104)<1,\"\",VLOOKUP($A104,DeNormalise!$C$4:$G$203,4,FALSE))","v":""},{"$f":"IF(LEN($B104)<1,\"\",VLOOKUP($A104,DeNormalise!$C$4:$G$203,5,FALSE))","v":""}]
[101,{"$f":"IF(ISNA(VLOOKUP($A105,DeNormalise!$C$4:$G$203,2,FALSE)),\"\",VLOOKUP($A105,DeNormalise!$C$4:$G$203,2,FALSE))","v":""},{"$f":"IF(LEN($B105)<1,\"\",VLOOKUP($A105,DeNormalise!$C$4:$G$203,3,FALSE))","v":""},{"$f":"IF(LEN($B105)<1,\"\",VLOOKUP($A105,DeNormalise!$C$4:$G$203,4,FALSE))","v":""},{"$f":"IF(LEN($B105)<1,\"\",VLOOKUP($A105,DeNormalise!$C$4:$G$203,5,FALSE))","v":""}]
[102,{"$f":"IF(ISNA(VLOOKUP($A106,DeNormalise!$C$4:$G$203,2,FALSE)),\"\",VLOOKUP($A106,DeNormalise!$C$4:$G$203,2,FALSE))","v":""},{"$f":"IF(LEN($B106)<1,\"\",VLOOKUP($A106,DeNormalise!$C$4:$G$203,3,FALSE))","v":""},{"$f":"IF(LEN($B106)<1,\"\",VLOOKUP($A106,DeNormalise!$C$4:$G$203,4,FALSE))","v":""},{"$f":"IF(LEN($B106)<1,\"\",VLOOKUP($A106,DeNormalise!$C$4:$G$203,5,FALSE))","v":""}]
[103,{"$f":"IF(ISNA(VLOOKUP($A107,DeNormalise!$C$4:$G$203,2,FALSE)),\"\",VLOOKUP($A107,DeNormalise!$C$4:$G$203,2,FALSE))","v":""},{"$f":"IF(LEN($B107)<1,\"\",VLOOKUP($A107,DeNormalise!$C$4:$G$203,3,FALSE))","v":""},{"$f":"IF(LEN($B107)<1,\"\",VLOOKUP($A107,DeNormalise!$C$4:$G$203,4,FALSE))","v":""},{"$f":"IF(LEN($B107)<1,\"\",VLOOKUP($A107,DeNormalise!$C$4:$G$203,5,FALSE))","v":""}]
[104,{"$f":"IF(ISNA(VLOOKUP($A108,DeNormalise!$C$4:$G$203,2,FALSE)),\"\",VLOOKUP($A108,DeNormalise!$C$4:$G$203,2,FALSE))","v":""},{"$f":"IF(LEN($B108)<1,\"\",VLOOKUP($A108,DeNormalise!$C$4:$G$203,3,FALSE))","v":""},{"$f":"IF(LEN($B108)<1,\"\",VLOOKUP($A108,DeNormalise!$C$4:$G$203,4,FALSE))","v":""},{"$f":"IF(LEN($B108)<1,\"\",VLOOKUP($A108,DeNormalise!$C$4:$G$203,5,FALSE))","v":""}]
[105,{"$f":"IF(ISNA(VLOOKUP($A109,DeNormalise!$C$4:$G$203,2,FALSE)),\"\",VLOOKUP($A109,DeNormalise!$C$4:$G$203,2,FALSE))","v":""},{"$f":"IF(LEN($B109)<1,\"\",VLOOKUP($A109,DeNormalise!$C$4:$G$203,3,FALSE))","v":""},{"$f":"IF(LEN($B109)<1,\"\",VLOOKUP($A109,DeNormalise!$C$4:$G$203,4,FALSE))","v":""},{"$f":"IF(LEN($B109)<1,\"\",VLOOKUP($A109,DeNormalise!$C$4:$G$203,5,FALSE))","v":""}]
[106,{"$f":"IF(ISNA(VLOOKUP($A110,DeNormalise!$C$4:$G$203,2,FALSE)),\"\",VLOOKUP($A110,DeNormalise!$C$4:$G$203,2,FALSE))","v":""},{"$f":"IF(LEN($B110)<1,\"\",VLOOKUP($A110,DeNormalise!$C$4:$G$203,3,FALSE))","v":""},{"$f":"IF(LEN($B110)<1,\"\",VLOOKUP($A110,DeNormalise!$C$4:$G$203,4,FALSE))","v":""},{"$f":"IF(LEN($B110)<1,\"\",VLOOKUP($A110,DeNormalise!$C$4:$G$203,5,FALSE))","v":""}]
[107,{"$f":"IF(ISNA(VLOOKUP($A111,DeNormalise!$C$4:$G$203,2,FALSE)),\"\",VLOOKUP($A111,DeNormalise!$C$4:$G$203,2,FALSE))","v":""},{"$f":"IF(LEN($B111)<1,\"\",VLOOKUP($A111,DeNormalise!$C$4:$G$203,3,FALSE))","v":""},{"$f":"IF(LEN($B111)<1,\"\",VLOOKUP($A111,DeNormalise!$C$4:$G$203,4,FALSE))","v":""},{"$f":"IF(LEN($B111)<1,\"\",VLOOKUP($A111,DeNormalise!$C$4:$G$203,5,FALSE))","v":""}]
[108,{"$f":"IF(ISNA(VLOOKUP($A112,DeNormalise!$C$4:$G$203,2,FALSE)),\"\",VLOOKUP($A112,DeNormalise!$C$4:$G$203,2,FALSE))","v":""},{"$f":"IF(LEN($B112)<1,\"\",VLOOKUP($A112,DeNormalise!$C$4:$G$203,3,FALSE))","v":""},{"$f":"IF(LEN($B112)<1,\"\",VLOOKUP($A112,DeNormalise!$C$4:$G$203,4,FALSE))","v":""},{"$f":"IF(LEN($B112)<1,\"\",VLOOKUP($A112,DeNormalise!$C$4:$G$203,5,FALSE))","v":""}]
[109,{"$f":"IF(ISNA(VLOOKUP($A113,DeNormalise!$C$4:$G$203,2,FALSE)),\"\",VLOOKUP($A113,DeNormalise!$C$4:$G$203,2,FALSE))","v":""},{"$f":"IF(LEN($B113)<1,\"\",VLOOKUP($A113,DeNormalise!$C$4:$G$203,3,FALSE))","v":""},{"$f":"IF(LEN($B113)<1,\"\",VLOOKUP($A113,DeNormalise!$C$4:$G$203,4,FALSE))","v":""},{"$f":"IF(LEN($B113)<1,\"\",VLOOKUP($A113,DeNormalise!$C$4:$G$203,5,FALSE))","v":""}]
[110,{"$f":"IF(ISNA(VLOOKUP($A114,DeNormalise!$C$4:$G$203,2,FALSE)),\"\",VLOOKUP($A114,DeNormalise!$C$4:$G$203,2,FALSE))","v":""},{"$f":"IF(LEN($B114)<1,\"\",VLOOKUP($A114,DeNormalise!$C$4:$G$203,3,FALSE))","v":""},{"$f":"IF(LEN($B114)<1,\"\",VLOOKUP($A114,DeNormalise!$C$4:$G$203,4,FALSE))","v":""},{"$f":"IF(LEN($B114)<1,\"\",VLOOKUP($A114,DeNormalise!$C$4:$G$203,5,FALSE))","v":""}]
[111,{"$f":"IF(ISNA(VLOOKUP($A115,DeNormalise!$C$4:$G$203,2,FALSE)),\"\",VLOOKUP($A115,DeNormalise!$C$4:$G$203,2,FALSE))","v":""},{"$f":"IF(LEN($B115)<1,\"\",VLOOKUP($A115,DeNormalise!$C$4:$G$203,3,FALSE))","v":""},{"$f":"IF(LEN($B115)<1,\"\",VLOOKUP($A115,DeNormalise!$C$4:$G$203,4,FALSE))","v":""},{"$f":"IF(LEN($B115)<1,\"\",VLOOKUP($A115,DeNormalise!$C$4:$G$203,5,FALSE))","v":""}]
[112,{"$f":"IF(ISNA(VLOOKUP($A116,DeNormalise!$C$4:$G$203,2,FALSE)),\"\",VLOOKUP($A116,DeNormalise!$C$4:$G$203,2,FALSE))","v":""},{"$f":"IF(LEN($B116)<1,\"\",VLOOKUP($A116,DeNormalise!$C$4:$G$203,3,FALSE))","v":""},{"$f":"IF(LEN($B116)<1,\"\",VLOOKUP($A116,DeNormalise!$C$4:$G$203,4,FALSE))","v":""},{"$f":"IF(LEN($B116)<1,\"\",VLOOKUP($A116,DeNormalise!$C$4:$G$203,5,FALSE))","v":""}]
[113,{"$f":"IF(ISNA(VLOOKUP($A117,DeNormalise!$C$4:$G$203,2,FALSE)),\"\",VLOOKUP($A117,DeNormalise!$C$4:$G$203,2,FALSE))","v":""},{"$f":"IF(LEN($B117)<1,\"\",VLOOKUP($A117,DeNormalise!$C$4:$G$203,3,FALSE))","v":""},{"$f":"IF(LEN($B117)<1,\"\",VLOOKUP($A117,DeNormalise!$C$4:$G$203,4,FALSE))","v":""},{"$f":"IF(LEN($B117)<1,\"\",VLOOKUP($A117,DeNormalise!$C$4:$G$203,5,FALSE))","v":""}]
[114,{"$f":"IF(ISNA(VLOOKUP($A118,DeNormalise!$C$4:$G$203,2,FALSE)),\"\",VLOOKUP($A118,DeNormalise!$C$4:$G$203,2,FALSE))","v":""},{"$f":"IF(LEN($B118)<1,\"\",VLOOKUP($A118,DeNormalise!$C$4:$G$203,3,FALSE))","v":""},{"$f":"IF(LEN($B118)<1,\"\",VLOOKUP($A118,DeNormalise!$C$4:$G$203,4,FALSE))","v":""},{"$f":"IF(LEN($B118)<1,\"\",VLOOKUP($A118,DeNormalise!$C$4:$G$203,5,FALSE))","v":""}]
[115,{"$f":"IF(ISNA(VLOOKUP($A119,DeNormalise!$C$4:$G$203,2,FALSE)),\"\",VLOOKUP($A119,DeNormalise!$C$4:$G$203,2,FALSE))","v":""},{"$f":"IF(LEN($B119)<1,\"\",VLOOKUP($A119,DeNormalise!$C$4:$G$203,3,FALSE))","v":""},{"$f":"IF(LEN($B119)<1,\"\",VLOOKUP($A119,DeNormalise!$C$4:$G$203,4,FALSE))","v":""},{"$f":"IF(LEN($B119)<1,\"\",VLOOKUP($A119,DeNormalise!$C$4:$G$203,5,FALSE))","v":""}]
[116,{"$f":"IF(ISNA(VLOOKUP($A120,DeNormalise!$C$4:$G$203,2,FALSE)),\"\",VLOOKUP($A120,DeNormalise!$C$4:$G$203,2,FALSE))","v":""},{"$f":"IF(LEN($B120)<1,\"\",VLOOKUP($A120,DeNormalise!$C$4:$G$203,3,FALSE))","v":""},{"$f":"IF(LEN($B120)<1,\"\",VLOOKUP($A120,DeNormalise!$C$4:$G$203,4,FALSE))","v":""},{"$f":"IF(LEN($B120)<1,\"\",VLOOKUP($A120,DeNormalise!$C$4:$G$203,5,FALSE))","v":""}]
[117,{"$f":"IF(ISNA(VLOOKUP($A121,DeNormalise!$C$4:$G$203,2,FALSE)),\"\",VLOOKUP($A121,DeNormalise!$C$4:$G$203,2,FALSE))","v":""},{"$f":"IF(LEN($B121)<1,\"\",VLOOKUP($A121,DeNormalise!$C$4:$G$203,3,FALSE))","v":""},{"$f":"IF(LEN($B121)<1,\"\",VLOOKUP($A121,DeNormalise!$C$4:$G$203,4,FALSE))","v":""},{"$f":"IF(LEN($B121)<1,\"\",VLOOKUP($A121,DeNormalise!$C$4:$G$203,5,FALSE))","v":""}]
[118,{"$f":"IF(ISNA(VLOOKUP($A122,DeNormalise!$C$4:$G$203,2,FALSE)),\"\",VLOOKUP($A122,DeNormalise!$C$4:$G$203,2,FALSE))","v":""},{"$f":"IF(LEN($B122)<1,\"\",VLOOKUP($A122,DeNormalise!$C$4:$G$203,3,FALSE))","v":""},{"$f":"IF(LEN($B122)<1,\"\",VLOOKUP($A122,DeNormalise!$C$4:$G$203,4,FALSE))","v":""},{"$f":"IF(LEN($B122)<1,\"\",VLOOKUP($A122,DeNormalise!$C$4:$G$203,5,FALSE))","v":""}]
[119,{"$f":"IF(ISNA(VLOOKUP($A123,DeNormalise!$C$4:$G$203,2,FALSE)),\"\",VLOOKUP($A123,DeNormalise!$C$4:$G$203,2,FALSE))","v":""},{"$f":"IF(LEN($B123)<1,\"\",VLOOKUP($A123,DeNormalise!$C$4:$G$203,3,FALSE))","v":""},{"$f":"IF(LEN($B123)<1,\"\",VLOOKUP($A123,DeNormalise!$C$4:$G$203,4,FALSE))","v":""},{"$f":"IF(LEN($B123)<1,\"\",VLOOKUP($A123,DeNormalise!$C$4:$G$203,5,FALSE))","v":""}]
[120,{"$f":"IF(ISNA(VLOOKUP($A124,DeNormalise!$C$4:$G$203,2,FALSE)),\"\",VLOOKUP($A124,DeNormalise!$C$4:$G$203,2,FALSE))","v":""},{"$f":"IF(LEN($B124)<1,\"\",VLOOKUP($A124,DeNormalise!$C$4:$G$203,3,FALSE))","v":""},{"$f":"IF(LEN($B124)<1,\"\",VLOOKUP($A124,DeNormalise!$C$4:$G$203,4,FALSE))","v":""},{"$f":"IF(LEN($B124)<1,\"\",VLOOKUP($A124,DeNormalise!$C$4:$G$203,5,FALSE))","v":""}]
[121,{"$f":"IF(ISNA(VLOOKUP($A125,DeNormalise!$C$4:$G$203,2,FALSE)),\"\",VLOOKUP($A125,DeNormalise!$C$4:$G$203,2,FALSE))","v":""},{"$f":"IF(LEN($B125)<1,\"\",VLOOKUP($A125,DeNormalise!$C$4:$G$203,3,FALSE))","v":""},{"$f":"IF(LEN($B125)<1,\"\",VLOOKUP($A125,DeNormalise!$C$4:$G$203,4,FALSE))","v":""},{"$f":"IF(LEN($B125)<1,\"\",VLOOKUP($A125,DeNormalise!$C$4:$G$203,5,FALSE))","v":""}]
[122,{"$f":"IF(ISNA(VLOOKUP($A126,DeNormalise!$C$4:$G$203,2,FALSE)),\"\",VLOOKUP($A126,DeNormalise!$C$4:$G$203,2,FALSE))","v":""},{"$f":"IF(LEN($B126)<1,\"\",VLOOKUP($A126,DeNormalise!$C$4:$G$203,3,FALSE))","v":""},{"$f":"IF(LEN($B126)<1,\"\",VLOOKUP($A126,DeNormalise!$C$4:$G$203,4,FALSE))","v":""},{"$f":"IF(LEN($B126)<1,\"\",VLOOKUP($A126,DeNormalise!$C$4:$G$203,5,FALSE))","v":""}]
[123,{"$f":"IF(ISNA(VLOOKUP($A127,DeNormalise!$C$4:$G$203,2,FALSE)),\"\",VLOOKUP($A127,DeNormalise!$C$4:$G$203,2,FALSE))","v":""},{"$f":"IF(LEN($B127)<1,\"\",VLOOKUP($A127,DeNormalise!$C$4:$G$203,3,FALSE))","v":""},{"$f":"IF(LEN($B127)<1,\"\",VLOOKUP($A127,DeNormalise!$C$4:$G$203,4,FALSE))","v":""},{"$f":"IF(LEN($B127)<1,\"\",VLOOKUP($A127,DeNormalise!$C$4:$G$203,5,FALSE))","v":""}]
[124,{"$f":"IF(ISNA(VLOOKUP($A128,DeNormalise!$C$4:$G$203,2,FALSE)),\"\",VLOOKUP($A128,DeNormalise!$C$4:$G$203,2,FALSE))","v":""},{"$f":"IF(LEN($B128)<1,\"\",VLOOKUP($A128,DeNormalise!$C$4:$G$203,3,FALSE))","v":""},{"$f":"IF(LEN($B128)<1,\"\",VLOOKUP($A128,DeNormalise!$C$4:$G$203,4,FALSE))","v":""},{"$f":"IF(LEN($B128)<1,\"\",VLOOKUP($A128,DeNormalise!$C$4:$G$203,5,FALSE))","v":""}]
[125,{"$f":"IF(ISNA(VLOOKUP($A129,DeNormalise!$C$4:$G$203,2,FALSE)),\"\",VLOOKUP($A129,DeNormalise!$C$4:$G$203,2,FALSE))","v":""},{"$f":"IF(LEN($B129)<1,\"\",VLOOKUP($A129,DeNormalise!$C$4:$G$203,3,FALSE))","v":""},{"$f":"IF(LEN($B129)<1,\"\",VLOOKUP($A129,DeNormalise!$C$4:$G$203,4,FALSE))","v":""},{"$f":"IF(LEN($B129)<1,\"\",VLOOKUP($A129,DeNormalise!$C$4:$G$203,5,FALSE))","v":""}]
[126,{"$f":"IF(ISNA(VLOOKUP($A130,DeNormalise!$C$4:$G$203,2,FALSE)),\"\",VLOOKUP($A130,DeNormalise!$C$4:$G$203,2,FALSE))","v":""},{"$f":"IF(LEN($B130)<1,\"\",VLOOKUP($A130,DeNormalise!$C$4:$G$203,3,FALSE))","v":""},{"$f":"IF(LEN($B130)<1,\"\",VLOOKUP($A130,DeNormalise!$C$4:$G$203,4,FALSE))","v":""},{"$f":"IF(LEN($B130)<1,\"\",VLOOKUP($A130,DeNormalise!$C$4:$G$203,5,FALSE))","v":""}]
[127,{"$f":"IF(ISNA(VLOOKUP($A131,DeNormalise!$C$4:$G$203,2,FALSE)),\"\",VLOOKUP($A131,DeNormalise!$C$4:$G$203,2,FALSE))","v":""},{"$f":"IF(LEN($B131)<1,\"\",VLOOKUP($A131,DeNormalise!$C$4:$G$203,3,FALSE))","v":""},{"$f":"IF(LEN($B131)<1,\"\",VLOOKUP($A131,DeNormalise!$C$4:$G$203,4,FALSE))","v":""},{"$f":"IF(LEN($B131)<1,\"\",VLOOKUP($A131,DeNormalise!$C$4:$G$203,5,FALSE))","v":""}]
[128,{"$f":"IF(ISNA(VLOOKUP($A132,DeNormalise!$C$4:$G$203,2,FALSE)),\"\",VLOOKUP($A132,DeNormalise!$C$4:$G$203,2,FALSE))","v":""},{"$f":"IF(LEN($B132)<1,\"\",VLOOKUP($A132,DeNormalise!$C$4:$G$203,3,FALSE))","v":""},{"$f":"IF(LEN($B132)<1,\"\",VLOOKUP($A132,DeNormalise!$C$4:$G$203,4,FALSE))","v":""},{"$f":"IF(LEN($B132)<1,\"\",VLOOKUP($A132,DeNormalise!$C$4:$G$203,5,FALSE))","v":""}]
[129,{"$f":"IF(ISNA(VLOOKUP($A133,DeNormalise!$C$4:$G$203,2,FALSE)),\"\",VLOOKUP($A133,DeNormalise!$C$4:$G$203,2,FALSE))","v":""},{"$f":"IF(LEN($B133)<1,\"\",VLOOKUP($A133,DeNormalise!$C$4:$G$203,3,FALSE))","v":""},{"$f":"IF(LEN($B133)<1,\"\",VLOOKUP($A133,DeNormalise!$C$4:$G$203,4,FALSE))","v":""},{"$f":"IF(LEN($B133)<1,\"\",VLOOKUP($A133,DeNormalise!$C$4:$G$203,5,FALSE))","v":""}]
[130,{"$f":"IF(ISNA(VLOOKUP($A134,DeNormalise!$C$4:$G$203,2,FALSE)),\"\",VLOOKUP($A134,DeNormalise!$C$4:$G$203,2,FALSE))","v":""},{"$f":"IF(LEN($B134)<1,\"\",VLOOKUP($A134,DeNormalise!$C$4:$G$203,3,FALSE))","v":""},{"$f":"IF(LEN($B134)<1,\"\",VLOOKUP($A134,DeNormalise!$C$4:$G$203,4,FALSE))","v":""},{"$f":"IF(LEN($B134)<1,\"\",VLOOKUP($A134,DeNormalise!$C$4:$G$203,5,FALSE))","v":""}]
[131,{"$f":"IF(ISNA(VLOOKUP($A135,DeNormalise!$C$4:$G$203,2,FALSE)),\"\",VLOOKUP($A135,DeNormalise!$C$4:$G$203,2,FALSE))","v":""},{"$f":"IF(LEN($B135)<1,\"\",VLOOKUP($A135,DeNormalise!$C$4:$G$203,3,FALSE))","v":""},{"$f":"IF(LEN($B135)<1,\"\",VLOOKUP($A135,DeNormalise!$C$4:$G$203,4,FALSE))","v":""},{"$f":"IF(LEN($B135)<1,\"\",VLOOKUP($A135,DeNormalise!$C$4:$G$203,5,FALSE))","v":""}]
[132,{"$f":"IF(ISNA(VLOOKUP($A136,DeNormalise!$C$4:$G$203,2,FALSE)),\"\",VLOOKUP($A136,DeNormalise!$C$4:$G$203,2,FALSE))","v":""},{"$f":"IF(LEN($B136)<1,\"\",VLOOKUP($A136,DeNormalise!$C$4:$G$203,3,FALSE))","v":""},{"$f":"IF(LEN($B136)<1,\"\",VLOOKUP($A136,DeNormalise!$C$4:$G$203,4,FALSE))","v":""},{"$f":"IF(LEN($B136)<1,\"\",VLOOKUP($A136,DeNormalise!$C$4:$G$203,5,FALSE))","v":""}]
[133,{"$f":"IF(ISNA(VLOOKUP($A137,DeNormalise!$C$4:$G$203,2,FALSE)),\"\",VLOOKUP($A137,DeNormalise!$C$4:$G$203,2,FALSE))","v":""},{"$f":"IF(LEN($B137)<1,\"\",VLOOKUP($A137,DeNormalise!$C$4:$G$203,3,FALSE))","v":""},{"$f":"IF(LEN($B137)<1,\"\",VLOOKUP($A137,DeNormalise!$C$4:$G$203,4,FALSE))","v":""},{"$f":"IF(LEN($B137)<1,\"\",VLOOKUP($A137,DeNormalise!$C$4:$G$203,5,FALSE))","v":""}]
[134,{"$f":"IF(ISNA(VLOOKUP($A138,DeNormalise!$C$4:$G$203,2,FALSE)),\"\",VLOOKUP($A138,DeNormalise!$C$4:$G$203,2,FALSE))","v":""},{"$f":"IF(LEN($B138)<1,\"\",VLOOKUP($A138,DeNormalise!$C$4:$G$203,3,FALSE))","v":""},{"$f":"IF(LEN($B138)<1,\"\",VLOOKUP($A138,DeNormalise!$C$4:$G$203,4,FALSE))","v":""},{"$f":"IF(LEN($B138)<1,\"\",VLOOKUP($A138,DeNormalise!$C$4:$G$203,5,FALSE))","v":""}]
[135,{"$f":"IF(ISNA(VLOOKUP($A139,DeNormalise!$C$4:$G$203,2,FALSE)),\"\",VLOOKUP($A139,DeNormalise!$C$4:$G$203,2,FALSE))","v":""},{"$f":"IF(LEN($B139)<1,\"\",VLOOKUP($A139,DeNormalise!$C$4:$G$203,3,FALSE))","v":""},{"$f":"IF(LEN($B139)<1,\"\",VLOOKUP($A139,DeNormalise!$C$4:$G$203,4,FALSE))","v":""},{"$f":"IF(LEN($B139)<1,\"\",VLOOKUP($A139,DeNormalise!$C$4:$G$203,5,FALSE))","v":""}]
[136,{"$f":"IF(ISNA(VLOOKUP($A140,DeNormalise!$C$4:$G$203,2,FALSE)),\"\",VLOOKUP($A140,DeNormalise!$C$4:$G$203,2,FALSE))","v":""},{"$f":"IF(LEN($B140)<1,\"\",VLOOKUP($A140,DeNormalise!$C$4:$G$203,3,FALSE))","v":""},{"$f":"IF(LEN($B140)<1,\"\",VLOOKUP($A140,DeNormalise!$C$4:$G$203,4,FALSE))","v":""},{"$f":"IF(LEN($B140)<1,\"\",VLOOKUP($A140,DeNormalise!$C$4:$G$203,5,FALSE))","v":""}]
[137,{"$f":"IF(ISNA(VLOOKUP($A141,DeNormalise!$C$4:$G$203,2,FALSE)),\"\",VLOOKUP($A141,DeNormalise!$C$4:$G$203,2,FALSE))","v":""},{"$f":"IF(LEN($B141)<1,\"\",VLOOKUP($A141,DeNormalise!$C$4:$G$203,3,FALSE))","v":""},{"$f":"IF(LEN($B141)<1,\"\",VLOOKUP($A141,DeNormalise!$C$4:$G$203,4,FALSE))","v":""},{"$f":"IF(LEN($B141)<1,\"\",VLOOKUP($A141,DeNormalise!$C$4:$G$203,5,FALSE))","v":""}]
[138,{"$f":"IF(ISNA(VLOOKUP($A142,DeNormalise!$C$4:$G$203,2,FALSE)),\"\",VLOOKUP($A142,DeNormalise!$C$4:$G$203,2,FALSE))","v":""},{"$f":"IF(LEN($B142)<1,\"\",VLOOKUP($A142,DeNormalise!$C$4:$G$203,3,FALSE))","v":""},{"$f":"IF(LEN($B142)<1,\"\",VLOOKUP($A142,DeNormalise!$C$4:$G$203,4,FALSE))","v":""},{"$f":"IF(LEN($B142)<1,\"\",VLOOKUP($A142,DeNormalise!$C$4:$G$203,5,FALSE))","v":""}]
[139,{"$f":"IF(ISNA(VLOOKUP($A143,DeNormalise!$C$4:$G$203,2,FALSE)),\"\",VLOOKUP($A143,DeNormalise!$C$4:$G$203,2,FALSE))","v":""},{"$f":"IF(LEN($B143)<1,\"\",VLOOKUP($A143,DeNormalise!$C$4:$G$203,3,FALSE))","v":""},{"$f":"IF(LEN($B143)<1,\"\",VLOOKUP($A143,DeNormalise!$C$4:$G$203,4,FALSE))","v":""},{"$f":"IF(LEN($B143)<1,\"\",VLOOKUP($A143,DeNormalise!$C$4:$G$203,5,FALSE))","v":""}]
[140,{"$f":"IF(ISNA(VLOOKUP($A144,DeNormalise!$C$4:$G$203,2,FALSE)),\"\",VLOOKUP($A144,DeNormalise!$C$4:$G$203,2,FALSE))","v":""},{"$f":"IF(LEN($B144)<1,\"\",VLOOKUP($A144,DeNormalise!$C$4:$G$203,3,FALSE))","v":""},{"$f":"IF(LEN($B144)<1,\"\",VLOOKUP($A144,DeNormalise!$C$4:$G$203,4,FALSE))","v":""},{"$f":"IF(LEN($B144)<1,\"\",VLOOKUP($A144,DeNormalise!$C$4:$G$203,5,FALSE))","v":""}]
[141,{"$f":"IF(ISNA(VLOOKUP($A145,DeNormalise!$C$4:$G$203,2,FALSE)),\"\",VLOOKUP($A145,DeNormalise!$C$4:$G$203,2,FALSE))","v":""},{"$f":"IF(LEN($B145)<1,\"\",VLOOKUP($A145,DeNormalise!$C$4:$G$203,3,FALSE))","v":""},{"$f":"IF(LEN($B145)<1,\"\",VLOOKUP($A145,DeNormalise!$C$4:$G$203,4,FALSE))","v":""},{"$f":"IF(LEN($B145)<1,\"\",VLOOKUP($A145,DeNormalise!$C$4:$G$203,5,FALSE))","v":""}]
[142,{"$f":"IF(ISNA(VLOOKUP($A146,DeNormalise!$C$4:$G$203,2,FALSE)),\"\",VLOOKUP($A146,DeNormalise!$C$4:$G$203,2,FALSE))","v":""},{"$f":"IF(LEN($B146)<1,\"\",VLOOKUP($A146,DeNormalise!$C$4:$G$203,3,FALSE))","v":""},{"$f":"IF(LEN($B146)<1,\"\",VLOOKUP($A146,DeNormalise!$C$4:$G$203,4,FALSE))","v":""},{"$f":"IF(LEN($B146)<1,\"\",VLOOKUP($A146,DeNormalise!$C$4:$G$203,5,FALSE))","v":""}]
[143,{"$f":"IF(ISNA(VLOOKUP($A147,DeNormalise!$C$4:$G$203,2,FALSE)),\"\",VLOOKUP($A147,DeNormalise!$C$4:$G$203,2,FALSE))","v":""},{"$f":"IF(LEN($B147)<1,\"\",VLOOKUP($A147,DeNormalise!$C$4:$G$203,3,FALSE))","v":""},{"$f":"IF(LEN($B147)<1,\"\",VLOOKUP($A147,DeNormalise!$C$4:$G$203,4,FALSE))","v":""},{"$f":"IF(LEN($B147)<1,\"\",VLOOKUP($A147,DeNormalise!$C$4:$G$203,5,FALSE))","v":""}]
[144,{"$f":"IF(ISNA(VLOOKUP($A148,DeNormalise!$C$4:$G$203,2,FALSE)),\"\",VLOOKUP($A148,DeNormalise!$C$4:$G$203,2,FALSE))","v":""},{"$f":"IF(LEN($B148)<1,\"\",VLOOKUP($A148,DeNormalise!$C$4:$G$203,3,FALSE))","v":""},{"$f":"IF(LEN($B148)<1,\"\",VLOOKUP($A148,DeNormalise!$C$4:$G$203,4,FALSE))","v":""},{"$f":"IF(LEN($B148)<1,\"\",VLOOKUP($A148,DeNormalise!$C$4:$G$203,5,FALSE))","v":""}]
[145,{"$f":"IF(ISNA(VLOOKUP($A149,DeNormalise!$C$4:$G$203,2,FALSE)),\"\",VLOOKUP($A149,DeNormalise!$C$4:$G$203,2,FALSE))","v":""},{"$f":"IF(LEN($B149)<1,\"\",VLOOKUP($A149,DeNormalise!$C$4:$G$203,3,FALSE))","v":""},{"$f":"IF(LEN($B149)<1,\"\",VLOOKUP($A149,DeNormalise!$C$4:$G$203,4,FALSE))","v":""},{"$f":"IF(LEN($B149)<1,\"\",VLOOKUP($A149,DeNormalise!$C$4:$G$203,5,FALSE))","v":""}]
[146,{"$f":"IF(ISNA(VLOOKUP($A150,DeNormalise!$C$4:$G$203,2,FALSE)),\"\",VLOOKUP($A150,DeNormalise!$C$4:$G$203,2,FALSE))","v":""},{"$f":"IF(LEN($B150)<1,\"\",VLOOKUP($A150,DeNormalise!$C$4:$G$203,3,FALSE))","v":""},{"$f":"IF(LEN($B150)<1,\"\",VLOOKUP($A150,DeNormalise!$C$4:$G$203,4,FALSE))","v":""},{"$f":"IF(LEN($B150)<1,\"\",VLOOKUP($A150,DeNormalise!$C$4:$G$203,5,FALSE))","v":""}]
[147,{"$f":"IF(ISNA(VLOOKUP($A151,DeNormalise!$C$4:$G$203,2,FALSE)),\"\",VLOOKUP($A151,DeNormalise!$C$4:$G$203,2,FALSE))","v":""},{"$f":"IF(LEN($B151)<1,\"\",VLOOKUP($A151,DeNormalise!$C$4:$G$203,3,FALSE))","v":""},{"$f":"IF(LEN($B151)<1,\"\",VLOOKUP($A151,DeNormalise!$C$4:$G$203,4,FALSE))","v":""},{"$f":"IF(LEN($B151)<1,\"\",VLOOKUP($A151,DeNormalise!$C$4:$G$203,5,FALSE))","v":""}]
[148,{"$f":"IF(ISNA(VLOOKUP($A152,DeNormalise!$C$4:$G$203,2,FALSE)),\"\",VLOOKUP($A152,DeNormalise!$C$4:$G$203,2,FALSE))","v":""},{"$f":"IF(LEN($B152)<1,\"\",VLOOKUP($A152,DeNormalise!$C$4:$G$203,3,FALSE))","v":""},{"$f":"IF(LEN($B152)<1,\"\",VLOOKUP($A152,DeNormalise!$C$4:$G$203,4,FALSE))","v":""},{"$f":"IF(LEN($B152)<1,\"\",VLOOKUP($A152,DeNormalise!$C$4:$G$203,5,FALSE))","v":""}]
[149,{"$f":"IF(ISNA(VLOOKUP($A153,DeNormalise!$C$4:$G$203,2,FALSE)),\"\",VLOOKUP($A153,DeNormalise!$C$4:$G$203,2,FALSE))","v":""},{"$f":"IF(LEN($B153)<1,\"\",VLOOKUP($A153,DeNormalise!$C$4:$G$203,3,FALSE))","v":""},{"$f":"IF(LEN($B153)<1,\"\",VLOOKUP($A153,DeNormalise!$C$4:$G$203,4,FALSE))","v":""},{"$f":"IF(LEN($B153)<1,\"\",VLOOKUP($A153,DeNormalise!$C$4:$G$203,5,FALSE))","v":""}]
[150,{"$f":"IF(ISNA(VLOOKUP($A154,DeNormalise!$C$4:$G$203,2,FALSE)),\"\",VLOOKUP($A154,DeNormalise!$C$4:$G$203,2,FALSE))","v":""},{"$f":"IF(LEN($B154)<1,\"\",VLOOKUP($A154,DeNormalise!$C$4:$G$203,3,FALSE))","v":""},{"$f":"IF(LEN($B154)<1,\"\",VLOOKUP($A154,DeNormalise!$C$4:$G$203,4,FALSE))","v":""},{"$f":"IF(LEN($B154)<1,\"\",VLOOKUP($A154,DeNormalise!$C$4:$G$203,5,FALSE))","v":""}]
[151,{"$f":"IF(ISNA(VLOOKUP($A155,DeNormalise!$C$4:$G$203,2,FALSE)),\"\",VLOOKUP($A155,DeNormalise!$C$4:$G$203,2,FALSE))","v":""},{"$f":"IF(LEN($B155)<1,\"\",VLOOKUP($A155,DeNormalise!$C$4:$G$203,3,FALSE))","v":""},{"$f":"IF(LEN($B155)<1,\"\",VLOOKUP($A155,DeNormalise!$C$4:$G$203,4,FALSE))","v":""},{"$f":"IF(LEN($B155)<1,\"\",VLOOKUP($A155,DeNormalise!$C$4:$G$203,5,FALSE))","v":""}]
[152,{"$f":"IF(ISNA(VLOOKUP($A156,DeNormalise!$C$4:$G$203,2,FALSE)),\"\",VLOOKUP($A156,DeNormalise!$C$4:$G$203,2,FALSE))","v":""},{"$f":"IF(LEN($B156)<1,\"\",VLOOKUP($A156,DeNormalise!$C$4:$G$203,3,FALSE))","v":""},{"$f":"IF(LEN($B156)<1,\"\",VLOOKUP($A156,DeNormalise!$C$4:$G$203,4,FALSE))","v":""},{"$f":"IF(LEN($B156)<1,\"\",VLOOKUP($A156,DeNormalise!$C$4:$G$203,5,FALSE))","v":""}]
[153,{"$f":"IF(ISNA(VLOOKUP($A157,DeNormalise!$C$4:$G$203,2,FALSE)),\"\",VLOOKUP($A157,DeNormalise!$C$4:$G$203,2,FALSE))","v":""},{"$f":"IF(LEN($B157)<1,\"\",VLOOKUP($A157,DeNormalise!$C$4:$G$203,3,FALSE))","v":""},{"$f":"IF(LEN($B157)<1,\"\",VLOOKUP($A157,DeNormalise!$C$4:$G$203,4,FALSE))","v":""},{"$f":"IF(LEN($B157)<1,\"\",VLOOKUP($A157,DeNormalise!$C$4:$G$203,5,FALSE))","v":""}]
[154,{"$f":"IF(ISNA(VLOOKUP($A158,DeNormalise!$C$4:$G$203,2,FALSE)),\"\",VLOOKUP($A158,DeNormalise!$C$4:$G$203,2,FALSE))","v":""},{"$f":"IF(LEN($B158)<1,\"\",VLOOKUP($A158,DeNormalise!$C$4:$G$203,3,FALSE))","v":""},{"$f":"IF(LEN($B158)<1,\"\",VLOOKUP($A158,DeNormalise!$C$4:$G$203,4,FALSE))","v":""},{"$f":"IF(LEN($B158)<1,\"\",VLOOKUP($A158,DeNormalise!$C$4:$G$203,5,FALSE))","v":""}]
[155,{"$f":"IF(ISNA(VLOOKUP($A159,DeNormalise!$C$4:$G$203,2,FALSE)),\"\",VLOOKUP($A159,DeNormalise!$C$4:$G$203,2,FALSE))","v":""},{"$f":"IF(LEN($B159)<1,\"\",VLOOKUP($A159,DeNormalise!$C$4:$G$203,3,FALSE))","v":""},{"$f":"IF(LEN($B159)<1,\"\",VLOOKUP($A159,DeNormalise!$C$4:$G$203,4,FALSE))","v":""},{"$f":"IF(LEN($B159)<1,\"\",VLOOKUP($A159,DeNormalise!$C$4:$G$203,5,FALSE))","v":""}]
[156,{"$f":"IF(ISNA(VLOOKUP($A160,DeNormalise!$C$4:$G$203,2,FALSE)),\"\",VLOOKUP($A160,DeNormalise!$C$4:$G$203,2,FALSE))","v":""},{"$f":"IF(LEN($B160)<1,\"\",VLOOKUP($A160,DeNormalise!$C$4:$G$203,3,FALSE))","v":""},{"$f":"IF(LEN($B160)<1,\"\",VLOOKUP($A160,DeNormalise!$C$4:$G$203,4,FALSE))","v":""},{"$f":"IF(LEN($B160)<1,\"\",VLOOKUP($A160,DeNormalise!$C$4:$G$203,5,FALSE))","v":""}]
[157,{"$f":"IF(ISNA(VLOOKUP($A161,DeNormalise!$C$4:$G$203,2,FALSE)),\"\",VLOOKUP($A161,DeNormalise!$C$4:$G$203,2,FALSE))","v":""},{"$f":"IF(LEN($B161)<1,\"\",VLOOKUP($A161,DeNormalise!$C$4:$G$203,3,FALSE))","v":""},{"$f":"IF(LEN($B161)<1,\"\",VLOOKUP($A161,DeNormalise!$C$4:$G$203,4,FALSE))","v":""},{"$f":"IF(LEN($B161)<1,\"\",VLOOKUP($A161,DeNormalise!$C$4:$G$203,5,FALSE))","v":""}]
[158,{"$f":"IF(ISNA(VLOOKUP($A162,DeNormalise!$C$4:$G$203,2,FALSE)),\"\",VLOOKUP($A162,DeNormalise!$C$4:$G$203,2,FALSE))","v":""},{"$f":"IF(LEN($B162)<1,\"\",VLOOKUP($A162,DeNormalise!$C$4:$G$203,3,FALSE))","v":""},{"$f":"IF(LEN($B162)<1,\"\",VLOOKUP($A162,DeNormalise!$C$4:$G$203,4,FALSE))","v":""},{"$f":"IF(LEN($B162)<1,\"\",VLOOKUP($A162,DeNormalise!$C$4:$G$203,5,FALSE))","v":""}]
[159,{"$f":"IF(ISNA(VLOOKUP($A163,DeNormalise!$C$4:$G$203,2,FALSE)),\"\",VLOOKUP($A163,DeNormalise!$C$4:$G$203,2,FALSE))","v":""},{"$f":"IF(LEN($B163)<1,\"\",VLOOKUP($A163,DeNormalise!$C$4:$G$203,3,FALSE))","v":""},{"$f":"IF(LEN($B163)<1,\"\",VLOOKUP($A163,DeNormalise!$C$4:$G$203,4,FALSE))","v":""},{"$f":"IF(LEN($B163)<1,\"\",VLOOKUP($A163,DeNormalise!$C$4:$G$203,5,FALSE))","v":""}]
[160,{"$f":"IF(ISNA(VLOOKUP($A164,DeNormalise!$C$4:$G$203,2,FALSE)),\"\",VLOOKUP($A164,DeNormalise!$C$4:$G$203,2,FALSE))","v":""},{"$f":"IF(LEN($B164)<1,\"\",VLOOKUP($A164,DeNormalise!$C$4:$G$203,3,FALSE))","v":""},{"$f":"IF(LEN($B164)<1,\"\",VLOOKUP($A164,DeNormalise!$C$4:$G$203,4,FALSE))","v":""},{"$f":"IF(LEN($B164)<1,\"\",VLOOKUP($A164,DeNormalise!$C$4:$G$203,5,FALSE))","v":""}]
[161,{"$f":"IF(ISNA(VLOOKUP($A165,DeNormalise!$C$4:$G$203,2,FALSE)),\"\",VLOOKUP($A165,DeNormalise!$C$4:$G$203,2,FALSE))","v":""},{"$f":"IF(LEN($B165)<1,\"\",VLOOKUP($A165,DeNormalise!$C$4:$G$203,3,FALSE))","v":""},{"$f":"IF(LEN($B165)<1,\"\",VLOOKUP($A165,DeNormalise!$C$4:$G$203,4,FALSE))","v":""},{"$f":"IF(LEN($B165)<1,\"\",VLOOKUP($A165,DeNormalise!$C$4:$G$203,5,FALSE))","v":""}]
[162,{"$f":"IF(ISNA(VLOOKUP($A166,DeNormalise!$C$4:$G$203,2,FALSE)),\"\",VLOOKUP($A166,DeNormalise!$C$4:$G$203,2,FALSE))","v":""},{"$f":"IF(LEN($B166)<1,\"\",VLOOKUP($A166,DeNormalise!$C$4:$G$203,3,FALSE))","v":""},{"$f":"IF(LEN($B166)<1,\"\",VLOOKUP($A166,DeNormalise!$C$4:$G$203,4,FALSE))","v":""},{"$f":"IF(LEN($B166)<1,\"\",VLOOKUP($A166,DeNormalise!$C$4:$G$203,5,FALSE))","v":""}]
[163,{"$f":"IF(ISNA(VLOOKUP($A167,DeNormalise!$C$4:$G$203,2,FALSE)),\"\",VLOOKUP($A167,DeNormalise!$C$4:$G$203,2,FALSE))","v":""},{"$f":"IF(LEN($B167)<1,\"\",VLOOKUP($A167,DeNormalise!$C$4:$G$203,3,FALSE))","v":""},{"$f":"IF(LEN($B167)<1,\"\",VLOOKUP($A167,DeNormalise!$C$4:$G$203,4,FALSE))","v":""},{"$f":"IF(LEN($B167)<1,\"\",VLOOKUP($A167,DeNormalise!$C$4:$G$203,5,FALSE))","v":""}]
[164,{"$f":"IF(ISNA(VLOOKUP($A168,DeNormalise!$C$4:$G$203,2,FALSE)),\"\",VLOOKUP($A168,DeNormalise!$C$4:$G$203,2,FALSE))","v":""},{"$f":"IF(LEN($B168)<1,\"\",VLOOKUP($A168,DeNormalise!$C$4:$G$203,3,FALSE))","v":""},{"$f":"IF(LEN($B168)<1,\"\",VLOOKUP($A168,DeNormalise!$C$4:$G$203,4,FALSE))","v":""},{"$f":"IF(LEN($B168)<1,\"\",VLOOKUP($A168,DeNormalise!$C$4:$G$203,5,FALSE))","v":""}]
[165,{"$f":"IF(ISNA(VLOOKUP($A169,DeNormalise!$C$4:$G$203,2,FALSE)),\"\",VLOOKUP($A169,DeNormalise!$C$4:$G$203,2,FALSE))","v":""},{"$f":"IF(LEN($B169)<1,\"\",VLOOKUP($A169,DeNormalise!$C$4:$G$203,3,FALSE))","v":""},{"$f":"IF(LEN($B169)<1,\"\",VLOOKUP($A169,DeNormalise!$C$4:$G$203,4,FALSE))","v":""},{"$f":"IF(LEN($B169)<1,\"\",VLOOKUP($A169,DeNormalise!$C$4:$G$203,5,FALSE))","v":""}]
[166,{"$f":"IF(ISNA(VLOOKUP($A170,DeNormalise!$C$4:$G$203,2,FALSE)),\"\",VLOOKUP($A170,DeNormalise!$C$4:$G$203,2,FALSE))","v":""},{"$f":"IF(LEN($B170)<1,\"\",VLOOKUP($A170,DeNormalise!$C$4:$G$203,3,FALSE))","v":""},{"$f":"IF(LEN($B170)<1,\"\",VLOOKUP($A170,DeNormalise!$C$4:$G$203,4,FALSE))","v":""},{"$f":"IF(LEN($B170)<1,\"\",VLOOKUP($A170,DeNormalise!$C$4:$G$203,5,FALSE))","v":""}]
[167,{"$f":"IF(ISNA(VLOOKUP($A171,DeNormalise!$C$4:$G$203,2,FALSE)),\"\",VLOOKUP($A171,DeNormalise!$C$4:$G$203,2,FALSE))","v":""},{"$f":"IF(LEN($B171)<1,\"\",VLOOKUP($A171,DeNormalise!$C$4:$G$203,3,FALSE))","v":""},{"$f":"IF(LEN($B171)<1,\"\",VLOOKUP($A171,DeNormalise!$C$4:$G$203,4,FALSE))","v":""},{"$f":"IF(LEN($B171)<1,\"\",VLOOKUP($A171,DeNormalise!$C$4:$G$203,5,FALSE))","v":""}]
[168,{"$f":"IF(ISNA(VLOOKUP($A172,DeNormalise!$C$4:$G$203,2,FALSE)),\"\",VLOOKUP($A172,DeNormalise!$C$4:$G$203,2,FALSE))","v":""},{"$f":"IF(LEN($B172)<1,\"\",VLOOKUP($A172,DeNormalise!$C$4:$G$203,3,FALSE))","v":""},{"$f":"IF(LEN($B172)<1,\"\",VLOOKUP($A172,DeNormalise!$C$4:$G$203,4,FALSE))","v":""},{"$f":"IF(LEN($B172)<1,\"\",VLOOKUP($A172,DeNormalise!$C$4:$G$203,5,FALSE))","v":""}]
[169,{"$f":"IF(ISNA(VLOOKUP($A173,DeNormalise!$C$4:$G$203,2,FALSE)),\"\",VLOOKUP($A173,DeNormalise!$C$4:$G$203,2,FALSE))","v":""},{"$f":"IF(LEN($B173)<1,\"\",VLOOKUP($A173,DeNormalise!$C$4:$G$203,3,FALSE))","v":""},{"$f":"IF(LEN($B173)<1,\"\",VLOOKUP($A173,DeNormalise!$C$4:$G$203,4,FALSE))","v":""},{"$f":"IF(LEN($B173)<1,\"\",VLOOKUP($A173,DeNormalise!$C$4:$G$203,5,FALSE))","v":""}]
[170,{"$f":"IF(ISNA(VLOOKUP($A174,DeNormalise!$C$4:$G$203,2,FALSE)),\"\",VLOOKUP($A174,DeNormalise!$C$4:$G$203,2,FALSE))","v":""},{"$f":"IF(LEN($B174)<1,\"\",VLOOKUP($A174,DeNormalise!$C$4:$G$203,3,FALSE))","v":""},{"$f":"IF(LEN($B174)<1,\"\",VLOOKUP($A174,DeNormalise!$C$4:$G$203,4,FALSE))","v":""},{"$f":"IF(LEN($B174)<1,\"\",VLOOKUP($A174,DeNormalise!$C$4:$G$203,5,FALSE))","v":""}]
[171,{"$f":"IF(ISNA(VLOOKUP($A175,DeNormalise!$C$4:$G$203,2,FALSE)),\"\",VLOOKUP($A175,DeNormalise!$C$4:$G$203,2,FALSE))","v":""},{"$f":"IF(LEN($B175)<1,\"\",VLOOKUP($A175,DeNormalise!$C$4:$G$203,3,FALSE))","v":""},{"$f":"IF(LEN($B175)<1,\"\",VLOOKUP($A175,DeNormalise!$C$4:$G$203,4,FALSE))","v":""},{"$f":"IF(LEN($B175)<1,\"\",VLOOKUP($A175,DeNormalise!$C$4:$G$203,5,FALSE))","v":""}]
[172,{"$f":"IF(ISNA(VLOOKUP($A176,DeNormalise!$C$4:$G$203,2,FALSE)),\"\",VLOOKUP($A176,DeNormalise!$C$4:$G$203,2,FALSE))","v":""},{"$f":"IF(LEN($B176)<1,\"\",VLOOKUP($A176,DeNormalise!$C$4:$G$203,3,FALSE))","v":""},{"$f":"IF(LEN($B176)<1,\"\",VLOOKUP($A176,DeNormalise!$C$4:$G$203,4,FALSE))","v":""},{"$f":"IF(LEN($B176)<1,\"\",VLOOKUP($A176,DeNormalise!$C$4:$G$203,5,FALSE))","v":""}]
[173,{"$f":"IF(ISNA(VLOOKUP($A177,DeNormalise!$C$4:$G$203,2,FALSE)),\"\",VLOOKUP($A177,DeNormalise!$C$4:$G$203,2,FALSE))","v":""},{"$f":"IF(LEN($B177)<1,\"\",VLOOKUP($A177,DeNormalise!$C$4:$G$203,3,FALSE))","v":""},{"$f":"IF(LEN($B177)<1,\"\",VLOOKUP($A177,DeNormalise!$C$4:$G$203,4,FALSE))","v":""},{"$f":"IF(LEN($B177)<1,\"\",VLOOKUP($A177,DeNormalise!$C$4:$G$203,5,FALSE))","v":""}]
[174,{"$f":"IF(ISNA(VLOOKUP($A178,DeNormalise!$C$4:$G$203,2,FALSE)),\"\",VLOOKUP($A178,DeNormalise!$C$4:$G$203,2,FALSE))","v":""},{"$f":"IF(LEN($B178)<1,\"\",VLOOKUP($A178,DeNormalise!$C$4:$G$203,3,FALSE))","v":""},{"$f":"IF(LEN($B178)<1,\"\",VLOOKUP($A178,DeNormalise!$C$4:$G$203,4,FALSE))","v":""},{"$f":"IF(LEN($B178)<1,\"\",VLOOKUP($A178,DeNormalise!$C$4:$G$203,5,FALSE))","v":""}]
[175,{"$f":"IF(ISNA(VLOOKUP($A179,DeNormalise!$C$4:$G$203,2,FALSE)),\"\",VLOOKUP($A179,DeNormalise!$C$4:$G$203,2,FALSE))","v":""},{"$f":"IF(LEN($B179)<1,\"\",VLOOKUP($A179,DeNormalise!$C$4:$G$203,3,FALSE))","v":""},{"$f":"IF(LEN($B179)<1,\"\",VLOOKUP($A179,DeNormalise!$C$4:$G$203,4,FALSE))","v":""},{"$f":"IF(LEN($B179)<1,\"\",VLOOKUP($A179,DeNormalise!$C$4:$G$203,5,FALSE))","v":""}]
[176,{"$f":"IF(ISNA(VLOOKUP($A180,DeNormalise!$C$4:$G$203,2,FALSE)),\"\",VLOOKUP($A180,DeNormalise!$C$4:$G$203,2,FALSE))","v":""},{"$f":"IF(LEN($B180)<1,\"\",VLOOKUP($A180,DeNormalise!$C$4:$G$203,3,FALSE))","v":""},{"$f":"IF(LEN($B180)<1,\"\",VLOOKUP($A180,DeNormalise!$C$4:$G$203,4,FALSE))","v":""},{"$f":"IF(LEN($B180)<1,\"\",VLOOKUP($A180,DeNormalise!$C$4:$G$203,5,FALSE))","v":""}]
[177,{"$f":"IF(ISNA(VLOOKUP($A181,DeNormalise!$C$4:$G$203,2,FALSE)),\"\",VLOOKUP($A181,DeNormalise!$C$4:$G$203,2,FALSE))","v":""},{"$f":"IF(LEN($B181)<1,\"\",VLOOKUP($A181,DeNormalise!$C$4:$G$203,3,FALSE))","v":""},{"$f":"IF(LEN($B181)<1,\"\",VLOOKUP($A181,DeNormalise!$C$4:$G$203,4,FALSE))","v":""},{"$f":"IF(LEN($B181)<1,\"\",VLOOKUP($A181,DeNormalise!$C$4:$G$203,5,FALSE))","v":""}]
[178,{"$f":"IF(ISNA(VLOOKUP($A182,DeNormalise!$C$4:$G$203,2,FALSE)),\"\",VLOOKUP($A182,DeNormalise!$C$4:$G$203,2,FALSE))","v":""},{"$f":"IF(LEN($B182)<1,\"\",VLOOKUP($A182,DeNormalise!$C$4:$G$203,3,FALSE))","v":""},{"$f":"IF(LEN($B182)<1,\"\",VLOOKUP($A182,DeNormalise!$C$4:$G$203,4,FALSE))","v":""},{"$f":"IF(LEN($B182)<1,\"\",VLOOKUP($A182,DeNormalise!$C$4:$G$203,5,FALSE))","v":""}]
[179,{"$f":"IF(ISNA(VLOOKUP($A183,DeNormalise!$C$4:$G$203,2,FALSE)),\"\",VLOOKUP($A183,DeNormalise!$C$4:$G$203,2,FALSE))","v":""},{"$f":"IF(LEN($B183)<1,\"\",VLOOKUP($A183,DeNormalise!$C$4:$G$203,3,FALSE))","v":""},{"$f":"IF(LEN($B183)<1,\"\",VLOOKUP($A183,DeNormalise!$C$4:$G$203,4,FALSE))","v":""},{"$f":"IF(LEN($B183)<1,\"\",VLOOKUP($A183,DeNormalise!$C$4:$G$203,5,FALSE))","v":""}]
[180,{"$f":"IF(ISNA(VLOOKUP($A184,DeNormalise!$C$4:$G$203,2,FALSE)),\"\",VLOOKUP($A184,DeNormalise!$C$4:$G$203,2,FALSE))","v":""},{"$f":"IF(LEN($B184)<1,\"\",VLOOKUP($A184,DeNormalise!$C$4:$G$203,3,FALSE))","v":""},{"$f":"IF(LEN($B184)<1,\"\",VLOOKUP($A184,DeNormalise!$C$4:$G$203,4,FALSE))","v":""},{"$f":"IF(LEN($B184)<1,\"\",VLOOKUP($A184,DeNormalise!$C$4:$G$203,5,FALSE))","v":""}]
[181,{"$f":"IF(ISNA(VLOOKUP($A185,DeNormalise!$C$4:$G$203,2,FALSE)),\"\",VLOOKUP($A185,DeNormalise!$C$4:$G$203,2,FALSE))","v":""},{"$f":"IF(LEN($B185)<1,\"\",VLOOKUP($A185,DeNormalise!$C$4:$G$203,3,FALSE))","v":""},{"$f":"IF(LEN($B185)<1,\"\",VLOOKUP($A185,DeNormalise!$C$4:$G$203,4,FALSE))","v":""},{"$f":"IF(LEN($B185)<1,\"\",VLOOKUP($A185,DeNormalise!$C$4:$G$203,5,FALSE))","v":""}]
[182,{"$f":"IF(ISNA(VLOOKUP($A186,DeNormalise!$C$4:$G$203,2,FALSE)),\"\",VLOOKUP($A186,DeNormalise!$C$4:$G$203,2,FALSE))","v":""},{"$f":"IF(LEN($B186)<1,\"\",VLOOKUP($A186,DeNormalise!$C$4:$G$203,3,FALSE))","v":""},{"$f":"IF(LEN($B186)<1,\"\",VLOOKUP($A186,DeNormalise!$C$4:$G$203,4,FALSE))","v":""},{"$f":"IF(LEN($B186)<1,\"\",VLOOKUP($A186,DeNormalise!$C$4:$G$203,5,FALSE))","v":""}]
[183,{"$f":"IF(ISNA(VLOOKUP($A187,DeNormalise!$C$4:$G$203,2,FALSE)),\"\",VLOOKUP($A187,DeNormalise!$C$4:$G$203,2,FALSE))","v":""},{"$f":"IF(LEN($B187)<1,\"\",VLOOKUP($A187,DeNormalise!$C$4:$G$203,3,FALSE))","v":""},{"$f":"IF(LEN($B187)<1,\"\",VLOOKUP($A187,DeNormalise!$C$4:$G$203,4,FALSE))","v":""},{"$f":"IF(LEN($B187)<1,\"\",VLOOKUP($A187,DeNormalise!$C$4:$G$203,5,FALSE))","v":""}]
[184,{"$f":"IF(ISNA(VLOOKUP($A188,DeNormalise!$C$4:$G$203,2,FALSE)),\"\",VLOOKUP($A188,DeNormalise!$C$4:$G$203,2,FALSE))","v":""},{"$f":"IF(LEN($B188)<1,\"\",VLOOKUP($A188,DeNormalise!$C$4:$G$203,3,FALSE))","v":""},{"$f":"IF(LEN($B188)<1,\"\",VLOOKUP($A188,DeNormalise!$C$4:$G$203,4,FALSE))","v":""},{"$f":"IF(LEN($B188)<1,\"\",VLOOKUP($A188,DeNormalise!$C$4:$G$203,5,FALSE))","v":""}]
[185,{"$f":"IF(ISNA(VLOOKUP($A189,DeNormalise!$C$4:$G$203,2,FALSE)),\"\",VLOOKUP($A189,DeNormalise!$C$4:$G$203,2,FALSE))","v":""},{"$f":"IF(LEN($B189)<1,\"\",VLOOKUP($A189,DeNormalise!$C$4:$G$203,3,FALSE))","v":""},{"$f":"IF(LEN($B189)<1,\"\",VLOOKUP($A189,DeNormalise!$C$4:$G$203,4,FALSE))","v":""},{"$f":"IF(LEN($B189)<1,\"\",VLOOKUP($A189,DeNormalise!$C$4:$G$203,5,FALSE))","v":""}]
[186,{"$f":"IF(ISNA(VLOOKUP($A190,DeNormalise!$C$4:$G$203,2,FALSE)),\"\",VLOOKUP($A190,DeNormalise!$C$4:$G$203,2,FALSE))","v":""},{"$f":"IF(LEN($B190)<1,\"\",VLOOKUP($A190,DeNormalise!$C$4:$G$203,3,FALSE))","v":""},{"$f":"IF(LEN($B190)<1,\"\",VLOOKUP($A190,DeNormalise!$C$4:$G$203,4,FALSE))","v":""},{"$f":"IF(LEN($B190)<1,\"\",VLOOKUP($A190,DeNormalise!$C$4:$G$203,5,FALSE))","v":""}]
[187,{"$f":"IF(ISNA(VLOOKUP($A191,DeNormalise!$C$4:$G$203,2,FALSE)),\"\",VLOOKUP($A191,DeNormalise!$C$4:$G$203,2,FALSE))","v":""},{"$f":"IF(LEN($B191)<1,\"\",VLOOKUP($A191,DeNormalise!$C$4:$G$203,3,FALSE))","v":""},{"$f":"IF(LEN($B191)<1,\"\",VLOOKUP($A191,DeNormalise!$C$4:$G$203,4,FALSE))","v":""},{"$f":"IF(LEN($B191)<1,\"\",VLOOKUP($A191,DeNormalise!$C$4:$G$203,5,FALSE))","v":""}]
[188,{"$f":"IF(ISNA(VLOOKUP($A192,DeNormalise!$C$4:$G$203,2,FALSE)),\"\",VLOOKUP($A192,DeNormalise!$C$4:$G$203,2,FALSE))","v":""},{"$f":"IF(LEN($B192)<1,\"\",VLOOKUP($A192,DeNormalise!$C$4:$G$203,3,FALSE))","v":""},{"$f":"IF(LEN($B192)<1,\"\",VLOOKUP($A192,DeNormalise!$C$4:$G$203,4,FALSE))","v":""},{"$f":"IF(LEN($B192)<1,\"\",VLOOKUP($A192,DeNormalise!$C$4:$G$203,5,FALSE))","v":""}]
[189,{"$f":"IF(ISNA(VLOOKUP($A193,DeNormalise!$C$4:$G$203,2,FALSE)),\"\",VLOOKUP($A193,DeNormalise!$C$4:$G$203,2,FALSE))","v":""},{"$f":"IF(LEN($B193)<1,\"\",VLOOKUP($A193,DeNormalise!$C$4:$G$203,3,FALSE))","v":""},{"$f":"IF(LEN($B193)<1,\"\",VLOOKUP($A193,DeNormalise!$C$4:$G$203,4,FALSE))","v":""},{"$f":"IF(LEN($B193)<1,\"\",VLOOKUP($A193,DeNormalise!$C$4:$G$203,5,FALSE))","v":""}]
[190,{"$f":"IF(ISNA(VLOOKUP($A194,DeNormalise!$C$4:$G$203,2,FALSE)),\"\",VLOOKUP($A194,DeNormalise!$C$4:$G$203,2,FALSE))","v":""},{"$f":"IF(LEN($B194)<1,\"\",VLOOKUP($A194,DeNormalise!$C$4:$G$203,3,FALSE))","v":""},{"$f":"IF(LEN($B194)<1,\"\",VLOOKUP($A194,DeNormalise!$C$4:$G$203,4,FALSE))","v":""},{"$f":"IF(LEN($B194)<1,\"\",VLOOKUP($A194,DeNormalise!$C$4:$G$203,5,FALSE))","v":""}]
[191,{"$f":"IF(ISNA(VLOOKUP($A195,DeNormalise!$C$4:$G$203,2,FALSE)),\"\",VLOOKUP($A195,DeNormalise!$C$4:$G$203,2,FALSE))","v":""},{"$f":"IF(LEN($B195)<1,\"\",VLOOKUP($A195,DeNormalise!$C$4:$G$203,3,FALSE))","v":""},{"$f":"IF(LEN($B195)<1,\"\",VLOOKUP($A195,DeNormalise!$C$4:$G$203,4,FALSE))","v":""},{"$f":"IF(LEN($B195)<1,\"\",VLOOKUP($A195,DeNormalise!$C$4:$G$203,5,FALSE))","v":""}]
[192,{"$f":"IF(ISNA(VLOOKUP($A196,DeNormalise!$C$4:$G$203,2,FALSE)),\"\",VLOOKUP($A196,DeNormalise!$C$4:$G$203,2,FALSE))","v":""},{"$f":"IF(LEN($B196)<1,\"\",VLOOKUP($A196,DeNormalise!$C$4:$G$203,3,FALSE))","v":""},{"$f":"IF(LEN($B196)<1,\"\",VLOOKUP($A196,DeNormalise!$C$4:$G$203,4,FALSE))","v":""},{"$f":"IF(LEN($B196)<1,\"\",VLOOKUP($A196,DeNormalise!$C$4:$G$203,5,FALSE))","v":""}]
[193,{"$f":"IF(ISNA(VLOOKUP($A197,DeNormalise!$C$4:$G$203,2,FALSE)),\"\",VLOOKUP($A197,DeNormalise!$C$4:$G$203,2,FALSE))","v":""},{"$f":"IF(LEN($B197)<1,\"\",VLOOKUP($A197,DeNormalise!$C$4:$G$203,3,FALSE))","v":""},{"$f":"IF(LEN($B197)<1,\"\",VLOOKUP($A197,DeNormalise!$C$4:$G$203,4,FALSE))","v":""},{"$f":"IF(LEN($B197)<1,\"\",VLOOKUP($A197,DeNormalise!$C$4:$G$203,5,FALSE))","v":""}]
[194,{"$f":"IF(ISNA(VLOOKUP($A198,DeNormalise!$C$4:$G$203,2,FALSE)),\"\",VLOOKUP($A198,DeNormalise!$C$4:$G$203,2,FALSE))","v":""},{"$f":"IF(LEN($B198)<1,\"\",VLOOKUP($A198,DeNormalise!$C$4:$G$203,3,FALSE))","v":""},{"$f":"IF(LEN($B198)<1,\"\",VLOOKUP($A198,DeNormalise!$C$4:$G$203,4,FALSE))","v":""},{"$f":"IF(LEN($B198)<1,\"\",VLOOKUP($A198,DeNormalise!$C$4:$G$203,5,FALSE))","v":""}]
[195,{"$f":"IF(ISNA(VLOOKUP($A199,DeNormalise!$C$4:$G$203,2,FALSE)),\"\",VLOOKUP($A199,DeNormalise!$C$4:$G$203,2,FALSE))","v":""},{"$f":"IF(LEN($B199)<1,\"\",VLOOKUP($A199,DeNormalise!$C$4:$G$203,3,FALSE))","v":""},{"$f":"IF(LEN($B199)<1,\"\",VLOOKUP($A199,DeNormalise!$C$4:$G$203,4,FALSE))","v":""},{"$f":"IF(LEN($B199)<1,\"\",VLOOKUP($A199,DeNormalise!$C$4:$G$203,5,FALSE))","v":""}]
[196,{"$f":"IF(ISNA(VLOOKUP($A200,DeNormalise!$C$4:$G$203,2,FALSE)),\"\",VLOOKUP($A200,DeNormalise!$C$4:$G$203,2,FALSE))","v":""},{"$f":"IF(LEN($B200)<1,\"\",VLOOKUP($A200,DeNormalise!$C$4:$G$203,3,FALSE))","v":""},{"$f":"IF(LEN($B200)<1,\"\",VLOOKUP($A200,DeNormalise!$C$4:$G$203,4,FALSE))","v":""},{"$f":"IF(LEN($B200)<1,\"\",VLOOKUP($A200,DeNormalise!$C$4:$G$203,5,FALSE))","v":""}]
[197,{"$f":"IF(ISNA(VLOOKUP($A201,DeNormalise!$C$4:$G$203,2,FALSE)),\"\",VLOOKUP($A201,DeNormalise!$C$4:$G$203,2,FALSE))","v":""},{"$f":"IF(LEN($B201)<1,\"\",VLOOKUP($A201,DeNormalise!$C$4:$G$203,3,FALSE))","v":""},{"$f":"IF(LEN($B201)<1,\"\",VLOOKUP($A201,DeNormalise!$C$4:$G$203,4,FALSE))","v":""},{"$f":"IF(LEN($B201)<1,\"\",VLOOKUP($A201,DeNormalise!$C$4:$G$203,5,FALSE))","v":""}]
[198,{"$f":"IF(ISNA(VLOOKUP($A202,DeNormalise!$C$4:$G$203,2,FALSE)),\"\",VLOOKUP($A202,DeNormalise!$C$4:$G$203,2,FALSE))","v":""},{"$f":"IF(LEN($B202)<1,\"\",VLOOKUP($A202,DeNormalise!$C$4:$G$203,3,FALSE))","v":""},{"$f":"IF(LEN($B202)<1,\"\",VLOOKUP($A202,DeNormalise!$C$4:$G$203,4,FALSE))","v":""},{"$f":"IF(LEN($B202)<1,\"\",VLOOKUP($A202,DeNormalise!$C$4:$G$203,5,FALSE))","v":""}]
[199,{"$f":"IF(ISNA(VLOOKUP($A203,DeNormalise!$C$4:$G$203,2,FALSE)),\"\",VLOOKUP($A203,DeNormalise!$C$4:$G$203,2,FALSE))","v":""},{"$f":"IF(LEN($B203)<1,\"\",VLOOKUP($A203,DeNormalise!$C$4:$G$203,3,FALSE))","v":""},{"$f":"IF(LEN($B203)<1,\"\",VLOOKUP($A203,DeNormalise!$C$4:$G$203,4,FALSE))","v":""},{"$f":"IF(LEN($B203)<1,\"\",VLOOKUP($A203,DeNormalise!$C$4:$G$203,5,FALSE))","v":""}]
[200,{"$f":"IF(ISNA(VLOOKUP($A204,DeNormalise!$C$4:$G$203,2,FALSE)),\"\",VLOOKUP($A204,DeNormalise!$C$4:$G$203,2,FALSE))","v":""},{"$f":"IF(LEN($B204)<1,\"\",VLOOKUP($A204,DeNormalise!$C$4:$G$203,3,FALSE))","v":""},{"$f":"IF(LEN($B204)<1,\"\",VLOOKUP($A204,DeNormalise!$C$4:$G$203,4,FALSE))","v":""},{"$f":"IF(LEN($B204)<1,\"\",VLOOKUP($A204,DeNormalise!$C$4:$G$203,5,FALSE))","v":""}]

{"sheet":"LearningEvent_Import","index":12,"n_rows":155,"n_cols":41,"rows_kept":155,"cut":false,"hidden":true,"merged":[[0,1,0,6]]}
[null,"Learning Event"]
[]
[null,"Prepopulated =","COURSE",null,null,null,null,"COURSE - Qual Held",null,"05:00:00 PM",null,null,null,null,null,"Provided by Contracting Company"]
[]
[null,"User ID (*required)","Item Type (*required)","Item ID (*required)","Item Revision Date","Item Revision Time","Grade","Completion Status (*required)","Completion Date (*required)","Completion Time (*required)","Credit Hours","CPE Hours","Contact Hours","Total Hours","Instructor Name","Comments","Scheduled Offering ID","Include in government reporting","2483 Legal Entity","2483 Employee Class","Hourly Rate","Hourly Rate Currency","Adjusted Hourly Rate","Adjusted Hourly Rate Currency","Training Purpose ID","Training Action Category ID","2483 Program I","2483 Program Hours I","Training Funding I","Hours Outside of Work I","Hours During Work I","2483 Program II","2483 Program Hours II","Training Funding II","Hours Outside of Work II","Hours During Work II","2483 Program III","2483 Program Hours III","Training Funding III","Hours Outside of Work III","Hours During Work III"]
[1,{"$f":"IF(ISNA(VLOOKUP($A6,DeNormalise!$I$4:$N$203,2,FALSE)),\"\",VLOOKUP($A6,DeNormalise!$I$4:$N$203,2,FALSE))","v":""},{"$f":"IF(LEN($B6)>0,$C$3,\"\")","v":""},{"$f":"IF(LEN($B6)<1,\"\",VLOOKUP($A6,DeNormalise!$I$4:$N$203,5,FALSE))","v":""},null,null,null,{"$f":"IF(LEN($B6)>0,$H$3,\"\")","v":""},{"$f":"IF(LEN($B6)<1,\"\",VLOOKUP($A6,DeNormalise!$I$4:$N$203,6,FALSE))","v":""},{"$f":"IF(LEN($B6)>0,$J$3,\"\")","v":""},null,null,null,null,null,{"$f":"IF(LEN($B6)>0,$P$3,\"\")","v":""}]
[2,{"$f":"IF(ISNA(VLOOKUP($A7,DeNormalise!$I$4:$N$203,2,FALSE)),\"\",VLOOKUP($A7,DeNormalise!$I$4:$N$203,2,FALSE))","v":""},{"$f":"IF(LEN($B7)>0,$C$3,\"\")","v":""},{"$f":"IF(LEN($B7)<1,\"\",VLOOKUP($A7,DeNormalise!$I$4:$N$203,5,FALSE))","v":""},null,null,null,{"$f":"IF(LEN($B7)>0,$H$3,\"\")","v":""},{"$f":"IF(LEN($B7)<1,\"\",VLOOKUP($A7,DeNormalise!$I$4:$N$203,6,FALSE))","v":""},{"$f":"IF(LEN($B7)>0,$J$3,\"\")","v":""},null,null,null,null,null,{"$f":"IF(LEN($B7)>0,$P$3,\"\")","v":""}]
[3,{"$f":"IF(ISNA(VLOOKUP($A8,DeNormalise!$I$4:$N$203,2,FALSE)),\"\",VLOOKUP($A8,DeNormalise!$I$4:$N$203,2,FALSE))","v":""},"",{"$f":"IF(LEN($B8)<1,\"\",VLOOKUP($A8,DeNormalise!$I$4:$N$203,5,FALSE))","v":""},null,null,null,"",{"$f":"IF(LEN($B8)<1,\"\",VLOOKUP($A8,DeNormalise!$I$4:$N$203,6,FALSE))","v":""},"",null,null,null,null,null,""]
[4,{"$f":"IF(ISNA(VLOOKUP($A9,DeNormalise!$I$4:$N$203,2,FALSE)),\"\",VLOOKUP($A9,DeNormalise!$I$4:$N$203,2,FALSE))","v":""},"",{"$f":"IF(LEN($B9)<1,\"\",VLOOKUP($A9,DeNormalise!$I$4:$N$203,5,FALSE))","v":""},null,null,null,"",{"$f":"IF(LEN($B9)<1,\"\",VLOOKUP($A9,DeNormalise!$I$4:$N$203,6,FALSE))","v":""},"",null,null,null,null,null,""]
[5,{"$f":"IF(ISNA(VLOOKUP($A10,DeNormalise!$I$4:$N$203,2,FALSE)),\"\",VLOOKUP($A10,DeNormalise!$I$4:$N$203,2,FALSE))","v":""},"",{"$f":"IF(LEN($B10)<1,\"\",VLOOKUP($A10,DeNormalise!$I$4:$N$203,5,FALSE))","v":""},null,null,null,"",{"$f":"IF(LEN($B10)<1,\"\",VLOOKUP($A10,DeNormalise!$I$4:$N$203,6,FALSE))","v":""},"",null,null,null,null,null,""]
[6,{"$f":"IF(ISNA(VLOOKUP($A11,DeNormalise!$I$4:$N$203,2,FALSE)),\"\",VLOOKUP($A11,DeNormalise!$I$4:$N$203,2,FALSE))","v":""},"",{"$f":"IF(LEN($B11)<1,\"\",VLOOKUP($A11,DeNormalise!$I$4:$N$203,5,FALSE))","v":""},null,null,null,"",{"$f":"IF(LEN($B11)<1,\"\",VLOOKUP($A11,DeNormalise!$I$4:$N$203,6,FALSE))","v":""},"",null,null,null,null,null,""]
[7,{"$f":"IF(ISNA(VLOOKUP($A12,DeNormalise!$I$4:$N$203,2,FALSE)),\"\",VLOOKUP($A12,DeNormalise!$I$4:$N$203,2,FALSE))","v":""},"",{"$f":"IF(LEN($B12)<1,\"\",VLOOKUP($A12,DeNormalise!$I$4:$N$203,5,FALSE))","v":""},null,null,null,"",{"$f":"IF(LEN($B12)<1,\"\",VLOOKUP($A12,DeNormalise!$I$4:$N$203,6,FALSE))","v":""},"",null,null,null,null,null,""]
[8,{"$f":"IF(ISNA(VLOOKUP($A13,DeNormalise!$I$4:$N$203,2,FALSE)),\"\",VLOOKUP($A13,DeNormalise!$I$4:$N$203,2,FALSE))","v":""},"",{"$f":"IF(LEN($B13)<1,\"\",VLOOKUP($A13,DeNormalise!$I$4:$N$203,5,FALSE))","v":""},null,null,null,"",{"$f":"IF(LEN($B13)<1,\"\",VLOOKUP($A13,DeNormalise!$I$4:$N$203,6,FALSE))","v":""},"",null,null,null,null,null,""]
[9,{"$f":"IF(ISNA(VLOOKUP($A14,DeNormalise!$I$4:$N$203,2,FALSE)),\"\",VLOOKUP($A14,DeNormalise!$I$4:$N$203,2,FALSE))","v":""},"",{"$f":"IF(LEN($B14)<1,\"\",VLOOKUP($A14,DeNormalise!$I$4:$N$203,5,FALSE))","v":""},null,null,null,"",{"$f":"IF(LEN($B14)<1,\"\",VLOOKUP($A14,DeNormalise!$I$4:$N$203,6,FALSE))","v":""},"",null,null,null,null,null,""]
[10,{"$f":"IF(ISNA(VLOOKUP($A15,DeNormalise!$I$4:$N$203,2,FALSE)),\"\",VLOOKUP($A15,DeNormalise!$I$4:$N$203,2,FALSE))","v":""},"",{"$f":"IF(LEN($B15)<1,\"\",VLOOKUP($A15,DeNormalise!$I$4:$N$203,5,FALSE))","v":""},null,null,null,"",{"$f":"IF(LEN($B15)<1,\"\",VLOOKUP($A15,DeNormalise!$I$4:$N$203,6,FALSE))","v":""},"",null,null,null,null,null,""]
[11,{"$f":"IF(ISNA(VLOOKUP($A16,DeNormalise!$I$4:$N$203,2,FALSE)),\"\",VLOOKUP($A16,DeNormalise!$I$4:$N$203,2,FALSE))","v":""},"",{"$f":"IF(LEN($B16)<1,\"\",VLOOKUP($A16,DeNormalise!$I$4:$N$203,5,FALSE))","v":""},null,null,null,"",{"$f":"IF(LEN($B16)<1,\"\",VLOOKUP($A16,DeNormalise!$I$4:$N$203,6,FALSE))","v":""},"",null,null,null,null,null,""]
[12,{"$f":"IF(ISNA(VLOOKUP($A17,DeNormalise!$I$4:$N$203,2,FALSE)),\"\",VLOOKUP($A17,DeNormalise!$I$4:$N$203,2,FALSE))","v":""},"",{"$f":"IF(LEN($B17)<1,\"\",VLOOKUP($A17,DeNormalise!$I$4:$N$203,5,FALSE))","v":""},null,null,null,"",{"$f":"IF(LEN($B17)<1,\"\",VLOOKUP($A17,DeNormalise!$I$4:$N$203,6,FALSE))","v":""},"",null,null,null,null,null,""]
[13,{"$f":"IF(ISNA(VLOOKUP($A18,DeNormalise!$I$4:$N$203,2,FALSE)),\"\",VLOOKUP($A18,DeNormalise!$I$4:$N$203,2,FALSE))","v":""},"",{"$f":"IF(LEN($B18)<1,\"\",VLOOKUP($A18,DeNormalise!$I$4:$N$203,5,FALSE))","v":""},null,null,null,"",{"$f":"IF(LEN($B18)<1,\"\",VLOOKUP($A18,DeNormalise!$I$4:$N$203,6,FALSE))","v":""},"",null,null,null,null,null,""]
[14,{"$f":"IF(ISNA(VLOOKUP($A19,DeNormalise!$I$4:$N$203,2,FALSE)),\"\",VLOOKUP($A19,DeNormalise!$I$4:$N$203,2,FALSE))","v":""},"",{"$f":"IF(LEN($B19)<1,\"\",VLOOKUP($A19,DeNormalise!$I$4:$N$203,5,FALSE))","v":""},null,null,null,"",{"$f":"IF(LEN($B19)<1,\"\",VLOOKUP($A19,DeNormalise!$I$4:$N$203,6,FALSE))","v":""},"",null,null,null,null,null,""]
[15,{"$f":"IF(ISNA(VLOOKUP($A20,DeNormalise!$I$4:$N$203,2,FALSE)),\"\",VLOOKUP($A20,DeNormalise!$I$4:$N$203,2,FALSE))","v":""},"",{"$f":"IF(LEN($B20)<1,\"\",VLOOKUP($A20,DeNormalise!$I$4:$N$203,5,FALSE))","v":""},null,null,null,"",{"$f":"IF(LEN($B20)<1,\"\",VLOOKUP($A20,DeNormalise!$I$4:$N$203,6,FALSE))","v":""},"",null,null,null,null,null,""]
[16,{"$f":"IF(ISNA(VLOOKUP($A21,DeNormalise!$I$4:$N$203,2,FALSE)),\"\",VLOOKUP($A21,DeNormalise!$I$4:$N$203,2,FALSE))","v":""},"",{"$f":"IF(LEN($B21)<1,\"\",VLOOKUP($A21,DeNormalise!$I$4:$N$203,5,FALSE))","v":""},null,null,null,"",{"$f":"IF(LEN($B21)<1,\"\",VLOOKUP($A21,DeNormalise!$I$4:$N$203,6,FALSE))","v":""},"",null,null,null,null,null,""]
[17,{"$f":"IF(ISNA(VLOOKUP($A22,DeNormalise!$I$4:$N$203,2,FALSE)),\"\",VLOOKUP($A22,DeNormalise!$I$4:$N$203,2,FALSE))","v":""},"",{"$f":"IF(LEN($B22)<1,\"\",VLOOKUP($A22,DeNormalise!$I$4:$N$203,5,FALSE))","v":""},null,null,null,"",{"$f":"IF(LEN($B22)<1,\"\",VLOOKUP($A22,DeNormalise!$I$4:$N$203,6,FALSE))","v":""},"",null,null,null,null,null,""]
[18,{"$f":"IF(ISNA(VLOOKUP($A23,DeNormalise!$I$4:$N$203,2,FALSE)),\"\",VLOOKUP($A23,DeNormalise!$I$4:$N$203,2,FALSE))","v":""},"",{"$f":"IF(LEN($B23)<1,\"\",VLOOKUP($A23,DeNormalise!$I$4:$N$203,5,FALSE))","v":""},null,null,null,"",{"$f":"IF(LEN($B23)<1,\"\",VLOOKUP($A23,DeNormalise!$I$4:$N$203,6,FALSE))","v":""},"",null,null,null,null,null,""]
[19,{"$f":"IF(ISNA(VLOOKUP($A24,DeNormalise!$I$4:$N$203,2,FALSE)),\"\",VLOOKUP($A24,DeNormalise!$I$4:$N$203,2,FALSE))","v":""},"",{"$f":"IF(LEN($B24)<1,\"\",VLOOKUP($A24,DeNormalise!$I$4:$N$203,5,FALSE))","v":""},null,null,null,"",{"$f":"IF(LEN($B24)<1,\"\",VLOOKUP($A24,DeNormalise!$I$4:$N$203,6,FALSE))","v":""},"",null,null,null,null,null,""]
[20,{"$f":"IF(ISNA(VLOOKUP($A25,DeNormalise!$I$4:$N$203,2,FALSE)),\"\",VLOOKUP($A25,DeNormalise!$I$4:$N$203,2,FALSE))","v":""},"",{"$f":"IF(LEN($B25)<1,\"\",VLOOKUP($A25,DeNormalise!$I$4:$N$203,5,FALSE))","v":""},null,null,null,"",{"$f":"IF(LEN($B25)<1,\"\",VLOOKUP($A25,DeNormalise!$I$4:$N$203,6,FALSE))","v":""},"",null,null,null,null,null,""]
[21,{"$f":"IF(ISNA(VLOOKUP($A26,DeNormalise!$I$4:$N$203,2,FALSE)),\"\",VLOOKUP($A26,DeNormalise!$I$4:$N$203,2,FALSE))","v":""},"",{"$f":"IF(LEN($B26)<1,\"\",VLOOKUP($A26,DeNormalise!$I$4:$N$203,5,FALSE))","v":""},null,null,null,"",{"$f":"IF(LEN($B26)<1,\"\",VLOOKUP($A26,DeNormalise!$I$4:$N$203,6,FALSE))","v":""},"",null,null,null,null,null,""]
[22,{"$f":"IF(ISNA(VLOOKUP($A27,DeNormalise!$I$4:$N$203,2,FALSE)),\"\",VLOOKUP($A27,DeNormalise!$I$4:$N$203,2,FALSE))","v":""},"",{"$f":"IF(LEN($B27)<1,\"\",VLOOKUP($A27,DeNormalise!$I$4:$N$203,5,FALSE))","v":""},null,null,null,"",{"$f":"IF(LEN($B27)<1,\"\",VLOOKUP($A27,DeNormalise!$I$4:$N$203,6,FALSE))","v":""},"",null,null,null,null,null,""]
[23,{"$f":"IF(ISNA(VLOOKUP($A28,DeNormalise!$I$4:$N$203,2,FALSE)),\"\",VLOOKUP($A28,DeNormalise!$I$4:$N$203,2,FALSE))","v":""},"",{"$f":"IF(LEN($B28)<1,\"\",VLOOKUP($A28,DeNormalise!$I$4:$N$203,5,FALSE))","v":""},null,null,null,"",{"$f":"IF(LEN($B28)<1,\"\",VLOOKUP($A28,DeNormalise!$I$4:$N$203,6,FALSE))","v":""},"",null,null,null,null,null,""]
[24,{"$f":"IF(ISNA(VLOOKUP($A29,DeNormalise!$I$4:$N$203,2,FALSE)),\"\",VLOOKUP($A29,DeNormalise!$I$4:$N$203,2,FALSE))","v":""},"",{"$f":"IF(LEN($B29)<1,\"\",VLOOKUP($A29,DeNormalise!$I$4:$N$203,5,FALSE))","v":""},null,null,null,"",{"$f":"IF(LEN($B29)<1,\"\",VLOOKUP($A29,DeNormalise!$I$4:$N$203,6,FALSE))","v":""},"",null,null,null,null,null,""]
[25,{"$f":"IF(ISNA(VLOOKUP($A30,DeNormalise!$I$4:$N$203,2,FALSE)),\"\",VLOOKUP($A30,DeNormalise!$I$4:$N$203,2,FALSE))","v":""},"",{"$f":"IF(LEN($B30)<1,\"\",VLOOKUP($A30,DeNormalise!$I$4:$N$203,5,FALSE))","v":""},null,null,null,"",{"$f":"IF(LEN($B30)<1,\"\",VLOOKUP($A30,DeNormalise!$I$4:$N$203,6,FALSE))","v":""},"",null,null,null,null,null,""]
[26,{"$f":"IF(ISNA(VLOOKUP($A31,DeNormalise!$I$4:$N$203,2,FALSE)),\"\",VLOOKUP($A31,DeNormalise!$I$4:$N$203,2,FALSE))","v":""},"",{"$f":"IF(LEN($B31)<1,\"\",VLOOKUP($A31,DeNormalise!$I$4:$N$203,5,FALSE))","v":""},null,null,null,"",{"$f":"IF(LEN($B31)<1,\"\",VLOOKUP($A31,DeNormalise!$I$4:$N$203,6,FALSE))","v":""},"",null,null,null,null,null,""]
[27,{"$f":"IF(ISNA(VLOOKUP($A32,DeNormalise!$I$4:$N$203,2,FALSE)),\"\",VLOOKUP($A32,DeNormalise!$I$4:$N$203,2,FALSE))","v":""},"",{"$f":"IF(LEN($B32)<1,\"\",VLOOKUP($A32,DeNormalise!$I$4:$N$203,5,FALSE))","v":""},null,null,null,"",{"$f":"IF(LEN($B32)<1,\"\",VLOOKUP($A32,DeNormalise!$I$4:$N$203,6,FALSE))","v":""},"",null,null,null,null,null,""]
[28,{"$f":"IF(ISNA(VLOOKUP($A33,DeNormalise!$I$4:$N$203,2,FALSE)),\"\",VLOOKUP($A33,DeNormalise!$I$4:$N$203,2,FALSE))","v":""},"",{"$f":"IF(LEN($B33)<1,\"\",VLOOKUP($A33,DeNormalise!$I$4:$N$203,5,FALSE))","v":""},null,null,null,"",{"$f":"IF(LEN($B33)<1,\"\",VLOOKUP($A33,DeNormalise!$I$4:$N$203,6,FALSE))","v":""},"",null,null,null,null,null,""]
[29,{"$f":"IF(ISNA(VLOOKUP($A34,DeNormalise!$I$4:$N$203,2,FALSE)),\"\",VLOOKUP($A34,DeNormalise!$I$4:$N$203,2,FALSE))","v":""},"",{"$f":"IF(LEN($B34)<1,\"\",VLOOKUP($A34,DeNormalise!$I$4:$N$203,5,FALSE))","v":""},null,null,null,"",{"$f":"IF(LEN($B34)<1,\"\",VLOOKUP($A34,DeNormalise!$I$4:$N$203,6,FALSE))","v":""},"",null,null,null,null,null,""]
[30,{"$f":"IF(ISNA(VLOOKUP($A35,DeNormalise!$I$4:$N$203,2,FALSE)),\"\",VLOOKUP($A35,DeNormalise!$I$4:$N$203,2,FALSE))","v":""},"",{"$f":"IF(LEN($B35)<1,\"\",VLOOKUP($A35,DeNormalise!$I$4:$N$203,5,FALSE))","v":""},null,null,null,"",{"$f":"IF(LEN($B35)<1,\"\",VLOOKUP($A35,DeNormalise!$I$4:$N$203,6,FALSE))","v":""},"",null,null,null,null,null,""]
[31,{"$f":"IF(ISNA(VLOOKUP($A36,DeNormalise!$I$4:$N$203,2,FALSE)),\"\",VLOOKUP($A36,DeNormalise!$I$4:$N$203,2,FALSE))","v":""},"",{"$f":"IF(LEN($B36)<1,\"\",VLOOKUP($A36,DeNormalise!$I$4:$N$203,5,FALSE))","v":""},null,null,null,"",{"$f":"IF(LEN($B36)<1,\"\",VLOOKUP($A36,DeNormalise!$I$4:$N$203,6,FALSE))","v":""},"",null,null,null,null,null,""]
[32,{"$f":"IF(ISNA(VLOOKUP($A37,DeNormalise!$I$4:$N$203,2,FALSE)),\"\",VLOOKUP($A37,DeNormalise!$I$4:$N$203,2,FALSE))","v":""},"",{"$f":"IF(LEN($B37)<1,\"\",VLOOKUP($A37,DeNormalise!$I$4:$N$203,5,FALSE))","v":""},null,null,null,"",{"$f":"IF(LEN($B37)<1,\"\",VLOOKUP($A37,DeNormalise!$I$4:$N$203,6,FALSE))","v":""},"",null,null,null,null,null,""]
[33,{"$f":"IF(ISNA(VLOOKUP($A38,DeNormalise!$I$4:$N$203,2,FALSE)),\"\",VLOOKUP($A38,DeNormalise!$I$4:$N$203,2,FALSE))","v":""},"",{"$f":"IF(LEN($B38)<1,\"\",VLOOKUP($A38,DeNormalise!$I$4:$N$203,5,FALSE))","v":""},null,null,null,"",{"$f":"IF(LEN($B38)<1,\"\",VLOOKUP($A38,DeNormalise!$I$4:$N$203,6,FALSE))","v":""},"",null,null,null,null,null,""]
[34,{"$f":"IF(ISNA(VLOOKUP($A39,DeNormalise!$I$4:$N$203,2,FALSE)),\"\",VLOOKUP($A39,DeNormalise!$I$4:$N$203,2,FALSE))","v":""},"",{"$f":"IF(LEN($B39)<1,\"\",VLOOKUP($A39,DeNormalise!$I$4:$N$203,5,FALSE))","v":""},null,null,null,"",{"$f":"IF(LEN($B39)<1,\"\",VLOOKUP($A39,DeNormalise!$I$4:$N$203,6,FALSE))","v":""},"",null,null,null,null,null,""]
[35,{"$f":"IF(ISNA(VLOOKUP($A40,DeNormalise!$I$4:$N$203,2,FALSE)),\"\",VLOOKUP($A40,DeNormalise!$I$4:$N$203,2,FALSE))","v":""},"",{"$f":"IF(LEN($B40)<1,\"\",VLOOKUP($A40,DeNormalise!$I$4:$N$203,5,FALSE))","v":""},null,null,null,"",{"$f":"IF(LEN($B40)<1,\"\",VLOOKUP($A40,DeNormalise!$I$4:$N$203,6,FALSE))","v":""},"",null,null,null,null,null,""]
[36,{"$f":"IF(ISNA(VLOOKUP($A41,DeNormalise!$I$4:$N$203,2,FALSE)),\"\",VLOOKUP($A41,DeNormalise!$I$4:$N$203,2,FALSE))","v":""},"",{"$f":"IF(LEN($B41)<1,\"\",VLOOKUP($A41,DeNormalise!$I$4:$N$203,5,FALSE))","v":""},null,null,null,"",{"$f":"IF(LEN($B41)<1,\"\",VLOOKUP($A41,DeNormalise!$I$4:$N$203,6,FALSE))","v":""},"",null,null,null,null,null,""]
[37,{"$f":"IF(ISNA(VLOOKUP($A42,DeNormalise!$I$4:$N$203,2,FALSE)),\"\",VLOOKUP($A42,DeNormalise!$I$4:$N$203,2,FALSE))","v":""},"",{"$f":"IF(LEN($B42)<1,\"\",VLOOKUP($A42,DeNormalise!$I$4:$N$203,5,FALSE))","v":""},null,null,null,"",{"$f":"IF(LEN($B42)<1,\"\",VLOOKUP($A42,DeNormalise!$I$4:$N$203,6,FALSE))","v":""},"",null,null,null,null,null,""]
[38,{"$f":"IF(ISNA(VLOOKUP($A43,DeNormalise!$I$4:$N$203,2,FALSE)),\"\",VLOOKUP($A43,DeNormalise!$I$4:$N$203,2,FALSE))","v":""},"",{"$f":"IF(LEN($B43)<1,\"\",VLOOKUP($A43,DeNormalise!$I$4:$N$203,5,FALSE))","v":""},null,null,null,"",{"$f":"IF(LEN($B43)<1,\"\",VLOOKUP($A43,DeNormalise!$I$4:$N$203,6,FALSE))","v":""},"",null,null,null,null,null,""]
[39,{"$f":"IF(ISNA(VLOOKUP($A44,DeNormalise!$I$4:$N$203,2,FALSE)),\"\",VLOOKUP($A44,DeNormalise!$I$4:$N$203,2,FALSE))","v":""},"",{"$f":"IF(LEN($B44)<1,\"\",VLOOKUP($A44,DeNormalise!$I$4:$N$203,5,FALSE))","v":""},null,null,null,"",{"$f":"IF(LEN($B44)<1,\"\",VLOOKUP($A44,DeNormalise!$I$4:$N$203,6,FALSE))","v":""},"",null,null,null,null,null,""]
[40,{"$f":"IF(ISNA(VLOOKUP($A45,DeNormalise!$I$4:$N$203,2,FALSE)),\"\",VLOOKUP($A45,DeNormalise!$I$4:$N$203,2,FALSE))","v":""},"",{"$f":"IF(LEN($B45)<1,\"\",VLOOKUP($A45,DeNormalise!$I$4:$N$203,5,FALSE))","v":""},null,null,null,"",{"$f":"IF(LEN($B45)<1,\"\",VLOOKUP($A45,DeNormalise!$I$4:$N$203,6,FALSE))","v":""},"",null,null,null,null,null,""]
[41,{"$f":"IF(ISNA(VLOOKUP($A46,DeNormalise!$I$4:$N$203,2,FALSE)),\"\",VLOOKUP($A46,DeNormalise!$I$4:$N$203,2,FALSE))","v":""},"",{"$f":"IF(LEN($B46)<1,\"\",VLOOKUP($A46,DeNormalise!$I$4:$N$203,5,FALSE))","v":""},null,null,null,"",{"$f":"IF(LEN($B46)<1,\"\",VLOOKUP($A46,DeNormalise!$I$4:$N$203,6,FALSE))","v":""},"",null,null,null,null,null,""]
[42,{"$f":"IF(ISNA(VLOOKUP($A47,DeNormalise!$I$4:$N$203,2,FALSE)),\"\",VLOOKUP($A47,DeNormalise!$I$4:$N$203,2,FALSE))","v":""},"",{"$f":"IF(LEN($B47)<1,\"\",VLOOKUP($A47,DeNormalise!$I$4:$N$203,5,FALSE))","v":""},null,null,null,"",{"$f":"IF(LEN($B47)<1,\"\",VLOOKUP($A47,DeNormalise!$I$4:$N$203,6,FALSE))","v":""},"",null,null,null,null,null,""]
[43,{"$f":"IF(ISNA(VLOOKUP($A48,DeNormalise!$I$4:$N$203,2,FALSE)),\"\",VLOOKUP($A48,DeNormalise!$I$4:$N$203,2,FALSE))","v":""},"",{"$f":"IF(LEN($B48)<1,\"\",VLOOKUP($A48,DeNormalise!$I$4:$N$203,5,FALSE))","v":""},null,null,null,"",{"$f":"IF(LEN($B48)<1,\"\",VLOOKUP($A48,DeNormalise!$I$4:$N$203,6,FALSE))","v":""},"",null,null,null,null,null,""]
[44,{"$f":"IF(ISNA(VLOOKUP($A49,DeNormalise!$I$4:$N$203,2,FALSE)),\"\",VLOOKUP($A49,DeNormalise!$I$4:$N$203,2,FALSE))","v":""},"",{"$f":"IF(LEN($B49)<1,\"\",VLOOKUP($A49,DeNormalise!$I$4:$N$203,5,FALSE))","v":""},null,null,null,"",{"$f":"IF(LEN($B49)<1,\"\",VLOOKUP($A49,DeNormalise!$I$4:$N$203,6,FALSE))","v":""},"",null,null,null,null,null,""]
[45,{"$f":"IF(ISNA(VLOOKUP($A50,DeNormalise!$I$4:$N$203,2,FALSE)),\"\",VLOOKUP($A50,DeNormalise!$I$4:$N$203,2,FALSE))","v":""},"",{"$f":"IF(LEN($B50)<1,\"\",VLOOKUP($A50,DeNormalise!$I$4:$N$203,5,FALSE))","v":""},null,null,null,"",{"$f":"IF(LEN($B50)<1,\"\",VLOOKUP($A50,DeNormalise!$I$4:$N$203,6,FALSE))","v":""},"",null,null,null,null,null,""]
[46,{"$f":"IF(ISNA(VLOOKUP($A51,DeNormalise!$I$4:$N$203,2,FALSE)),\"\",VLOOKUP($A51,DeNormalise!$I$4:$N$203,2,FALSE))","v":""},"",{"$f":"IF(LEN($B51)<1,\"\",VLOOKUP($A51,DeNormalise!$I$4:$N$203,5,FALSE))","v":""},null,null,null,"",{"$f":"IF(LEN($B51)<1,\"\",VLOOKUP($A51,DeNormalise!$I$4:$N$203,6,FALSE))","v":""},"",null,null,null,null,null,""]
[47,{"$f":"IF(ISNA(VLOOKUP($A52,DeNormalise!$I$4:$N$203,2,FALSE)),\"\",VLOOKUP($A52,DeNormalise!$I$4:$N$203,2,FALSE))","v":""},"",{"$f":"IF(LEN($B52)<1,\"\",VLOOKUP($A52,DeNormalise!$I$4:$N$203,5,FALSE))","v":""},null,null,null,"",{"$f":"IF(LEN($B52)<1,\"\",VLOOKUP($A52,DeNormalise!$I$4:$N$203,6,FALSE))","v":""},"",null,null,null,null,null,""]
[48,{"$f":"IF(ISNA(VLOOKUP($A53,DeNormalise!$I$4:$N$203,2,FALSE)),\"\",VLOOKUP($A53,DeNormalise!$I$4:$N$203,2,FALSE))","v":""},"",{"$f":"IF(LEN($B53)<1,\"\",VLOOKUP($A53,DeNormalise!$I$4:$N$203,5,FALSE))","v":""},null,null,null,"",{"$f":"IF(LEN($B53)<1,\"\",VLOOKUP($A53,DeNormalise!$I$4:$N$203,6,FALSE))","v":""},"",null,null,null,null,null,""]
[49,{"$f":"IF(ISNA(VLOOKUP($A54,DeNormalise!$I$4:$N$203,2,FALSE)),\"\",VLOOKUP($A54,DeNormalise!$I$4:$N$203,2,FALSE))","v":""},"",{"$f":"IF(LEN($B54)<1,\"\",VLOOKUP($A54,DeNormalise!$I$4:$N$203,5,FALSE))","v":""},null,null,null,"",{"$f":"IF(LEN($B54)<1,\"\",VLOOKUP($A54,DeNormalise!$I$4:$N$203,6,FALSE))","v":""},"",null,null,null,null,null,""]
[50,{"$f":"IF(ISNA(VLOOKUP($A55,DeNormalise!$I$4:$N$203,2,FALSE)),\"\",VLOOKUP($A55,DeNormalise!$I$4:$N$203,2,FALSE))","v":""},"",{"$f":"IF(LEN($B55)<1,\"\",VLOOKUP($A55,DeNormalise!$I$4:$N$203,5,FALSE))","v":""},null,null,null,"",{"$f":"IF(LEN($B55)<1,\"\",VLOOKUP($A55,DeNormalise!$I$4:$N$203,6,FALSE))","v":""},"",null,null,null,null,null,""]
[51,{"$f":"IF(ISNA(VLOOKUP($A56,DeNormalise!$I$4:$N$203,2,FALSE)),\"\",VLOOKUP($A56,DeNormalise!$I$4:$N$203,2,FALSE))","v":""},"",{"$f":"IF(LEN($B56)<1,\"\",VLOOKUP($A56,DeNormalise!$I$4:$N$203,5,FALSE))","v":""},null,null,null,"",{"$f":"IF(LEN($B56)<1,\"\",VLOOKUP($A56,DeNormalise!$I$4:$N$203,6,FALSE))","v":""},"",null,null,null,null,null,""]
[52,{"$f":"IF(ISNA(VLOOKUP($A57,DeNormalise!$I$4:$N$203,2,FALSE)),\"\",VLOOKUP($A57,DeNormalise!$I$4:$N$203,2,FALSE))","v":""},"",{"$f":"IF(LEN($B57)<1,\"\",VLOOKUP($A57,DeNormalise!$I$4:$N$203,5,FALSE))","v":""},null,null,null,"",{"$f":"IF(LEN($B57)<1,\"\",VLOOKUP($A57,DeNormalise!$I$4:$N$203,6,FALSE))","v":""},"",null,null,null,null,null,""]
[53,{"$f":"IF(ISNA(VLOOKUP($A58,DeNormalise!$I$4:$N$203,2,FALSE)),\"\",VLOOKUP($A58,DeNormalise!$I$4:$N$203,2,FALSE))","v":""},"",{"$f":"IF(LEN($B58)<1,\"\",VLOOKUP($A58,DeNormalise!$I$4:$N$203,5,FALSE))","v":""},null,null,null,"",{"$f":"IF(LEN($B58)<1,\"\",VLOOKUP($A58,DeNormalise!$I$4:$N$203,6,FALSE))","v":""},"",null,null,null,null,null,""]
[54,{"$f":"IF(ISNA(VLOOKUP($A59,DeNormalise!$I$4:$N$203,2,FALSE)),\"\",VLOOKUP($A59,DeNormalise!$I$4:$N$203,2,FALSE))","v":""},"",{"$f":"IF(LEN($B59)<1,\"\",VLOOKUP($A59,DeNormalise!$I$4:$N$203,5,FALSE))","v":""},null,null,null,"",{"$f":"IF(LEN($B59)<1,\"\",VLOOKUP($A59,DeNormalise!$I$4:$N$203,6,FALSE))","v":""},"",null,null,null,null,null,""]
[55,{"$f":"IF(ISNA(VLOOKUP($A60,DeNormalise!$I$4:$N$203,2,FALSE)),\"\",VLOOKUP($A60,DeNormalise!$I$4:$N$203,2,FALSE))","v":""},"",{"$f":"IF(LEN($B60)<1,\"\",VLOOKUP($A60,DeNormalise!$I$4:$N$203,5,FALSE))","v":""},null,null,null,"",{"$f":"IF(LEN($B60)<1,\"\",VLOOKUP($A60,DeNormalise!$I$4:$N$203,6,FALSE))","v":""},"",null,null,null,null,null,""]
[56,{"$f":"IF(ISNA(VLOOKUP($A61,DeNormalise!$I$4:$N$203,2,FALSE)),\"\",VLOOKUP($A61,DeNormalise!$I$4:$N$203,2,FALSE))","v":""},"",{"$f":"IF(LEN($B61)<1,\"\",VLOOKUP($A61,DeNormalise!$I$4:$N$203,5,FALSE))","v":""},null,null,null,"",{"$f":"IF(LEN($B61)<1,\"\",VLOOKUP($A61,DeNormalise!$I$4:$N$203,6,FALSE))","v":""},"",null,null,null,null,null,""]
[57,{"$f":"IF(ISNA(VLOOKUP($A62,DeNormalise!$I$4:$N$203,2,FALSE)),\"\",VLOOKUP($A62,DeNormalise!$I$4:$N$203,2,FALSE))","v":""},"",{"$f":"IF(LEN($B62)<1,\"\",VLOOKUP($A62,DeNormalise!$I$4:$N$203,5,FALSE))","v":""},null,null,null,"",{"$f":"IF(LEN($B62)<1,\"\",VLOOKUP($A62,DeNormalise!$I$4:$N$203,6,FALSE))","v":""},"",null,null,null,null,null,""]
[58,{"$f":"IF(ISNA(VLOOKUP($A63,DeNormalise!$I$4:$N$203,2,FALSE)),\"\",VLOOKUP($A63,DeNormalise!$I$4:$N$203,2,FALSE))","v":""},"",{"$f":"IF(LEN($B63)<1,\"\",VLOOKUP($A63,DeNormalise!$I$4:$N$203,5,FALSE))","v":""},null,null,null,"",{"$f":"IF(LEN($B63)<1,\"\",VLOOKUP($A63,DeNormalise!$I$4:$N$203,6,FALSE))","v":""},"",null,null,null,null,null,""]
[59,{"$f":"IF(ISNA(VLOOKUP($A64,DeNormalise!$I$4:$N$203,2,FALSE)),\"\",VLOOKUP($A64,DeNormalise!$I$4:$N$203,2,FALSE))","v":""},"",{"$f":"IF(LEN($B64)<1,\"\",VLOOKUP($A64,DeNormalise!$I$4:$N$203,5,FALSE))","v":""},null,null,null,"",{"$f":"IF(LEN($B64)<1,\"\",VLOOKUP($A64,DeNormalise!$I$4:$N$203,6,FALSE))","v":""},"",null,null,null,null,null,""]
[60,{"$f":"IF(ISNA(VLOOKUP($A65,DeNormalise!$I$4:$N$203,2,FALSE)),\"\",VLOOKUP($A65,DeNormalise!$I$4:$N$203,2,FALSE))","v":""},"",{"$f":"IF(LEN($B65)<1,\"\",VLOOKUP($A65,DeNormalise!$I$4:$N$203,5,FALSE))","v":""},null,null,null,"",{"$f":"IF(LEN($B65)<1,\"\",VLOOKUP($A65,DeNormalise!$I$4:$N$203,6,FALSE))","v":""},"",null,null,null,null,null,""]
[61,{"$f":"IF(ISNA(VLOOKUP($A66,DeNormalise!$I$4:$N$203,2,FALSE)),\"\",VLOOKUP($A66,DeNormalise!$I$4:$N$203,2,FALSE))","v":""},"",{"$f":"IF(LEN($B66)<1,\"\",VLOOKUP($A66,DeNormalise!$I$4:$N$203,5,FALSE))","v":""},null,null,null,"",{"$f":"IF(LEN($B66)<1,\"\",VLOOKUP($A66,DeNormalise!$I$4:$N$203,6,FALSE))","v":""},"",null,null,null,null,null,""]
[62,{"$f":"IF(ISNA(VLOOKUP($A67,DeNormalise!$I$4:$N$203,2,FALSE)),\"\",VLOOKUP($A67,DeNormalise!$I$4:$N$203,2,FALSE))","v":""},"",{"$f":"IF(LEN($B67)<1,\"\",VLOOKUP($A67,DeNormalise!$I$4:$N$203,5,FALSE))","v":""},null,null,null,"",{"$f":"IF(LEN($B67)<1,\"\",VLOOKUP($A67,DeNormalise!$I$4:$N$203,6,FALSE))","v":""},"",null,null,null,null,null,""]
[63,{"$f":"IF(ISNA(VLOOKUP($A68,DeNormalise!$I$4:$N$203,2,FALSE)),\"\",VLOOKUP($A68,DeNormalise!$I$4:$N$203,2,FALSE))","v":""},"",{"$f":"IF(LEN($B68)<1,\"\",VLOOKUP($A68,DeNormalise!$I$4:$N$203,5,FALSE))","v":""},null,null,null,"",{"$f":"IF(LEN($B68)<1,\"\",VLOOKUP($A68,DeNormalise!$I$4:$N$203,6,FALSE))","v":""},"",null,null,null,null,null,""]
[64,{"$f":"IF(ISNA(VLOOKUP($A69,DeNormalise!$I$4:$N$203,2,FALSE)),\"\",VLOOKUP($A69,DeNormalise!$I$4:$N$203,2,FALSE))","v":""},"",{"$f":"IF(LEN($B69)<1,\"\",VLOOKUP($A69,DeNormalise!$I$4:$N$203,5,FALSE))","v":""},null,null,null,"",{"$f":"IF(LEN($B69)<1,\"\",VLOOKUP($A69,DeNormalise!$I$4:$N$203,6,FALSE))","v":""},"",null,null,null,null,null,""]
[65,{"$f":"IF(ISNA(VLOOKUP($A70,DeNormalise!$I$4:$N$203,2,FALSE)),\"\",VLOOKUP($A70,DeNormalise!$I$4:$N$203,2,FALSE))","v":""},"",{"$f":"IF(LEN($B70)<1,\"\",VLOOKUP($A70,DeNormalise!$I$4:$N$203,5,FALSE))","v":""},null,null,null,"",{"$f":"IF(LEN($B70)<1,\"\",VLOOKUP($A70,DeNormalise!$I$4:$N$203,6,FALSE))","v":""},"",null,null,null,null,null,""]
[66,{"$f":"IF(ISNA(VLOOKUP($A71,DeNormalise!$I$4:$N$203,2,FALSE)),\"\",VLOOKUP($A71,DeNormalise!$I$4:$N$203,2,FALSE))","v":""},{"$f":"IF(LEN($B71)>0,$C$3,\"\")","v":""},{"$f":"IF(LEN($B71)<1,\"\",VLOOKUP($A71,DeNormalise!$I$4:$N$203,5,FALSE))","v":""},null,null,null,{"$f":"IF(LEN($B71)>0,$H$3,\"\")","v":""},{"$f":"IF(LEN($B71)<1,\"\",VLOOKUP($A71,DeNormalise!$I$4:$N$203,6,FALSE))","v":""},{"$f":"IF(LEN($B71)>0,$J$3,\"\")","v":""},null,null,null,null,null,{"$f":"IF(LEN($B71)>0,$P$3,\"\")","v":""}]
[67,{"$f":"IF(ISNA(VLOOKUP($A72,DeNormalise!$I$4:$N$203,2,FALSE)),\"\",VLOOKUP($A72,DeNormalise!$I$4:$N$203,2,FALSE))","v":""},"",{"$f":"IF(LEN($B72)<1,\"\",VLOOKUP($A72,DeNormalise!$I$4:$N$203,5,FALSE))","v":""},null,null,null,"",{"$f":"IF(LEN($B72)<1,\"\",VLOOKUP($A72,DeNormalise!$I$4:$N$203,6,FALSE))","v":""},"",null,null,null,null,null,""]
[68,{"$f":"IF(ISNA(VLOOKUP($A73,DeNormalise!$I$4:$N$203,2,FALSE)),\"\",VLOOKUP($A73,DeNormalise!$I$4:$N$203,2,FALSE))","v":""},"",{"$f":"IF(LEN($B73)<1,\"\",VLOOKUP($A73,DeNormalise!$I$4:$N$203,5,FALSE))","v":""},null,null,null,"",{"$f":"IF(LEN($B73)<1,\"\",VLOOKUP($A73,DeNormalise!$I$4:$N$203,6,FALSE))","v":""},"",null,null,null,null,null,""]
[69,{"$f":"IF(ISNA(VLOOKUP($A74,DeNormalise!$I$4:$N$203,2,FALSE)),\"\",VLOOKUP($A74,DeNormalise!$I$4:$N$203,2,FALSE))","v":""},"",{"$f":"IF(LEN($B74)<1,\"\",VLOOKUP($A74,DeNormalise!$I$4:$N$203,5,FALSE))","v":""},null,null,null,"",{"$f":"IF(LEN($B74)<1,\"\",VLOOKUP($A74,DeNormalise!$I$4:$N$203,6,FALSE))","v":""},"",null,null,null,null,null,""]
[70,{"$f":"IF(ISNA(VLOOKUP($A75,DeNormalise!$I$4:$N$203,2,FALSE)),\"\",VLOOKUP($A75,DeNormalise!$I$4:$N$203,2,FALSE))","v":""},"",{"$f":"IF(LEN($B75)<1,\"\",VLOOKUP($A75,DeNormalise!$I$4:$N$203,5,FALSE))","v":""},null,null,null,"",{"$f":"IF(LEN($B75)<1,\"\",VLOOKUP($A75,DeNormalise!$I$4:$N$203,6,FALSE))","v":""},"",null,null,null,null,null,""]
[71,{"$f":"IF(ISNA(VLOOKUP($A76,DeNormalise!$I$4:$N$203,2,FALSE)),\"\",VLOOKUP($A76,DeNormalise!$I$4:$N$203,2,FALSE))","v":""},"",{"$f":"IF(LEN($B76)<1,\"\",VLOOKUP($A76,DeNormalise!$I$4:$N$203,5,FALSE))","v":""},null,null,null,"",{"$f":"IF(LEN($B76)<1,\"\",VLOOKUP($A76,DeNormalise!$I$4:$N$203,6,FALSE))","v":""},"",null,null,null,null,null,""]
[72,{"$f":"IF(ISNA(VLOOKUP($A77,DeNormalise!$I$4:$N$203,2,FALSE)),\"\",VLOOKUP($A77,DeNormalise!$I$4:$N$203,2,FALSE))","v":""},"",{"$f":"IF(LEN($B77)<1,\"\",VLOOKUP($A77,DeNormalise!$I$4:$N$203,5,FALSE))","v":""},null,null,null,"",{"$f":"IF(LEN($B77)<1,\"\",VLOOKUP($A77,DeNormalise!$I$4:$N$203,6,FALSE))","v":""},"",null,null,null,null,null,""]
[73,{"$f":"IF(ISNA(VLOOKUP($A78,DeNormalise!$I$4:$N$203,2,FALSE)),\"\",VLOOKUP($A78,DeNormalise!$I$4:$N$203,2,FALSE))","v":""},"",{"$f":"IF(LEN($B78)<1,\"\",VLOOKUP($A78,DeNormalise!$I$4:$N$203,5,FALSE))","v":""},null,null,null,"",{"$f":"IF(LEN($B78)<1,\"\",VLOOKUP($A78,DeNormalise!$I$4:$N$203,6,FALSE))","v":""},"",null,null,null,null,null,""]
[74,{"$f":"IF(ISNA(VLOOKUP($A79,DeNormalise!$I$4:$N$203,2,FALSE)),\"\",VLOOKUP($A79,DeNormalise!$I$4:$N$203,2,FALSE))","v":""},"",{"$f":"IF(LEN($B79)<1,\"\",VLOOKUP($A79,DeNormalise!$I$4:$N$203,5,FALSE))","v":""},null,null,null,"",{"$f":"IF(LEN($B79)<1,\"\",VLOOKUP($A79,DeNormalise!$I$4:$N$203,6,FALSE))","v":""},"",null,null,null,null,null,""]
[75,{"$f":"IF(ISNA(VLOOKUP($A80,DeNormalise!$I$4:$N$203,2,FALSE)),\"\",VLOOKUP($A80,DeNormalise!$I$4:$N$203,2,FALSE))","v":""},"",{"$f":"IF(LEN($B80)<1,\"\",VLOOKUP($A80,DeNormalise!$I$4:$N$203,5,FALSE))","v":""},null,null,null,"",{"$f":"IF(LEN($B80)<1,\"\",VLOOKUP($A80,DeNormalise!$I$4:$N$203,6,FALSE))","v":""},"",null,null,null,null,null,""]
[76,{"$f":"IF(ISNA(VLOOKUP($A81,DeNormalise!$I$4:$N$203,2,FALSE)),\"\",VLOOKUP($A81,DeNormalise!$I$4:$N$203,2,FALSE))","v":""},"",{"$f":"IF(LEN($B81)<1,\"\",VLOOKUP($A81,DeNormalise!$I$4:$N$203,5,FALSE))","v":""},null,null,null,"",{"$f":"IF(LEN($B81)<1,\"\",VLOOKUP($A81,DeNormalise!$I$4:$N$203,6,FALSE))","v":""},"",null,null,null,null,null,""]
[77,{"$f":"IF(ISNA(VLOOKUP($A82,DeNormalise!$I$4:$N$203,2,FALSE)),\"\",VLOOKUP($A82,DeNormalise!$I$4:$N$203,2,FALSE))","v":""},"",{"$f":"IF(LEN($B82)<1,\"\",VLOOKUP($A82,DeNormalise!$I$4:$N$203,5,FALSE))","v":""},null,null,null,"",{"$f":"IF(LEN($B82)<1,\"\",VLOOKUP($A82,DeNormalise!$I$4:$N$203,6,FALSE))","v":""},"",null,null,null,null,null,""]
[78,{"$f":"IF(ISNA(VLOOKUP($A83,DeNormalise!$I$4:$N$203,2,FALSE)),\"\",VLOOKUP($A83,DeNormalise!$I$4:$N$203,2,FALSE))","v":""},"",{"$f":"IF(LEN($B83)<1,\"\",VLOOKUP($A83,DeNormalise!$I$4:$N$203,5,FALSE))","v":""},null,null,null,"",{"$f":"IF(LEN($B83)<1,\"\",VLOOKUP($A83,DeNormalise!$I$4:$N$203,6,FALSE))","v":""},"",null,null,null,null,null,""]
[79,{"$f":"IF(ISNA(VLOOKUP($A84,DeNormalise!$I$4:$N$203,2,FALSE)),\"\",VLOOKUP($A84,DeNormalise!$I$4:$N$203,2,FALSE))","v":""},"",{"$f":"IF(LEN($B84)<1,\"\",VLOOKUP($A84,DeNormalise!$I$4:$N$203,5,FALSE))","v":""},null,null,null,"",{"$f":"IF(LEN($B84)<1,\"\",VLOOKUP($A84,DeNormalise!$I$4:$N$203,6,FALSE))","v":""},"",null,null,null,null,null,""]
[80,{"$f":"IF(ISNA(VLOOKUP($A85,DeNormalise!$I$4:$N$203,2,FALSE)),\"\",VLOOKUP($A85,DeNormalise!$I$4:$N$203,2,FALSE))","v":""},"",{"$f":"IF(LEN($B85)<1,\"\",VLOOKUP($A85,DeNormalise!$I$4:$N$203,5,FALSE))","v":""},null,null,null,"",{"$f":"IF(LEN($B85)<1,\"\",VLOOKUP($A85,DeNormalise!$I$4:$N$203,6,FALSE))","v":""},"",null,null,null,null,null,""]
[81,{"$f":"IF(ISNA(VLOOKUP($A86,DeNormalise!$I$4:$N$203,2,FALSE)),\"\",VLOOKUP($A86,DeNormalise!$I$4:$N$203,2,FALSE))","v":""},"",{"$f":"IF(LEN($B86)<1,\"\",VLOOKUP($A86,DeNormalise!$I$4:$N$203,5,FALSE))","v":""},null,null,null,"",{"$f":"IF(LEN($B86)<1,\"\",VLOOKUP($A86,DeNormalise!$I$4:$N$203,6,FALSE))","v":""},"",null,null,null,null,null,""]
[82,{"$f":"IF(ISNA(VLOOKUP($A87,DeNormalise!$I$4:$N$203,2,FALSE)),\"\",VLOOKUP($A87,DeNormalise!$I$4:$N$203,2,FALSE))","v":""},"",{"$f":"IF(LEN($B87)<1,\"\",VLOOKUP($A87,DeNormalise!$I$4:$N$203,5,FALSE))","v":""},null,null,null,"",{"$f":"IF(LEN($B87)<1,\"\",VLOOKUP($A87,DeNormalise!$I$4:$N$203,6,FALSE))","v":""},"",null,null,null,null,null,""]
[83,{"$f":"IF(ISNA(VLOOKUP($A88,DeNormalise!$I$4:$N$203,2,FALSE)),\"\",VLOOKUP($A88,DeNormalise!$I$4:$N$203,2,FALSE))","v":""},"",{"$f":"IF(LEN($B88)<1,\"\",VLOOKUP($A88,DeNormalise!$I$4:$N$203,5,FALSE))","v":""},null,null,null,"",{"$f":"IF(LEN($B88)<1,\"\",VLOOKUP($A88,DeNormalise!$I$4:$N$203,6,FALSE))","v":""},"",null,null,null,null,null,""]
[84,{"$f":"IF(ISNA(VLOOKUP($A89,DeNormalise!$I$4:$N$203,2,FALSE)),\"\",VLOOKUP($A89,DeNormalise!$I$4:$N$203,2,FALSE))","v":""},"",{"$f":"IF(LEN($B89)<1,\"\",VLOOKUP($A89,DeNormalise!$I$4:$N$203,5,FALSE))","v":""},null,null,null,"",{"$f":"IF(LEN($B89)<1,\"\",VLOOKUP($A89,DeNormalise!$I$4:$N$203,6,FALSE))","v":""},"",null,null,null,null,null,""]
[85,{"$f":"IF(ISNA(VLOOKUP($A90,DeNormalise!$I$4:$N$203,2,FALSE)),\"\",VLOOKUP($A90,DeNormalise!$I$4:$N$203,2,FALSE))","v":""},"",{"$f":"IF(LEN($B90)<1,\"\",VLOOKUP($A90,DeNormalise!$I$4:$N$203,5,FALSE))","v":""},null,null,null,"",{"$f":"IF(LEN($B90)<1,\"\",VLOOKUP($A90,DeNormalise!$I$4:$N$203,6,FALSE))","v":""},"",null,null,null,null,null,""]
[86,{"$f":"IF(ISNA(VLOOKUP($A91,DeNormalise!$I$4:$N$203,2,FALSE)),\"\",VLOOKUP($A91,DeNormalise!$I$4:$N$203,2,FALSE))","v":""},"",{"$f":"IF(LEN($B91)<1,\"\",VLOOKUP($A91,DeNormalise!$I$4:$N$203,5,FALSE))","v":""},null,null,null,"",{"$f":"IF(LEN($B91)<1,\"\",VLOOKUP($A91,DeNormalise!$I$4:$N$203,6,FALSE))","v":""},"",null,null,null,null,null,""]
[87,{"$f":"IF(ISNA(VLOOKUP($A92,DeNormalise!$I$4:$N$203,2,FALSE)),\"\",VLOOKUP($A92,DeNormalise!$I$4:$N$203,2,FALSE))","v":""},"",{"$f":"IF(LEN($B92)<1,\"\",VLOOKUP($A92,DeNormalise!$I$4:$N$203,5,FALSE))","v":""},null,null,null,"",{"$f":"IF(LEN($B92)<1,\"\",VLOOKUP($A92,DeNormalise!$I$4:$N$203,6,FALSE))","v":""},"",null,null,null,null,null,""]
[88,{"$f":"IF(ISNA(VLOOKUP($A93,DeNormalise!$I$4:$N$203,2,FALSE)),\"\",VLOOKUP($A93,DeNormalise!$I$4:$N$203,2,FALSE))","v":""},"",{"$f":"IF(LEN($B93)<1,\"\",VLOOKUP($A93,DeNormalise!$I$4:$N$203,5,FALSE))","v":""},null,null,null,"",{"$f":"IF(LEN($B93)<1,\"\",VLOOKUP($A93,DeNormalise!$I$4:$N$203,6,FALSE))","v":""},"",null,null,null,null,null,""]
[89,{"$f":"IF(ISNA(VLOOKUP($A94,DeNormalise!$I$4:$N$203,2,FALSE)),\"\",VLOOKUP($A94,DeNormalise!$I$4:$N$203,2,FALSE))","v":""},"",{"$f":"IF(LEN($B94)<1,\"\",VLOOKUP($A94,DeNormalise!$I$4:$N$203,5,FALSE))","v":""},null,null,null,"",{"$f":"IF(LEN($B94)<1,\"\",VLOOKUP($A94,DeNormalise!$I$4:$N$203,6,FALSE))","v":""},"",null,null,null,null,null,""]
[90,{"$f":"IF(ISNA(VLOOKUP($A95,DeNormalise!$I$4:$N$203,2,FALSE)),\"\",VLOOKUP($A95,DeNormalise!$I$4:$N$203,2,FALSE))","v":""},"",{"$f":"IF(LEN($B95)<1,\"\",VLOOKUP($A95,DeNormalise!$I$4:$N$203,5,FALSE))","v":""},null,null,null,"",{"$f":"IF(LEN($B95)<1,\"\",VLOOKUP($A95,DeNormalise!$I$4:$N$203,6,FALSE))","v":""},"",null,null,null,null,null,""]
[91,{"$f":"IF(ISNA(VLOOKUP($A96,DeNormalise!$I$4:$N$203,2,FALSE)),\"\",VLOOKUP($A96,DeNormalise!$I$4:$N$203,2,FALSE))","v":""},"",{"$f":"IF(LEN($B96)<1,\"\",VLOOKUP($A96,DeNormalise!$I$4:$N$203,5,FALSE))","v":""},null,null,null,"",{"$f":"IF(LEN($B96)<1,\"\",VLOOKUP($A96,DeNormalise!$I$4:$N$203,6,FALSE))","v":""},"",null,null,null,null,null,""]
[92,{"$f":"IF(ISNA(VLOOKUP($A97,DeNormalise!$I$4:$N$203,2,FALSE)),\"\",VLOOKUP($A97,DeNormalise!$I$4:$N$203,2,FALSE))","v":""},"",{"$f":"IF(LEN($B97)<1,\"\",VLOOKUP($A97,DeNormalise!$I$4:$N$203,5,FALSE))","v":""},null,null,null,"",{"$f":"IF(LEN($B97)<1,\"\",VLOOKUP($A97,DeNormalise!$I$4:$N$203,6,FALSE))","v":""},"",null,null,null,null,null,""]
[93,{"$f":"IF(ISNA(VLOOKUP($A98,DeNormalise!$I$4:$N$203,2,FALSE)),\"\",VLOOKUP($A98,DeNormalise!$I$4:$N$203,2,FALSE))","v":""},"",{"$f":"IF(LEN($B98)<1,\"\",VLOOKUP($A98,DeNormalise!$I$4:$N$203,5,FALSE))","v":""},null,null,null,"",{"$f":"IF(LEN($B98)<1,\"\",VLOOKUP($A98,DeNormalise!$I$4:$N$203,6,FALSE))","v":""},"",null,null,null,null,null,""]
[94,{"$f":"IF(ISNA(VLOOKUP($A99,DeNormalise!$I$4:$N$203,2,FALSE)),\"\",VLOOKUP($A99,DeNormalise!$I$4:$N$203,2,FALSE))","v":""},"",{"$f":"IF(LEN($B99)<1,\"\",VLOOKUP($A99,DeNormalise!$I$4:$N$203,5,FALSE))","v":""},null,null,null,"",{"$f":"IF(LEN($B99)<1,\"\",VLOOKUP($A99,DeNormalise!$I$4:$N$203,6,FALSE))","v":""},"",null,null,null,null,null,""]
[95,{"$f":"IF(ISNA(VLOOKUP($A100,DeNormalise!$I$4:$N$203,2,FALSE)),\"\",VLOOKUP($A100,DeNormalise!$I$4:$N$203,2,FALSE))","v":""},"",{"$f":"IF(LEN($B100)<1,\"\",VLOOKUP($A100,DeNormalise!$I$4:$N$203,5,FALSE))","v":""},null,null,null,"",{"$f":"IF(LEN($B100)<1,\"\",VLOOKUP($A100,DeNormalise!$I$4:$N$203,6,FALSE))","v":""},"",null,null,null,null,null,""]
[96,{"$f":"IF(ISNA(VLOOKUP($A101,DeNormalise!$I$4:$N$203,2,FALSE)),\"\",VLOOKUP($A101,DeNormalise!$I$4:$N$203,2,FALSE))","v":""},"",{"$f":"IF(LEN($B101)<1,\"\",VLOOKUP($A101,DeNormalise!$I$4:$N$203,5,FALSE))","v":""},null,null,null,"",{"$f":"IF(LEN($B101)<1,\"\",VLOOKUP($A101,DeNormalise!$I$4:$N$203,6,FALSE))","v":""},"",null,null,null,null,null,""]
[97,{"$f":"IF(ISNA(VLOOKUP($A102,DeNormalise!$I$4:$N$203,2,FALSE)),\"\",VLOOKUP($A102,DeNormalise!$I$4:$N$203,2,FALSE))","v":""},"",{"$f":"IF(LEN($B102)<1,\"\",VLOOKUP($A102,DeNormalise!$I$4:$N$203,5,FALSE))","v":""},null,null,null,"",{"$f":"IF(LEN($B102)<1,\"\",VLOOKUP($A102,DeNormalise!$I$4:$N$203,6,FALSE))","v":""},"",null,null,null,null,null,""]
[98,{"$f":"IF(ISNA(VLOOKUP($A103,DeNormalise!$I$4:$N$203,2,FALSE)),\"\",VLOOKUP($A103,DeNormalise!$I$4:$N$203,2,FALSE))","v":""},"",{"$f":"IF(LEN($B103)<1,\"\",VLOOKUP($A103,DeNormalise!$I$4:$N$203,5,FALSE))","v":""},null,null,null,"",{"$f":"IF(LEN($B103)<1,\"\",VLOOKUP($A103,DeNormalise!$I$4:$N$203,6,FALSE))","v":""},"",null,null,null,null,null,""]
[99,{"$f":"IF(ISNA(VLOOKUP($A104,DeNormalise!$I$4:$N$203,2,FALSE)),\"\",VLOOKUP($A104,DeNormalise!$I$4:$N$203,2,FALSE))","v":""},"",{"$f":"IF(LEN($B104)<1,\"\",VLOOKUP($A104,DeNormalise!$I$4:$N$203,5,FALSE))","v":""},null,null,null,"",{"$f":"IF(LEN($B104)<1,\"\",VLOOKUP($A104,DeNormalise!$I$4:$N$203,6,FALSE))","v":""},"",null,null,null,null,null,""]
[100,{"$f":"IF(ISNA(VLOOKUP($A105,DeNormalise!$I$4:$N$203,2,FALSE)),\"\",VLOOKUP($A105,DeNormalise!$I$4:$N$203,2,FALSE))","v":""},"",{"$f":"IF(LEN($B105)<1,\"\",VLOOKUP($A105,DeNormalise!$I$4:$N$203,5,FALSE))","v":""},null,null,null,"",{"$f":"IF(LEN($B105)<1,\"\",VLOOKUP($A105,DeNormalise!$I$4:$N$203,6,FALSE))","v":""},"",null,null,null,null,null,""]
[101,{"$f":"IF(ISNA(VLOOKUP($A106,DeNormalise!$I$4:$N$203,2,FALSE)),\"\",VLOOKUP($A106,DeNormalise!$I$4:$N$203,2,FALSE))","v":""},"",{"$f":"IF(LEN($B106)<1,\"\",VLOOKUP($A106,DeNormalise!$I$4:$N$203,5,FALSE))","v":""},null,null,null,"",{"$f":"IF(LEN($B106)<1,\"\",VLOOKUP($A106,DeNormalise!$I$4:$N$203,6,FALSE))","v":""},"",null,null,null,null,null,""]
[102,{"$f":"IF(ISNA(VLOOKUP($A107,DeNormalise!$I$4:$N$203,2,FALSE)),\"\",VLOOKUP($A107,DeNormalise!$I$4:$N$203,2,FALSE))","v":""},"",{"$f":"IF(LEN($B107)<1,\"\",VLOOKUP($A107,DeNormalise!$I$4:$N$203,5,FALSE))","v":""},null,null,null,"",{"$f":"IF(LEN($B107)<1,\"\",VLOOKUP($A107,DeNormalise!$I$4:$N$203,6,FALSE))","v":""},"",null,null,null,null,null,""]
[103,{"$f":"IF(ISNA(VLOOKUP($A108,DeNormalise!$I$4:$N$203,2,FALSE)),\"\",VLOOKUP($A108,DeNormalise!$I$4:$N$203,2,FALSE))","v":""},"",{"$f":"IF(LEN($B108)<1,\"\",VLOOKUP($A108,DeNormalise!$I$4:$N$203,5,FALSE))","v":""},null,null,null,"",{"$f":"IF(LEN($B108)<1,\"\",VLOOKUP($A108,DeNormalise!$I$4:$N$203,6,FALSE))","v":""},"",null,null,null,null,null,""]
[104,{"$f":"IF(ISNA(VLOOKUP($A109,DeNormalise!$I$4:$N$203,2,FALSE)),\"\",VLOOKUP($A109,DeNormalise!$I$4:$N$203,2,FALSE))","v":""},"",{"$f":"IF(LEN($B109)<1,\"\",VLOOKUP($A109,DeNormalise!$I$4:$N$203,5,FALSE))","v":""},null,null,null,"",{"$f":"IF(LEN($B109)<1,\"\",VLOOKUP($A109,DeNormalise!$I$4:$N$203,6,FALSE))","v":""},"",null,null,null,null,null,""]
[105,{"$f":"IF(ISNA(VLOOKUP($A110,DeNormalise!$I$4:$N$203,2,FALSE)),\"\",VLOOKUP($A110,DeNormalise!$I$4:$N$203,2,FALSE))","v":""},"",{"$f":"IF(LEN($B110)<1,\"\",VLOOKUP($A110,DeNormalise!$I$4:$N$203,5,FALSE))","v":""},null,null,null,"",{"$f":"IF(LEN($B110)<1,\"\",VLOOKUP($A110,DeNormalise!$I$4:$N$203,6,FALSE))","v":""},"",null,null,null,null,null,""]
[106,{"$f":"IF(ISNA(VLOOKUP($A111,DeNormalise!$I$4:$N$203,2,FALSE)),\"\",VLOOKUP($A111,DeNormalise!$I$4:$N$203,2,FALSE))","v":""},"",{"$f":"IF(LEN($B111)<1,\"\",VLOOKUP($A111,DeNormalise!$I$4:$N$203,5,FALSE))","v":""},null,null,null,"",{"$f":"IF(LEN($B111)<1,\"\",VLOOKUP($A111,DeNormalise!$I$4:$N$203,6,FALSE))","v":""},"",null,null,null,null,null,""]
[107,{"$f":"IF(ISNA(VLOOKUP($A112,DeNormalise!$I$4:$N$203,2,FALSE)),\"\",VLOOKUP($A112,DeNormalise!$I$4:$N$203,2,FALSE))","v":""},"",{"$f":"IF(LEN($B112)<1,\"\",VLOOKUP($A112,DeNormalise!$I$4:$N$203,5,FALSE))","v":""},null,null,null,"",{"$f":"IF(LEN($B112)<1,\"\",VLOOKUP($A112,DeNormalise!$I$4:$N$203,6,FALSE))","v":""},"",null,null,null,null,null,""]
[108,{"$f":"IF(ISNA(VLOOKUP($A113,DeNormalise!$I$4:$N$203,2,FALSE)),\"\",VLOOKUP($A113,DeNormalise!$I$4:$N$203,2,FALSE))","v":""},"",{"$f":"IF(LEN($B113)<1,\"\",VLOOKUP($A113,DeNormalise!$I$4:$N$203,5,FALSE))","v":""},null,null,null,"",{"$f":"IF(LEN($B113)<1,\"\",VLOOKUP($A113,DeNormalise!$I$4:$N$203,6,FALSE))","v":""},"",null,null,null,null,null,""]
[109,{"$f":"IF(ISNA(VLOOKUP($A114,DeNormalise!$I$4:$N$203,2,FALSE)),\"\",VLOOKUP($A114,DeNormalise!$I$4:$N$203,2,FALSE))","v":""},"",{"$f":"IF(LEN($B114)<1,\"\",VLOOKUP($A114,DeNormalise!$I$4:$N$203,5,FALSE))","v":""},null,null,null,"",{"$f":"IF(LEN($B114)<1,\"\",VLOOKUP($A114,DeNormalise!$I$4:$N$203,6,FALSE))","v":""},"",null,null,null,null,null,""]
[110,{"$f":"IF(ISNA(VLOOKUP($A115,DeNormalise!$I$4:$N$203,2,FALSE)),\"\",VLOOKUP($A115,DeNormalise!$I$4:$N$203,2,FALSE))","v":""},"",{"$f":"IF(LEN($B115)<1,\"\",VLOOKUP($A115,DeNormalise!$I$4:$N$203,5,FALSE))","v":""},null,null,null,"",{"$f":"IF(LEN($B115)<1,\"\",VLOOKUP($A115,DeNormalise!$I$4:$N$203,6,FALSE))","v":""},"",null,null,null,null,null,""]
[111,{"$f":"IF(ISNA(VLOOKUP($A116,DeNormalise!$I$4:$N$203,2,FALSE)),\"\",VLOOKUP($A116,DeNormalise!$I$4:$N$203,2,FALSE))","v":""},"",{"$f":"IF(LEN($B116)<1,\"\",VLOOKUP($A116,DeNormalise!$I$4:$N$203,5,FALSE))","v":""},null,null,null,"",{"$f":"IF(LEN($B116)<1,\"\",VLOOKUP($A116,DeNormalise!$I$4:$N$203,6,FALSE))","v":""},"",null,null,null,null,null,""]
[112,{"$f":"IF(ISNA(VLOOKUP($A117,DeNormalise!$I$4:$N$203,2,FALSE)),\"\",VLOOKUP($A117,DeNormalise!$I$4:$N$203,2,FALSE))","v":""},"",{"$f":"IF(LEN($B117)<1,\"\",VLOOKUP($A117,DeNormalise!$I$4:$N$203,5,FALSE))","v":""},null,null,null,"",{"$f":"IF(LEN($B117)<1,\"\",VLOOKUP($A117,DeNormalise!$I$4:$N$203,6,FALSE))","v":""},"",null,null,null,null,null,""]
[113,{"$f":"IF(ISNA(VLOOKUP($A118,DeNormalise!$I$4:$N$203,2,FALSE)),\"\",VLOOKUP($A118,DeNormalise!$I$4:$N$203,2,FALSE))","v":""},"",{"$f":"IF(LEN($B118)<1,\"\",VLOOKUP($A118,DeNormalise!$I$4:$N$203,5,FALSE))","v":""},null,null,null,"",{"$f":"IF(LEN($B118)<1,\"\",VLOOKUP($A118,DeNormalise!$I$4:$N$203,6,FALSE))","v":""},"",null,null,null,null,null,""]
[114,{"$f":"IF(ISNA(VLOOKUP($A119,DeNormalise!$I$4:$N$203,2,FALSE)),\"\",VLOOKUP($A119,DeNormalise!$I$4:$N$203,2,FALSE))","v":""},"",{"$f":"IF(LEN($B119)<1,\"\",VLOOKUP($A119,DeNormalise!$I$4:$N$203,5,FALSE))","v":""},null,null,null,"",{"$f":"IF(LEN($B119)<1,\"\",VLOOKUP($A119,DeNormalise!$I$4:$N$203,6,FALSE))","v":""},"",null,null,null,null,null,""]
[115,{"$f":"IF(ISNA(VLOOKUP($A120,DeNormalise!$I$4:$N$203,2,FALSE)),\"\",VLOOKUP($A120,DeNormalise!$I$4:$N$203,2,FALSE))","v":""},"",{"$f":"IF(LEN($B120)<1,\"\",VLOOKUP($A120,DeNormalise!$I$4:$N$203,5,FALSE))","v":""},null,null,null,"",{"$f":"IF(LEN($B120)<1,\"\",VLOOKUP($A120,DeNormalise!$I$4:$N$203,6,FALSE))","v":""},"",null,null,null,null,null,""]
[116,{"$f":"IF(ISNA(VLOOKUP($A121,DeNormalise!$I$4:$N$203,2,FALSE)),\"\",VLOOKUP($A121,DeNormalise!$I$4:$N$203,2,FALSE))","v":""},"",{"$f":"IF(LEN($B121)<1,\"\",VLOOKUP($A121,DeNormalise!$I$4:$N$203,5,FALSE))","v":""},null,null,null,"",{"$f":"IF(LEN($B121)<1,\"\",VLOOKUP($A121,DeNormalise!$I$4:$N$203,6,FALSE))","v":""},"",null,null,null,null,null,""]
[117,{"$f":"IF(ISNA(VLOOKUP($A122,DeNormalise!$I$4:$N$203,2,FALSE)),\"\",VLOOKUP($A122,DeNormalise!$I$4:$N$203,2,FALSE))","v":""},"",{"$f":"IF(LEN($B122)<1,\"\",VLOOKUP($A122,DeNormalise!$I$4:$N$203,5,FALSE))","v":""},null,null,null,"",{"$f":"IF(LEN($B122)<1,\"\",VLOOKUP($A122,DeNormalise!$I$4:$N$203,6,FALSE))","v":""},"",null,null,null,null,null,""]
[118,{"$f":"IF(ISNA(VLOOKUP($A123,DeNormalise!$I$4:$N$203,2,FALSE)),\"\",VLOOKUP($A123,DeNormalise!$I$4:$N$203,2,FALSE))","v":""},"",{"$f":"IF(LEN($B123)<1,\"\",VLOOKUP($A123,DeNormalise!$I$4:$N$203,5,FALSE))","v":""},null,null,null,"",{"$f":"IF(LEN($B123)<1,\"\",VLOOKUP($A123,DeNormalise!$I$4:$N$203,6,FALSE))","v":""},"",null,null,null,null,null,""]
[119,{"$f":"IF(ISNA(VLOOKUP($A124,DeNormalise!$I$4:$N$203,2,FALSE)),\"\",VLOOKUP($A124,DeNormalise!$I$4:$N$203,2,FALSE))","v":""},"",{"$f":"IF(LEN($B124)<1,\"\",VLOOKUP($A124,DeNormalise!$I$4:$N$203,5,FALSE))","v":""},null,null,null,"",{"$f":"IF(LEN($B124)<1,\"\",VLOOKUP($A124,DeNormalise!$I$4:$N$203,6,FALSE))","v":""},"",null,null,null,null,null,""]
[120,{"$f":"IF(ISNA(VLOOKUP($A125,DeNormalise!$I$4:$N$203,2,FALSE)),\"\",VLOOKUP($A125,DeNormalise!$I$4:$N$203,2,FALSE))","v":""},"",{"$f":"IF(LEN($B125)<1,\"\",VLOOKUP($A125,DeNormalise!$I$4:$N$203,5,FALSE))","v":""},null,null,null,"",{"$f":"IF(LEN($B125)<1,\"\",VLOOKUP($A125,DeNormalise!$I$4:$N$203,6,FALSE))","v":""},"",null,null,null,null,null,""]
[121,{"$f":"IF(ISNA(VLOOKUP($A126,DeNormalise!$I$4:$N$203,2,FALSE)),\"\",VLOOKUP($A126,DeNormalise!$I$4:$N$203,2,FALSE))","v":""},"",{"$f":"IF(LEN($B126)<1,\"\",VLOOKUP($A126,DeNormalise!$I$4:$N$203,5,FALSE))","v":""},null,null,null,"",{"$f":"IF(LEN($B126)<1,\"\",VLOOKUP($A126,DeNormalise!$I$4:$N$203,6,FALSE))","v":""},"",null,null,null,null,null,""]
[122,{"$f":"IF(ISNA(VLOOKUP($A127,DeNormalise!$I$4:$N$203,2,FALSE)),\"\",VLOOKUP($A127,DeNormalise!$I$4:$N$203,2,FALSE))","v":""},"",{"$f":"IF(LEN($B127)<1,\"\",VLOOKUP($A127,DeNormalise!$I$4:$N$203,5,FALSE))","v":""},null,null,null,"",{"$f":"IF(LEN($B127)<1,\"\",VLOOKUP($A127,DeNormalise!$I$4:$N$203,6,FALSE))","v":""},"",null,null,null,null,null,""]
[123,{"$f":"IF(ISNA(VLOOKUP($A128,DeNormalise!$I$4:$N$203,2,FALSE)),\"\",VLOOKUP($A128,DeNormalise!$I$4:$N$203,2,FALSE))","v":""},"",{"$f":"IF(LEN($B128)<1,\"\",VLOOKUP($A128,DeNormalise!$I$4:$N$203,5,FALSE))","v":""},null,null,null,"",{"$f":"IF(LEN($B128)<1,\"\",VLOOKUP($A128,DeNormalise!$I$4:$N$203,6,FALSE))","v":""},"",null,null,null,null,null,""]
[124,{"$f":"IF(ISNA(VLOOKUP($A129,DeNormalise!$I$4:$N$203,2,FALSE)),\"\",VLOOKUP($A129,DeNormalise!$I$4:$N$203,2,FALSE))","v":""},"",{"$f":"IF(LEN($B129)<1,\"\",VLOOKUP($A129,DeNormalise!$I$4:$N$203,5,FALSE))","v":""},null,null,null,"",{"$f":"IF(LEN($B129)<1,\"\",VLOOKUP($A129,DeNormalise!$I$4:$N$203,6,FALSE))","v":""},"",null,null,null,null,null,""]
[125,{"$f":"IF(ISNA(VLOOKUP($A130,DeNormalise!$I$4:$N$203,2,FALSE)),\"\",VLOOKUP($A130,DeNormalise!$I$4:$N$203,2,FALSE))","v":""},"",{"$f":"IF(LEN($B130)<1,\"\",VLOOKUP($A130,DeNormalise!$I$4:$N$203,5,FALSE))","v":""},null,null,null,"",{"$f":"IF(LEN($B130)<1,\"\",VLOOKUP($A130,DeNormalise!$I$4:$N$203,6,FALSE))","v":""},"",null,null,null,null,null,""]
[126,{"$f":"IF(ISNA(VLOOKUP($A131,DeNormalise!$I$4:$N$203,2,FALSE)),\"\",VLOOKUP($A131,DeNormalise!$I$4:$N$203,2,FALSE))","v":""},"",{"$f":"IF(LEN($B131)<1,\"\",VLOOKUP($A131,DeNormalise!$I$4:$N$203,5,FALSE))","v":""},null,null,null,"",{"$f":"IF(LEN($B131)<1,\"\",VLOOKUP($A131,DeNormalise!$I$4:$N$203,6,FALSE))","v":""},"",null,null,null,null,null,""]
[127,{"$f":"IF(ISNA(VLOOKUP($A132,DeNormalise!$I$4:$N$203,2,FALSE)),\"\",VLOOKUP($A132,DeNormalise!$I$4:$N$203,2,FALSE))","v":""},"",{"$f":"IF(LEN($B132)<1,\"\",VLOOKUP($A132,DeNormalise!$I$4:$N$203,5,FALSE))","v":""},null,null,null,"",{"$f":"IF(LEN($B132)<1,\"\",VLOOKUP($A132,DeNormalise!$I$4:$N$203,6,FALSE))","v":""},"",null,null,null,null,null,""]
[128,{"$f":"IF(ISNA(VLOOKUP($A133,DeNormalise!$I$4:$N$203,2,FALSE)),\"\",VLOOKUP($A133,DeNormalise!$I$4:$N$203,2,FALSE))","v":""},"",{"$f":"IF(LEN($B133)<1,\"\",VLOOKUP($A133,DeNormalise!$I$4:$N$203,5,FALSE))","v":""},null,null,null,"",{"$f":"IF(LEN($B133)<1,\"\",VLOOKUP($A133,DeNormalise!$I$4:$N$203,6,FALSE))","v":""},"",null,null,null,null,null,""]
[129,{"$f":"IF(ISNA(VLOOKUP($A134,DeNormalise!$I$4:$N$203,2,FALSE)),\"\",VLOOKUP($A134,DeNormalise!$I$4:$N$203,2,FALSE))","v":""},"",{"$f":"IF(LEN($B134)<1,\"\",VLOOKUP($A134,DeNormalise!$I$4:$N$203,5,FALSE))","v":""},null,null,null,"",{"$f":"IF(LEN($B134)<1,\"\",VLOOKUP($A134,DeNormalise!$I$4:$N$203,6,FALSE))","v":""},"",null,null,null,null,null,""]
[130,{"$f":"IF(ISNA(VLOOKUP($A135,DeNormalise!$I$4:$N$203,2,FALSE)),\"\",VLOOKUP($A135,DeNormalise!$I$4:$N$203,2,FALSE))","v":""},{"$f":"IF(LEN($B135)>0,$C$3,\"\")","v":""},{"$f":"IF(LEN($B135)<1,\"\",VLOOKUP($A135,DeNormalise!$I$4:$N$203,5,FALSE))","v":""},null,null,null,{"$f":"IF(LEN($B135)>0,$H$3,\"\")","v":""},{"$f":"IF(LEN($B135)<1,\"\",VLOOKUP($A135,DeNormalise!$I$4:$N$203,6,FALSE))","v":""},{"$f":"IF(LEN($B135)>0,$J$3,\"\")","v":""},null,null,null,null,null,{"$f":"IF(LEN($B135)>0,$P$3,\"\")","v":""}]
[131,{"$f":"IF(ISNA(VLOOKUP($A136,DeNormalise!$I$4:$N$203,2,FALSE)),\"\",VLOOKUP($A136,DeNormalise!$I$4:$N$203,2,FALSE))","v":""},"",{"$f":"IF(LEN($B136)<1,\"\",VLOOKUP($A136,DeNormalise!$I$4:$N$203,5,FALSE))","v":""},null,null,null,"",{"$f":"IF(LEN($B136)<1,\"\",VLOOKUP($A136,DeNormalise!$I$4:$N$203,6,FALSE))","v":""},"",null,null,null,null,null,""]
[132,{"$f":"IF(ISNA(VLOOKUP($A137,DeNormalise!$I$4:$N$203,2,FALSE)),\"\",VLOOKUP($A137,DeNormalise!$I$4:$N$203,2,FALSE))","v":""},"",{"$f":"IF(LEN($B137)<1,\"\",VLOOKUP($A137,DeNormalise!$I$4:$N$203,5,FALSE))","v":""},null,null,null,"",{"$f":"IF(LEN($B137)<1,\"\",VLOOKUP($A137,DeNormalise!$I$4:$N$203,6,FALSE))","v":""},"",null,null,null,null,null,""]
[133,{"$f":"IF(ISNA(VLOOKUP($A138,DeNormalise!$I$4:$N$203,2,FALSE)),\"\",VLOOKUP($A138,DeNormalise!$I$4:$N$203,2,FALSE))","v":""},"",{"$f":"IF(LEN($B138)<1,\"\",VLOOKUP($A138,DeNormalise!$I$4:$N$203,5,FALSE))","v":""},null,null,null,"",{"$f":"IF(LEN($B138)<1,\"\",VLOOKUP($A138,DeNormalise!$I$4:$N$203,6,FALSE))","v":""},"",null,null,null,null,null,""]
[134,{"$f":"IF(ISNA(VLOOKUP($A139,DeNormalise!$I$4:$N$203,2,FALSE)),\"\",VLOOKUP($A139,DeNormalise!$I$4:$N$203,2,FALSE))","v":""},"",{"$f":"IF(LEN($B139)<1,\"\",VLOOKUP($A139,DeNormalise!$I$4:$N$203,5,FALSE))","v":""},null,null,null,"",{"$f":"IF(LEN($B139)<1,\"\",VLOOKUP($A139,DeNormalise!$I$4:$N$203,6,FALSE))","v":""},"",null,null,null,null,null,""]
[135,{"$f":"IF(ISNA(VLOOKUP($A140,DeNormalise!$I$4:$N$203,2,FALSE)),\"\",VLOOKUP($A140,DeNormalise!$I$4:$N$203,2,FALSE))","v":""},"",{"$f":"IF(LEN($B140)<1,\"\",VLOOKUP($A140,DeNormalise!$I$4:$N$203,5,FALSE))","v":""},null,null,null,"",{"$f":"IF(LEN($B140)<1,\"\",VLOOKUP($A140,DeNormalise!$I$4:$N$203,6,FALSE))","v":""},"",null,null,null,null,null,""]
[136,{"$f":"IF(ISNA(VLOOKUP($A141,DeNormalise!$I$4:$N$203,2,FALSE)),\"\",VLOOKUP($A141,DeNormalise!$I$4:$N$203,2,FALSE))","v":""},"",{"$f":"IF(LEN($B141)<1,\"\",VLOOKUP($A141,DeNormalise!$I$4:$N$203,5,FALSE))","v":""},null,null,null,"",{"$f":"IF(LEN($B141)<1,\"\",VLOOKUP($A141,DeNormalise!$I$4:$N$203,6,FALSE))","v":""},"",null,null,null,null,null,""]
[137,{"$f":"IF(ISNA(VLOOKUP($A142,DeNormalise!$I$4:$N$203,2,FALSE)),\"\",VLOOKUP($A142,DeNormalise!$I$4:$N$203,2,FALSE))","v":""},"",{"$f":"IF(LEN($B142)<1,\"\",VLOOKUP($A142,DeNormalise!$I$4:$N$203,5,FALSE))","v":""},null,null,null,"",{"$f":"IF(LEN($B142)<1,\"\",VLOOKUP($A142,DeNormalise!$I$4:$N$203,6,FALSE))","v":""},"",null,null,null,null,null,""]
[138,{"$f":"IF(ISNA(VLOOKUP($A143,DeNormalise!$I$4:$N$203,2,FALSE)),\"\",VLOOKUP($A143,DeNormalise!$I$4:$N$203,2,FALSE))","v":""},"",{"$f":"IF(LEN($B143)<1,\"\",VLOOKUP($A143,DeNormalise!$I$4:$N$203,5,FALSE))","v":""},null,null,null,"",{"$f":"IF(LEN($B143)<1,\"\",VLOOKUP($A143,DeNormalise!$I$4:$N$203,6,FALSE))","v":""},"",null,null,null,null,null,""]
[139,{"$f":"IF(ISNA(VLOOKUP($A144,DeNormalise!$I$4:$N$203,2,FALSE)),\"\",VLOOKUP($A144,DeNormalise!$I$4:$N$203,2,FALSE))","v":""},"",{"$f":"IF(LEN($B144)<1,\"\",VLOOKUP($A144,DeNormalise!$I$4:$N$203,5,FALSE))","v":""},null,null,null,"",{"$f":"IF(LEN($B144)<1,\"\",VLOOKUP($A144,DeNormalise!$I$4:$N$203,6,FALSE))","v":""},"",null,null,null,null,null,""]
[140,{"$f":"IF(ISNA(VLOOKUP($A145,DeNormalise!$I$4:$N$203,2,FALSE)),\"\",VLOOKUP($A145,DeNormalise!$I$4:$N$203,2,FALSE))","v":""},"",{"$f":"IF(LEN($B145)<1,\"\",VLOOKUP($A145,DeNormalise!$I$4:$N$203,5,FALSE))","v":""},null,null,null,"",{"$f":"IF(LEN($B145)<1,\"\",VLOOKUP($A145,DeNormalise!$I$4:$N$203,6,FALSE))","v":""},"",null,null,null,null,null,""]
[141,{"$f":"IF(ISNA(VLOOKUP($A146,DeNormalise!$I$4:$N$203,2,FALSE)),\"\",VLOOKUP($A146,DeNormalise!$I$4:$N$203,2,FALSE))","v":""},"",{"$f":"IF(LEN($B146)<1,\"\",VLOOKUP($A146,DeNormalise!$I$4:$N$203,5,FALSE))","v":""},null,null,null,"",{"$f":"IF(LEN($B146)<1,\"\",VLOOKUP($A146,DeNormalise!$I$4:$N$203,6,FALSE))","v":""},"",null,null,null,null,null,""]
[142,{"$f":"IF(ISNA(VLOOKUP($A147,DeNormalise!$I$4:$N$203,2,FALSE)),\"\",VLOOKUP($A147,DeNormalise!$I$4:$N$203,2,FALSE))","v":""},"",{"$f":"IF(LEN($B147)<1,\"\",VLOOKUP($A147,DeNormalise!$I$4:$N$203,5,FALSE))","v":""},null,null,null,"",{"$f":"IF(LEN($B147)<1,\"\",VLOOKUP($A147,DeNormalise!$I$4:$N$203,6,FALSE))","v":""},"",null,null,null,null,null,""]
[143,{"$f":"IF(ISNA(VLOOKUP($A148,DeNormalise!$I$4:$N$203,2,FALSE)),\"\",VLOOKUP($A148,DeNormalise!$I$4:$N$203,2,FALSE))","v":""},"",{"$f":"IF(LEN($B148)<1,\"\",VLOOKUP($A148,DeNormalise!$I$4:$N$203,5,FALSE))","v":""},null,null,null,"",{"$f":"IF(LEN($B148)<1,\"\",VLOOKUP($A148,DeNormalise!$I$4:$N$203,6,FALSE))","v":""},"",null,null,null,null,null,""]
[144,{"$f":"IF(ISNA(VLOOKUP($A149,DeNormalise!$I$4:$N$203,2,FALSE)),\"\",VLOOKUP($A149,DeNormalise!$I$4:$N$203,2,FALSE))","v":""},"",{"$f":"IF(LEN($B149)<1,\"\",VLOOKUP($A149,DeNormalise!$I$4:$N$203,5,FALSE))","v":""},null,null,null,"",{"$f":"IF(LEN($B149)<1,\"\",VLOOKUP($A149,DeNormalise!$I$4:$N$203,6,FALSE))","v":""},"",null,null,null,null,null,""]
[145,{"$f":"IF(ISNA(VLOOKUP($A150,DeNormalise!$I$4:$N$203,2,FALSE)),\"\",VLOOKUP($A150,DeNormalise!$I$4:$N$203,2,FALSE))","v":""},"",{"$f":"IF(LEN($B150)<1,\"\",VLOOKUP($A150,DeNormalise!$I$4:$N$203,5,FALSE))","v":""},null,null,null,"",{"$f":"IF(LEN($B150)<1,\"\",VLOOKUP($A150,DeNormalise!$I$4:$N$203,6,FALSE))","v":""},"",null,null,null,null,null,""]
[146,{"$f":"IF(ISNA(VLOOKUP($A151,DeNormalise!$I$4:$N$203,2,FALSE)),\"\",VLOOKUP($A151,DeNormalise!$I$4:$N$203,2,FALSE))","v":""},"",{"$f":"IF(LEN($B151)<1,\"\",VLOOKUP($A151,DeNormalise!$I$4:$N$203,5,FALSE))","v":""},null,null,null,"",{"$f":"IF(LEN($B151)<1,\"\",VLOOKUP($A151,DeNormalise!$I$4:$N$203,6,FALSE))","v":""},"",null,null,null,null,null,""]
[147,{"$f":"IF(ISNA(VLOOKUP($A152,DeNormalise!$I$4:$N$203,2,FALSE)),\"\",VLOOKUP($A152,DeNormalise!$I$4:$N$203,2,FALSE))","v":""},"",{"$f":"IF(LEN($B152)<1,\"\",VLOOKUP($A152,DeNormalise!$I$4:$N$203,5,FALSE))","v":""},null,null,null,"",{"$f":"IF(LEN($B152)<1,\"\",VLOOKUP($A152,DeNormalise!$I$4:$N$203,6,FALSE))","v":""},"",null,null,null,null,null,""]
[148,{"$f":"IF(ISNA(VLOOKUP($A153,DeNormalise!$I$4:$N$203,2,FALSE)),\"\",VLOOKUP($A153,DeNormalise!$I$4:$N$203,2,FALSE))","v":""},"",{"$f":"IF(LEN($B153)<1,\"\",VLOOKUP($A153,DeNormalise!$I$4:$N$203,5,FALSE))","v":""},null,null,null,"",{"$f":"IF(LEN($B153)<1,\"\",VLOOKUP($A153,DeNormalise!$I$4:$N$203,6,FALSE))","v":""},"",null,null,null,null,null,""]
[149,{"$f":"IF(ISNA(VLOOKUP($A154,DeNormalise!$I$4:$N$203,2,FALSE)),\"\",VLOOKUP($A154,DeNormalise!$I$4:$N$203,2,FALSE))","v":""},"",{"$f":"IF(LEN($B154)<1,\"\",VLOOKUP($A154,DeNormalise!$I$4:$N$203,5,FALSE))","v":""},null,null,null,"",{"$f":"IF(LEN($B154)<1,\"\",VLOOKUP($A154,DeNormalise!$I$4:$N$203,6,FALSE))","v":""},"",null,null,null,null,null,""]
[150,{"$f":"IF(ISNA(VLOOKUP($A155,DeNormalise!$I$4:$N$203,2,FALSE)),\"\",VLOOKUP($A155,DeNormalise!$I$4:$N$203,2,FALSE))","v":""},"",{"$f":"IF(LEN($B155)<1,\"\",VLOOKUP($A155,DeNormalise!$I$4:$N$203,5,FALSE))","v":""},null,null,null,"",{"$f":"IF(LEN($B155)<1,\"\",VLOOKUP($A155,DeNormalise!$I$4:$N$203,6,FALSE))","v":""},"",null,null,null,null,null,""]

{"sheet":"DeNormalise","index":13,"n_rows":203,"n_cols":14,"rows_kept":203,"cut":false,"hidden":true,"merged":[[1,3,1,6],[1,9,1,13]]}
[]
[null,null,null,"Cirricula",null,null,null,null,null,"Learning"]
[null,null,0,"User ID (*required)","First Name","Last Name","Curricula ID (*required)",null,0,"User ID (*required)","First Name","Last Name","Code","Date"]
[1,1,{"$f":"IF(LEN(G4)>1,C3+1,C3)","v":0},{"$f":"VLOOKUP($A4,'LMS Training Import'!$A$5:$O$54,2,FALSE)","v":""},{"$f":"VLOOKUP($A4,'LMS Training Import'!$A$5:$O$54,3,FALSE)","v":""},{"$f":"VLOOKUP($A4,'LMS Training Import'!$A$5:$O$54,4,FALSE)","v":""},{"$f":"VLOOKUP(A4,'LMS Training Import'!$A$5:$O$54,8+B4,FALSE)","v":""},null,{"$f":"IF(LEN(N4)>1,I3+1,I3)","v":0},{"$f":"VLOOKUP($A4,'LMS Training Import'!$A$5:$O$54,2,FALSE)","v":""},{"$f":"VLOOKUP($A4,'LMS Training Import'!$A$5:$O$54,3,FALSE)","v":""},{"$f":"VLOOKUP($A4,'LMS Training Import'!$A$5:$O$54,4,FALSE)","v":""},{"$f":"IF(LEN(J4)<1,\"\",VLOOKUP(0,'LMS Training Import'!$A$4:$P$4,12+$B4,FALSE))","v":""},{"$f":"IF(LEN(J4)<1,\"\",VLOOKUP(A4,'LMS Training Import'!$A$5:$P$54,12+B4,FALSE))","v":""}]
[1,2,{"$f":"IF(LEN(G5)>1,C4+1,C4)","v":0},{"$f":"VLOOKUP($A5,'LMS Training Import'!$A$5:$O$54,2,FALSE)","v":""},{"$f":"VLOOKUP($A5,'LMS Training Import'!$A$5:$O$54,3,FALSE)","v":""},{"$f":"VLOOKUP($A5,'LMS Training Import'!$A$5:$O$54,4,FALSE)","v":""},{"$f":"VLOOKUP(A5,'LMS Training Import'!$A$5:$O$54,8+B5,FALSE)","v":""},null,{"$f":"IF(LEN(N5)>1,I4+1,I4)","v":0},{"$f":"VLOOKUP($A5,'LMS Training Import'!$A$5:$O$54,2,FALSE)","v":""},{"$f":"VLOOKUP($A5,'LMS Training Import'!$A$5:$O$54,3,FALSE)","v":""},{"$f":"VLOOKUP($A5,'LMS Training Import'!$A$5:$O$54,4,FALSE)","v":""},{"$f":"IF(LEN(J5)<1,\"\",VLOOKUP(0,'LMS Training Import'!$A$4:$P$4,12+$B5,FALSE))","v":""},{"$f":"IF(LEN(J5)<1,\"\",VLOOKUP(A5,'LMS Training Import'!$A$5:$P$54,12+B5,FALSE))","v":""}]
[1,3,0,{"$f":"VLOOKUP($A6,'LMS Training Import'!$A$5:$O$54,2,FALSE)","v":""},{"$f":"VLOOKUP($A6,'LMS Training Import'!$A$5:$O$54,3,FALSE)","v":""},{"$f":"VLOOKUP($A6,'LMS Training Import'!$A$5:$O$54,4,FALSE)","v":""},{"$f":"VLOOKUP(A6,'LMS Training Import'!$A$5:$O$54,8+B6,FALSE)","v":""},null,0,{"$f":"VLOOKUP($A6,'LMS Training Import'!$A$5:$O$54,2,FALSE)","v":""},{"$f":"VLOOKUP($A6,'LMS Training Import'!$A$5:$O$54,3,FALSE)","v":""},{"$f":"VLOOKUP($A6,'LMS Training Import'!$A$5:$O$54,4,FALSE)","v":""},{"$f":"IF(LEN(J6)<1,\"\",VLOOKUP(0,'LMS Training Import'!$A$4:$P$4,12+$B6,FALSE))","v":""},{"$f":"IF(LEN(J6)<1,\"\",VLOOKUP(A6,'LMS Training Import'!$A$5:$P$54,12+B6,FALSE))","v":""}]
[1,4,0,{"$f":"VLOOKUP($A7,'LMS Training Import'!$A$5:$O$54,2,FALSE)","v":""},{"$f":"VLOOKUP($A7,'LMS Training Import'!$A$5:$O$54,3,FALSE)","v":""},{"$f":"VLOOKUP($A7,'LMS Training Import'!$A$5:$O$54,4,FALSE)","v":""},{"$f":"VLOOKUP(A7,'LMS Training Import'!$A$5:$O$54,8+B7,FALSE)","v":""},null,0,{"$f":"VLOOKUP($A7,'LMS Training Import'!$A$5:$O$54,2,FALSE)","v":""},{"$f":"VLOOKUP($A7,'LMS Training Import'!$A$5:$O$54,3,FALSE)","v":""},{"$f":"VLOOKUP($A7,'LMS Training Import'!$A$5:$O$54,4,FALSE)","v":""},{"$f":"IF(LEN(J7)<1,\"\",VLOOKUP(0,'LMS Training Import'!$A$4:$P$4,12+$B7,FALSE))","v":""},{"$f":"IF(LEN(J7)<1,\"\",VLOOKUP(A7,'LMS Training Import'!$A$5:$P$54,12+B7,FALSE))","v":""}]
[2,1,0,{"$f":"VLOOKUP($A8,'LMS Training Import'!$A$5:$O$54,2,FALSE)","v":""},{"$f":"VLOOKUP($A8,'LMS Training Import'!$A$5:$O$54,3,FALSE)","v":""},{"$f":"VLOOKUP($A8,'LMS Training Import'!$A$5:$O$54,4,FALSE)","v":""},{"$f":"VLOOKUP(A8,'LMS Training Import'!$A$5:$O$54,8+B8,FALSE)","v":""},null,0,{"$f":"VLOOKUP($A8,'LMS Training Import'!$A$5:$O$54,2,FALSE)","v":""},{"$f":"VLOOKUP($A8,'LMS Training Import'!$A$5:$O$54,3,FALSE)","v":""},{"$f":"VLOOKUP($A8,'LMS Training Import'!$A$5:$O$54,4,FALSE)","v":""},{"$f":"IF(LEN(J8)<1,\"\",VLOOKUP(0,'LMS Training Import'!$A$4:$P$4,12+$B8,FALSE))","v":""},{"$f":"IF(LEN(J8)<1,\"\",VLOOKUP(A8,'LMS Training Import'!$A$5:$P$54,12+B8,FALSE))","v":""}]
[2,2,0,{"$f":"VLOOKUP($A9,'LMS Training Import'!$A$5:$O$54,2,FALSE)","v":""},{"$f":"VLOOKUP($A9,'LMS Training Import'!$A$5:$O$54,3,FALSE)","v":""},{"$f":"VLOOKUP($A9,'LMS Training Import'!$A$5:$O$54,4,FALSE)","v":""},{"$f":"VLOOKUP(A9,'LMS Training Import'!$A$5:$O$54,8+B9,FALSE)","v":""},null,0,{"$f":"VLOOKUP($A9,'LMS Training Import'!$A$5:$O$54,2,FALSE)","v":""},{"$f":"VLOOKUP($A9,'LMS Training Import'!$A$5:$O$54,3,FALSE)","v":""},{"$f":"VLOOKUP($A9,'LMS Training Import'!$A$5:$O$54,4,FALSE)","v":""},{"$f":"IF(LEN(J9)<1,\"\",VLOOKUP(0,'LMS Training Import'!$A$4:$P$4,12+$B9,FALSE))","v":""},{"$f":"IF(LEN(J9)<1,\"\",VLOOKUP(A9,'LMS Training Import'!$A$5:$P$54,12+B9,FALSE))","v":""}]
[2,3,0,{"$f":"VLOOKUP($A10,'LMS Training Import'!$A$5:$O$54,2,FALSE)","v":""},{"$f":"VLOOKUP($A10,'LMS Training Import'!$A$5:$O$54,3,FALSE)","v":""},{"$f":"VLOOKUP($A10,'LMS Training Import'!$A$5:$O$54,4,FALSE)","v":""},{"$f":"VLOOKUP(A10,'LMS Training Import'!$A$5:$O$54,8+B10,FALSE)","v":""},null,0,{"$f":"VLOOKUP($A10,'LMS Training Import'!$A$5:$O$54,2,FALSE)","v":""},{"$f":"VLOOKUP($A10,'LMS Training Import'!$A$5:$O$54,3,FALSE)","v":""},{"$f":"VLOOKUP($A10,'LMS Training Import'!$A$5:$O$54,4,FALSE)","v":""},{"$f":"IF(LEN(J10)<1,\"\",VLOOKUP(0,'LMS Training Import'!$A$4:$P$4,12+$B10,FALSE))","v":""},{"$f":"IF(LEN(J10)<1,\"\",VLOOKUP(A10,'LMS Training Import'!$A$5:$P$54,12+B10,FALSE))","v":""}]
[2,4,0,{"$f":"VLOOKUP($A11,'LMS Training Import'!$A$5:$O$54,2,FALSE)","v":""},{"$f":"VLOOKUP($A11,'LMS Training Import'!$A$5:$O$54,3,FALSE)","v":""},{"$f":"VLOOKUP($A11,'LMS Training Import'!$A$5:$O$54,4,FALSE)","v":""},{"$f":"VLOOKUP(A11,'LMS Training Import'!$A$5:$O$54,8+B11,FALSE)","v":""},null,0,{"$f":"VLOOKUP($A11,'LMS Training Import'!$A$5:$O$54,2,FALSE)","v":""},{"$f":"VLOOKUP($A11,'LMS Training Import'!$A$5:$O$54,3,FALSE)","v":""},{"$f":"VLOOKUP($A11,'LMS Training Import'!$A$5:$O$54,4,FALSE)","v":""},{"$f":"IF(LEN(J11)<1,\"\",VLOOKUP(0,'LMS Training Import'!$A$4:$P$4,12+$B11,FALSE))","v":""},{"$f":"IF(LEN(J11)<1,\"\",VLOOKUP(A11,'LMS Training Import'!$A$5:$P$54,12+B11,FALSE))","v":""}]
[3,1,0,{"$f":"VLOOKUP($A12,'LMS Training Import'!$A$5:$O$54,2,FALSE)","v":""},{"$f":"VLOOKUP($A12,'LMS Training Import'!$A$5:$O$54,3,FALSE)","v":""},{"$f":"VLOOKUP($A12,'LMS Training Import'!$A$5:$O$54,4,FALSE)","v":""},{"$f":"VLOOKUP(A12,'LMS Training Import'!$A$5:$O$54,8+B12,FALSE)","v":""},null,0,{"$f":"VLOOKUP($A12,'LMS Training Import'!$A$5:$O$54,2,FALSE)","v":""},{"$f":"VLOOKUP($A12,'LMS Training Import'!$A$5:$O$54,3,FALSE)","v":""},{"$f":"VLOOKUP($A12,'LMS Training Import'!$A$5:$O$54,4,FALSE)","v":""},{"$f":"IF(LEN(J12)<1,\"\",VLOOKUP(0,'LMS Training Import'!$A$4:$P$4,12+$B12,FALSE))","v":""},{"$f":"IF(LEN(J12)<1,\"\",VLOOKUP(A12,'LMS Training Import'!$A$5:$P$54,12+B12,FALSE))","v":""}]
[3,2,0,{"$f":"VLOOKUP($A13,'LMS Training Import'!$A$5:$O$54,2,FALSE)","v":""},{"$f":"VLOOKUP($A13,'LMS Training Import'!$A$5:$O$54,3,FALSE)","v":""},{"$f":"VLOOKUP($A13,'LMS Training Import'!$A$5:$O$54,4,FALSE)","v":""},{"$f":"VLOOKUP(A13,'LMS Training Import'!$A$5:$O$54,8+B13,FALSE)","v":""},null,0,{"$f":"VLOOKUP($A13,'LMS Training Import'!$A$5:$O$54,2,FALSE)","v":""},{"$f":"VLOOKUP($A13,'LMS Training Import'!$A$5:$O$54,3,FALSE)","v":""},{"$f":"VLOOKUP($A13,'LMS Training Import'!$A$5:$O$54,4,FALSE)","v":""},{"$f":"IF(LEN(J13)<1,\"\",VLOOKUP(0,'LMS Training Import'!$A$4:$P$4,12+$B13,FALSE))","v":""},{"$f":"IF(LEN(J13)<1,\"\",VLOOKUP(A13,'LMS Training Import'!$A$5:$P$54,12+B13,FALSE))","v":""}]
[3,3,0,{"$f":"VLOOKUP($A14,'LMS Training Import'!$A$5:$O$54,2,FALSE)","v":""},{"$f":"VLOOKUP($A14,'LMS Training Import'!$A$5:$O$54,3,FALSE)","v":""},{"$f":"VLOOKUP($A14,'LMS Training Import'!$A$5:$O$54,4,FALSE)","v":""},{"$f":"VLOOKUP(A14,'LMS Training Import'!$A$5:$O$54,8+B14,FALSE)","v":""},null,0,{"$f":"VLOOKUP($A14,'LMS Training Import'!$A$5:$O$54,2,FALSE)","v":""},{"$f":"VLOOKUP($A14,'LMS Training Import'!$A$5:$O$54,3,FALSE)","v":""},{"$f":"VLOOKUP($A14,'LMS Training Import'!$A$5:$O$54,4,FALSE)","v":""},{"$f":"IF(LEN(J14)<1,\"\",VLOOKUP(0,'LMS Training Import'!$A$4:$P$4,12+$B14,FALSE))","v":""},{"$f":"IF(LEN(J14)<1,\"\",VLOOKUP(A14,'LMS Training Import'!$A$5:$P$54,12+B14,FALSE))","v":""}]
[3,4,0,{"$f":"VLOOKUP($A15,'LMS Training Import'!$A$5:$O$54,2,FALSE)","v":""},{"$f":"VLOOKUP($A15,'LMS Training Import'!$A$5:$O$54,3,FALSE)","v":""},{"$f":"VLOOKUP($A15,'LMS Training Import'!$A$5:$O$54,4,FALSE)","v":""},{"$f":"VLOOKUP(A15,'LMS Training Import'!$A$5:$O$54,8+B15,FALSE)","v":""},null,0,{"$f":"VLOOKUP($A15,'LMS Training Import'!$A$5:$O$54,2,FALSE)","v":""},{"$f":"VLOOKUP($A15,'LMS Training Import'!$A$5:$O$54,3,FALSE)","v":""},{"$f":"VLOOKUP($A15,'LMS Training Import'!$A$5:$O$54,4,FALSE)","v":""},{"$f":"IF(LEN(J15)<1,\"\",VLOOKUP(0,'LMS Training Import'!$A$4:$P$4,12+$B15,FALSE))","v":""},{"$f":"IF(LEN(J15)<1,\"\",VLOOKUP(A15,'LMS Training Import'!$A$5:$P$54,12+B15,FALSE))","v":""}]
[4,1,0,{"$f":"VLOOKUP($A16,'LMS Training Import'!$A$5:$O$54,2,FALSE)","v":""},{"$f":"VLOOKUP($A16,'LMS Training Import'!$A$5:$O$54,3,FALSE)","v":""},{"$f":"VLOOKUP($A16,'LMS Training Import'!$A$5:$O$54,4,FALSE)","v":""},{"$f":"VLOOKUP(A16,'LMS Training Import'!$A$5:$O$54,8+B16,FALSE)","v":""},null,0,{"$f":"VLOOKUP($A16,'LMS Training Import'!$A$5:$O$54,2,FALSE)","v":""},{"$f":"VLOOKUP($A16,'LMS Training Import'!$A$5:$O$54,3,FALSE)","v":""},{"$f":"VLOOKUP($A16,'LMS Training Import'!$A$5:$O$54,4,FALSE)","v":""},{"$f":"IF(LEN(J16)<1,\"\",VLOOKUP(0,'LMS Training Import'!$A$4:$P$4,12+$B16,FALSE))","v":""},{"$f":"IF(LEN(J16)<1,\"\",VLOOKUP(A16,'LMS Training Import'!$A$5:$P$54,12+B16,FALSE))","v":""}]
[4,2,0,{"$f":"VLOOKUP($A17,'LMS Training Import'!$A$5:$O$54,2,FALSE)","v":""},{"$f":"VLOOKUP($A17,'LMS Training Import'!$A$5:$O$54,3,FALSE)","v":""},{"$f":"VLOOKUP($A17,'LMS Training Import'!$A$5:$O$54,4,FALSE)","v":""},{"$f":"VLOOKUP(A17,'LMS Training Import'!$A$5:$O$54,8+B17,FALSE)","v":""},null,0,{"$f":"VLOOKUP($A17,'LMS Training Import'!$A$5:$O$54,2,FALSE)","v":""},{"$f":"VLOOKUP($A17,'LMS Training Import'!$A$5:$O$54,3,FALSE)","v":""},{"$f":"VLOOKUP($A17,'LMS Training Import'!$A$5:$O$54,4,FALSE)","v":""},{"$f":"IF(LEN(J17)<1,\"\",VLOOKUP(0,'LMS Training Import'!$A$4:$P$4,12+$B17,FALSE))","v":""},{"$f":"IF(LEN(J17)<1,\"\",VLOOKUP(A17,'LMS Training Import'!$A$5:$P$54,12+B17,FALSE))","v":""}]
[4,3,0,{"$f":"VLOOKUP($A18,'LMS Training Import'!$A$5:$O$54,2,FALSE)","v":""},{"$f":"VLOOKUP($A18,'LMS Training Import'!$A$5:$O$54,3,FALSE)","v":""},{"$f":"VLOOKUP($A18,'LMS Training Import'!$A$5:$O$54,4,FALSE)","v":""},{"$f":"VLOOKUP(A18,'LMS Training Import'!$A$5:$O$54,8+B18,FALSE)","v":""},null,0,{"$f":"VLOOKUP($A18,'LMS Training Import'!$A$5:$O$54,2,FALSE)","v":""},{"$f":"VLOOKUP($A18,'LMS Training Import'!$A$5:$O$54,3,FALSE)","v":""},{"$f":"VLOOKUP($A18,'LMS Training Import'!$A$5:$O$54,4,FALSE)","v":""},{"$f":"IF(LEN(J18)<1,\"\",VLOOKUP(0,'LMS Training Import'!$A$4:$P$4,12+$B18,FALSE))","v":""},{"$f":"IF(LEN(J18)<1,\"\",VLOOKUP(A18,'LMS Training Import'!$A$5:$P$54,12+B18,FALSE))","v":""}]
[4,4,0,{"$f":"VLOOKUP($A19,'LMS Training Import'!$A$5:$O$54,2,FALSE)","v":""},{"$f":"VLOOKUP($A19,'LMS Training Import'!$A$5:$O$54,3,FALSE)","v":""},{"$f":"VLOOKUP($A19,'LMS Training Import'!$A$5:$O$54,4,FALSE)","v":""},{"$f":"VLOOKUP(A19,'LMS Training Import'!$A$5:$O$54,8+B19,FALSE)","v":""},null,0,{"$f":"VLOOKUP($A19,'LMS Training Import'!$A$5:$O$54,2,FALSE)","v":""},{"$f":"VLOOKUP($A19,'LMS Training Import'!$A$5:$O$54,3,FALSE)","v":""},{"$f":"VLOOKUP($A19,'LMS Training Import'!$A$5:$O$54,4,FALSE)","v":""},{"$f":"IF(LEN(J19)<1,\"\",VLOOKUP(0,'LMS Training Import'!$A$4:$P$4,12+$B19,FALSE))","v":""},{"$f":"IF(LEN(J19)<1,\"\",VLOOKUP(A19,'LMS Training Import'!$A$5:$P$54,12+B19,FALSE))","v":""}]
[5,1,0,{"$f":"VLOOKUP($A20,'LMS Training Import'!$A$5:$O$54,2,FALSE)","v":""},{"$f":"VLOOKUP($A20,'LMS Training Import'!$A$5:$O$54,3,FALSE)","v":""},{"$f":"VLOOKUP($A20,'LMS Training Import'!$A$5:$O$54,4,FALSE)","v":""},{"$f":"VLOOKUP(A20,'LMS Training Import'!$A$5:$O$54,8+B20,FALSE)","v":""},null,0,{"$f":"VLOOKUP($A20,'LMS Training Import'!$A$5:$O$54,2,FALSE)","v":""},{"$f":"VLOOKUP($A20,'LMS Training Import'!$A$5:$O$54,3,FALSE)","v":""},{"$f":"VLOOKUP($A20,'LMS Training Import'!$A$5:$O$54,4,FALSE)","v":""},{"$f":"IF(LEN(J20)<1,\"\",VLOOKUP(0,'LMS Training Import'!$A$4:$P$4,12+$B20,FALSE))","v":""},{"$f":"IF(LEN(J20)<1,\"\",VLOOKUP(A20,'LMS Training Import'!$A$5:$P$54,12+B20,FALSE))","v":""}]
[5,2,0,{"$f":"VLOOKUP($A21,'LMS Training Import'!$A$5:$O$54,2,FALSE)","v":""},{"$f":"VLOOKUP($A21,'LMS Training Import'!$A$5:$O$54,3,FALSE)","v":""},{"$f":"VLOOKUP($A21,'LMS Training Import'!$A$5:$O$54,4,FALSE)","v":""},{"$f":"VLOOKUP(A21,'LMS Training Import'!$A$5:$O$54,8+B21,FALSE)","v":""},null,0,{"$f":"VLOOKUP($A21,'LMS Training Import'!$A$5:$O$54,2,FALSE)","v":""},{"$f":"VLOOKUP($A21,'LMS Training Import'!$A$5:$O$54,3,FALSE)","v":""},{"$f":"VLOOKUP($A21,'LMS Training Import'!$A$5:$O$54,4,FALSE)","v":""},{"$f":"IF(LEN(J21)<1,\"\",VLOOKUP(0,'LMS Training Import'!$A$4:$P$4,12+$B21,FALSE))","v":""},{"$f":"IF(LEN(J21)<1,\"\",VLOOKUP(A21,'LMS Training Import'!$A$5:$P$54,12+B21,FALSE))","v":""}]
[5,3,0,{"$f":"VLOOKUP($A22,'LMS Training Import'!$A$5:$O$54,2,FALSE)","v":""},{"$f":"VLOOKUP($A22,'LMS Training Import'!$A$5:$O$54,3,FALSE)","v":""},{"$f":"VLOOKUP($A22,'LMS Training Import'!$A$5:$O$54,4,FALSE)","v":""},{"$f":"VLOOKUP(A22,'LMS Training Import'!$A$5:$O$54,8+B22,FALSE)","v":""},null,0,{"$f":"VLOOKUP($A22,'LMS Training Import'!$A$5:$O$54,2,FALSE)","v":""},{"$f":"VLOOKUP($A22,'LMS Training Import'!$A$5:$O$54,3,FALSE)","v":""},{"$f":"VLOOKUP($A22,'LMS Training Import'!$A$5:$O$54,4,FALSE)","v":""},{"$f":"IF(LEN(J22)<1,\"\",VLOOKUP(0,'LMS Training Import'!$A$4:$P$4,12+$B22,FALSE))","v":""},{"$f":"IF(LEN(J22)<1,\"\",VLOOKUP(A22,'LMS Training Import'!$A$5:$P$54,12+B22,FALSE))","v":""}]
[5,4,0,{"$f":"VLOOKUP($A23,'LMS Training Import'!$A$5:$O$54,2,FALSE)","v":""},{"$f":"VLOOKUP($A23,'LMS Training Import'!$A$5:$O$54,3,FALSE)","v":""},{"$f":"VLOOKUP($A23,'LMS Training Import'!$A$5:$O$54,4,FALSE)","v":""},{"$f":"VLOOKUP(A23,'LMS Training Import'!$A$5:$O$54,8+B23,FALSE)","v":""},null,0,{"$f":"VLOOKUP($A23,'LMS Training Import'!$A$5:$O$54,2,FALSE)","v":""},{"$f":"VLOOKUP($A23,'LMS Training Import'!$A$5:$O$54,3,FALSE)","v":""},{"$f":"VLOOKUP($A23,'LMS Training Import'!$A$5:$O$54,4,FALSE)","v":""},{"$f":"IF(LEN(J23)<1,\"\",VLOOKUP(0,'LMS Training Import'!$A$4:$P$4,12+$B23,FALSE))","v":""},{"$f":"IF(LEN(J23)<1,\"\",VLOOKUP(A23,'LMS Training Import'!$A$5:$P$54,12+B23,FALSE))","v":""}]
[6,1,0,{"$f":"VLOOKUP($A24,'LMS Training Import'!$A$5:$O$54,2,FALSE)","v":""},{"$f":"VLOOKUP($A24,'LMS Training Import'!$A$5:$O$54,3,FALSE)","v":""},{"$f":"VLOOKUP($A24,'LMS Training Import'!$A$5:$O$54,4,FALSE)","v":""},{"$f":"VLOOKUP(A24,'LMS Training Import'!$A$5:$O$54,8+B24,FALSE)","v":""},null,0,{"$f":"VLOOKUP($A24,'LMS Training Import'!$A$5:$O$54,2,FALSE)","v":""},{"$f":"VLOOKUP($A24,'LMS Training Import'!$A$5:$O$54,3,FALSE)","v":""},{"$f":"VLOOKUP($A24,'LMS Training Import'!$A$5:$O$54,4,FALSE)","v":""},{"$f":"IF(LEN(J24)<1,\"\",VLOOKUP(0,'LMS Training Import'!$A$4:$P$4,12+$B24,FALSE))","v":""},{"$f":"IF(LEN(J24)<1,\"\",VLOOKUP(A24,'LMS Training Import'!$A$5:$P$54,12+B24,FALSE))","v":""}]
[6,2,0,{"$f":"VLOOKUP($A25,'LMS Training Import'!$A$5:$O$54,2,FALSE)","v":""},{"$f":"VLOOKUP($A25,'LMS Training Import'!$A$5:$O$54,3,FALSE)","v":""},{"$f":"VLOOKUP($A25,'LMS Training Import'!$A$5:$O$54,4,FALSE)","v":""},{"$f":"VLOOKUP(A25,'LMS Training Import'!$A$5:$O$54,8+B25,FALSE)","v":""},null,0,{"$f":"VLOOKUP($A25,'LMS Training Import'!$A$5:$O$54,2,FALSE)","v":""},{"$f":"VLOOKUP($A25,'LMS Training Import'!$A$5:$O$54,3,FALSE)","v":""},{"$f":"VLOOKUP($A25,'LMS Training Import'!$A$5:$O$54,4,FALSE)","v":""},{"$f":"IF(LEN(J25)<1,\"\",VLOOKUP(0,'LMS Training Import'!$A$4:$P$4,12+$B25,FALSE))","v":""},{"$f":"IF(LEN(J25)<1,\"\",VLOOKUP(A25,'LMS Training Import'!$A$5:$P$54,12+B25,FALSE))","v":""}]
[6,3,0,{"$f":"VLOOKUP($A26,'LMS Training Import'!$A$5:$O$54,2,FALSE)","v":""},{"$f":"VLOOKUP($A26,'LMS Training Import'!$A$5:$O$54,3,FALSE)","v":""},{"$f":"VLOOKUP($A26,'LMS Training Import'!$A$5:$O$54,4,FALSE)","v":""},{"$f":"VLOOKUP(A26,'LMS Training Import'!$A$5:$O$54,8+B26,FALSE)","v":""},null,0,{"$f":"VLOOKUP($A26,'LMS Training Import'!$A$5:$O$54,2,FALSE)","v":""},{"$f":"VLOOKUP($A26,'LMS Training Import'!$A$5:$O$54,3,FALSE)","v":""},{"$f":"VLOOKUP($A26,'LMS Training Import'!$A$5:$O$54,4,FALSE)","v":""},{"$f":"IF(LEN(J26)<1,\"\",VLOOKUP(0,'LMS Training Import'!$A$4:$P$4,12+$B26,FALSE))","v":""},{"$f":"IF(LEN(J26)<1,\"\",VLOOKUP(A26,'LMS Training Import'!$A$5:$P$54,12+B26,FALSE))","v":""}]
[6,4,0,{"$f":"VLOOKUP($A27,'LMS Training Import'!$A$5:$O$54,2,FALSE)","v":""},{"$f":"VLOOKUP($A27,'LMS Training Import'!$A$5:$O$54,3,FALSE)","v":""},{"$f":"VLOOKUP($A27,'LMS Training Import'!$A$5:$O$54,4,FALSE)","v":""},{"$f":"VLOOKUP(A27,'LMS Training Import'!$A$5:$O$54,8+B27,FALSE)","v":""},null,0,{"$f":"VLOOKUP($A27,'LMS Training Import'!$A$5:$O$54,2,FALSE)","v":""},{"$f":"VLOOKUP($A27,'LMS Training Import'!$A$5:$O$54,3,FALSE)","v":""},{"$f":"VLOOKUP($A27,'LMS Training Import'!$A$5:$O$54,4,FALSE)","v":""},{"$f":"IF(LEN(J27)<1,\"\",VLOOKUP(0,'LMS Training Import'!$A$4:$P$4,12+$B27,FALSE))","v":""},{"$f":"IF(LEN(J27)<1,\"\",VLOOKUP(A27,'LMS Training Import'!$A$5:$P$54,12+B27,FALSE))","v":""}]
[7,1,0,{"$f":"VLOOKUP($A28,'LMS Training Import'!$A$5:$O$54,2,FALSE)","v":""},{"$f":"VLOOKUP($A28,'LMS Training Import'!$A$5:$O$54,3,FALSE)","v":""},{"$f":"VLOOKUP($A28,'LMS Training Import'!$A$5:$O$54,4,FALSE)","v":""},{"$f":"VLOOKUP(A28,'LMS Training Import'!$A$5:$O$54,8+B28,FALSE)","v":""},null,0,{"$f":"VLOOKUP($A28,'LMS Training Import'!$A$5:$O$54,2,FALSE)","v":""},{"$f":"VLOOKUP($A28,'LMS Training Import'!$A$5:$O$54,3,FALSE)","v":""},{"$f":"VLOOKUP($A28,'LMS Training Import'!$A$5:$O$54,4,FALSE)","v":""},{"$f":"IF(LEN(J28)<1,\"\",VLOOKUP(0,'LMS Training Import'!$A$4:$P$4,12+$B28,FALSE))","v":""},{"$f":"IF(LEN(J28)<1,\"\",VLOOKUP(A28,'LMS Training Import'!$A$5:$P$54,12+B28,FALSE))","v":""}]
[7,2,0,{"$f":"VLOOKUP($A29,'LMS Training Import'!$A$5:$O$54,2,FALSE)","v":""},{"$f":"VLOOKUP($A29,'LMS Training Import'!$A$5:$O$54,3,FALSE)","v":""},{"$f":"VLOOKUP($A29,'LMS Training Import'!$A$5:$O$54,4,FALSE)","v":""},{"$f":"VLOOKUP(A29,'LMS Training Import'!$A$5:$O$54,8+B29,FALSE)","v":""},null,0,{"$f":"VLOOKUP($A29,'LMS Training Import'!$A$5:$O$54,2,FALSE)","v":""},{"$f":"VLOOKUP($A29,'LMS Training Import'!$A$5:$O$54,3,FALSE)","v":""},{"$f":"VLOOKUP($A29,'LMS Training Import'!$A$5:$O$54,4,FALSE)","v":""},{"$f":"IF(LEN(J29)<1,\"\",VLOOKUP(0,'LMS Training Import'!$A$4:$P$4,12+$B29,FALSE))","v":""},{"$f":"IF(LEN(J29)<1,\"\",VLOOKUP(A29,'LMS Training Import'!$A$5:$P$54,12+B29,FALSE))","v":""}]
[7,3,0,{"$f":"VLOOKUP($A30,'LMS Training Import'!$A$5:$O$54,2,FALSE)","v":""},{"$f":"VLOOKUP($A30,'LMS Training Import'!$A$5:$O$54,3,FALSE)","v":""},{"$f":"VLOOKUP($A30,'LMS Training Import'!$A$5:$O$54,4,FALSE)","v":""},{"$f":"VLOOKUP(A30,'LMS Training Import'!$A$5:$O$54,8+B30,FALSE)","v":""},null,0,{"$f":"VLOOKUP($A30,'LMS Training Import'!$A$5:$O$54,2,FALSE)","v":""},{"$f":"VLOOKUP($A30,'LMS Training Import'!$A$5:$O$54,3,FALSE)","v":""},{"$f":"VLOOKUP($A30,'LMS Training Import'!$A$5:$O$54,4,FALSE)","v":""},{"$f":"IF(LEN(J30)<1,\"\",VLOOKUP(0,'LMS Training Import'!$A$4:$P$4,12+$B30,FALSE))","v":""},{"$f":"IF(LEN(J30)<1,\"\",VLOOKUP(A30,'LMS Training Import'!$A$5:$P$54,12+B30,FALSE))","v":""}]
[7,4,0,{"$f":"VLOOKUP($A31,'LMS Training Import'!$A$5:$O$54,2,FALSE)","v":""},{"$f":"VLOOKUP($A31,'LMS Training Import'!$A$5:$O$54,3,FALSE)","v":""},{"$f":"VLOOKUP($A31,'LMS Training Import'!$A$5:$O$54,4,FALSE)","v":""},{"$f":"VLOOKUP(A31,'LMS Training Import'!$A$5:$O$54,8+B31,FALSE)","v":""},null,0,{"$f":"VLOOKUP($A31,'LMS Training Import'!$A$5:$O$54,2,FALSE)","v":""},{"$f":"VLOOKUP($A31,'LMS Training Import'!$A$5:$O$54,3,FALSE)","v":""},{"$f":"VLOOKUP($A31,'LMS Training Import'!$A$5:$O$54,4,FALSE)","v":""},{"$f":"IF(LEN(J31)<1,\"\",VLOOKUP(0,'LMS Training Import'!$A$4:$P$4,12+$B31,FALSE))","v":""},{"$f":"IF(LEN(J31)<1,\"\",VLOOKUP(A31,'LMS Training Import'!$A$5:$P$54,12+B31,FALSE))","v":""}]
[8,1,0,{"$f":"VLOOKUP($A32,'LMS Training Import'!$A$5:$O$54,2,FALSE)","v":""},{"$f":"VLOOKUP($A32,'LMS Training Import'!$A$5:$O$54,3,FALSE)","v":""},{"$f":"VLOOKUP($A32,'LMS Training Import'!$A$5:$O$54,4,FALSE)","v":""},{"$f":"VLOOKUP(A32,'LMS Training Import'!$A$5:$O$54,8+B32,FALSE)","v":""},null,0,{"$f":"VLOOKUP($A32,'LMS Training Import'!$A$5:$O$54,2,FALSE)","v":""},{"$f":"VLOOKUP($A32,'LMS Training Import'!$A$5:$O$54,3,FALSE)","v":""},{"$f":"VLOOKUP($A32,'LMS Training Import'!$A$5:$O$54,4,FALSE)","v":""},{"$f":"IF(LEN(J32)<1,\"\",VLOOKUP(0,'LMS Training Import'!$A$4:$P$4,12+$B32,FALSE))","v":""},{"$f":"IF(LEN(J32)<1,\"\",VLOOKUP(A32,'LMS Training Import'!$A$5:$P$54,12+B32,FALSE))","v":""}]
[8,2,0,{"$f":"VLOOKUP($A33,'LMS Training Import'!$A$5:$O$54,2,FALSE)","v":""},{"$f":"VLOOKUP($A33,'LMS Training Import'!$A$5:$O$54,3,FALSE)","v":""},{"$f":"VLOOKUP($A33,'LMS Training Import'!$A$5:$O$54,4,FALSE)","v":""},{"$f":"VLOOKUP(A33,'LMS Training Import'!$A$5:$O$54,8+B33,FALSE)","v":""},null,0,{"$f":"VLOOKUP($A33,'LMS Training Import'!$A$5:$O$54,2,FALSE)","v":""},{"$f":"VLOOKUP($A33,'LMS Training Import'!$A$5:$O$54,3,FALSE)","v":""},{"$f":"VLOOKUP($A33,'LMS Training Import'!$A$5:$O$54,4,FALSE)","v":""},{"$f":"IF(LEN(J33)<1,\"\",VLOOKUP(0,'LMS Training Import'!$A$4:$P$4,12+$B33,FALSE))","v":""},{"$f":"IF(LEN(J33)<1,\"\",VLOOKUP(A33,'LMS Training Import'!$A$5:$P$54,12+B33,FALSE))","v":""}]
[8,3,0,{"$f":"VLOOKUP($A34,'LMS Training Import'!$A$5:$O$54,2,FALSE)","v":""},{"$f":"VLOOKUP($A34,'LMS Training Import'!$A$5:$O$54,3,FALSE)","v":""},{"$f":"VLOOKUP($A34,'LMS Training Import'!$A$5:$O$54,4,FALSE)","v":""},{"$f":"VLOOKUP(A34,'LMS Training Import'!$A$5:$O$54,8+B34,FALSE)","v":""},null,0,{"$f":"VLOOKUP($A34,'LMS Training Import'!$A$5:$O$54,2,FALSE)","v":""},{"$f":"VLOOKUP($A34,'LMS Training Import'!$A$5:$O$54,3,FALSE)","v":""},{"$f":"VLOOKUP($A34,'LMS Training Import'!$A$5:$O$54,4,FALSE)","v":""},{"$f":"IF(LEN(J34)<1,\"\",VLOOKUP(0,'LMS Training Import'!$A$4:$P$4,12+$B34,FALSE))","v":""},{"$f":"IF(LEN(J34)<1,\"\",VLOOKUP(A34,'LMS Training Import'!$A$5:$P$54,12+B34,FALSE))","v":""}]
[8,4,0,{"$f":"VLOOKUP($A35,'LMS Training Import'!$A$5:$O$54,2,FALSE)","v":""},{"$f":"VLOOKUP($A35,'LMS Training Import'!$A$5:$O$54,3,FALSE)","v":""},{"$f":"VLOOKUP($A35,'LMS Training Import'!$A$5:$O$54,4,FALSE)","v":""},{"$f":"VLOOKUP(A35,'LMS Training Import'!$A$5:$O$54,8+B35,FALSE)","v":""},null,0,{"$f":"VLOOKUP($A35,'LMS Training Import'!$A$5:$O$54,2,FALSE)","v":""},{"$f":"VLOOKUP($A35,'LMS Training Import'!$A$5:$O$54,3,FALSE)","v":""},{"$f":"VLOOKUP($A35,'LMS Training Import'!$A$5:$O$54,4,FALSE)","v":""},{"$f":"IF(LEN(J35)<1,\"\",VLOOKUP(0,'LMS Training Import'!$A$4:$P$4,12+$B35,FALSE))","v":""},{"$f":"IF(LEN(J35)<1,\"\",VLOOKUP(A35,'LMS Training Import'!$A$5:$P$54,12+B35,FALSE))","v":""}]
[9,1,0,{"$f":"VLOOKUP($A36,'LMS Training Import'!$A$5:$O$54,2,FALSE)","v":""},{"$f":"VLOOKUP($A36,'LMS Training Import'!$A$5:$O$54,3,FALSE)","v":""},{"$f":"VLOOKUP($A36,'LMS Training Import'!$A$5:$O$54,4,FALSE)","v":""},{"$f":"VLOOKUP(A36,'LMS Training Import'!$A$5:$O$54,8+B36,FALSE)","v":""},null,0,{"$f":"VLOOKUP($A36,'LMS Training Import'!$A$5:$O$54,2,FALSE)","v":""},{"$f":"VLOOKUP($A36,'LMS Training Import'!$A$5:$O$54,3,FALSE)","v":""},{"$f":"VLOOKUP($A36,'LMS Training Import'!$A$5:$O$54,4,FALSE)","v":""},{"$f":"IF(LEN(J36)<1,\"\",VLOOKUP(0,'LMS Training Import'!$A$4:$P$4,12+$B36,FALSE))","v":""},{"$f":"IF(LEN(J36)<1,\"\",VLOOKUP(A36,'LMS Training Import'!$A$5:$P$54,12+B36,FALSE))","v":""}]
[9,2,0,{"$f":"VLOOKUP($A37,'LMS Training Import'!$A$5:$O$54,2,FALSE)","v":""},{"$f":"VLOOKUP($A37,'LMS Training Import'!$A$5:$O$54,3,FALSE)","v":""},{"$f":"VLOOKUP($A37,'LMS Training Import'!$A$5:$O$54,4,FALSE)","v":""},{"$f":"VLOOKUP(A37,'LMS Training Import'!$A$5:$O$54,8+B37,FALSE)","v":""},null,0,{"$f":"VLOOKUP($A37,'LMS Training Import'!$A$5:$O$54,2,FALSE)","v":""},{"$f":"VLOOKUP($A37,'LMS Training Import'!$A$5:$O$54,3,FALSE)","v":""},{"$f":"VLOOKUP($A37,'LMS Training Import'!$A$5:$O$54,4,FALSE)","v":""},{"$f":"IF(LEN(J37)<1,\"\",VLOOKUP(0,'LMS Training Import'!$A$4:$P$4,12+$B37,FALSE))","v":""},{"$f":"IF(LEN(J37)<1,\"\",VLOOKUP(A37,'LMS Training Import'!$A$5:$P$54,12+B37,FALSE))","v":""}]
[9,3,0,{"$f":"VLOOKUP($A38,'LMS Training Import'!$A$5:$O$54,2,FALSE)","v":""},{"$f":"VLOOKUP($A38,'LMS Training Import'!$A$5:$O$54,3,FALSE)","v":""},{"$f":"VLOOKUP($A38,'LMS Training Import'!$A$5:$O$54,4,FALSE)","v":""},{"$f":"VLOOKUP(A38,'LMS Training Import'!$A$5:$O$54,8+B38,FALSE)","v":""},null,0,{"$f":"VLOOKUP($A38,'LMS Training Import'!$A$5:$O$54,2,FALSE)","v":""},{"$f":"VLOOKUP($A38,'LMS Training Import'!$A$5:$O$54,3,FALSE)","v":""},{"$f":"VLOOKUP($A38,'LMS Training Import'!$A$5:$O$54,4,FALSE)","v":""},{"$f":"IF(LEN(J38)<1,\"\",VLOOKUP(0,'LMS Training Import'!$A$4:$P$4,12+$B38,FALSE))","v":""},{"$f":"IF(LEN(J38)<1,\"\",VLOOKUP(A38,'LMS Training Import'!$A$5:$P$54,12+B38,FALSE))","v":""}]
[9,4,0,{"$f":"VLOOKUP($A39,'LMS Training Import'!$A$5:$O$54,2,FALSE)","v":""},{"$f":"VLOOKUP($A39,'LMS Training Import'!$A$5:$O$54,3,FALSE)","v":""},{"$f":"VLOOKUP($A39,'LMS Training Import'!$A$5:$O$54,4,FALSE)","v":""},{"$f":"VLOOKUP(A39,'LMS Training Import'!$A$5:$O$54,8+B39,FALSE)","v":""},null,0,{"$f":"VLOOKUP($A39,'LMS Training Import'!$A$5:$O$54,2,FALSE)","v":""},{"$f":"VLOOKUP($A39,'LMS Training Import'!$A$5:$O$54,3,FALSE)","v":""},{"$f":"VLOOKUP($A39,'LMS Training Import'!$A$5:$O$54,4,FALSE)","v":""},{"$f":"IF(LEN(J39)<1,\"\",VLOOKUP(0,'LMS Training Import'!$A$4:$P$4,12+$B39,FALSE))","v":""},{"$f":"IF(LEN(J39)<1,\"\",VLOOKUP(A39,'LMS Training Import'!$A$5:$P$54,12+B39,FALSE))","v":""}]
[10,1,0,{"$f":"VLOOKUP($A40,'LMS Training Import'!$A$5:$O$54,2,FALSE)","v":""},{"$f":"VLOOKUP($A40,'LMS Training Import'!$A$5:$O$54,3,FALSE)","v":""},{"$f":"VLOOKUP($A40,'LMS Training Import'!$A$5:$O$54,4,FALSE)","v":""},{"$f":"VLOOKUP(A40,'LMS Training Import'!$A$5:$O$54,8+B40,FALSE)","v":""},null,0,{"$f":"VLOOKUP($A40,'LMS Training Import'!$A$5:$O$54,2,FALSE)","v":""},{"$f":"VLOOKUP($A40,'LMS Training Import'!$A$5:$O$54,3,FALSE)","v":""},{"$f":"VLOOKUP($A40,'LMS Training Import'!$A$5:$O$54,4,FALSE)","v":""},{"$f":"IF(LEN(J40)<1,\"\",VLOOKUP(0,'LMS Training Import'!$A$4:$P$4,12+$B40,FALSE))","v":""},{"$f":"IF(LEN(J40)<1,\"\",VLOOKUP(A40,'LMS Training Import'!$A$5:$P$54,12+B40,FALSE))","v":""}]
[10,2,0,{"$f":"VLOOKUP($A41,'LMS Training Import'!$A$5:$O$54,2,FALSE)","v":""},{"$f":"VLOOKUP($A41,'LMS Training Import'!$A$5:$O$54,3,FALSE)","v":""},{"$f":"VLOOKUP($A41,'LMS Training Import'!$A$5:$O$54,4,FALSE)","v":""},{"$f":"VLOOKUP(A41,'LMS Training Import'!$A$5:$O$54,8+B41,FALSE)","v":""},null,0,{"$f":"VLOOKUP($A41,'LMS Training Import'!$A$5:$O$54,2,FALSE)","v":""},{"$f":"VLOOKUP($A41,'LMS Training Import'!$A$5:$O$54,3,FALSE)","v":""},{"$f":"VLOOKUP($A41,'LMS Training Import'!$A$5:$O$54,4,FALSE)","v":""},{"$f":"IF(LEN(J41)<1,\"\",VLOOKUP(0,'LMS Training Import'!$A$4:$P$4,12+$B41,FALSE))","v":""},{"$f":"IF(LEN(J41)<1,\"\",VLOOKUP(A41,'LMS Training Import'!$A$5:$P$54,12+B41,FALSE))","v":""}]
[10,3,0,{"$f":"VLOOKUP($A42,'LMS Training Import'!$A$5:$O$54,2,FALSE)","v":""},{"$f":"VLOOKUP($A42,'LMS Training Import'!$A$5:$O$54,3,FALSE)","v":""},{"$f":"VLOOKUP($A42,'LMS Training Import'!$A$5:$O$54,4,FALSE)","v":""},{"$f":"VLOOKUP(A42,'LMS Training Import'!$A$5:$O$54,8+B42,FALSE)","v":""},null,0,{"$f":"VLOOKUP($A42,'LMS Training Import'!$A$5:$O$54,2,FALSE)","v":""},{"$f":"VLOOKUP($A42,'LMS Training Import'!$A$5:$O$54,3,FALSE)","v":""},{"$f":"VLOOKUP($A42,'LMS Training Import'!$A$5:$O$54,4,FALSE)","v":""},{"$f":"IF(LEN(J42)<1,\"\",VLOOKUP(0,'LMS Training Import'!$A$4:$P$4,12+$B42,FALSE))","v":""},{"$f":"IF(LEN(J42)<1,\"\",VLOOKUP(A42,'LMS Training Import'!$A$5:$P$54,12+B42,FALSE))","v":""}]
[10,4,0,{"$f":"VLOOKUP($A43,'LMS Training Import'!$A$5:$O$54,2,FALSE)","v":""},{"$f":"VLOOKUP($A43,'LMS Training Import'!$A$5:$O$54,3,FALSE)","v":""},{"$f":"VLOOKUP($A43,'LMS Training Import'!$A$5:$O$54,4,FALSE)","v":""},{"$f":"VLOOKUP(A43,'LMS Training Import'!$A$5:$O$54,8+B43,FALSE)","v":""},null,0,{"$f":"VLOOKUP($A43,'LMS Training Import'!$A$5:$O$54,2,FALSE)","v":""},{"$f":"VLOOKUP($A43,'LMS Training Import'!$A$5:$O$54,3,FALSE)","v":""},{"$f":"VLOOKUP($A43,'LMS Training Import'!$A$5:$O$54,4,FALSE)","v":""},{"$f":"IF(LEN(J43)<1,\"\",VLOOKUP(0,'LMS Training Import'!$A$4:$P$4,12+$B43,FALSE))","v":""},{"$f":"IF(LEN(J43)<1,\"\",VLOOKUP(A43,'LMS Training Import'!$A$5:$P$54,12+B43,FALSE))","v":""}]
[11,1,0,{"$f":"VLOOKUP($A44,'LMS Training Import'!$A$5:$O$54,2,FALSE)","v":""},{"$f":"VLOOKUP($A44,'LMS Training Import'!$A$5:$O$54,3,FALSE)","v":""},{"$f":"VLOOKUP($A44,'LMS Training Import'!$A$5:$O$54,4,FALSE)","v":""},{"$f":"VLOOKUP(A44,'LMS Training Import'!$A$5:$O$54,8+B44,FALSE)","v":""},null,0,{"$f":"VLOOKUP($A44,'LMS Training Import'!$A$5:$O$54,2,FALSE)","v":""},{"$f":"VLOOKUP($A44,'LMS Training Import'!$A$5:$O$54,3,FALSE)","v":""},{"$f":"VLOOKUP($A44,'LMS Training Import'!$A$5:$O$54,4,FALSE)","v":""},{"$f":"IF(LEN(J44)<1,\"\",VLOOKUP(0,'LMS Training Import'!$A$4:$P$4,12+$B44,FALSE))","v":""},{"$f":"IF(LEN(J44)<1,\"\",VLOOKUP(A44,'LMS Training Import'!$A$5:$P$54,12+B44,FALSE))","v":""}]
[11,2,0,{"$f":"VLOOKUP($A45,'LMS Training Import'!$A$5:$O$54,2,FALSE)","v":""},{"$f":"VLOOKUP($A45,'LMS Training Import'!$A$5:$O$54,3,FALSE)","v":""},{"$f":"VLOOKUP($A45,'LMS Training Import'!$A$5:$O$54,4,FALSE)","v":""},{"$f":"VLOOKUP(A45,'LMS Training Import'!$A$5:$O$54,8+B45,FALSE)","v":""},null,0,{"$f":"VLOOKUP($A45,'LMS Training Import'!$A$5:$O$54,2,FALSE)","v":""},{"$f":"VLOOKUP($A45,'LMS Training Import'!$A$5:$O$54,3,FALSE)","v":""},{"$f":"VLOOKUP($A45,'LMS Training Import'!$A$5:$O$54,4,FALSE)","v":""},{"$f":"IF(LEN(J45)<1,\"\",VLOOKUP(0,'LMS Training Import'!$A$4:$P$4,12+$B45,FALSE))","v":""},{"$f":"IF(LEN(J45)<1,\"\",VLOOKUP(A45,'LMS Training Import'!$A$5:$P$54,12+B45,FALSE))","v":""}]
[11,3,0,{"$f":"VLOOKUP($A46,'LMS Training Import'!$A$5:$O$54,2,FALSE)","v":""},{"$f":"VLOOKUP($A46,'LMS Training Import'!$A$5:$O$54,3,FALSE)","v":""},{"$f":"VLOOKUP($A46,'LMS Training Import'!$A$5:$O$54,4,FALSE)","v":""},{"$f":"VLOOKUP(A46,'LMS Training Import'!$A$5:$O$54,8+B46,FALSE)","v":""},null,0,{"$f":"VLOOKUP($A46,'LMS Training Import'!$A$5:$O$54,2,FALSE)","v":""},{"$f":"VLOOKUP($A46,'LMS Training Import'!$A$5:$O$54,3,FALSE)","v":""},{"$f":"VLOOKUP($A46,'LMS Training Import'!$A$5:$O$54,4,FALSE)","v":""},{"$f":"IF(LEN(J46)<1,\"\",VLOOKUP(0,'LMS Training Import'!$A$4:$P$4,12+$B46,FALSE))","v":""},{"$f":"IF(LEN(J46)<1,\"\",VLOOKUP(A46,'LMS Training Import'!$A$5:$P$54,12+B46,FALSE))","v":""}]
[11,4,0,{"$f":"VLOOKUP($A47,'LMS Training Import'!$A$5:$O$54,2,FALSE)","v":""},{"$f":"VLOOKUP($A47,'LMS Training Import'!$A$5:$O$54,3,FALSE)","v":""},{"$f":"VLOOKUP($A47,'LMS Training Import'!$A$5:$O$54,4,FALSE)","v":""},{"$f":"VLOOKUP(A47,'LMS Training Import'!$A$5:$O$54,8+B47,FALSE)","v":""},null,0,{"$f":"VLOOKUP($A47,'LMS Training Import'!$A$5:$O$54,2,FALSE)","v":""},{"$f":"VLOOKUP($A47,'LMS Training Import'!$A$5:$O$54,3,FALSE)","v":""},{"$f":"VLOOKUP($A47,'LMS Training Import'!$A$5:$O$54,4,FALSE)","v":""},{"$f":"IF(LEN(J47)<1,\"\",VLOOKUP(0,'LMS Training Import'!$A$4:$P$4,12+$B47,FALSE))","v":""},{"$f":"IF(LEN(J47)<1,\"\",VLOOKUP(A47,'LMS Training Import'!$A$5:$P$54,12+B47,FALSE))","v":""}]
[12,1,0,{"$f":"VLOOKUP($A48,'LMS Training Import'!$A$5:$O$54,2,FALSE)","v":""},{"$f":"VLOOKUP($A48,'LMS Training Import'!$A$5:$O$54,3,FALSE)","v":""},{"$f":"VLOOKUP($A48,'LMS Training Import'!$A$5:$O$54,4,FALSE)","v":""},{"$f":"VLOOKUP(A48,'LMS Training Import'!$A$5:$O$54,8+B48,FALSE)","v":""},null,0,{"$f":"VLOOKUP($A48,'LMS Training Import'!$A$5:$O$54,2,FALSE)","v":""},{"$f":"VLOOKUP($A48,'LMS Training Import'!$A$5:$O$54,3,FALSE)","v":""},{"$f":"VLOOKUP($A48,'LMS Training Import'!$A$5:$O$54,4,FALSE)","v":""},{"$f":"IF(LEN(J48)<1,\"\",VLOOKUP(0,'LMS Training Import'!$A$4:$P$4,12+$B48,FALSE))","v":""},{"$f":"IF(LEN(J48)<1,\"\",VLOOKUP(A48,'LMS Training Import'!$A$5:$P$54,12+B48,FALSE))","v":""}]
[12,2,0,{"$f":"VLOOKUP($A49,'LMS Training Import'!$A$5:$O$54,2,FALSE)","v":""},{"$f":"VLOOKUP($A49,'LMS Training Import'!$A$5:$O$54,3,FALSE)","v":""},{"$f":"VLOOKUP($A49,'LMS Training Import'!$A$5:$O$54,4,FALSE)","v":""},{"$f":"VLOOKUP(A49,'LMS Training Import'!$A$5:$O$54,8+B49,FALSE)","v":""},null,0,{"$f":"VLOOKUP($A49,'LMS Training Import'!$A$5:$O$54,2,FALSE)","v":""},{"$f":"VLOOKUP($A49,'LMS Training Import'!$A$5:$O$54,3,FALSE)","v":""},{"$f":"VLOOKUP($A49,'LMS Training Import'!$A$5:$O$54,4,FALSE)","v":""},{"$f":"IF(LEN(J49)<1,\"\",VLOOKUP(0,'LMS Training Import'!$A$4:$P$4,12+$B49,FALSE))","v":""},{"$f":"IF(LEN(J49)<1,\"\",VLOOKUP(A49,'LMS Training Import'!$A$5:$P$54,12+B49,FALSE))","v":""}]
[12,3,0,{"$f":"VLOOKUP($A50,'LMS Training Import'!$A$5:$O$54,2,FALSE)","v":""},{"$f":"VLOOKUP($A50,'LMS Training Import'!$A$5:$O$54,3,FALSE)","v":""},{"$f":"VLOOKUP($A50,'LMS Training Import'!$A$5:$O$54,4,FALSE)","v":""},{"$f":"VLOOKUP(A50,'LMS Training Import'!$A$5:$O$54,8+B50,FALSE)","v":""},null,0,{"$f":"VLOOKUP($A50,'LMS Training Import'!$A$5:$O$54,2,FALSE)","v":""},{"$f":"VLOOKUP($A50,'LMS Training Import'!$A$5:$O$54,3,FALSE)","v":""},{"$f":"VLOOKUP($A50,'LMS Training Import'!$A$5:$O$54,4,FALSE)","v":""},{"$f":"IF(LEN(J50)<1,\"\",VLOOKUP(0,'LMS Training Import'!$A$4:$P$4,12+$B50,FALSE))","v":""},{"$f":"IF(LEN(J50)<1,\"\",VLOOKUP(A50,'LMS Training Import'!$A$5:$P$54,12+B50,FALSE))","v":""}]
[12,4,0,{"$f":"VLOOKUP($A51,'LMS Training Import'!$A$5:$O$54,2,FALSE)","v":""},{"$f":"VLOOKUP($A51,'LMS Training Import'!$A$5:$O$54,3,FALSE)","v":""},{"$f":"VLOOKUP($A51,'LMS Training Import'!$A$5:$O$54,4,FALSE)","v":""},{"$f":"VLOOKUP(A51,'LMS Training Import'!$A$5:$O$54,8+B51,FALSE)","v":""},null,0,{"$f":"VLOOKUP($A51,'LMS Training Import'!$A$5:$O$54,2,FALSE)","v":""},{"$f":"VLOOKUP($A51,'LMS Training Import'!$A$5:$O$54,3,FALSE)","v":""},{"$f":"VLOOKUP($A51,'LMS Training Import'!$A$5:$O$54,4,FALSE)","v":""},{"$f":"IF(LEN(J51)<1,\"\",VLOOKUP(0,'LMS Training Import'!$A$4:$P$4,12+$B51,FALSE))","v":""},{"$f":"IF(LEN(J51)<1,\"\",VLOOKUP(A51,'LMS Training Import'!$A$5:$P$54,12+B51,FALSE))","v":""}]
[13,1,0,{"$f":"VLOOKUP($A52,'LMS Training Import'!$A$5:$O$54,2,FALSE)","v":""},{"$f":"VLOOKUP($A52,'LMS Training Import'!$A$5:$O$54,3,FALSE)","v":""},{"$f":"VLOOKUP($A52,'LMS Training Import'!$A$5:$O$54,4,FALSE)","v":""},{"$f":"VLOOKUP(A52,'LMS Training Import'!$A$5:$O$54,8+B52,FALSE)","v":""},null,0,{"$f":"VLOOKUP($A52,'LMS Training Import'!$A$5:$O$54,2,FALSE)","v":""},{"$f":"VLOOKUP($A52,'LMS Training Import'!$A$5:$O$54,3,FALSE)","v":""},{"$f":"VLOOKUP($A52,'LMS Training Import'!$A$5:$O$54,4,FALSE)","v":""},{"$f":"IF(LEN(J52)<1,\"\",VLOOKUP(0,'LMS Training Import'!$A$4:$P$4,12+$B52,FALSE))","v":""},{"$f":"IF(LEN(J52)<1,\"\",VLOOKUP(A52,'LMS Training Import'!$A$5:$P$54,12+B52,FALSE))","v":""}]
[13,2,0,{"$f":"VLOOKUP($A53,'LMS Training Import'!$A$5:$O$54,2,FALSE)","v":""},{"$f":"VLOOKUP($A53,'LMS Training Import'!$A$5:$O$54,3,FALSE)","v":""},{"$f":"VLOOKUP($A53,'LMS Training Import'!$A$5:$O$54,4,FALSE)","v":""},{"$f":"VLOOKUP(A53,'LMS Training Import'!$A$5:$O$54,8+B53,FALSE)","v":""},null,0,{"$f":"VLOOKUP($A53,'LMS Training Import'!$A$5:$O$54,2,FALSE)","v":""},{"$f":"VLOOKUP($A53,'LMS Training Import'!$A$5:$O$54,3,FALSE)","v":""},{"$f":"VLOOKUP($A53,'LMS Training Import'!$A$5:$O$54,4,FALSE)","v":""},{"$f":"IF(LEN(J53)<1,\"\",VLOOKUP(0,'LMS Training Import'!$A$4:$P$4,12+$B53,FALSE))","v":""},{"$f":"IF(LEN(J53)<1,\"\",VLOOKUP(A53,'LMS Training Import'!$A$5:$P$54,12+B53,FALSE))","v":""}]
[13,3,0,{"$f":"VLOOKUP($A54,'LMS Training Import'!$A$5:$O$54,2,FALSE)","v":""},{"$f":"VLOOKUP($A54,'LMS Training Import'!$A$5:$O$54,3,FALSE)","v":""},{"$f":"VLOOKUP($A54,'LMS Training Import'!$A$5:$O$54,4,FALSE)","v":""},{"$f":"VLOOKUP(A54,'LMS Training Import'!$A$5:$O$54,8+B54,FALSE)","v":""},null,0,{"$f":"VLOOKUP($A54,'LMS Training Import'!$A$5:$O$54,2,FALSE)","v":""},{"$f":"VLOOKUP($A54,'LMS Training Import'!$A$5:$O$54,3,FALSE)","v":""},{"$f":"VLOOKUP($A54,'LMS Training Import'!$A$5:$O$54,4,FALSE)","v":""},{"$f":"IF(LEN(J54)<1,\"\",VLOOKUP(0,'LMS Training Import'!$A$4:$P$4,12+$B54,FALSE))","v":""},{"$f":"IF(LEN(J54)<1,\"\",VLOOKUP(A54,'LMS Training Import'!$A$5:$P$54,12+B54,FALSE))","v":""}]
[13,4,0,{"$f":"VLOOKUP($A55,'LMS Training Import'!$A$5:$O$54,2,FALSE)","v":""},{"$f":"VLOOKUP($A55,'LMS Training Import'!$A$5:$O$54,3,FALSE)","v":""},{"$f":"VLOOKUP($A55,'LMS Training Import'!$A$5:$O$54,4,FALSE)","v":""},{"$f":"VLOOKUP(A55,'LMS Training Import'!$A$5:$O$54,8+B55,FALSE)","v":""},null,0,{"$f":"VLOOKUP($A55,'LMS Training Import'!$A$5:$O$54,2,FALSE)","v":""},{"$f":"VLOOKUP($A55,'LMS Training Import'!$A$5:$O$54,3,FALSE)","v":""},{"$f":"VLOOKUP($A55,'LMS Training Import'!$A$5:$O$54,4,FALSE)","v":""},{"$f":"IF(LEN(J55)<1,\"\",VLOOKUP(0,'LMS Training Import'!$A$4:$P$4,12+$B55,FALSE))","v":""},{"$f":"IF(LEN(J55)<1,\"\",VLOOKUP(A55,'LMS Training Import'!$A$5:$P$54,12+B55,FALSE))","v":""}]
[14,1,0,{"$f":"VLOOKUP($A56,'LMS Training Import'!$A$5:$O$54,2,FALSE)","v":""},{"$f":"VLOOKUP($A56,'LMS Training Import'!$A$5:$O$54,3,FALSE)","v":""},{"$f":"VLOOKUP($A56,'LMS Training Import'!$A$5:$O$54,4,FALSE)","v":""},{"$f":"VLOOKUP(A56,'LMS Training Import'!$A$5:$O$54,8+B56,FALSE)","v":""},null,0,{"$f":"VLOOKUP($A56,'LMS Training Import'!$A$5:$O$54,2,FALSE)","v":""},{"$f":"VLOOKUP($A56,'LMS Training Import'!$A$5:$O$54,3,FALSE)","v":""},{"$f":"VLOOKUP($A56,'LMS Training Import'!$A$5:$O$54,4,FALSE)","v":""},{"$f":"IF(LEN(J56)<1,\"\",VLOOKUP(0,'LMS Training Import'!$A$4:$P$4,12+$B56,FALSE))","v":""},{"$f":"IF(LEN(J56)<1,\"\",VLOOKUP(A56,'LMS Training Import'!$A$5:$P$54,12+B56,FALSE))","v":""}]
[14,2,0,{"$f":"VLOOKUP($A57,'LMS Training Import'!$A$5:$O$54,2,FALSE)","v":""},{"$f":"VLOOKUP($A57,'LMS Training Import'!$A$5:$O$54,3,FALSE)","v":""},{"$f":"VLOOKUP($A57,'LMS Training Import'!$A$5:$O$54,4,FALSE)","v":""},{"$f":"VLOOKUP(A57,'LMS Training Import'!$A$5:$O$54,8+B57,FALSE)","v":""},null,0,{"$f":"VLOOKUP($A57,'LMS Training Import'!$A$5:$O$54,2,FALSE)","v":""},{"$f":"VLOOKUP($A57,'LMS Training Import'!$A$5:$O$54,3,FALSE)","v":""},{"$f":"VLOOKUP($A57,'LMS Training Import'!$A$5:$O$54,4,FALSE)","v":""},{"$f":"IF(LEN(J57)<1,\"\",VLOOKUP(0,'LMS Training Import'!$A$4:$P$4,12+$B57,FALSE))","v":""},{"$f":"IF(LEN(J57)<1,\"\",VLOOKUP(A57,'LMS Training Import'!$A$5:$P$54,12+B57,FALSE))","v":""}]
[14,3,0,{"$f":"VLOOKUP($A58,'LMS Training Import'!$A$5:$O$54,2,FALSE)","v":""},{"$f":"VLOOKUP($A58,'LMS Training Import'!$A$5:$O$54,3,FALSE)","v":""},{"$f":"VLOOKUP($A58,'LMS Training Import'!$A$5:$O$54,4,FALSE)","v":""},{"$f":"VLOOKUP(A58,'LMS Training Import'!$A$5:$O$54,8+B58,FALSE)","v":""},null,0,{"$f":"VLOOKUP($A58,'LMS Training Import'!$A$5:$O$54,2,FALSE)","v":""},{"$f":"VLOOKUP($A58,'LMS Training Import'!$A$5:$O$54,3,FALSE)","v":""},{"$f":"VLOOKUP($A58,'LMS Training Import'!$A$5:$O$54,4,FALSE)","v":""},{"$f":"IF(LEN(J58)<1,\"\",VLOOKUP(0,'LMS Training Import'!$A$4:$P$4,12+$B58,FALSE))","v":""},{"$f":"IF(LEN(J58)<1,\"\",VLOOKUP(A58,'LMS Training Import'!$A$5:$P$54,12+B58,FALSE))","v":""}]
[14,4,0,{"$f":"VLOOKUP($A59,'LMS Training Import'!$A$5:$O$54,2,FALSE)","v":""},{"$f":"VLOOKUP($A59,'LMS Training Import'!$A$5:$O$54,3,FALSE)","v":""},{"$f":"VLOOKUP($A59,'LMS Training Import'!$A$5:$O$54,4,FALSE)","v":""},{"$f":"VLOOKUP(A59,'LMS Training Import'!$A$5:$O$54,8+B59,FALSE)","v":""},null,0,{"$f":"VLOOKUP($A59,'LMS Training Import'!$A$5:$O$54,2,FALSE)","v":""},{"$f":"VLOOKUP($A59,'LMS Training Import'!$A$5:$O$54,3,FALSE)","v":""},{"$f":"VLOOKUP($A59,'LMS Training Import'!$A$5:$O$54,4,FALSE)","v":""},{"$f":"IF(LEN(J59)<1,\"\",VLOOKUP(0,'LMS Training Import'!$A$4:$P$4,12+$B59,FALSE))","v":""},{"$f":"IF(LEN(J59)<1,\"\",VLOOKUP(A59,'LMS Training Import'!$A$5:$P$54,12+B59,FALSE))","v":""}]
[15,1,0,{"$f":"VLOOKUP($A60,'LMS Training Import'!$A$5:$O$54,2,FALSE)","v":""},{"$f":"VLOOKUP($A60,'LMS Training Import'!$A$5:$O$54,3,FALSE)","v":""},{"$f":"VLOOKUP($A60,'LMS Training Import'!$A$5:$O$54,4,FALSE)","v":""},{"$f":"VLOOKUP(A60,'LMS Training Import'!$A$5:$O$54,8+B60,FALSE)","v":""},null,0,{"$f":"VLOOKUP($A60,'LMS Training Import'!$A$5:$O$54,2,FALSE)","v":""},{"$f":"VLOOKUP($A60,'LMS Training Import'!$A$5:$O$54,3,FALSE)","v":""},{"$f":"VLOOKUP($A60,'LMS Training Import'!$A$5:$O$54,4,FALSE)","v":""},{"$f":"IF(LEN(J60)<1,\"\",VLOOKUP(0,'LMS Training Import'!$A$4:$P$4,12+$B60,FALSE))","v":""},{"$f":"IF(LEN(J60)<1,\"\",VLOOKUP(A60,'LMS Training Import'!$A$5:$P$54,12+B60,FALSE))","v":""}]
[15,2,0,{"$f":"VLOOKUP($A61,'LMS Training Import'!$A$5:$O$54,2,FALSE)","v":""},{"$f":"VLOOKUP($A61,'LMS Training Import'!$A$5:$O$54,3,FALSE)","v":""},{"$f":"VLOOKUP($A61,'LMS Training Import'!$A$5:$O$54,4,FALSE)","v":""},{"$f":"VLOOKUP(A61,'LMS Training Import'!$A$5:$O$54,8+B61,FALSE)","v":""},null,0,{"$f":"VLOOKUP($A61,'LMS Training Import'!$A$5:$O$54,2,FALSE)","v":""},{"$f":"VLOOKUP($A61,'LMS Training Import'!$A$5:$O$54,3,FALSE)","v":""},{"$f":"VLOOKUP($A61,'LMS Training Import'!$A$5:$O$54,4,FALSE)","v":""},{"$f":"IF(LEN(J61)<1,\"\",VLOOKUP(0,'LMS Training Import'!$A$4:$P$4,12+$B61,FALSE))","v":""},{"$f":"IF(LEN(J61)<1,\"\",VLOOKUP(A61,'LMS Training Import'!$A$5:$P$54,12+B61,FALSE))","v":""}]
[15,3,0,{"$f":"VLOOKUP($A62,'LMS Training Import'!$A$5:$O$54,2,FALSE)","v":""},{"$f":"VLOOKUP($A62,'LMS Training Import'!$A$5:$O$54,3,FALSE)","v":""},{"$f":"VLOOKUP($A62,'LMS Training Import'!$A$5:$O$54,4,FALSE)","v":""},{"$f":"VLOOKUP(A62,'LMS Training Import'!$A$5:$O$54,8+B62,FALSE)","v":""},null,0,{"$f":"VLOOKUP($A62,'LMS Training Import'!$A$5:$O$54,2,FALSE)","v":""},{"$f":"VLOOKUP($A62,'LMS Training Import'!$A$5:$O$54,3,FALSE)","v":""},{"$f":"VLOOKUP($A62,'LMS Training Import'!$A$5:$O$54,4,FALSE)","v":""},{"$f":"IF(LEN(J62)<1,\"\",VLOOKUP(0,'LMS Training Import'!$A$4:$P$4,12+$B62,FALSE))","v":""},{"$f":"IF(LEN(J62)<1,\"\",VLOOKUP(A62,'LMS Training Import'!$A$5:$P$54,12+B62,FALSE))","v":""}]
[15,4,0,{"$f":"VLOOKUP($A63,'LMS Training Import'!$A$5:$O$54,2,FALSE)","v":""},{"$f":"VLOOKUP($A63,'LMS Training Import'!$A$5:$O$54,3,FALSE)","v":""},{"$f":"VLOOKUP($A63,'LMS Training Import'!$A$5:$O$54,4,FALSE)","v":""},{"$f":"VLOOKUP(A63,'LMS Training Import'!$A$5:$O$54,8+B63,FALSE)","v":""},null,0,{"$f":"VLOOKUP($A63,'LMS Training Import'!$A$5:$O$54,2,FALSE)","v":""},{"$f":"VLOOKUP($A63,'LMS Training Import'!$A$5:$O$54,3,FALSE)","v":""},{"$f":"VLOOKUP($A63,'LMS Training Import'!$A$5:$O$54,4,FALSE)","v":""},{"$f":"IF(LEN(J63)<1,\"\",VLOOKUP(0,'LMS Training Import'!$A$4:$P$4,12+$B63,FALSE))","v":""},{"$f":"IF(LEN(J63)<1,\"\",VLOOKUP(A63,'LMS Training Import'!$A$5:$P$54,12+B63,FALSE))","v":""}]
[16,1,0,{"$f":"VLOOKUP($A64,'LMS Training Import'!$A$5:$O$54,2,FALSE)","v":""},{"$f":"VLOOKUP($A64,'LMS Training Import'!$A$5:$O$54,3,FALSE)","v":""},{"$f":"VLOOKUP($A64,'LMS Training Import'!$A$5:$O$54,4,FALSE)","v":""},{"$f":"VLOOKUP(A64,'LMS Training Import'!$A$5:$O$54,8+B64,FALSE)","v":""},null,0,{"$f":"VLOOKUP($A64,'LMS Training Import'!$A$5:$O$54,2,FALSE)","v":""},{"$f":"VLOOKUP($A64,'LMS Training Import'!$A$5:$O$54,3,FALSE)","v":""},{"$f":"VLOOKUP($A64,'LMS Training Import'!$A$5:$O$54,4,FALSE)","v":""},{"$f":"IF(LEN(J64)<1,\"\",VLOOKUP(0,'LMS Training Import'!$A$4:$P$4,12+$B64,FALSE))","v":""},{"$f":"IF(LEN(J64)<1,\"\",VLOOKUP(A64,'LMS Training Import'!$A$5:$P$54,12+B64,FALSE))","v":""}]
[16,2,0,{"$f":"VLOOKUP($A65,'LMS Training Import'!$A$5:$O$54,2,FALSE)","v":""},{"$f":"VLOOKUP($A65,'LMS Training Import'!$A$5:$O$54,3,FALSE)","v":""},{"$f":"VLOOKUP($A65,'LMS Training Import'!$A$5:$O$54,4,FALSE)","v":""},{"$f":"VLOOKUP(A65,'LMS Training Import'!$A$5:$O$54,8+B65,FALSE)","v":""},null,0,{"$f":"VLOOKUP($A65,'LMS Training Import'!$A$5:$O$54,2,FALSE)","v":""},{"$f":"VLOOKUP($A65,'LMS Training Import'!$A$5:$O$54,3,FALSE)","v":""},{"$f":"VLOOKUP($A65,'LMS Training Import'!$A$5:$O$54,4,FALSE)","v":""},{"$f":"IF(LEN(J65)<1,\"\",VLOOKUP(0,'LMS Training Import'!$A$4:$P$4,12+$B65,FALSE))","v":""},{"$f":"IF(LEN(J65)<1,\"\",VLOOKUP(A65,'LMS Training Import'!$A$5:$P$54,12+B65,FALSE))","v":""}]
[16,3,0,{"$f":"VLOOKUP($A66,'LMS Training Import'!$A$5:$O$54,2,FALSE)","v":""},{"$f":"VLOOKUP($A66,'LMS Training Import'!$A$5:$O$54,3,FALSE)","v":""},{"$f":"VLOOKUP($A66,'LMS Training Import'!$A$5:$O$54,4,FALSE)","v":""},{"$f":"VLOOKUP(A66,'LMS Training Import'!$A$5:$O$54,8+B66,FALSE)","v":""},null,0,{"$f":"VLOOKUP($A66,'LMS Training Import'!$A$5:$O$54,2,FALSE)","v":""},{"$f":"VLOOKUP($A66,'LMS Training Import'!$A$5:$O$54,3,FALSE)","v":""},{"$f":"VLOOKUP($A66,'LMS Training Import'!$A$5:$O$54,4,FALSE)","v":""},{"$f":"IF(LEN(J66)<1,\"\",VLOOKUP(0,'LMS Training Import'!$A$4:$P$4,12+$B66,FALSE))","v":""},{"$f":"IF(LEN(J66)<1,\"\",VLOOKUP(A66,'LMS Training Import'!$A$5:$P$54,12+B66,FALSE))","v":""}]
[16,4,0,{"$f":"VLOOKUP($A67,'LMS Training Import'!$A$5:$O$54,2,FALSE)","v":""},{"$f":"VLOOKUP($A67,'LMS Training Import'!$A$5:$O$54,3,FALSE)","v":""},{"$f":"VLOOKUP($A67,'LMS Training Import'!$A$5:$O$54,4,FALSE)","v":""},{"$f":"VLOOKUP(A67,'LMS Training Import'!$A$5:$O$54,8+B67,FALSE)","v":""},null,0,{"$f":"VLOOKUP($A67,'LMS Training Import'!$A$5:$O$54,2,FALSE)","v":""},{"$f":"VLOOKUP($A67,'LMS Training Import'!$A$5:$O$54,3,FALSE)","v":""},{"$f":"VLOOKUP($A67,'LMS Training Import'!$A$5:$O$54,4,FALSE)","v":""},{"$f":"IF(LEN(J67)<1,\"\",VLOOKUP(0,'LMS Training Import'!$A$4:$P$4,12+$B67,FALSE))","v":""},{"$f":"IF(LEN(J67)<1,\"\",VLOOKUP(A67,'LMS Training Import'!$A$5:$P$54,12+B67,FALSE))","v":""}]
[17,1,0,{"$f":"VLOOKUP($A68,'LMS Training Import'!$A$5:$O$54,2,FALSE)","v":""},{"$f":"VLOOKUP($A68,'LMS Training Import'!$A$5:$O$54,3,FALSE)","v":""},{"$f":"VLOOKUP($A68,'LMS Training Import'!$A$5:$O$54,4,FALSE)","v":""},{"$f":"VLOOKUP(A68,'LMS Training Import'!$A$5:$O$54,8+B68,FALSE)","v":""},null,0,{"$f":"VLOOKUP($A68,'LMS Training Import'!$A$5:$O$54,2,FALSE)","v":""},{"$f":"VLOOKUP($A68,'LMS Training Import'!$A$5:$O$54,3,FALSE)","v":""},{"$f":"VLOOKUP($A68,'LMS Training Import'!$A$5:$O$54,4,FALSE)","v":""},{"$f":"IF(LEN(J68)<1,\"\",VLOOKUP(0,'LMS Training Import'!$A$4:$P$4,12+$B68,FALSE))","v":""},{"$f":"IF(LEN(J68)<1,\"\",VLOOKUP(A68,'LMS Training Import'!$A$5:$P$54,12+B68,FALSE))","v":""}]
[17,2,{"$f":"IF(LEN(G69)>1,C68+1,C68)","v":0},{"$f":"VLOOKUP($A69,'LMS Training Import'!$A$5:$O$54,2,FALSE)","v":""},{"$f":"VLOOKUP($A69,'LMS Training Import'!$A$5:$O$54,3,FALSE)","v":""},{"$f":"VLOOKUP($A69,'LMS Training Import'!$A$5:$O$54,4,FALSE)","v":""},{"$f":"VLOOKUP(A69,'LMS Training Import'!$A$5:$O$54,8+B69,FALSE)","v":""},null,{"$f":"IF(LEN(N69)>1,I68+1,I68)","v":0},{"$f":"VLOOKUP($A69,'LMS Training Import'!$A$5:$O$54,2,FALSE)","v":""},{"$f":"VLOOKUP($A69,'LMS Training Import'!$A$5:$O$54,3,FALSE)","v":""},{"$f":"VLOOKUP($A69,'LMS Training Import'!$A$5:$O$54,4,FALSE)","v":""},{"$f":"IF(LEN(J69)<1,\"\",VLOOKUP(0,'LMS Training Import'!$A$4:$P$4,12+$B69,FALSE))","v":""},{"$f":"IF(LEN(J69)<1,\"\",VLOOKUP(A69,'LMS Training Import'!$A$5:$P$54,12+B69,FALSE))","v":""}]
[17,3,0,{"$f":"VLOOKUP($A70,'LMS Training Import'!$A$5:$O$54,2,FALSE)","v":""},{"$f":"VLOOKUP($A70,'LMS Training Import'!$A$5:$O$54,3,FALSE)","v":""},{"$f":"VLOOKUP($A70,'LMS Training Import'!$A$5:$O$54,4,FALSE)","v":""},{"$f":"VLOOKUP(A70,'LMS Training Import'!$A$5:$O$54,8+B70,FALSE)","v":""},null,0,{"$f":"VLOOKUP($A70,'LMS Training Import'!$A$5:$O$54,2,FALSE)","v":""},{"$f":"VLOOKUP($A70,'LMS Training Import'!$A$5:$O$54,3,FALSE)","v":""},{"$f":"VLOOKUP($A70,'LMS Training Import'!$A$5:$O$54,4,FALSE)","v":""},{"$f":"IF(LEN(J70)<1,\"\",VLOOKUP(0,'LMS Training Import'!$A$4:$P$4,12+$B70,FALSE))","v":""},{"$f":"IF(LEN(J70)<1,\"\",VLOOKUP(A70,'LMS Training Import'!$A$5:$P$54,12+B70,FALSE))","v":""}]
[17,4,0,{"$f":"VLOOKUP($A71,'LMS Training Import'!$A$5:$O$54,2,FALSE)","v":""},{"$f":"VLOOKUP($A71,'LMS Training Import'!$A$5:$O$54,3,FALSE)","v":""},{"$f":"VLOOKUP($A71,'LMS Training Import'!$A$5:$O$54,4,FALSE)","v":""},{"$f":"VLOOKUP(A71,'LMS Training Import'!$A$5:$O$54,8+B71,FALSE)","v":""},null,0,{"$f":"VLOOKUP($A71,'LMS Training Import'!$A$5:$O$54,2,FALSE)","v":""},{"$f":"VLOOKUP($A71,'LMS Training Import'!$A$5:$O$54,3,FALSE)","v":""},{"$f":"VLOOKUP($A71,'LMS Training Import'!$A$5:$O$54,4,FALSE)","v":""},{"$f":"IF(LEN(J71)<1,\"\",VLOOKUP(0,'LMS Training Import'!$A$4:$P$4,12+$B71,FALSE))","v":""},{"$f":"IF(LEN(J71)<1,\"\",VLOOKUP(A71,'LMS Training Import'!$A$5:$P$54,12+B71,FALSE))","v":""}]
[18,1,0,{"$f":"VLOOKUP($A72,'LMS Training Import'!$A$5:$O$54,2,FALSE)","v":""},{"$f":"VLOOKUP($A72,'LMS Training Import'!$A$5:$O$54,3,FALSE)","v":""},{"$f":"VLOOKUP($A72,'LMS Training Import'!$A$5:$O$54,4,FALSE)","v":""},{"$f":"VLOOKUP(A72,'LMS Training Import'!$A$5:$O$54,8+B72,FALSE)","v":""},null,0,{"$f":"VLOOKUP($A72,'LMS Training Import'!$A$5:$O$54,2,FALSE)","v":""},{"$f":"VLOOKUP($A72,'LMS Training Import'!$A$5:$O$54,3,FALSE)","v":""},{"$f":"VLOOKUP($A72,'LMS Training Import'!$A$5:$O$54,4,FALSE)","v":""},{"$f":"IF(LEN(J72)<1,\"\",VLOOKUP(0,'LMS Training Import'!$A$4:$P$4,12+$B72,FALSE))","v":""},{"$f":"IF(LEN(J72)<1,\"\",VLOOKUP(A72,'LMS Training Import'!$A$5:$P$54,12+B72,FALSE))","v":""}]
[18,2,0,{"$f":"VLOOKUP($A73,'LMS Training Import'!$A$5:$O$54,2,FALSE)","v":""},{"$f":"VLOOKUP($A73,'LMS Training Import'!$A$5:$O$54,3,FALSE)","v":""},{"$f":"VLOOKUP($A73,'LMS Training Import'!$A$5:$O$54,4,FALSE)","v":""},{"$f":"VLOOKUP(A73,'LMS Training Import'!$A$5:$O$54,8+B73,FALSE)","v":""},null,0,{"$f":"VLOOKUP($A73,'LMS Training Import'!$A$5:$O$54,2,FALSE)","v":""},{"$f":"VLOOKUP($A73,'LMS Training Import'!$A$5:$O$54,3,FALSE)","v":""},{"$f":"VLOOKUP($A73,'LMS Training Import'!$A$5:$O$54,4,FALSE)","v":""},{"$f":"IF(LEN(J73)<1,\"\",VLOOKUP(0,'LMS Training Import'!$A$4:$P$4,12+$B73,FALSE))","v":""},{"$f":"IF(LEN(J73)<1,\"\",VLOOKUP(A73,'LMS Training Import'!$A$5:$P$54,12+B73,FALSE))","v":""}]
[18,3,0,{"$f":"VLOOKUP($A74,'LMS Training Import'!$A$5:$O$54,2,FALSE)","v":""},{"$f":"VLOOKUP($A74,'LMS Training Import'!$A$5:$O$54,3,FALSE)","v":""},{"$f":"VLOOKUP($A74,'LMS Training Import'!$A$5:$O$54,4,FALSE)","v":""},{"$f":"VLOOKUP(A74,'LMS Training Import'!$A$5:$O$54,8+B74,FALSE)","v":""},null,0,{"$f":"VLOOKUP($A74,'LMS Training Import'!$A$5:$O$54,2,FALSE)","v":""},{"$f":"VLOOKUP($A74,'LMS Training Import'!$A$5:$O$54,3,FALSE)","v":""},{"$f":"VLOOKUP($A74,'LMS Training Import'!$A$5:$O$54,4,FALSE)","v":""},{"$f":"IF(LEN(J74)<1,\"\",VLOOKUP(0,'LMS Training Import'!$A$4:$P$4,12+$B74,FALSE))","v":""},{"$f":"IF(LEN(J74)<1,\"\",VLOOKUP(A74,'LMS Training Import'!$A$5:$P$54,12+B74,FALSE))","v":""}]
[18,4,0,{"$f":"VLOOKUP($A75,'LMS Training Import'!$A$5:$O$54,2,FALSE)","v":""},{"$f":"VLOOKUP($A75,'LMS Training Import'!$A$5:$O$54,3,FALSE)","v":""},{"$f":"VLOOKUP($A75,'LMS Training Import'!$A$5:$O$54,4,FALSE)","v":""},{"$f":"VLOOKUP(A75,'LMS Training Import'!$A$5:$O$54,8+B75,FALSE)","v":""},null,0,{"$f":"VLOOKUP($A75,'LMS Training Import'!$A$5:$O$54,2,FALSE)","v":""},{"$f":"VLOOKUP($A75,'LMS Training Import'!$A$5:$O$54,3,FALSE)","v":""},{"$f":"VLOOKUP($A75,'LMS Training Import'!$A$5:$O$54,4,FALSE)","v":""},{"$f":"IF(LEN(J75)<1,\"\",VLOOKUP(0,'LMS Training Import'!$A$4:$P$4,12+$B75,FALSE))","v":""},{"$f":"IF(LEN(J75)<1,\"\",VLOOKUP(A75,'LMS Training Import'!$A$5:$P$54,12+B75,FALSE))","v":""}]
[19,1,0,{"$f":"VLOOKUP($A76,'LMS Training Import'!$A$5:$O$54,2,FALSE)","v":""},{"$f":"VLOOKUP($A76,'LMS Training Import'!$A$5:$O$54,3,FALSE)","v":""},{"$f":"VLOOKUP($A76,'LMS Training Import'!$A$5:$O$54,4,FALSE)","v":""},{"$f":"VLOOKUP(A76,'LMS Training Import'!$A$5:$O$54,8+B76,FALSE)","v":""},null,0,{"$f":"VLOOKUP($A76,'LMS Training Import'!$A$5:$O$54,2,FALSE)","v":""},{"$f":"VLOOKUP($A76,'LMS Training Import'!$A$5:$O$54,3,FALSE)","v":""},{"$f":"VLOOKUP($A76,'LMS Training Import'!$A$5:$O$54,4,FALSE)","v":""},{"$f":"IF(LEN(J76)<1,\"\",VLOOKUP(0,'LMS Training Import'!$A$4:$P$4,12+$B76,FALSE))","v":""},{"$f":"IF(LEN(J76)<1,\"\",VLOOKUP(A76,'LMS Training Import'!$A$5:$P$54,12+B76,FALSE))","v":""}]
[19,2,0,{"$f":"VLOOKUP($A77,'LMS Training Import'!$A$5:$O$54,2,FALSE)","v":""},{"$f":"VLOOKUP($A77,'LMS Training Import'!$A$5:$O$54,3,FALSE)","v":""},{"$f":"VLOOKUP($A77,'LMS Training Import'!$A$5:$O$54,4,FALSE)","v":""},{"$f":"VLOOKUP(A77,'LMS Training Import'!$A$5:$O$54,8+B77,FALSE)","v":""},null,0,{"$f":"VLOOKUP($A77,'LMS Training Import'!$A$5:$O$54,2,FALSE)","v":""},{"$f":"VLOOKUP($A77,'LMS Training Import'!$A$5:$O$54,3,FALSE)","v":""},{"$f":"VLOOKUP($A77,'LMS Training Import'!$A$5:$O$54,4,FALSE)","v":""},{"$f":"IF(LEN(J77)<1,\"\",VLOOKUP(0,'LMS Training Import'!$A$4:$P$4,12+$B77,FALSE))","v":""},{"$f":"IF(LEN(J77)<1,\"\",VLOOKUP(A77,'LMS Training Import'!$A$5:$P$54,12+B77,FALSE))","v":""}]
[19,3,0,{"$f":"VLOOKUP($A78,'LMS Training Import'!$A$5:$O$54,2,FALSE)","v":""},{"$f":"VLOOKUP($A78,'LMS Training Import'!$A$5:$O$54,3,FALSE)","v":""},{"$f":"VLOOKUP($A78,'LMS Training Import'!$A$5:$O$54,4,FALSE)","v":""},{"$f":"VLOOKUP(A78,'LMS Training Import'!$A$5:$O$54,8+B78,FALSE)","v":""},null,0,{"$f":"VLOOKUP($A78,'LMS Training Import'!$A$5:$O$54,2,FALSE)","v":""},{"$f":"VLOOKUP($A78,'LMS Training Import'!$A$5:$O$54,3,FALSE)","v":""},{"$f":"VLOOKUP($A78,'LMS Training Import'!$A$5:$O$54,4,FALSE)","v":""},{"$f":"IF(LEN(J78)<1,\"\",VLOOKUP(0,'LMS Training Import'!$A$4:$P$4,12+$B78,FALSE))","v":""},{"$f":"IF(LEN(J78)<1,\"\",VLOOKUP(A78,'LMS Training Import'!$A$5:$P$54,12+B78,FALSE))","v":""}]
[19,4,0,{"$f":"VLOOKUP($A79,'LMS Training Import'!$A$5:$O$54,2,FALSE)","v":""},{"$f":"VLOOKUP($A79,'LMS Training Import'!$A$5:$O$54,3,FALSE)","v":""},{"$f":"VLOOKUP($A79,'LMS Training Import'!$A$5:$O$54,4,FALSE)","v":""},{"$f":"VLOOKUP(A79,'LMS Training Import'!$A$5:$O$54,8+B79,FALSE)","v":""},null,0,{"$f":"VLOOKUP($A79,'LMS Training Import'!$A$5:$O$54,2,FALSE)","v":""},{"$f":"VLOOKUP($A79,'LMS Training Import'!$A$5:$O$54,3,FALSE)","v":""},{"$f":"VLOOKUP($A79,'LMS Training Import'!$A$5:$O$54,4,FALSE)","v":""},{"$f":"IF(LEN(J79)<1,\"\",VLOOKUP(0,'LMS Training Import'!$A$4:$P$4,12+$B79,FALSE))","v":""},{"$f":"IF(LEN(J79)<1,\"\",VLOOKUP(A79,'LMS Training Import'!$A$5:$P$54,12+B79,FALSE))","v":""}]
[20,1,0,{"$f":"VLOOKUP($A80,'LMS Training Import'!$A$5:$O$54,2,FALSE)","v":""},{"$f":"VLOOKUP($A80,'LMS Training Import'!$A$5:$O$54,3,FALSE)","v":""},{"$f":"VLOOKUP($A80,'LMS Training Import'!$A$5:$O$54,4,FALSE)","v":""},{"$f":"VLOOKUP(A80,'LMS Training Import'!$A$5:$O$54,8+B80,FALSE)","v":""},null,0,{"$f":"VLOOKUP($A80,'LMS Training Import'!$A$5:$O$54,2,FALSE)","v":""},{"$f":"VLOOKUP($A80,'LMS Training Import'!$A$5:$O$54,3,FALSE)","v":""},{"$f":"VLOOKUP($A80,'LMS Training Import'!$A$5:$O$54,4,FALSE)","v":""},{"$f":"IF(LEN(J80)<1,\"\",VLOOKUP(0,'LMS Training Import'!$A$4:$P$4,12+$B80,FALSE))","v":""},{"$f":"IF(LEN(J80)<1,\"\",VLOOKUP(A80,'LMS Training Import'!$A$5:$P$54,12+B80,FALSE))","v":""}]
[20,2,0,{"$f":"VLOOKUP($A81,'LMS Training Import'!$A$5:$O$54,2,FALSE)","v":""},{"$f":"VLOOKUP($A81,'LMS Training Import'!$A$5:$O$54,3,FALSE)","v":""},{"$f":"VLOOKUP($A81,'LMS Training Import'!$A$5:$O$54,4,FALSE)","v":""},{"$f":"VLOOKUP(A81,'LMS Training Import'!$A$5:$O$54,8+B81,FALSE)","v":""},null,0,{"$f":"VLOOKUP($A81,'LMS Training Import'!$A$5:$O$54,2,FALSE)","v":""},{"$f":"VLOOKUP($A81,'LMS Training Import'!$A$5:$O$54,3,FALSE)","v":""},{"$f":"VLOOKUP($A81,'LMS Training Import'!$A$5:$O$54,4,FALSE)","v":""},{"$f":"IF(LEN(J81)<1,\"\",VLOOKUP(0,'LMS Training Import'!$A$4:$P$4,12+$B81,FALSE))","v":""},{"$f":"IF(LEN(J81)<1,\"\",VLOOKUP(A81,'LMS Training Import'!$A$5:$P$54,12+B81,FALSE))","v":""}]
[20,3,0,{"$f":"VLOOKUP($A82,'LMS Training Import'!$A$5:$O$54,2,FALSE)","v":""},{"$f":"VLOOKUP($A82,'LMS Training Import'!$A$5:$O$54,3,FALSE)","v":""},{"$f":"VLOOKUP($A82,'LMS Training Import'!$A$5:$O$54,4,FALSE)","v":""},{"$f":"VLOOKUP(A82,'LMS Training Import'!$A$5:$O$54,8+B82,FALSE)","v":""},null,0,{"$f":"VLOOKUP($A82,'LMS Training Import'!$A$5:$O$54,2,FALSE)","v":""},{"$f":"VLOOKUP($A82,'LMS Training Import'!$A$5:$O$54,3,FALSE)","v":""},{"$f":"VLOOKUP($A82,'LMS Training Import'!$A$5:$O$54,4,FALSE)","v":""},{"$f":"IF(LEN(J82)<1,\"\",VLOOKUP(0,'LMS Training Import'!$A$4:$P$4,12+$B82,FALSE))","v":""},{"$f":"IF(LEN(J82)<1,\"\",VLOOKUP(A82,'LMS Training Import'!$A$5:$P$54,12+B82,FALSE))","v":""}]
[20,4,0,{"$f":"VLOOKUP($A83,'LMS Training Import'!$A$5:$O$54,2,FALSE)","v":""},{"$f":"VLOOKUP($A83,'LMS Training Import'!$A$5:$O$54,3,FALSE)","v":""},{"$f":"VLOOKUP($A83,'LMS Training Import'!$A$5:$O$54,4,FALSE)","v":""},{"$f":"VLOOKUP(A83,'LMS Training Import'!$A$5:$O$54,8+B83,FALSE)","v":""},null,0,{"$f":"VLOOKUP($A83,'LMS Training Import'!$A$5:$O$54,2,FALSE)","v":""},{"$f":"VLOOKUP($A83,'LMS Training Import'!$A$5:$O$54,3,FALSE)","v":""},{"$f":"VLOOKUP($A83,'LMS Training Import'!$A$5:$O$54,4,FALSE)","v":""},{"$f":"IF(LEN(J83)<1,\"\",VLOOKUP(0,'LMS Training Import'!$A$4:$P$4,12+$B83,FALSE))","v":""},{"$f":"IF(LEN(J83)<1,\"\",VLOOKUP(A83,'LMS Training Import'!$A$5:$P$54,12+B83,FALSE))","v":""}]
[21,1,0,{"$f":"VLOOKUP($A84,'LMS Training Import'!$A$5:$O$54,2,FALSE)","v":""},{"$f":"VLOOKUP($A84,'LMS Training Import'!$A$5:$O$54,3,FALSE)","v":""},{"$f":"VLOOKUP($A84,'LMS Training Import'!$A$5:$O$54,4,FALSE)","v":""},{"$f":"VLOOKUP(A84,'LMS Training Import'!$A$5:$O$54,8+B84,FALSE)","v":""},null,0,{"$f":"VLOOKUP($A84,'LMS Training Import'!$A$5:$O$54,2,FALSE)","v":""},{"$f":"VLOOKUP($A84,'LMS Training Import'!$A$5:$O$54,3,FALSE)","v":""},{"$f":"VLOOKUP($A84,'LMS Training Import'!$A$5:$O$54,4,FALSE)","v":""},{"$f":"IF(LEN(J84)<1,\"\",VLOOKUP(0,'LMS Training Import'!$A$4:$P$4,12+$B84,FALSE))","v":""},{"$f":"IF(LEN(J84)<1,\"\",VLOOKUP(A84,'LMS Training Import'!$A$5:$P$54,12+B84,FALSE))","v":""}]
[21,2,0,{"$f":"VLOOKUP($A85,'LMS Training Import'!$A$5:$O$54,2,FALSE)","v":""},{"$f":"VLOOKUP($A85,'LMS Training Import'!$A$5:$O$54,3,FALSE)","v":""},{"$f":"VLOOKUP($A85,'LMS Training Import'!$A$5:$O$54,4,FALSE)","v":""},{"$f":"VLOOKUP(A85,'LMS Training Import'!$A$5:$O$54,8+B85,FALSE)","v":""},null,0,{"$f":"VLOOKUP($A85,'LMS Training Import'!$A$5:$O$54,2,FALSE)","v":""},{"$f":"VLOOKUP($A85,'LMS Training Import'!$A$5:$O$54,3,FALSE)","v":""},{"$f":"VLOOKUP($A85,'LMS Training Import'!$A$5:$O$54,4,FALSE)","v":""},{"$f":"IF(LEN(J85)<1,\"\",VLOOKUP(0,'LMS Training Import'!$A$4:$P$4,12+$B85,FALSE))","v":""},{"$f":"IF(LEN(J85)<1,\"\",VLOOKUP(A85,'LMS Training Import'!$A$5:$P$54,12+B85,FALSE))","v":""}]
[21,3,0,{"$f":"VLOOKUP($A86,'LMS Training Import'!$A$5:$O$54,2,FALSE)","v":""},{"$f":"VLOOKUP($A86,'LMS Training Import'!$A$5:$O$54,3,FALSE)","v":""},{"$f":"VLOOKUP($A86,'LMS Training Import'!$A$5:$O$54,4,FALSE)","v":""},{"$f":"VLOOKUP(A86,'LMS Training Import'!$A$5:$O$54,8+B86,FALSE)","v":""},null,0,{"$f":"VLOOKUP($A86,'LMS Training Import'!$A$5:$O$54,2,FALSE)","v":""},{"$f":"VLOOKUP($A86,'LMS Training Import'!$A$5:$O$54,3,FALSE)","v":""},{"$f":"VLOOKUP($A86,'LMS Training Import'!$A$5:$O$54,4,FALSE)","v":""},{"$f":"IF(LEN(J86)<1,\"\",VLOOKUP(0,'LMS Training Import'!$A$4:$P$4,12+$B86,FALSE))","v":""},{"$f":"IF(LEN(J86)<1,\"\",VLOOKUP(A86,'LMS Training Import'!$A$5:$P$54,12+B86,FALSE))","v":""}]
[21,4,0,{"$f":"VLOOKUP($A87,'LMS Training Import'!$A$5:$O$54,2,FALSE)","v":""},{"$f":"VLOOKUP($A87,'LMS Training Import'!$A$5:$O$54,3,FALSE)","v":""},{"$f":"VLOOKUP($A87,'LMS Training Import'!$A$5:$O$54,4,FALSE)","v":""},{"$f":"VLOOKUP(A87,'LMS Training Import'!$A$5:$O$54,8+B87,FALSE)","v":""},null,0,{"$f":"VLOOKUP($A87,'LMS Training Import'!$A$5:$O$54,2,FALSE)","v":""},{"$f":"VLOOKUP($A87,'LMS Training Import'!$A$5:$O$54,3,FALSE)","v":""},{"$f":"VLOOKUP($A87,'LMS Training Import'!$A$5:$O$54,4,FALSE)","v":""},{"$f":"IF(LEN(J87)<1,\"\",VLOOKUP(0,'LMS Training Import'!$A$4:$P$4,12+$B87,FALSE))","v":""},{"$f":"IF(LEN(J87)<1,\"\",VLOOKUP(A87,'LMS Training Import'!$A$5:$P$54,12+B87,FALSE))","v":""}]
[22,1,0,{"$f":"VLOOKUP($A88,'LMS Training Import'!$A$5:$O$54,2,FALSE)","v":""},{"$f":"VLOOKUP($A88,'LMS Training Import'!$A$5:$O$54,3,FALSE)","v":""},{"$f":"VLOOKUP($A88,'LMS Training Import'!$A$5:$O$54,4,FALSE)","v":""},{"$f":"VLOOKUP(A88,'LMS Training Import'!$A$5:$O$54,8+B88,FALSE)","v":""},null,0,{"$f":"VLOOKUP($A88,'LMS Training Import'!$A$5:$O$54,2,FALSE)","v":""},{"$f":"VLOOKUP($A88,'LMS Training Import'!$A$5:$O$54,3,FALSE)","v":""},{"$f":"VLOOKUP($A88,'LMS Training Import'!$A$5:$O$54,4,FALSE)","v":""},{"$f":"IF(LEN(J88)<1,\"\",VLOOKUP(0,'LMS Training Import'!$A$4:$P$4,12+$B88,FALSE))","v":""},{"$f":"IF(LEN(J88)<1,\"\",VLOOKUP(A88,'LMS Training Import'!$A$5:$P$54,12+B88,FALSE))","v":""}]
[22,2,0,{"$f":"VLOOKUP($A89,'LMS Training Import'!$A$5:$O$54,2,FALSE)","v":""},{"$f":"VLOOKUP($A89,'LMS Training Import'!$A$5:$O$54,3,FALSE)","v":""},{"$f":"VLOOKUP($A89,'LMS Training Import'!$A$5:$O$54,4,FALSE)","v":""},{"$f":"VLOOKUP(A89,'LMS Training Import'!$A$5:$O$54,8+B89,FALSE)","v":""},null,0,{"$f":"VLOOKUP($A89,'LMS Training Import'!$A$5:$O$54,2,FALSE)","v":""},{"$f":"VLOOKUP($A89,'LMS Training Import'!$A$5:$O$54,3,FALSE)","v":""},{"$f":"VLOOKUP($A89,'LMS Training Import'!$A$5:$O$54,4,FALSE)","v":""},{"$f":"IF(LEN(J89)<1,\"\",VLOOKUP(0,'LMS Training Import'!$A$4:$P$4,12+$B89,FALSE))","v":""},{"$f":"IF(LEN(J89)<1,\"\",VLOOKUP(A89,'LMS Training Import'!$A$5:$P$54,12+B89,FALSE))","v":""}]
[22,3,0,{"$f":"VLOOKUP($A90,'LMS Training Import'!$A$5:$O$54,2,FALSE)","v":""},{"$f":"VLOOKUP($A90,'LMS Training Import'!$A$5:$O$54,3,FALSE)","v":""},{"$f":"VLOOKUP($A90,'LMS Training Import'!$A$5:$O$54,4,FALSE)","v":""},{"$f":"VLOOKUP(A90,'LMS Training Import'!$A$5:$O$54,8+B90,FALSE)","v":""},null,0,{"$f":"VLOOKUP($A90,'LMS Training Import'!$A$5:$O$54,2,FALSE)","v":""},{"$f":"VLOOKUP($A90,'LMS Training Import'!$A$5:$O$54,3,FALSE)","v":""},{"$f":"VLOOKUP($A90,'LMS Training Import'!$A$5:$O$54,4,FALSE)","v":""},{"$f":"IF(LEN(J90)<1,\"\",VLOOKUP(0,'LMS Training Import'!$A$4:$P$4,12+$B90,FALSE))","v":""},{"$f":"IF(LEN(J90)<1,\"\",VLOOKUP(A90,'LMS Training Import'!$A$5:$P$54,12+B90,FALSE))","v":""}]
[22,4,0,{"$f":"VLOOKUP($A91,'LMS Training Import'!$A$5:$O$54,2,FALSE)","v":""},{"$f":"VLOOKUP($A91,'LMS Training Import'!$A$5:$O$54,3,FALSE)","v":""},{"$f":"VLOOKUP($A91,'LMS Training Import'!$A$5:$O$54,4,FALSE)","v":""},{"$f":"VLOOKUP(A91,'LMS Training Import'!$A$5:$O$54,8+B91,FALSE)","v":""},null,0,{"$f":"VLOOKUP($A91,'LMS Training Import'!$A$5:$O$54,2,FALSE)","v":""},{"$f":"VLOOKUP($A91,'LMS Training Import'!$A$5:$O$54,3,FALSE)","v":""},{"$f":"VLOOKUP($A91,'LMS Training Import'!$A$5:$O$54,4,FALSE)","v":""},{"$f":"IF(LEN(J91)<1,\"\",VLOOKUP(0,'LMS Training Import'!$A$4:$P$4,12+$B91,FALSE))","v":""},{"$f":"IF(LEN(J91)<1,\"\",VLOOKUP(A91,'LMS Training Import'!$A$5:$P$54,12+B91,FALSE))","v":""}]
[23,1,0,{"$f":"VLOOKUP($A92,'LMS Training Import'!$A$5:$O$54,2,FALSE)","v":""},{"$f":"VLOOKUP($A92,'LMS Training Import'!$A$5:$O$54,3,FALSE)","v":""},{"$f":"VLOOKUP($A92,'LMS Training Import'!$A$5:$O$54,4,FALSE)","v":""},{"$f":"VLOOKUP(A92,'LMS Training Import'!$A$5:$O$54,8+B92,FALSE)","v":""},null,0,{"$f":"VLOOKUP($A92,'LMS Training Import'!$A$5:$O$54,2,FALSE)","v":""},{"$f":"VLOOKUP($A92,'LMS Training Import'!$A$5:$O$54,3,FALSE)","v":""},{"$f":"VLOOKUP($A92,'LMS Training Import'!$A$5:$O$54,4,FALSE)","v":""},{"$f":"IF(LEN(J92)<1,\"\",VLOOKUP(0,'LMS Training Import'!$A$4:$P$4,12+$B92,FALSE))","v":""},{"$f":"IF(LEN(J92)<1,\"\",VLOOKUP(A92,'LMS Training Import'!$A$5:$P$54,12+B92,FALSE))","v":""}]
[23,2,0,{"$f":"VLOOKUP($A93,'LMS Training Import'!$A$5:$O$54,2,FALSE)","v":""},{"$f":"VLOOKUP($A93,'LMS Training Import'!$A$5:$O$54,3,FALSE)","v":""},{"$f":"VLOOKUP($A93,'LMS Training Import'!$A$5:$O$54,4,FALSE)","v":""},{"$f":"VLOOKUP(A93,'LMS Training Import'!$A$5:$O$54,8+B93,FALSE)","v":""},null,0,{"$f":"VLOOKUP($A93,'LMS Training Import'!$A$5:$O$54,2,FALSE)","v":""},{"$f":"VLOOKUP($A93,'LMS Training Import'!$A$5:$O$54,3,FALSE)","v":""},{"$f":"VLOOKUP($A93,'LMS Training Import'!$A$5:$O$54,4,FALSE)","v":""},{"$f":"IF(LEN(J93)<1,\"\",VLOOKUP(0,'LMS Training Import'!$A$4:$P$4,12+$B93,FALSE))","v":""},{"$f":"IF(LEN(J93)<1,\"\",VLOOKUP(A93,'LMS Training Import'!$A$5:$P$54,12+B93,FALSE))","v":""}]
[23,3,0,{"$f":"VLOOKUP($A94,'LMS Training Import'!$A$5:$O$54,2,FALSE)","v":""},{"$f":"VLOOKUP($A94,'LMS Training Import'!$A$5:$O$54,3,FALSE)","v":""},{"$f":"VLOOKUP($A94,'LMS Training Import'!$A$5:$O$54,4,FALSE)","v":""},{"$f":"VLOOKUP(A94,'LMS Training Import'!$A$5:$O$54,8+B94,FALSE)","v":""},null,0,{"$f":"VLOOKUP($A94,'LMS Training Import'!$A$5:$O$54,2,FALSE)","v":""},{"$f":"VLOOKUP($A94,'LMS Training Import'!$A$5:$O$54,3,FALSE)","v":""},{"$f":"VLOOKUP($A94,'LMS Training Import'!$A$5:$O$54,4,FALSE)","v":""},{"$f":"IF(LEN(J94)<1,\"\",VLOOKUP(0,'LMS Training Import'!$A$4:$P$4,12+$B94,FALSE))","v":""},{"$f":"IF(LEN(J94)<1,\"\",VLOOKUP(A94,'LMS Training Import'!$A$5:$P$54,12+B94,FALSE))","v":""}]
[23,4,0,{"$f":"VLOOKUP($A95,'LMS Training Import'!$A$5:$O$54,2,FALSE)","v":""},{"$f":"VLOOKUP($A95,'LMS Training Import'!$A$5:$O$54,3,FALSE)","v":""},{"$f":"VLOOKUP($A95,'LMS Training Import'!$A$5:$O$54,4,FALSE)","v":""},{"$f":"VLOOKUP(A95,'LMS Training Import'!$A$5:$O$54,8+B95,FALSE)","v":""},null,0,{"$f":"VLOOKUP($A95,'LMS Training Import'!$A$5:$O$54,2,FALSE)","v":""},{"$f":"VLOOKUP($A95,'LMS Training Import'!$A$5:$O$54,3,FALSE)","v":""},{"$f":"VLOOKUP($A95,'LMS Training Import'!$A$5:$O$54,4,FALSE)","v":""},{"$f":"IF(LEN(J95)<1,\"\",VLOOKUP(0,'LMS Training Import'!$A$4:$P$4,12+$B95,FALSE))","v":""},{"$f":"IF(LEN(J95)<1,\"\",VLOOKUP(A95,'LMS Training Import'!$A$5:$P$54,12+B95,FALSE))","v":""}]
[24,1,0,{"$f":"VLOOKUP($A96,'LMS Training Import'!$A$5:$O$54,2,FALSE)","v":""},{"$f":"VLOOKUP($A96,'LMS Training Import'!$A$5:$O$54,3,FALSE)","v":""},{"$f":"VLOOKUP($A96,'LMS Training Import'!$A$5:$O$54,4,FALSE)","v":""},{"$f":"VLOOKUP(A96,'LMS Training Import'!$A$5:$O$54,8+B96,FALSE)","v":""},null,0,{"$f":"VLOOKUP($A96,'LMS Training Import'!$A$5:$O$54,2,FALSE)","v":""},{"$f":"VLOOKUP($A96,'LMS Training Import'!$A$5:$O$54,3,FALSE)","v":""},{"$f":"VLOOKUP($A96,'LMS Training Import'!$A$5:$O$54,4,FALSE)","v":""},{"$f":"IF(LEN(J96)<1,\"\",VLOOKUP(0,'LMS Training Import'!$A$4:$P$4,12+$B96,FALSE))","v":""},{"$f":"IF(LEN(J96)<1,\"\",VLOOKUP(A96,'LMS Training Import'!$A$5:$P$54,12+B96,FALSE))","v":""}]
[24,2,0,{"$f":"VLOOKUP($A97,'LMS Training Import'!$A$5:$O$54,2,FALSE)","v":""},{"$f":"VLOOKUP($A97,'LMS Training Import'!$A$5:$O$54,3,FALSE)","v":""},{"$f":"VLOOKUP($A97,'LMS Training Import'!$A$5:$O$54,4,FALSE)","v":""},{"$f":"VLOOKUP(A97,'LMS Training Import'!$A$5:$O$54,8+B97,FALSE)","v":""},null,0,{"$f":"VLOOKUP($A97,'LMS Training Import'!$A$5:$O$54,2,FALSE)","v":""},{"$f":"VLOOKUP($A97,'LMS Training Import'!$A$5:$O$54,3,FALSE)","v":""},{"$f":"VLOOKUP($A97,'LMS Training Import'!$A$5:$O$54,4,FALSE)","v":""},{"$f":"IF(LEN(J97)<1,\"\",VLOOKUP(0,'LMS Training Import'!$A$4:$P$4,12+$B97,FALSE))","v":""},{"$f":"IF(LEN(J97)<1,\"\",VLOOKUP(A97,'LMS Training Import'!$A$5:$P$54,12+B97,FALSE))","v":""}]
[24,3,0,{"$f":"VLOOKUP($A98,'LMS Training Import'!$A$5:$O$54,2,FALSE)","v":""},{"$f":"VLOOKUP($A98,'LMS Training Import'!$A$5:$O$54,3,FALSE)","v":""},{"$f":"VLOOKUP($A98,'LMS Training Import'!$A$5:$O$54,4,FALSE)","v":""},{"$f":"VLOOKUP(A98,'LMS Training Import'!$A$5:$O$54,8+B98,FALSE)","v":""},null,0,{"$f":"VLOOKUP($A98,'LMS Training Import'!$A$5:$O$54,2,FALSE)","v":""},{"$f":"VLOOKUP($A98,'LMS Training Import'!$A$5:$O$54,3,FALSE)","v":""},{"$f":"VLOOKUP($A98,'LMS Training Import'!$A$5:$O$54,4,FALSE)","v":""},{"$f":"IF(LEN(J98)<1,\"\",VLOOKUP(0,'LMS Training Import'!$A$4:$P$4,12+$B98,FALSE))","v":""},{"$f":"IF(LEN(J98)<1,\"\",VLOOKUP(A98,'LMS Training Import'!$A$5:$P$54,12+B98,FALSE))","v":""}]
[24,4,0,{"$f":"VLOOKUP($A99,'LMS Training Import'!$A$5:$O$54,2,FALSE)","v":""},{"$f":"VLOOKUP($A99,'LMS Training Import'!$A$5:$O$54,3,FALSE)","v":""},{"$f":"VLOOKUP($A99,'LMS Training Import'!$A$5:$O$54,4,FALSE)","v":""},{"$f":"VLOOKUP(A99,'LMS Training Import'!$A$5:$O$54,8+B99,FALSE)","v":""},null,0,{"$f":"VLOOKUP($A99,'LMS Training Import'!$A$5:$O$54,2,FALSE)","v":""},{"$f":"VLOOKUP($A99,'LMS Training Import'!$A$5:$O$54,3,FALSE)","v":""},{"$f":"VLOOKUP($A99,'LMS Training Import'!$A$5:$O$54,4,FALSE)","v":""},{"$f":"IF(LEN(J99)<1,\"\",VLOOKUP(0,'LMS Training Import'!$A$4:$P$4,12+$B99,FALSE))","v":""},{"$f":"IF(LEN(J99)<1,\"\",VLOOKUP(A99,'LMS Training Import'!$A$5:$P$54,12+B99,FALSE))","v":""}]
[25,1,0,{"$f":"VLOOKUP($A100,'LMS Training Import'!$A$5:$O$54,2,FALSE)","v":""},{"$f":"VLOOKUP($A100,'LMS Training Import'!$A$5:$O$54,3,FALSE)","v":""},{"$f":"VLOOKUP($A100,'LMS Training Import'!$A$5:$O$54,4,FALSE)","v":""},{"$f":"VLOOKUP(A100,'LMS Training Import'!$A$5:$O$54,8+B100,FALSE)","v":""},null,0,{"$f":"VLOOKUP($A100,'LMS Training Import'!$A$5:$O$54,2,FALSE)","v":""},{"$f":"VLOOKUP($A100,'LMS Training Import'!$A$5:$O$54,3,FALSE)","v":""},{"$f":"VLOOKUP($A100,'LMS Training Import'!$A$5:$O$54,4,FALSE)","v":""},{"$f":"IF(LEN(J100)<1,\"\",VLOOKUP(0,'LMS Training Import'!$A$4:$P$4,12+$B100,FALSE))","v":""},{"$f":"IF(LEN(J100)<1,\"\",VLOOKUP(A100,'LMS Training Import'!$A$5:$P$54,12+B100,FALSE))","v":""}]
[25,2,0,{"$f":"VLOOKUP($A101,'LMS Training Import'!$A$5:$O$54,2,FALSE)","v":""},{"$f":"VLOOKUP($A101,'LMS Training Import'!$A$5:$O$54,3,FALSE)","v":""},{"$f":"VLOOKUP($A101,'LMS Training Import'!$A$5:$O$54,4,FALSE)","v":""},{"$f":"VLOOKUP(A101,'LMS Training Import'!$A$5:$O$54,8+B101,FALSE)","v":""},null,0,{"$f":"VLOOKUP($A101,'LMS Training Import'!$A$5:$O$54,2,FALSE)","v":""},{"$f":"VLOOKUP($A101,'LMS Training Import'!$A$5:$O$54,3,FALSE)","v":""},{"$f":"VLOOKUP($A101,'LMS Training Import'!$A$5:$O$54,4,FALSE)","v":""},{"$f":"IF(LEN(J101)<1,\"\",VLOOKUP(0,'LMS Training Import'!$A$4:$P$4,12+$B101,FALSE))","v":""},{"$f":"IF(LEN(J101)<1,\"\",VLOOKUP(A101,'LMS Training Import'!$A$5:$P$54,12+B101,FALSE))","v":""}]
[25,3,0,{"$f":"VLOOKUP($A102,'LMS Training Import'!$A$5:$O$54,2,FALSE)","v":""},{"$f":"VLOOKUP($A102,'LMS Training Import'!$A$5:$O$54,3,FALSE)","v":""},{"$f":"VLOOKUP($A102,'LMS Training Import'!$A$5:$O$54,4,FALSE)","v":""},{"$f":"VLOOKUP(A102,'LMS Training Import'!$A$5:$O$54,8+B102,FALSE)","v":""},null,0,{"$f":"VLOOKUP($A102,'LMS Training Import'!$A$5:$O$54,2,FALSE)","v":""},{"$f":"VLOOKUP($A102,'LMS Training Import'!$A$5:$O$54,3,FALSE)","v":""},{"$f":"VLOOKUP($A102,'LMS Training Import'!$A$5:$O$54,4,FALSE)","v":""},{"$f":"IF(LEN(J102)<1,\"\",VLOOKUP(0,'LMS Training Import'!$A$4:$P$4,12+$B102,FALSE))","v":""},{"$f":"IF(LEN(J102)<1,\"\",VLOOKUP(A102,'LMS Training Import'!$A$5:$P$54,12+B102,FALSE))","v":""}]
[25,4,0,{"$f":"VLOOKUP($A103,'LMS Training Import'!$A$5:$O$54,2,FALSE)","v":""},{"$f":"VLOOKUP($A103,'LMS Training Import'!$A$5:$O$54,3,FALSE)","v":""},{"$f":"VLOOKUP($A103,'LMS Training Import'!$A$5:$O$54,4,FALSE)","v":""},{"$f":"VLOOKUP(A103,'LMS Training Import'!$A$5:$O$54,8+B103,FALSE)","v":""},null,0,{"$f":"VLOOKUP($A103,'LMS Training Import'!$A$5:$O$54,2,FALSE)","v":""},{"$f":"VLOOKUP($A103,'LMS Training Import'!$A$5:$O$54,3,FALSE)","v":""},{"$f":"VLOOKUP($A103,'LMS Training Import'!$A$5:$O$54,4,FALSE)","v":""},{"$f":"IF(LEN(J103)<1,\"\",VLOOKUP(0,'LMS Training Import'!$A$4:$P$4,12+$B103,FALSE))","v":""},{"$f":"IF(LEN(J103)<1,\"\",VLOOKUP(A103,'LMS Training Import'!$A$5:$P$54,12+B103,FALSE))","v":""}]
[26,1,0,{"$f":"VLOOKUP($A104,'LMS Training Import'!$A$5:$O$54,2,FALSE)","v":""},{"$f":"VLOOKUP($A104,'LMS Training Import'!$A$5:$O$54,3,FALSE)","v":""},{"$f":"VLOOKUP($A104,'LMS Training Import'!$A$5:$O$54,4,FALSE)","v":""},{"$f":"VLOOKUP(A104,'LMS Training Import'!$A$5:$O$54,8+B104,FALSE)","v":""},null,0,{"$f":"VLOOKUP($A104,'LMS Training Import'!$A$5:$O$54,2,FALSE)","v":""},{"$f":"VLOOKUP($A104,'LMS Training Import'!$A$5:$O$54,3,FALSE)","v":""},{"$f":"VLOOKUP($A104,'LMS Training Import'!$A$5:$O$54,4,FALSE)","v":""},{"$f":"IF(LEN(J104)<1,\"\",VLOOKUP(0,'LMS Training Import'!$A$4:$P$4,12+$B104,FALSE))","v":""},{"$f":"IF(LEN(J104)<1,\"\",VLOOKUP(A104,'LMS Training Import'!$A$5:$P$54,12+B104,FALSE))","v":""}]
[26,2,0,{"$f":"VLOOKUP($A105,'LMS Training Import'!$A$5:$O$54,2,FALSE)","v":""},{"$f":"VLOOKUP($A105,'LMS Training Import'!$A$5:$O$54,3,FALSE)","v":""},{"$f":"VLOOKUP($A105,'LMS Training Import'!$A$5:$O$54,4,FALSE)","v":""},{"$f":"VLOOKUP(A105,'LMS Training Import'!$A$5:$O$54,8+B105,FALSE)","v":""},null,0,{"$f":"VLOOKUP($A105,'LMS Training Import'!$A$5:$O$54,2,FALSE)","v":""},{"$f":"VLOOKUP($A105,'LMS Training Import'!$A$5:$O$54,3,FALSE)","v":""},{"$f":"VLOOKUP($A105,'LMS Training Import'!$A$5:$O$54,4,FALSE)","v":""},{"$f":"IF(LEN(J105)<1,\"\",VLOOKUP(0,'LMS Training Import'!$A$4:$P$4,12+$B105,FALSE))","v":""},{"$f":"IF(LEN(J105)<1,\"\",VLOOKUP(A105,'LMS Training Import'!$A$5:$P$54,12+B105,FALSE))","v":""}]
[26,3,0,{"$f":"VLOOKUP($A106,'LMS Training Import'!$A$5:$O$54,2,FALSE)","v":""},{"$f":"VLOOKUP($A106,'LMS Training Import'!$A$5:$O$54,3,FALSE)","v":""},{"$f":"VLOOKUP($A106,'LMS Training Import'!$A$5:$O$54,4,FALSE)","v":""},{"$f":"VLOOKUP(A106,'LMS Training Import'!$A$5:$O$54,8+B106,FALSE)","v":""},null,0,{"$f":"VLOOKUP($A106,'LMS Training Import'!$A$5:$O$54,2,FALSE)","v":""},{"$f":"VLOOKUP($A106,'LMS Training Import'!$A$5:$O$54,3,FALSE)","v":""},{"$f":"VLOOKUP($A106,'LMS Training Import'!$A$5:$O$54,4,FALSE)","v":""},{"$f":"IF(LEN(J106)<1,\"\",VLOOKUP(0,'LMS Training Import'!$A$4:$P$4,12+$B106,FALSE))","v":""},{"$f":"IF(LEN(J106)<1,\"\",VLOOKUP(A106,'LMS Training Import'!$A$5:$P$54,12+B106,FALSE))","v":""}]
[26,4,0,{"$f":"VLOOKUP($A107,'LMS Training Import'!$A$5:$O$54,2,FALSE)","v":""},{"$f":"VLOOKUP($A107,'LMS Training Import'!$A$5:$O$54,3,FALSE)","v":""},{"$f":"VLOOKUP($A107,'LMS Training Import'!$A$5:$O$54,4,FALSE)","v":""},{"$f":"VLOOKUP(A107,'LMS Training Import'!$A$5:$O$54,8+B107,FALSE)","v":""},null,0,{"$f":"VLOOKUP($A107,'LMS Training Import'!$A$5:$O$54,2,FALSE)","v":""},{"$f":"VLOOKUP($A107,'LMS Training Import'!$A$5:$O$54,3,FALSE)","v":""},{"$f":"VLOOKUP($A107,'LMS Training Import'!$A$5:$O$54,4,FALSE)","v":""},{"$f":"IF(LEN(J107)<1,\"\",VLOOKUP(0,'LMS Training Import'!$A$4:$P$4,12+$B107,FALSE))","v":""},{"$f":"IF(LEN(J107)<1,\"\",VLOOKUP(A107,'LMS Training Import'!$A$5:$P$54,12+B107,FALSE))","v":""}]
[27,1,0,{"$f":"VLOOKUP($A108,'LMS Training Import'!$A$5:$O$54,2,FALSE)","v":""},{"$f":"VLOOKUP($A108,'LMS Training Import'!$A$5:$O$54,3,FALSE)","v":""},{"$f":"VLOOKUP($A108,'LMS Training Import'!$A$5:$O$54,4,FALSE)","v":""},{"$f":"VLOOKUP(A108,'LMS Training Import'!$A$5:$O$54,8+B108,FALSE)","v":""},null,0,{"$f":"VLOOKUP($A108,'LMS Training Import'!$A$5:$O$54,2,FALSE)","v":""},{"$f":"VLOOKUP($A108,'LMS Training Import'!$A$5:$O$54,3,FALSE)","v":""},{"$f":"VLOOKUP($A108,'LMS Training Import'!$A$5:$O$54,4,FALSE)","v":""},{"$f":"IF(LEN(J108)<1,\"\",VLOOKUP(0,'LMS Training Import'!$A$4:$P$4,12+$B108,FALSE))","v":""},{"$f":"IF(LEN(J108)<1,\"\",VLOOKUP(A108,'LMS Training Import'!$A$5:$P$54,12+B108,FALSE))","v":""}]
[27,2,0,{"$f":"VLOOKUP($A109,'LMS Training Import'!$A$5:$O$54,2,FALSE)","v":""},{"$f":"VLOOKUP($A109,'LMS Training Import'!$A$5:$O$54,3,FALSE)","v":""},{"$f":"VLOOKUP($A109,'LMS Training Import'!$A$5:$O$54,4,FALSE)","v":""},{"$f":"VLOOKUP(A109,'LMS Training Import'!$A$5:$O$54,8+B109,FALSE)","v":""},null,0,{"$f":"VLOOKUP($A109,'LMS Training Import'!$A$5:$O$54,2,FALSE)","v":""},{"$f":"VLOOKUP($A109,'LMS Training Import'!$A$5:$O$54,3,FALSE)","v":""},{"$f":"VLOOKUP($A109,'LMS Training Import'!$A$5:$O$54,4,FALSE)","v":""},{"$f":"IF(LEN(J109)<1,\"\",VLOOKUP(0,'LMS Training Import'!$A$4:$P$4,12+$B109,FALSE))","v":""},{"$f":"IF(LEN(J109)<1,\"\",VLOOKUP(A109,'LMS Training Import'!$A$5:$P$54,12+B109,FALSE))","v":""}]
[27,3,0,{"$f":"VLOOKUP($A110,'LMS Training Import'!$A$5:$O$54,2,FALSE)","v":""},{"$f":"VLOOKUP($A110,'LMS Training Import'!$A$5:$O$54,3,FALSE)","v":""},{"$f":"VLOOKUP($A110,'LMS Training Import'!$A$5:$O$54,4,FALSE)","v":""},{"$f":"VLOOKUP(A110,'LMS Training Import'!$A$5:$O$54,8+B110,FALSE)","v":""},null,0,{"$f":"VLOOKUP($A110,'LMS Training Import'!$A$5:$O$54,2,FALSE)","v":""},{"$f":"VLOOKUP($A110,'LMS Training Import'!$A$5:$O$54,3,FALSE)","v":""},{"$f":"VLOOKUP($A110,'LMS Training Import'!$A$5:$O$54,4,FALSE)","v":""},{"$f":"IF(LEN(J110)<1,\"\",VLOOKUP(0,'LMS Training Import'!$A$4:$P$4,12+$B110,FALSE))","v":""},{"$f":"IF(LEN(J110)<1,\"\",VLOOKUP(A110,'LMS Training Import'!$A$5:$P$54,12+B110,FALSE))","v":""}]
[27,4,0,{"$f":"VLOOKUP($A111,'LMS Training Import'!$A$5:$O$54,2,FALSE)","v":""},{"$f":"VLOOKUP($A111,'LMS Training Import'!$A$5:$O$54,3,FALSE)","v":""},{"$f":"VLOOKUP($A111,'LMS Training Import'!$A$5:$O$54,4,FALSE)","v":""},{"$f":"VLOOKUP(A111,'LMS Training Import'!$A$5:$O$54,8+B111,FALSE)","v":""},null,0,{"$f":"VLOOKUP($A111,'LMS Training Import'!$A$5:$O$54,2,FALSE)","v":""},{"$f":"VLOOKUP($A111,'LMS Training Import'!$A$5:$O$54,3,FALSE)","v":""},{"$f":"VLOOKUP($A111,'LMS Training Import'!$A$5:$O$54,4,FALSE)","v":""},{"$f":"IF(LEN(J111)<1,\"\",VLOOKUP(0,'LMS Training Import'!$A$4:$P$4,12+$B111,FALSE))","v":""},{"$f":"IF(LEN(J111)<1,\"\",VLOOKUP(A111,'LMS Training Import'!$A$5:$P$54,12+B111,FALSE))","v":""}]
[28,1,0,{"$f":"VLOOKUP($A112,'LMS Training Import'!$A$5:$O$54,2,FALSE)","v":""},{"$f":"VLOOKUP($A112,'LMS Training Import'!$A$5:$O$54,3,FALSE)","v":""},{"$f":"VLOOKUP($A112,'LMS Training Import'!$A$5:$O$54,4,FALSE)","v":""},{"$f":"VLOOKUP(A112,'LMS Training Import'!$A$5:$O$54,8+B112,FALSE)","v":""},null,0,{"$f":"VLOOKUP($A112,'LMS Training Import'!$A$5:$O$54,2,FALSE)","v":""},{"$f":"VLOOKUP($A112,'LMS Training Import'!$A$5:$O$54,3,FALSE)","v":""},{"$f":"VLOOKUP($A112,'LMS Training Import'!$A$5:$O$54,4,FALSE)","v":""},{"$f":"IF(LEN(J112)<1,\"\",VLOOKUP(0,'LMS Training Import'!$A$4:$P$4,12+$B112,FALSE))","v":""},{"$f":"IF(LEN(J112)<1,\"\",VLOOKUP(A112,'LMS Training Import'!$A$5:$P$54,12+B112,FALSE))","v":""}]
[28,2,0,{"$f":"VLOOKUP($A113,'LMS Training Import'!$A$5:$O$54,2,FALSE)","v":""},{"$f":"VLOOKUP($A113,'LMS Training Import'!$A$5:$O$54,3,FALSE)","v":""},{"$f":"VLOOKUP($A113,'LMS Training Import'!$A$5:$O$54,4,FALSE)","v":""},{"$f":"VLOOKUP(A113,'LMS Training Import'!$A$5:$O$54,8+B113,FALSE)","v":""},null,0,{"$f":"VLOOKUP($A113,'LMS Training Import'!$A$5:$O$54,2,FALSE)","v":""},{"$f":"VLOOKUP($A113,'LMS Training Import'!$A$5:$O$54,3,FALSE)","v":""},{"$f":"VLOOKUP($A113,'LMS Training Import'!$A$5:$O$54,4,FALSE)","v":""},{"$f":"IF(LEN(J113)<1,\"\",VLOOKUP(0,'LMS Training Import'!$A$4:$P$4,12+$B113,FALSE))","v":""},{"$f":"IF(LEN(J113)<1,\"\",VLOOKUP(A113,'LMS Training Import'!$A$5:$P$54,12+B113,FALSE))","v":""}]
[28,3,0,{"$f":"VLOOKUP($A114,'LMS Training Import'!$A$5:$O$54,2,FALSE)","v":""},{"$f":"VLOOKUP($A114,'LMS Training Import'!$A$5:$O$54,3,FALSE)","v":""},{"$f":"VLOOKUP($A114,'LMS Training Import'!$A$5:$O$54,4,FALSE)","v":""},{"$f":"VLOOKUP(A114,'LMS Training Import'!$A$5:$O$54,8+B114,FALSE)","v":""},null,0,{"$f":"VLOOKUP($A114,'LMS Training Import'!$A$5:$O$54,2,FALSE)","v":""},{"$f":"VLOOKUP($A114,'LMS Training Import'!$A$5:$O$54,3,FALSE)","v":""},{"$f":"VLOOKUP($A114,'LMS Training Import'!$A$5:$O$54,4,FALSE)","v":""},{"$f":"IF(LEN(J114)<1,\"\",VLOOKUP(0,'LMS Training Import'!$A$4:$P$4,12+$B114,FALSE))","v":""},{"$f":"IF(LEN(J114)<1,\"\",VLOOKUP(A114,'LMS Training Import'!$A$5:$P$54,12+B114,FALSE))","v":""}]
[28,4,0,{"$f":"VLOOKUP($A115,'LMS Training Import'!$A$5:$O$54,2,FALSE)","v":""},{"$f":"VLOOKUP($A115,'LMS Training Import'!$A$5:$O$54,3,FALSE)","v":""},{"$f":"VLOOKUP($A115,'LMS Training Import'!$A$5:$O$54,4,FALSE)","v":""},{"$f":"VLOOKUP(A115,'LMS Training Import'!$A$5:$O$54,8+B115,FALSE)","v":""},null,0,{"$f":"VLOOKUP($A115,'LMS Training Import'!$A$5:$O$54,2,FALSE)","v":""},{"$f":"VLOOKUP($A115,'LMS Training Import'!$A$5:$O$54,3,FALSE)","v":""},{"$f":"VLOOKUP($A115,'LMS Training Import'!$A$5:$O$54,4,FALSE)","v":""},{"$f":"IF(LEN(J115)<1,\"\",VLOOKUP(0,'LMS Training Import'!$A$4:$P$4,12+$B115,FALSE))","v":""},{"$f":"IF(LEN(J115)<1,\"\",VLOOKUP(A115,'LMS Training Import'!$A$5:$P$54,12+B115,FALSE))","v":""}]
[29,1,0,{"$f":"VLOOKUP($A116,'LMS Training Import'!$A$5:$O$54,2,FALSE)","v":""},{"$f":"VLOOKUP($A116,'LMS Training Import'!$A$5:$O$54,3,FALSE)","v":""},{"$f":"VLOOKUP($A116,'LMS Training Import'!$A$5:$O$54,4,FALSE)","v":""},{"$f":"VLOOKUP(A116,'LMS Training Import'!$A$5:$O$54,8+B116,FALSE)","v":""},null,0,{"$f":"VLOOKUP($A116,'LMS Training Import'!$A$5:$O$54,2,FALSE)","v":""},{"$f":"VLOOKUP($A116,'LMS Training Import'!$A$5:$O$54,3,FALSE)","v":""},{"$f":"VLOOKUP($A116,'LMS Training Import'!$A$5:$O$54,4,FALSE)","v":""},{"$f":"IF(LEN(J116)<1,\"\",VLOOKUP(0,'LMS Training Import'!$A$4:$P$4,12+$B116,FALSE))","v":""},{"$f":"IF(LEN(J116)<1,\"\",VLOOKUP(A116,'LMS Training Import'!$A$5:$P$54,12+B116,FALSE))","v":""}]
[29,2,0,{"$f":"VLOOKUP($A117,'LMS Training Import'!$A$5:$O$54,2,FALSE)","v":""},{"$f":"VLOOKUP($A117,'LMS Training Import'!$A$5:$O$54,3,FALSE)","v":""},{"$f":"VLOOKUP($A117,'LMS Training Import'!$A$5:$O$54,4,FALSE)","v":""},{"$f":"VLOOKUP(A117,'LMS Training Import'!$A$5:$O$54,8+B117,FALSE)","v":""},null,0,{"$f":"VLOOKUP($A117,'LMS Training Import'!$A$5:$O$54,2,FALSE)","v":""},{"$f":"VLOOKUP($A117,'LMS Training Import'!$A$5:$O$54,3,FALSE)","v":""},{"$f":"VLOOKUP($A117,'LMS Training Import'!$A$5:$O$54,4,FALSE)","v":""},{"$f":"IF(LEN(J117)<1,\"\",VLOOKUP(0,'LMS Training Import'!$A$4:$P$4,12+$B117,FALSE))","v":""},{"$f":"IF(LEN(J117)<1,\"\",VLOOKUP(A117,'LMS Training Import'!$A$5:$P$54,12+B117,FALSE))","v":""}]
[29,3,0,{"$f":"VLOOKUP($A118,'LMS Training Import'!$A$5:$O$54,2,FALSE)","v":""},{"$f":"VLOOKUP($A118,'LMS Training Import'!$A$5:$O$54,3,FALSE)","v":""},{"$f":"VLOOKUP($A118,'LMS Training Import'!$A$5:$O$54,4,FALSE)","v":""},{"$f":"VLOOKUP(A118,'LMS Training Import'!$A$5:$O$54,8+B118,FALSE)","v":""},null,0,{"$f":"VLOOKUP($A118,'LMS Training Import'!$A$5:$O$54,2,FALSE)","v":""},{"$f":"VLOOKUP($A118,'LMS Training Import'!$A$5:$O$54,3,FALSE)","v":""},{"$f":"VLOOKUP($A118,'LMS Training Import'!$A$5:$O$54,4,FALSE)","v":""},{"$f":"IF(LEN(J118)<1,\"\",VLOOKUP(0,'LMS Training Import'!$A$4:$P$4,12+$B118,FALSE))","v":""},{"$f":"IF(LEN(J118)<1,\"\",VLOOKUP(A118,'LMS Training Import'!$A$5:$P$54,12+B118,FALSE))","v":""}]
[29,4,0,{"$f":"VLOOKUP($A119,'LMS Training Import'!$A$5:$O$54,2,FALSE)","v":""},{"$f":"VLOOKUP($A119,'LMS Training Import'!$A$5:$O$54,3,FALSE)","v":""},{"$f":"VLOOKUP($A119,'LMS Training Import'!$A$5:$O$54,4,FALSE)","v":""},{"$f":"VLOOKUP(A119,'LMS Training Import'!$A$5:$O$54,8+B119,FALSE)","v":""},null,0,{"$f":"VLOOKUP($A119,'LMS Training Import'!$A$5:$O$54,2,FALSE)","v":""},{"$f":"VLOOKUP($A119,'LMS Training Import'!$A$5:$O$54,3,FALSE)","v":""},{"$f":"VLOOKUP($A119,'LMS Training Import'!$A$5:$O$54,4,FALSE)","v":""},{"$f":"IF(LEN(J119)<1,\"\",VLOOKUP(0,'LMS Training Import'!$A$4:$P$4,12+$B119,FALSE))","v":""},{"$f":"IF(LEN(J119)<1,\"\",VLOOKUP(A119,'LMS Training Import'!$A$5:$P$54,12+B119,FALSE))","v":""}]
[30,1,0,{"$f":"VLOOKUP($A120,'LMS Training Import'!$A$5:$O$54,2,FALSE)","v":""},{"$f":"VLOOKUP($A120,'LMS Training Import'!$A$5:$O$54,3,FALSE)","v":""},{"$f":"VLOOKUP($A120,'LMS Training Import'!$A$5:$O$54,4,FALSE)","v":""},{"$f":"VLOOKUP(A120,'LMS Training Import'!$A$5:$O$54,8+B120,FALSE)","v":""},null,0,{"$f":"VLOOKUP($A120,'LMS Training Import'!$A$5:$O$54,2,FALSE)","v":""},{"$f":"VLOOKUP($A120,'LMS Training Import'!$A$5:$O$54,3,FALSE)","v":""},{"$f":"VLOOKUP($A120,'LMS Training Import'!$A$5:$O$54,4,FALSE)","v":""},{"$f":"IF(LEN(J120)<1,\"\",VLOOKUP(0,'LMS Training Import'!$A$4:$P$4,12+$B120,FALSE))","v":""},{"$f":"IF(LEN(J120)<1,\"\",VLOOKUP(A120,'LMS Training Import'!$A$5:$P$54,12+B120,FALSE))","v":""}]
[30,2,0,{"$f":"VLOOKUP($A121,'LMS Training Import'!$A$5:$O$54,2,FALSE)","v":""},{"$f":"VLOOKUP($A121,'LMS Training Import'!$A$5:$O$54,3,FALSE)","v":""},{"$f":"VLOOKUP($A121,'LMS Training Import'!$A$5:$O$54,4,FALSE)","v":""},{"$f":"VLOOKUP(A121,'LMS Training Import'!$A$5:$O$54,8+B121,FALSE)","v":""},null,0,{"$f":"VLOOKUP($A121,'LMS Training Import'!$A$5:$O$54,2,FALSE)","v":""},{"$f":"VLOOKUP($A121,'LMS Training Import'!$A$5:$O$54,3,FALSE)","v":""},{"$f":"VLOOKUP($A121,'LMS Training Import'!$A$5:$O$54,4,FALSE)","v":""},{"$f":"IF(LEN(J121)<1,\"\",VLOOKUP(0,'LMS Training Import'!$A$4:$P$4,12+$B121,FALSE))","v":""},{"$f":"IF(LEN(J121)<1,\"\",VLOOKUP(A121,'LMS Training Import'!$A$5:$P$54,12+B121,FALSE))","v":""}]
[30,3,0,{"$f":"VLOOKUP($A122,'LMS Training Import'!$A$5:$O$54,2,FALSE)","v":""},{"$f":"VLOOKUP($A122,'LMS Training Import'!$A$5:$O$54,3,FALSE)","v":""},{"$f":"VLOOKUP($A122,'LMS Training Import'!$A$5:$O$54,4,FALSE)","v":""},{"$f":"VLOOKUP(A122,'LMS Training Import'!$A$5:$O$54,8+B122,FALSE)","v":""},null,0,{"$f":"VLOOKUP($A122,'LMS Training Import'!$A$5:$O$54,2,FALSE)","v":""},{"$f":"VLOOKUP($A122,'LMS Training Import'!$A$5:$O$54,3,FALSE)","v":""},{"$f":"VLOOKUP($A122,'LMS Training Import'!$A$5:$O$54,4,FALSE)","v":""},{"$f":"IF(LEN(J122)<1,\"\",VLOOKUP(0,'LMS Training Import'!$A$4:$P$4,12+$B122,FALSE))","v":""},{"$f":"IF(LEN(J122)<1,\"\",VLOOKUP(A122,'LMS Training Import'!$A$5:$P$54,12+B122,FALSE))","v":""}]
[30,4,0,{"$f":"VLOOKUP($A123,'LMS Training Import'!$A$5:$O$54,2,FALSE)","v":""},{"$f":"VLOOKUP($A123,'LMS Training Import'!$A$5:$O$54,3,FALSE)","v":""},{"$f":"VLOOKUP($A123,'LMS Training Import'!$A$5:$O$54,4,FALSE)","v":""},{"$f":"VLOOKUP(A123,'LMS Training Import'!$A$5:$O$54,8+B123,FALSE)","v":""},null,0,{"$f":"VLOOKUP($A123,'LMS Training Import'!$A$5:$O$54,2,FALSE)","v":""},{"$f":"VLOOKUP($A123,'LMS Training Import'!$A$5:$O$54,3,FALSE)","v":""},{"$f":"VLOOKUP($A123,'LMS Training Import'!$A$5:$O$54,4,FALSE)","v":""},{"$f":"IF(LEN(J123)<1,\"\",VLOOKUP(0,'LMS Training Import'!$A$4:$P$4,12+$B123,FALSE))","v":""},{"$f":"IF(LEN(J123)<1,\"\",VLOOKUP(A123,'LMS Training Import'!$A$5:$P$54,12+B123,FALSE))","v":""}]
[31,1,0,{"$f":"VLOOKUP($A124,'LMS Training Import'!$A$5:$O$54,2,FALSE)","v":""},{"$f":"VLOOKUP($A124,'LMS Training Import'!$A$5:$O$54,3,FALSE)","v":""},{"$f":"VLOOKUP($A124,'LMS Training Import'!$A$5:$O$54,4,FALSE)","v":""},{"$f":"VLOOKUP(A124,'LMS Training Import'!$A$5:$O$54,8+B124,FALSE)","v":""},null,0,{"$f":"VLOOKUP($A124,'LMS Training Import'!$A$5:$O$54,2,FALSE)","v":""},{"$f":"VLOOKUP($A124,'LMS Training Import'!$A$5:$O$54,3,FALSE)","v":""},{"$f":"VLOOKUP($A124,'LMS Training Import'!$A$5:$O$54,4,FALSE)","v":""},{"$f":"IF(LEN(J124)<1,\"\",VLOOKUP(0,'LMS Training Import'!$A$4:$P$4,12+$B124,FALSE))","v":""},{"$f":"IF(LEN(J124)<1,\"\",VLOOKUP(A124,'LMS Training Import'!$A$5:$P$54,12+B124,FALSE))","v":""}]
[31,2,0,{"$f":"VLOOKUP($A125,'LMS Training Import'!$A$5:$O$54,2,FALSE)","v":""},{"$f":"VLOOKUP($A125,'LMS Training Import'!$A$5:$O$54,3,FALSE)","v":""},{"$f":"VLOOKUP($A125,'LMS Training Import'!$A$5:$O$54,4,FALSE)","v":""},{"$f":"VLOOKUP(A125,'LMS Training Import'!$A$5:$O$54,8+B125,FALSE)","v":""},null,0,{"$f":"VLOOKUP($A125,'LMS Training Import'!$A$5:$O$54,2,FALSE)","v":""},{"$f":"VLOOKUP($A125,'LMS Training Import'!$A$5:$O$54,3,FALSE)","v":""},{"$f":"VLOOKUP($A125,'LMS Training Import'!$A$5:$O$54,4,FALSE)","v":""},{"$f":"IF(LEN(J125)<1,\"\",VLOOKUP(0,'LMS Training Import'!$A$4:$P$4,12+$B125,FALSE))","v":""},{"$f":"IF(LEN(J125)<1,\"\",VLOOKUP(A125,'LMS Training Import'!$A$5:$P$54,12+B125,FALSE))","v":""}]
[31,3,0,{"$f":"VLOOKUP($A126,'LMS Training Import'!$A$5:$O$54,2,FALSE)","v":""},{"$f":"VLOOKUP($A126,'LMS Training Import'!$A$5:$O$54,3,FALSE)","v":""},{"$f":"VLOOKUP($A126,'LMS Training Import'!$A$5:$O$54,4,FALSE)","v":""},{"$f":"VLOOKUP(A126,'LMS Training Import'!$A$5:$O$54,8+B126,FALSE)","v":""},null,0,{"$f":"VLOOKUP($A126,'LMS Training Import'!$A$5:$O$54,2,FALSE)","v":""},{"$f":"VLOOKUP($A126,'LMS Training Import'!$A$5:$O$54,3,FALSE)","v":""},{"$f":"VLOOKUP($A126,'LMS Training Import'!$A$5:$O$54,4,FALSE)","v":""},{"$f":"IF(LEN(J126)<1,\"\",VLOOKUP(0,'LMS Training Import'!$A$4:$P$4,12+$B126,FALSE))","v":""},{"$f":"IF(LEN(J126)<1,\"\",VLOOKUP(A126,'LMS Training Import'!$A$5:$P$54,12+B126,FALSE))","v":""}]
[31,4,0,{"$f":"VLOOKUP($A127,'LMS Training Import'!$A$5:$O$54,2,FALSE)","v":""},{"$f":"VLOOKUP($A127,'LMS Training Import'!$A$5:$O$54,3,FALSE)","v":""},{"$f":"VLOOKUP($A127,'LMS Training Import'!$A$5:$O$54,4,FALSE)","v":""},{"$f":"VLOOKUP(A127,'LMS Training Import'!$A$5:$O$54,8+B127,FALSE)","v":""},null,0,{"$f":"VLOOKUP($A127,'LMS Training Import'!$A$5:$O$54,2,FALSE)","v":""},{"$f":"VLOOKUP($A127,'LMS Training Import'!$A$5:$O$54,3,FALSE)","v":""},{"$f":"VLOOKUP($A127,'LMS Training Import'!$A$5:$O$54,4,FALSE)","v":""},{"$f":"IF(LEN(J127)<1,\"\",VLOOKUP(0,'LMS Training Import'!$A$4:$P$4,12+$B127,FALSE))","v":""},{"$f":"IF(LEN(J127)<1,\"\",VLOOKUP(A127,'LMS Training Import'!$A$5:$P$54,12+B127,FALSE))","v":""}]
[32,1,0,{"$f":"VLOOKUP($A128,'LMS Training Import'!$A$5:$O$54,2,FALSE)","v":""},{"$f":"VLOOKUP($A128,'LMS Training Import'!$A$5:$O$54,3,FALSE)","v":""},{"$f":"VLOOKUP($A128,'LMS Training Import'!$A$5:$O$54,4,FALSE)","v":""},{"$f":"VLOOKUP(A128,'LMS Training Import'!$A$5:$O$54,8+B128,FALSE)","v":""},null,0,{"$f":"VLOOKUP($A128,'LMS Training Import'!$A$5:$O$54,2,FALSE)","v":""},{"$f":"VLOOKUP($A128,'LMS Training Import'!$A$5:$O$54,3,FALSE)","v":""},{"$f":"VLOOKUP($A128,'LMS Training Import'!$A$5:$O$54,4,FALSE)","v":""},{"$f":"IF(LEN(J128)<1,\"\",VLOOKUP(0,'LMS Training Import'!$A$4:$P$4,12+$B128,FALSE))","v":""},{"$f":"IF(LEN(J128)<1,\"\",VLOOKUP(A128,'LMS Training Import'!$A$5:$P$54,12+B128,FALSE))","v":""}]
[32,2,0,{"$f":"VLOOKUP($A129,'LMS Training Import'!$A$5:$O$54,2,FALSE)","v":""},{"$f":"VLOOKUP($A129,'LMS Training Import'!$A$5:$O$54,3,FALSE)","v":""},{"$f":"VLOOKUP($A129,'LMS Training Import'!$A$5:$O$54,4,FALSE)","v":""},{"$f":"VLOOKUP(A129,'LMS Training Import'!$A$5:$O$54,8+B129,FALSE)","v":""},null,0,{"$f":"VLOOKUP($A129,'LMS Training Import'!$A$5:$O$54,2,FALSE)","v":""},{"$f":"VLOOKUP($A129,'LMS Training Import'!$A$5:$O$54,3,FALSE)","v":""},{"$f":"VLOOKUP($A129,'LMS Training Import'!$A$5:$O$54,4,FALSE)","v":""},{"$f":"IF(LEN(J129)<1,\"\",VLOOKUP(0,'LMS Training Import'!$A$4:$P$4,12+$B129,FALSE))","v":""},{"$f":"IF(LEN(J129)<1,\"\",VLOOKUP(A129,'LMS Training Import'!$A$5:$P$54,12+B129,FALSE))","v":""}]
[32,3,0,{"$f":"VLOOKUP($A130,'LMS Training Import'!$A$5:$O$54,2,FALSE)","v":""},{"$f":"VLOOKUP($A130,'LMS Training Import'!$A$5:$O$54,3,FALSE)","v":""},{"$f":"VLOOKUP($A130,'LMS Training Import'!$A$5:$O$54,4,FALSE)","v":""},{"$f":"VLOOKUP(A130,'LMS Training Import'!$A$5:$O$54,8+B130,FALSE)","v":""},null,0,{"$f":"VLOOKUP($A130,'LMS Training Import'!$A$5:$O$54,2,FALSE)","v":""},{"$f":"VLOOKUP($A130,'LMS Training Import'!$A$5:$O$54,3,FALSE)","v":""},{"$f":"VLOOKUP($A130,'LMS Training Import'!$A$5:$O$54,4,FALSE)","v":""},{"$f":"IF(LEN(J130)<1,\"\",VLOOKUP(0,'LMS Training Import'!$A$4:$P$4,12+$B130,FALSE))","v":""},{"$f":"IF(LEN(J130)<1,\"\",VLOOKUP(A130,'LMS Training Import'!$A$5:$P$54,12+B130,FALSE))","v":""}]
[32,4,0,{"$f":"VLOOKUP($A131,'LMS Training Import'!$A$5:$O$54,2,FALSE)","v":""},{"$f":"VLOOKUP($A131,'LMS Training Import'!$A$5:$O$54,3,FALSE)","v":""},{"$f":"VLOOKUP($A131,'LMS Training Import'!$A$5:$O$54,4,FALSE)","v":""},{"$f":"VLOOKUP(A131,'LMS Training Import'!$A$5:$O$54,8+B131,FALSE)","v":""},null,0,{"$f":"VLOOKUP($A131,'LMS Training Import'!$A$5:$O$54,2,FALSE)","v":""},{"$f":"VLOOKUP($A131,'LMS Training Import'!$A$5:$O$54,3,FALSE)","v":""},{"$f":"VLOOKUP($A131,'LMS Training Import'!$A$5:$O$54,4,FALSE)","v":""},{"$f":"IF(LEN(J131)<1,\"\",VLOOKUP(0,'LMS Training Import'!$A$4:$P$4,12+$B131,FALSE))","v":""},{"$f":"IF(LEN(J131)<1,\"\",VLOOKUP(A131,'LMS Training Import'!$A$5:$P$54,12+B131,FALSE))","v":""}]
[33,1,0,{"$f":"VLOOKUP($A132,'LMS Training Import'!$A$5:$O$54,2,FALSE)","v":""},{"$f":"VLOOKUP($A132,'LMS Training Import'!$A$5:$O$54,3,FALSE)","v":""},{"$f":"VLOOKUP($A132,'LMS Training Import'!$A$5:$O$54,4,FALSE)","v":""},{"$f":"VLOOKUP(A132,'LMS Training Import'!$A$5:$O$54,8+B132,FALSE)","v":""},null,0,{"$f":"VLOOKUP($A132,'LMS Training Import'!$A$5:$O$54,2,FALSE)","v":""},{"$f":"VLOOKUP($A132,'LMS Training Import'!$A$5:$O$54,3,FALSE)","v":""},{"$f":"VLOOKUP($A132,'LMS Training Import'!$A$5:$O$54,4,FALSE)","v":""},{"$f":"IF(LEN(J132)<1,\"\",VLOOKUP(0,'LMS Training Import'!$A$4:$P$4,12+$B132,FALSE))","v":""},{"$f":"IF(LEN(J132)<1,\"\",VLOOKUP(A132,'LMS Training Import'!$A$5:$P$54,12+B132,FALSE))","v":""}]
[33,2,{"$f":"IF(LEN(G133)>1,C132+1,C132)","v":0},{"$f":"VLOOKUP($A133,'LMS Training Import'!$A$5:$O$54,2,FALSE)","v":""},{"$f":"VLOOKUP($A133,'LMS Training Import'!$A$5:$O$54,3,FALSE)","v":""},{"$f":"VLOOKUP($A133,'LMS Training Import'!$A$5:$O$54,4,FALSE)","v":""},{"$f":"VLOOKUP(A133,'LMS Training Import'!$A$5:$O$54,8+B133,FALSE)","v":""},null,{"$f":"IF(LEN(N133)>1,I132+1,I132)","v":0},{"$f":"VLOOKUP($A133,'LMS Training Import'!$A$5:$O$54,2,FALSE)","v":""},{"$f":"VLOOKUP($A133,'LMS Training Import'!$A$5:$O$54,3,FALSE)","v":""},{"$f":"VLOOKUP($A133,'LMS Training Import'!$A$5:$O$54,4,FALSE)","v":""},{"$f":"IF(LEN(J133)<1,\"\",VLOOKUP(0,'LMS Training Import'!$A$4:$P$4,12+$B133,FALSE))","v":""},{"$f":"IF(LEN(J133)<1,\"\",VLOOKUP(A133,'LMS Training Import'!$A$5:$P$54,12+B133,FALSE))","v":""}]
[33,3,0,{"$f":"VLOOKUP($A134,'LMS Training Import'!$A$5:$O$54,2,FALSE)","v":""},{"$f":"VLOOKUP($A134,'LMS Training Import'!$A$5:$O$54,3,FALSE)","v":""},{"$f":"VLOOKUP($A134,'LMS Training Import'!$A$5:$O$54,4,FALSE)","v":""},{"$f":"VLOOKUP(A134,'LMS Training Import'!$A$5:$O$54,8+B134,FALSE)","v":""},null,0,{"$f":"VLOOKUP($A134,'LMS Training Import'!$A$5:$O$54,2,FALSE)","v":""},{"$f":"VLOOKUP($A134,'LMS Training Import'!$A$5:$O$54,3,FALSE)","v":""},{"$f":"VLOOKUP($A134,'LMS Training Import'!$A$5:$O$54,4,FALSE)","v":""},{"$f":"IF(LEN(J134)<1,\"\",VLOOKUP(0,'LMS Training Import'!$A$4:$P$4,12+$B134,FALSE))","v":""},{"$f":"IF(LEN(J134)<1,\"\",VLOOKUP(A134,'LMS Training Import'!$A$5:$P$54,12+B134,FALSE))","v":""}]
[33,4,0,{"$f":"VLOOKUP($A135,'LMS Training Import'!$A$5:$O$54,2,FALSE)","v":""},{"$f":"VLOOKUP($A135,'LMS Training Import'!$A$5:$O$54,3,FALSE)","v":""},{"$f":"VLOOKUP($A135,'LMS Training Import'!$A$5:$O$54,4,FALSE)","v":""},{"$f":"VLOOKUP(A135,'LMS Training Import'!$A$5:$O$54,8+B135,FALSE)","v":""},null,0,{"$f":"VLOOKUP($A135,'LMS Training Import'!$A$5:$O$54,2,FALSE)","v":""},{"$f":"VLOOKUP($A135,'LMS Training Import'!$A$5:$O$54,3,FALSE)","v":""},{"$f":"VLOOKUP($A135,'LMS Training Import'!$A$5:$O$54,4,FALSE)","v":""},{"$f":"IF(LEN(J135)<1,\"\",VLOOKUP(0,'LMS Training Import'!$A$4:$P$4,12+$B135,FALSE))","v":""},{"$f":"IF(LEN(J135)<1,\"\",VLOOKUP(A135,'LMS Training Import'!$A$5:$P$54,12+B135,FALSE))","v":""}]
[34,1,0,{"$f":"VLOOKUP($A136,'LMS Training Import'!$A$5:$O$54,2,FALSE)","v":""},{"$f":"VLOOKUP($A136,'LMS Training Import'!$A$5:$O$54,3,FALSE)","v":""},{"$f":"VLOOKUP($A136,'LMS Training Import'!$A$5:$O$54,4,FALSE)","v":""},{"$f":"VLOOKUP(A136,'LMS Training Import'!$A$5:$O$54,8+B136,FALSE)","v":""},null,0,{"$f":"VLOOKUP($A136,'LMS Training Import'!$A$5:$O$54,2,FALSE)","v":""},{"$f":"VLOOKUP($A136,'LMS Training Import'!$A$5:$O$54,3,FALSE)","v":""},{"$f":"VLOOKUP($A136,'LMS Training Import'!$A$5:$O$54,4,FALSE)","v":""},{"$f":"IF(LEN(J136)<1,\"\",VLOOKUP(0,'LMS Training Import'!$A$4:$P$4,12+$B136,FALSE))","v":""},{"$f":"IF(LEN(J136)<1,\"\",VLOOKUP(A136,'LMS Training Import'!$A$5:$P$54,12+B136,FALSE))","v":""}]
[34,2,0,{"$f":"VLOOKUP($A137,'LMS Training Import'!$A$5:$O$54,2,FALSE)","v":""},{"$f":"VLOOKUP($A137,'LMS Training Import'!$A$5:$O$54,3,FALSE)","v":""},{"$f":"VLOOKUP($A137,'LMS Training Import'!$A$5:$O$54,4,FALSE)","v":""},{"$f":"VLOOKUP(A137,'LMS Training Import'!$A$5:$O$54,8+B137,FALSE)","v":""},null,0,{"$f":"VLOOKUP($A137,'LMS Training Import'!$A$5:$O$54,2,FALSE)","v":""},{"$f":"VLOOKUP($A137,'LMS Training Import'!$A$5:$O$54,3,FALSE)","v":""},{"$f":"VLOOKUP($A137,'LMS Training Import'!$A$5:$O$54,4,FALSE)","v":""},{"$f":"IF(LEN(J137)<1,\"\",VLOOKUP(0,'LMS Training Import'!$A$4:$P$4,12+$B137,FALSE))","v":""},{"$f":"IF(LEN(J137)<1,\"\",VLOOKUP(A137,'LMS Training Import'!$A$5:$P$54,12+B137,FALSE))","v":""}]
[34,3,0,{"$f":"VLOOKUP($A138,'LMS Training Import'!$A$5:$O$54,2,FALSE)","v":""},{"$f":"VLOOKUP($A138,'LMS Training Import'!$A$5:$O$54,3,FALSE)","v":""},{"$f":"VLOOKUP($A138,'LMS Training Import'!$A$5:$O$54,4,FALSE)","v":""},{"$f":"VLOOKUP(A138,'LMS Training Import'!$A$5:$O$54,8+B138,FALSE)","v":""},null,0,{"$f":"VLOOKUP($A138,'LMS Training Import'!$A$5:$O$54,2,FALSE)","v":""},{"$f":"VLOOKUP($A138,'LMS Training Import'!$A$5:$O$54,3,FALSE)","v":""},{"$f":"VLOOKUP($A138,'LMS Training Import'!$A$5:$O$54,4,FALSE)","v":""},{"$f":"IF(LEN(J138)<1,\"\",VLOOKUP(0,'LMS Training Import'!$A$4:$P$4,12+$B138,FALSE))","v":""},{"$f":"IF(LEN(J138)<1,\"\",VLOOKUP(A138,'LMS Training Import'!$A$5:$P$54,12+B138,FALSE))","v":""}]
[34,4,0,{"$f":"VLOOKUP($A139,'LMS Training Import'!$A$5:$O$54,2,FALSE)","v":""},{"$f":"VLOOKUP($A139,'LMS Training Import'!$A$5:$O$54,3,FALSE)","v":""},{"$f":"VLOOKUP($A139,'LMS Training Import'!$A$5:$O$54,4,FALSE)","v":""},{"$f":"VLOOKUP(A139,'LMS Training Import'!$A$5:$O$54,8+B139,FALSE)","v":""},null,0,{"$f":"VLOOKUP($A139,'LMS Training Import'!$A$5:$O$54,2,FALSE)","v":""},{"$f":"VLOOKUP($A139,'LMS Training Import'!$A$5:$O$54,3,FALSE)","v":""},{"$f":"VLOOKUP($A139,'LMS Training Import'!$A$5:$O$54,4,FALSE)","v":""},{"$f":"IF(LEN(J139)<1,\"\",VLOOKUP(0,'LMS Training Import'!$A$4:$P$4,12+$B139,FALSE))","v":""},{"$f":"IF(LEN(J139)<1,\"\",VLOOKUP(A139,'LMS Training Import'!$A$5:$P$54,12+B139,FALSE))","v":""}]
[35,1,0,{"$f":"VLOOKUP($A140,'LMS Training Import'!$A$5:$O$54,2,FALSE)","v":""},{"$f":"VLOOKUP($A140,'LMS Training Import'!$A$5:$O$54,3,FALSE)","v":""},{"$f":"VLOOKUP($A140,'LMS Training Import'!$A$5:$O$54,4,FALSE)","v":""},{"$f":"VLOOKUP(A140,'LMS Training Import'!$A$5:$O$54,8+B140,FALSE)","v":""},null,0,{"$f":"VLOOKUP($A140,'LMS Training Import'!$A$5:$O$54,2,FALSE)","v":""},{"$f":"VLOOKUP($A140,'LMS Training Import'!$A$5:$O$54,3,FALSE)","v":""},{"$f":"VLOOKUP($A140,'LMS Training Import'!$A$5:$O$54,4,FALSE)","v":""},{"$f":"IF(LEN(J140)<1,\"\",VLOOKUP(0,'LMS Training Import'!$A$4:$P$4,12+$B140,FALSE))","v":""},{"$f":"IF(LEN(J140)<1,\"\",VLOOKUP(A140,'LMS Training Import'!$A$5:$P$54,12+B140,FALSE))","v":""}]
[35,2,0,{"$f":"VLOOKUP($A141,'LMS Training Import'!$A$5:$O$54,2,FALSE)","v":""},{"$f":"VLOOKUP($A141,'LMS Training Import'!$A$5:$O$54,3,FALSE)","v":""},{"$f":"VLOOKUP($A141,'LMS Training Import'!$A$5:$O$54,4,FALSE)","v":""},{"$f":"VLOOKUP(A141,'LMS Training Import'!$A$5:$O$54,8+B141,FALSE)","v":""},null,0,{"$f":"VLOOKUP($A141,'LMS Training Import'!$A$5:$O$54,2,FALSE)","v":""},{"$f":"VLOOKUP($A141,'LMS Training Import'!$A$5:$O$54,3,FALSE)","v":""},{"$f":"VLOOKUP($A141,'LMS Training Import'!$A$5:$O$54,4,FALSE)","v":""},{"$f":"IF(LEN(J141)<1,\"\",VLOOKUP(0,'LMS Training Import'!$A$4:$P$4,12+$B141,FALSE))","v":""},{"$f":"IF(LEN(J141)<1,\"\",VLOOKUP(A141,'LMS Training Import'!$A$5:$P$54,12+B141,FALSE))","v":""}]
[35,3,0,{"$f":"VLOOKUP($A142,'LMS Training Import'!$A$5:$O$54,2,FALSE)","v":""},{"$f":"VLOOKUP($A142,'LMS Training Import'!$A$5:$O$54,3,FALSE)","v":""},{"$f":"VLOOKUP($A142,'LMS Training Import'!$A$5:$O$54,4,FALSE)","v":""},{"$f":"VLOOKUP(A142,'LMS Training Import'!$A$5:$O$54,8+B142,FALSE)","v":""},null,0,{"$f":"VLOOKUP($A142,'LMS Training Import'!$A$5:$O$54,2,FALSE)","v":""},{"$f":"VLOOKUP($A142,'LMS Training Import'!$A$5:$O$54,3,FALSE)","v":""},{"$f":"VLOOKUP($A142,'LMS Training Import'!$A$5:$O$54,4,FALSE)","v":""},{"$f":"IF(LEN(J142)<1,\"\",VLOOKUP(0,'LMS Training Import'!$A$4:$P$4,12+$B142,FALSE))","v":""},{"$f":"IF(LEN(J142)<1,\"\",VLOOKUP(A142,'LMS Training Import'!$A$5:$P$54,12+B142,FALSE))","v":""}]
[35,4,0,{"$f":"VLOOKUP($A143,'LMS Training Import'!$A$5:$O$54,2,FALSE)","v":""},{"$f":"VLOOKUP($A143,'LMS Training Import'!$A$5:$O$54,3,FALSE)","v":""},{"$f":"VLOOKUP($A143,'LMS Training Import'!$A$5:$O$54,4,FALSE)","v":""},{"$f":"VLOOKUP(A143,'LMS Training Import'!$A$5:$O$54,8+B143,FALSE)","v":""},null,0,{"$f":"VLOOKUP($A143,'LMS Training Import'!$A$5:$O$54,2,FALSE)","v":""},{"$f":"VLOOKUP($A143,'LMS Training Import'!$A$5:$O$54,3,FALSE)","v":""},{"$f":"VLOOKUP($A143,'LMS Training Import'!$A$5:$O$54,4,FALSE)","v":""},{"$f":"IF(LEN(J143)<1,\"\",VLOOKUP(0,'LMS Training Import'!$A$4:$P$4,12+$B143,FALSE))","v":""},{"$f":"IF(LEN(J143)<1,\"\",VLOOKUP(A143,'LMS Training Import'!$A$5:$P$54,12+B143,FALSE))","v":""}]
[36,1,0,{"$f":"VLOOKUP($A144,'LMS Training Import'!$A$5:$O$54,2,FALSE)","v":""},{"$f":"VLOOKUP($A144,'LMS Training Import'!$A$5:$O$54,3,FALSE)","v":""},{"$f":"VLOOKUP($A144,'LMS Training Import'!$A$5:$O$54,4,FALSE)","v":""},{"$f":"VLOOKUP(A144,'LMS Training Import'!$A$5:$O$54,8+B144,FALSE)","v":""},null,0,{"$f":"VLOOKUP($A144,'LMS Training Import'!$A$5:$O$54,2,FALSE)","v":""},{"$f":"VLOOKUP($A144,'LMS Training Import'!$A$5:$O$54,3,FALSE)","v":""},{"$f":"VLOOKUP($A144,'LMS Training Import'!$A$5:$O$54,4,FALSE)","v":""},{"$f":"IF(LEN(J144)<1,\"\",VLOOKUP(0,'LMS Training Import'!$A$4:$P$4,12+$B144,FALSE))","v":""},{"$f":"IF(LEN(J144)<1,\"\",VLOOKUP(A144,'LMS Training Import'!$A$5:$P$54,12+B144,FALSE))","v":""}]
[36,2,0,{"$f":"VLOOKUP($A145,'LMS Training Import'!$A$5:$O$54,2,FALSE)","v":""},{"$f":"VLOOKUP($A145,'LMS Training Import'!$A$5:$O$54,3,FALSE)","v":""},{"$f":"VLOOKUP($A145,'LMS Training Import'!$A$5:$O$54,4,FALSE)","v":""},{"$f":"VLOOKUP(A145,'LMS Training Import'!$A$5:$O$54,8+B145,FALSE)","v":""},null,0,{"$f":"VLOOKUP($A145,'LMS Training Import'!$A$5:$O$54,2,FALSE)","v":""},{"$f":"VLOOKUP($A145,'LMS Training Import'!$A$5:$O$54,3,FALSE)","v":""},{"$f":"VLOOKUP($A145,'LMS Training Import'!$A$5:$O$54,4,FALSE)","v":""},{"$f":"IF(LEN(J145)<1,\"\",VLOOKUP(0,'LMS Training Import'!$A$4:$P$4,12+$B145,FALSE))","v":""},{"$f":"IF(LEN(J145)<1,\"\",VLOOKUP(A145,'LMS Training Import'!$A$5:$P$54,12+B145,FALSE))","v":""}]
[36,3,0,{"$f":"VLOOKUP($A146,'LMS Training Import'!$A$5:$O$54,2,FALSE)","v":""},{"$f":"VLOOKUP($A146,'LMS Training Import'!$A$5:$O$54,3,FALSE)","v":""},{"$f":"VLOOKUP($A146,'LMS Training Import'!$A$5:$O$54,4,FALSE)","v":""},{"$f":"VLOOKUP(A146,'LMS Training Import'!$A$5:$O$54,8+B146,FALSE)","v":""},null,0,{"$f":"VLOOKUP($A146,'LMS Training Import'!$A$5:$O$54,2,FALSE)","v":""},{"$f":"VLOOKUP($A146,'LMS Training Import'!$A$5:$O$54,3,FALSE)","v":""},{"$f":"VLOOKUP($A146,'LMS Training Import'!$A$5:$O$54,4,FALSE)","v":""},{"$f":"IF(LEN(J146)<1,\"\",VLOOKUP(0,'LMS Training Import'!$A$4:$P$4,12+$B146,FALSE))","v":""},{"$f":"IF(LEN(J146)<1,\"\",VLOOKUP(A146,'LMS Training Import'!$A$5:$P$54,12+B146,FALSE))","v":""}]
[36,4,0,{"$f":"VLOOKUP($A147,'LMS Training Import'!$A$5:$O$54,2,FALSE)","v":""},{"$f":"VLOOKUP($A147,'LMS Training Import'!$A$5:$O$54,3,FALSE)","v":""},{"$f":"VLOOKUP($A147,'LMS Training Import'!$A$5:$O$54,4,FALSE)","v":""},{"$f":"VLOOKUP(A147,'LMS Training Import'!$A$5:$O$54,8+B147,FALSE)","v":""},null,0,{"$f":"VLOOKUP($A147,'LMS Training Import'!$A$5:$O$54,2,FALSE)","v":""},{"$f":"VLOOKUP($A147,'LMS Training Import'!$A$5:$O$54,3,FALSE)","v":""},{"$f":"VLOOKUP($A147,'LMS Training Import'!$A$5:$O$54,4,FALSE)","v":""},{"$f":"IF(LEN(J147)<1,\"\",VLOOKUP(0,'LMS Training Import'!$A$4:$P$4,12+$B147,FALSE))","v":""},{"$f":"IF(LEN(J147)<1,\"\",VLOOKUP(A147,'LMS Training Import'!$A$5:$P$54,12+B147,FALSE))","v":""}]
[37,1,0,{"$f":"VLOOKUP($A148,'LMS Training Import'!$A$5:$O$54,2,FALSE)","v":""},{"$f":"VLOOKUP($A148,'LMS Training Import'!$A$5:$O$54,3,FALSE)","v":""},{"$f":"VLOOKUP($A148,'LMS Training Import'!$A$5:$O$54,4,FALSE)","v":""},{"$f":"VLOOKUP(A148,'LMS Training Import'!$A$5:$O$54,8+B148,FALSE)","v":""},null,0,{"$f":"VLOOKUP($A148,'LMS Training Import'!$A$5:$O$54,2,FALSE)","v":""},{"$f":"VLOOKUP($A148,'LMS Training Import'!$A$5:$O$54,3,FALSE)","v":""},{"$f":"VLOOKUP($A148,'LMS Training Import'!$A$5:$O$54,4,FALSE)","v":""},{"$f":"IF(LEN(J148)<1,\"\",VLOOKUP(0,'LMS Training Import'!$A$4:$P$4,12+$B148,FALSE))","v":""},{"$f":"IF(LEN(J148)<1,\"\",VLOOKUP(A148,'LMS Training Import'!$A$5:$P$54,12+B148,FALSE))","v":""}]
[37,2,0,{"$f":"VLOOKUP($A149,'LMS Training Import'!$A$5:$O$54,2,FALSE)","v":""},{"$f":"VLOOKUP($A149,'LMS Training Import'!$A$5:$O$54,3,FALSE)","v":""},{"$f":"VLOOKUP($A149,'LMS Training Import'!$A$5:$O$54,4,FALSE)","v":""},{"$f":"VLOOKUP(A149,'LMS Training Import'!$A$5:$O$54,8+B149,FALSE)","v":""},null,0,{"$f":"VLOOKUP($A149,'LMS Training Import'!$A$5:$O$54,2,FALSE)","v":""},{"$f":"VLOOKUP($A149,'LMS Training Import'!$A$5:$O$54,3,FALSE)","v":""},{"$f":"VLOOKUP($A149,'LMS Training Import'!$A$5:$O$54,4,FALSE)","v":""},{"$f":"IF(LEN(J149)<1,\"\",VLOOKUP(0,'LMS Training Import'!$A$4:$P$4,12+$B149,FALSE))","v":""},{"$f":"IF(LEN(J149)<1,\"\",VLOOKUP(A149,'LMS Training Import'!$A$5:$P$54,12+B149,FALSE))","v":""}]
[37,3,0,{"$f":"VLOOKUP($A150,'LMS Training Import'!$A$5:$O$54,2,FALSE)","v":""},{"$f":"VLOOKUP($A150,'LMS Training Import'!$A$5:$O$54,3,FALSE)","v":""},{"$f":"VLOOKUP($A150,'LMS Training Import'!$A$5:$O$54,4,FALSE)","v":""},{"$f":"VLOOKUP(A150,'LMS Training Import'!$A$5:$O$54,8+B150,FALSE)","v":""},null,0,{"$f":"VLOOKUP($A150,'LMS Training Import'!$A$5:$O$54,2,FALSE)","v":""},{"$f":"VLOOKUP($A150,'LMS Training Import'!$A$5:$O$54,3,FALSE)","v":""},{"$f":"VLOOKUP($A150,'LMS Training Import'!$A$5:$O$54,4,FALSE)","v":""},{"$f":"IF(LEN(J150)<1,\"\",VLOOKUP(0,'LMS Training Import'!$A$4:$P$4,12+$B150,FALSE))","v":""},{"$f":"IF(LEN(J150)<1,\"\",VLOOKUP(A150,'LMS Training Import'!$A$5:$P$54,12+B150,FALSE))","v":""}]
[37,4,0,{"$f":"VLOOKUP($A151,'LMS Training Import'!$A$5:$O$54,2,FALSE)","v":""},{"$f":"VLOOKUP($A151,'LMS Training Import'!$A$5:$O$54,3,FALSE)","v":""},{"$f":"VLOOKUP($A151,'LMS Training Import'!$A$5:$O$54,4,FALSE)","v":""},{"$f":"VLOOKUP(A151,'LMS Training Import'!$A$5:$O$54,8+B151,FALSE)","v":""},null,0,{"$f":"VLOOKUP($A151,'LMS Training Import'!$A$5:$O$54,2,FALSE)","v":""},{"$f":"VLOOKUP($A151,'LMS Training Import'!$A$5:$O$54,3,FALSE)","v":""},{"$f":"VLOOKUP($A151,'LMS Training Import'!$A$5:$O$54,4,FALSE)","v":""},{"$f":"IF(LEN(J151)<1,\"\",VLOOKUP(0,'LMS Training Import'!$A$4:$P$4,12+$B151,FALSE))","v":""},{"$f":"IF(LEN(J151)<1,\"\",VLOOKUP(A151,'LMS Training Import'!$A$5:$P$54,12+B151,FALSE))","v":""}]
[38,1,0,{"$f":"VLOOKUP($A152,'LMS Training Import'!$A$5:$O$54,2,FALSE)","v":""},{"$f":"VLOOKUP($A152,'LMS Training Import'!$A$5:$O$54,3,FALSE)","v":""},{"$f":"VLOOKUP($A152,'LMS Training Import'!$A$5:$O$54,4,FALSE)","v":""},{"$f":"VLOOKUP(A152,'LMS Training Import'!$A$5:$O$54,8+B152,FALSE)","v":""},null,0,{"$f":"VLOOKUP($A152,'LMS Training Import'!$A$5:$O$54,2,FALSE)","v":""},{"$f":"VLOOKUP($A152,'LMS Training Import'!$A$5:$O$54,3,FALSE)","v":""},{"$f":"VLOOKUP($A152,'LMS Training Import'!$A$5:$O$54,4,FALSE)","v":""},{"$f":"IF(LEN(J152)<1,\"\",VLOOKUP(0,'LMS Training Import'!$A$4:$P$4,12+$B152,FALSE))","v":""},{"$f":"IF(LEN(J152)<1,\"\",VLOOKUP(A152,'LMS Training Import'!$A$5:$P$54,12+B152,FALSE))","v":""}]
[38,2,0,{"$f":"VLOOKUP($A153,'LMS Training Import'!$A$5:$O$54,2,FALSE)","v":""},{"$f":"VLOOKUP($A153,'LMS Training Import'!$A$5:$O$54,3,FALSE)","v":""},{"$f":"VLOOKUP($A153,'LMS Training Import'!$A$5:$O$54,4,FALSE)","v":""},{"$f":"VLOOKUP(A153,'LMS Training Import'!$A$5:$O$54,8+B153,FALSE)","v":""},null,0,{"$f":"VLOOKUP($A153,'LMS Training Import'!$A$5:$O$54,2,FALSE)","v":""},{"$f":"VLOOKUP($A153,'LMS Training Import'!$A$5:$O$54,3,FALSE)","v":""},{"$f":"VLOOKUP($A153,'LMS Training Import'!$A$5:$O$54,4,FALSE)","v":""},{"$f":"IF(LEN(J153)<1,\"\",VLOOKUP(0,'LMS Training Import'!$A$4:$P$4,12+$B153,FALSE))","v":""},{"$f":"IF(LEN(J153)<1,\"\",VLOOKUP(A153,'LMS Training Import'!$A$5:$P$54,12+B153,FALSE))","v":""}]
[38,3,0,{"$f":"VLOOKUP($A154,'LMS Training Import'!$A$5:$O$54,2,FALSE)","v":""},{"$f":"VLOOKUP($A154,'LMS Training Import'!$A$5:$O$54,3,FALSE)","v":""},{"$f":"VLOOKUP($A154,'LMS Training Import'!$A$5:$O$54,4,FALSE)","v":""},{"$f":"VLOOKUP(A154,'LMS Training Import'!$A$5:$O$54,8+B154,FALSE)","v":""},null,0,{"$f":"VLOOKUP($A154,'LMS Training Import'!$A$5:$O$54,2,FALSE)","v":""},{"$f":"VLOOKUP($A154,'LMS Training Import'!$A$5:$O$54,3,FALSE)","v":""},{"$f":"VLOOKUP($A154,'LMS Training Import'!$A$5:$O$54,4,FALSE)","v":""},{"$f":"IF(LEN(J154)<1,\"\",VLOOKUP(0,'LMS Training Import'!$A$4:$P$4,12+$B154,FALSE))","v":""},{"$f":"IF(LEN(J154)<1,\"\",VLOOKUP(A154,'LMS Training Import'!$A$5:$P$54,12+B154,FALSE))","v":""}]
[38,4,0,{"$f":"VLOOKUP($A155,'LMS Training Import'!$A$5:$O$54,2,FALSE)","v":""},{"$f":"VLOOKUP($A155,'LMS Training Import'!$A$5:$O$54,3,FALSE)","v":""},{"$f":"VLOOKUP($A155,'LMS Training Import'!$A$5:$O$54,4,FALSE)","v":""},{"$f":"VLOOKUP(A155,'LMS Training Import'!$A$5:$O$54,8+B155,FALSE)","v":""},null,0,{"$f":"VLOOKUP($A155,'LMS Training Import'!$A$5:$O$54,2,FALSE)","v":""},{"$f":"VLOOKUP($A155,'LMS Training Import'!$A$5:$O$54,3,FALSE)","v":""},{"$f":"VLOOKUP($A155,'LMS Training Import'!$A$5:$O$54,4,FALSE)","v":""},{"$f":"IF(LEN(J155)<1,\"\",VLOOKUP(0,'LMS Training Import'!$A$4:$P$4,12+$B155,FALSE))","v":""},{"$f":"IF(LEN(J155)<1,\"\",VLOOKUP(A155,'LMS Training Import'!$A$5:$P$54,12+B155,FALSE))","v":""}]
[39,1,0,{"$f":"VLOOKUP($A156,'LMS Training Import'!$A$5:$O$54,2,FALSE)","v":""},{"$f":"VLOOKUP($A156,'LMS Training Import'!$A$5:$O$54,3,FALSE)","v":""},{"$f":"VLOOKUP($A156,'LMS Training Import'!$A$5:$O$54,4,FALSE)","v":""},{"$f":"VLOOKUP(A156,'LMS Training Import'!$A$5:$O$54,8+B156,FALSE)","v":""},null,0,{"$f":"VLOOKUP($A156,'LMS Training Import'!$A$5:$O$54,2,FALSE)","v":""},{"$f":"VLOOKUP($A156,'LMS Training Import'!$A$5:$O$54,3,FALSE)","v":""},{"$f":"VLOOKUP($A156,'LMS Training Import'!$A$5:$O$54,4,FALSE)","v":""},{"$f":"IF(LEN(J156)<1,\"\",VLOOKUP(0,'LMS Training Import'!$A$4:$P$4,12+$B156,FALSE))","v":""},{"$f":"IF(LEN(J156)<1,\"\",VLOOKUP(A156,'LMS Training Import'!$A$5:$P$54,12+B156,FALSE))","v":""}]
[39,2,0,{"$f":"VLOOKUP($A157,'LMS Training Import'!$A$5:$O$54,2,FALSE)","v":""},{"$f":"VLOOKUP($A157,'LMS Training Import'!$A$5:$O$54,3,FALSE)","v":""},{"$f":"VLOOKUP($A157,'LMS Training Import'!$A$5:$O$54,4,FALSE)","v":""},{"$f":"VLOOKUP(A157,'LMS Training Import'!$A$5:$O$54,8+B157,FALSE)","v":""},null,0,{"$f":"VLOOKUP($A157,'LMS Training Import'!$A$5:$O$54,2,FALSE)","v":""},{"$f":"VLOOKUP($A157,'LMS Training Import'!$A$5:$O$54,3,FALSE)","v":""},{"$f":"VLOOKUP($A157,'LMS Training Import'!$A$5:$O$54,4,FALSE)","v":""},{"$f":"IF(LEN(J157)<1,\"\",VLOOKUP(0,'LMS Training Import'!$A$4:$P$4,12+$B157,FALSE))","v":""},{"$f":"IF(LEN(J157)<1,\"\",VLOOKUP(A157,'LMS Training Import'!$A$5:$P$54,12+B157,FALSE))","v":""}]
[39,3,0,{"$f":"VLOOKUP($A158,'LMS Training Import'!$A$5:$O$54,2,FALSE)","v":""},{"$f":"VLOOKUP($A158,'LMS Training Import'!$A$5:$O$54,3,FALSE)","v":""},{"$f":"VLOOKUP($A158,'LMS Training Import'!$A$5:$O$54,4,FALSE)","v":""},{"$f":"VLOOKUP(A158,'LMS Training Import'!$A$5:$O$54,8+B158,FALSE)","v":""},null,0,{"$f":"VLOOKUP($A158,'LMS Training Import'!$A$5:$O$54,2,FALSE)","v":""},{"$f":"VLOOKUP($A158,'LMS Training Import'!$A$5:$O$54,3,FALSE)","v":""},{"$f":"VLOOKUP($A158,'LMS Training Import'!$A$5:$O$54,4,FALSE)","v":""},{"$f":"IF(LEN(J158)<1,\"\",VLOOKUP(0,'LMS Training Import'!$A$4:$P$4,12+$B158,FALSE))","v":""},{"$f":"IF(LEN(J158)<1,\"\",VLOOKUP(A158,'LMS Training Import'!$A$5:$P$54,12+B158,FALSE))","v":""}]
[39,4,0,{"$f":"VLOOKUP($A159,'LMS Training Import'!$A$5:$O$54,2,FALSE)","v":""},{"$f":"VLOOKUP($A159,'LMS Training Import'!$A$5:$O$54,3,FALSE)","v":""},{"$f":"VLOOKUP($A159,'LMS Training Import'!$A$5:$O$54,4,FALSE)","v":""},{"$f":"VLOOKUP(A159,'LMS Training Import'!$A$5:$O$54,8+B159,FALSE)","v":""},null,0,{"$f":"VLOOKUP($A159,'LMS Training Import'!$A$5:$O$54,2,FALSE)","v":""},{"$f":"VLOOKUP($A159,'LMS Training Import'!$A$5:$O$54,3,FALSE)","v":""},{"$f":"VLOOKUP($A159,'LMS Training Import'!$A$5:$O$54,4,FALSE)","v":""},{"$f":"IF(LEN(J159)<1,\"\",VLOOKUP(0,'LMS Training Import'!$A$4:$P$4,12+$B159,FALSE))","v":""},{"$f":"IF(LEN(J159)<1,\"\",VLOOKUP(A159,'LMS Training Import'!$A$5:$P$54,12+B159,FALSE))","v":""}]
[40,1,0,{"$f":"VLOOKUP($A160,'LMS Training Import'!$A$5:$O$54,2,FALSE)","v":""},{"$f":"VLOOKUP($A160,'LMS Training Import'!$A$5:$O$54,3,FALSE)","v":""},{"$f":"VLOOKUP($A160,'LMS Training Import'!$A$5:$O$54,4,FALSE)","v":""},{"$f":"VLOOKUP(A160,'LMS Training Import'!$A$5:$O$54,8+B160,FALSE)","v":""},null,0,{"$f":"VLOOKUP($A160,'LMS Training Import'!$A$5:$O$54,2,FALSE)","v":""},{"$f":"VLOOKUP($A160,'LMS Training Import'!$A$5:$O$54,3,FALSE)","v":""},{"$f":"VLOOKUP($A160,'LMS Training Import'!$A$5:$O$54,4,FALSE)","v":""},{"$f":"IF(LEN(J160)<1,\"\",VLOOKUP(0,'LMS Training Import'!$A$4:$P$4,12+$B160,FALSE))","v":""},{"$f":"IF(LEN(J160)<1,\"\",VLOOKUP(A160,'LMS Training Import'!$A$5:$P$54,12+B160,FALSE))","v":""}]
[40,2,0,{"$f":"VLOOKUP($A161,'LMS Training Import'!$A$5:$O$54,2,FALSE)","v":""},{"$f":"VLOOKUP($A161,'LMS Training Import'!$A$5:$O$54,3,FALSE)","v":""},{"$f":"VLOOKUP($A161,'LMS Training Import'!$A$5:$O$54,4,FALSE)","v":""},{"$f":"VLOOKUP(A161,'LMS Training Import'!$A$5:$O$54,8+B161,FALSE)","v":""},null,0,{"$f":"VLOOKUP($A161,'LMS Training Import'!$A$5:$O$54,2,FALSE)","v":""},{"$f":"VLOOKUP($A161,'LMS Training Import'!$A$5:$O$54,3,FALSE)","v":""},{"$f":"VLOOKUP($A161,'LMS Training Import'!$A$5:$O$54,4,FALSE)","v":""},{"$f":"IF(LEN(J161)<1,\"\",VLOOKUP(0,'LMS Training Import'!$A$4:$P$4,12+$B161,FALSE))","v":""},{"$f":"IF(LEN(J161)<1,\"\",VLOOKUP(A161,'LMS Training Import'!$A$5:$P$54,12+B161,FALSE))","v":""}]
[40,3,0,{"$f":"VLOOKUP($A162,'LMS Training Import'!$A$5:$O$54,2,FALSE)","v":""},{"$f":"VLOOKUP($A162,'LMS Training Import'!$A$5:$O$54,3,FALSE)","v":""},{"$f":"VLOOKUP($A162,'LMS Training Import'!$A$5:$O$54,4,FALSE)","v":""},{"$f":"VLOOKUP(A162,'LMS Training Import'!$A$5:$O$54,8+B162,FALSE)","v":""},null,0,{"$f":"VLOOKUP($A162,'LMS Training Import'!$A$5:$O$54,2,FALSE)","v":""},{"$f":"VLOOKUP($A162,'LMS Training Import'!$A$5:$O$54,3,FALSE)","v":""},{"$f":"VLOOKUP($A162,'LMS Training Import'!$A$5:$O$54,4,FALSE)","v":""},{"$f":"IF(LEN(J162)<1,\"\",VLOOKUP(0,'LMS Training Import'!$A$4:$P$4,12+$B162,FALSE))","v":""},{"$f":"IF(LEN(J162)<1,\"\",VLOOKUP(A162,'LMS Training Import'!$A$5:$P$54,12+B162,FALSE))","v":""}]
[40,4,0,{"$f":"VLOOKUP($A163,'LMS Training Import'!$A$5:$O$54,2,FALSE)","v":""},{"$f":"VLOOKUP($A163,'LMS Training Import'!$A$5:$O$54,3,FALSE)","v":""},{"$f":"VLOOKUP($A163,'LMS Training Import'!$A$5:$O$54,4,FALSE)","v":""},{"$f":"VLOOKUP(A163,'LMS Training Import'!$A$5:$O$54,8+B163,FALSE)","v":""},null,0,{"$f":"VLOOKUP($A163,'LMS Training Import'!$A$5:$O$54,2,FALSE)","v":""},{"$f":"VLOOKUP($A163,'LMS Training Import'!$A$5:$O$54,3,FALSE)","v":""},{"$f":"VLOOKUP($A163,'LMS Training Import'!$A$5:$O$54,4,FALSE)","v":""},{"$f":"IF(LEN(J163)<1,\"\",VLOOKUP(0,'LMS Training Import'!$A$4:$P$4,12+$B163,FALSE))","v":""},{"$f":"IF(LEN(J163)<1,\"\",VLOOKUP(A163,'LMS Training Import'!$A$5:$P$54,12+B163,FALSE))","v":""}]
[41,1,0,{"$f":"VLOOKUP($A164,'LMS Training Import'!$A$5:$O$54,2,FALSE)","v":""},{"$f":"VLOOKUP($A164,'LMS Training Import'!$A$5:$O$54,3,FALSE)","v":""},{"$f":"VLOOKUP($A164,'LMS Training Import'!$A$5:$O$54,4,FALSE)","v":""},{"$f":"VLOOKUP(A164,'LMS Training Import'!$A$5:$O$54,8+B164,FALSE)","v":""},null,0,{"$f":"VLOOKUP($A164,'LMS Training Import'!$A$5:$O$54,2,FALSE)","v":""},{"$f":"VLOOKUP($A164,'LMS Training Import'!$A$5:$O$54,3,FALSE)","v":""},{"$f":"VLOOKUP($A164,'LMS Training Import'!$A$5:$O$54,4,FALSE)","v":""},{"$f":"IF(LEN(J164)<1,\"\",VLOOKUP(0,'LMS Training Import'!$A$4:$P$4,12+$B164,FALSE))","v":""},{"$f":"IF(LEN(J164)<1,\"\",VLOOKUP(A164,'LMS Training Import'!$A$5:$P$54,12+B164,FALSE))","v":""}]
[41,2,0,{"$f":"VLOOKUP($A165,'LMS Training Import'!$A$5:$O$54,2,FALSE)","v":""},{"$f":"VLOOKUP($A165,'LMS Training Import'!$A$5:$O$54,3,FALSE)","v":""},{"$f":"VLOOKUP($A165,'LMS Training Import'!$A$5:$O$54,4,FALSE)","v":""},{"$f":"VLOOKUP(A165,'LMS Training Import'!$A$5:$O$54,8+B165,FALSE)","v":""},null,0,{"$f":"VLOOKUP($A165,'LMS Training Import'!$A$5:$O$54,2,FALSE)","v":""},{"$f":"VLOOKUP($A165,'LMS Training Import'!$A$5:$O$54,3,FALSE)","v":""},{"$f":"VLOOKUP($A165,'LMS Training Import'!$A$5:$O$54,4,FALSE)","v":""},{"$f":"IF(LEN(J165)<1,\"\",VLOOKUP(0,'LMS Training Import'!$A$4:$P$4,12+$B165,FALSE))","v":""},{"$f":"IF(LEN(J165)<1,\"\",VLOOKUP(A165,'LMS Training Import'!$A$5:$P$54,12+B165,FALSE))","v":""}]
[41,3,0,{"$f":"VLOOKUP($A166,'LMS Training Import'!$A$5:$O$54,2,FALSE)","v":""},{"$f":"VLOOKUP($A166,'LMS Training Import'!$A$5:$O$54,3,FALSE)","v":""},{"$f":"VLOOKUP($A166,'LMS Training Import'!$A$5:$O$54,4,FALSE)","v":""},{"$f":"VLOOKUP(A166,'LMS Training Import'!$A$5:$O$54,8+B166,FALSE)","v":""},null,0,{"$f":"VLOOKUP($A166,'LMS Training Import'!$A$5:$O$54,2,FALSE)","v":""},{"$f":"VLOOKUP($A166,'LMS Training Import'!$A$5:$O$54,3,FALSE)","v":""},{"$f":"VLOOKUP($A166,'LMS Training Import'!$A$5:$O$54,4,FALSE)","v":""},{"$f":"IF(LEN(J166)<1,\"\",VLOOKUP(0,'LMS Training Import'!$A$4:$P$4,12+$B166,FALSE))","v":""},{"$f":"IF(LEN(J166)<1,\"\",VLOOKUP(A166,'LMS Training Import'!$A$5:$P$54,12+B166,FALSE))","v":""}]
[41,4,0,{"$f":"VLOOKUP($A167,'LMS Training Import'!$A$5:$O$54,2,FALSE)","v":""},{"$f":"VLOOKUP($A167,'LMS Training Import'!$A$5:$O$54,3,FALSE)","v":""},{"$f":"VLOOKUP($A167,'LMS Training Import'!$A$5:$O$54,4,FALSE)","v":""},{"$f":"VLOOKUP(A167,'LMS Training Import'!$A$5:$O$54,8+B167,FALSE)","v":""},null,0,{"$f":"VLOOKUP($A167,'LMS Training Import'!$A$5:$O$54,2,FALSE)","v":""},{"$f":"VLOOKUP($A167,'LMS Training Import'!$A$5:$O$54,3,FALSE)","v":""},{"$f":"VLOOKUP($A167,'LMS Training Import'!$A$5:$O$54,4,FALSE)","v":""},{"$f":"IF(LEN(J167)<1,\"\",VLOOKUP(0,'LMS Training Import'!$A$4:$P$4,12+$B167,FALSE))","v":""},{"$f":"IF(LEN(J167)<1,\"\",VLOOKUP(A167,'LMS Training Import'!$A$5:$P$54,12+B167,FALSE))","v":""}]
[42,1,0,{"$f":"VLOOKUP($A168,'LMS Training Import'!$A$5:$O$54,2,FALSE)","v":""},{"$f":"VLOOKUP($A168,'LMS Training Import'!$A$5:$O$54,3,FALSE)","v":""},{"$f":"VLOOKUP($A168,'LMS Training Import'!$A$5:$O$54,4,FALSE)","v":""},{"$f":"VLOOKUP(A168,'LMS Training Import'!$A$5:$O$54,8+B168,FALSE)","v":""},null,0,{"$f":"VLOOKUP($A168,'LMS Training Import'!$A$5:$O$54,2,FALSE)","v":""},{"$f":"VLOOKUP($A168,'LMS Training Import'!$A$5:$O$54,3,FALSE)","v":""},{"$f":"VLOOKUP($A168,'LMS Training Import'!$A$5:$O$54,4,FALSE)","v":""},{"$f":"IF(LEN(J168)<1,\"\",VLOOKUP(0,'LMS Training Import'!$A$4:$P$4,12+$B168,FALSE))","v":""},{"$f":"IF(LEN(J168)<1,\"\",VLOOKUP(A168,'LMS Training Import'!$A$5:$P$54,12+B168,FALSE))","v":""}]
[42,2,0,{"$f":"VLOOKUP($A169,'LMS Training Import'!$A$5:$O$54,2,FALSE)","v":""},{"$f":"VLOOKUP($A169,'LMS Training Import'!$A$5:$O$54,3,FALSE)","v":""},{"$f":"VLOOKUP($A169,'LMS Training Import'!$A$5:$O$54,4,FALSE)","v":""},{"$f":"VLOOKUP(A169,'LMS Training Import'!$A$5:$O$54,8+B169,FALSE)","v":""},null,0,{"$f":"VLOOKUP($A169,'LMS Training Import'!$A$5:$O$54,2,FALSE)","v":""},{"$f":"VLOOKUP($A169,'LMS Training Import'!$A$5:$O$54,3,FALSE)","v":""},{"$f":"VLOOKUP($A169,'LMS Training Import'!$A$5:$O$54,4,FALSE)","v":""},{"$f":"IF(LEN(J169)<1,\"\",VLOOKUP(0,'LMS Training Import'!$A$4:$P$4,12+$B169,FALSE))","v":""},{"$f":"IF(LEN(J169)<1,\"\",VLOOKUP(A169,'LMS Training Import'!$A$5:$P$54,12+B169,FALSE))","v":""}]
[42,3,0,{"$f":"VLOOKUP($A170,'LMS Training Import'!$A$5:$O$54,2,FALSE)","v":""},{"$f":"VLOOKUP($A170,'LMS Training Import'!$A$5:$O$54,3,FALSE)","v":""},{"$f":"VLOOKUP($A170,'LMS Training Import'!$A$5:$O$54,4,FALSE)","v":""},{"$f":"VLOOKUP(A170,'LMS Training Import'!$A$5:$O$54,8+B170,FALSE)","v":""},null,0,{"$f":"VLOOKUP($A170,'LMS Training Import'!$A$5:$O$54,2,FALSE)","v":""},{"$f":"VLOOKUP($A170,'LMS Training Import'!$A$5:$O$54,3,FALSE)","v":""},{"$f":"VLOOKUP($A170,'LMS Training Import'!$A$5:$O$54,4,FALSE)","v":""},{"$f":"IF(LEN(J170)<1,\"\",VLOOKUP(0,'LMS Training Import'!$A$4:$P$4,12+$B170,FALSE))","v":""},{"$f":"IF(LEN(J170)<1,\"\",VLOOKUP(A170,'LMS Training Import'!$A$5:$P$54,12+B170,FALSE))","v":""}]
[42,4,0,{"$f":"VLOOKUP($A171,'LMS Training Import'!$A$5:$O$54,2,FALSE)","v":""},{"$f":"VLOOKUP($A171,'LMS Training Import'!$A$5:$O$54,3,FALSE)","v":""},{"$f":"VLOOKUP($A171,'LMS Training Import'!$A$5:$O$54,4,FALSE)","v":""},{"$f":"VLOOKUP(A171,'LMS Training Import'!$A$5:$O$54,8+B171,FALSE)","v":""},null,0,{"$f":"VLOOKUP($A171,'LMS Training Import'!$A$5:$O$54,2,FALSE)","v":""},{"$f":"VLOOKUP($A171,'LMS Training Import'!$A$5:$O$54,3,FALSE)","v":""},{"$f":"VLOOKUP($A171,'LMS Training Import'!$A$5:$O$54,4,FALSE)","v":""},{"$f":"IF(LEN(J171)<1,\"\",VLOOKUP(0,'LMS Training Import'!$A$4:$P$4,12+$B171,FALSE))","v":""},{"$f":"IF(LEN(J171)<1,\"\",VLOOKUP(A171,'LMS Training Import'!$A$5:$P$54,12+B171,FALSE))","v":""}]
[43,1,0,{"$f":"VLOOKUP($A172,'LMS Training Import'!$A$5:$O$54,2,FALSE)","v":""},{"$f":"VLOOKUP($A172,'LMS Training Import'!$A$5:$O$54,3,FALSE)","v":""},{"$f":"VLOOKUP($A172,'LMS Training Import'!$A$5:$O$54,4,FALSE)","v":""},{"$f":"VLOOKUP(A172,'LMS Training Import'!$A$5:$O$54,8+B172,FALSE)","v":""},null,0,{"$f":"VLOOKUP($A172,'LMS Training Import'!$A$5:$O$54,2,FALSE)","v":""},{"$f":"VLOOKUP($A172,'LMS Training Import'!$A$5:$O$54,3,FALSE)","v":""},{"$f":"VLOOKUP($A172,'LMS Training Import'!$A$5:$O$54,4,FALSE)","v":""},{"$f":"IF(LEN(J172)<1,\"\",VLOOKUP(0,'LMS Training Import'!$A$4:$P$4,12+$B172,FALSE))","v":""},{"$f":"IF(LEN(J172)<1,\"\",VLOOKUP(A172,'LMS Training Import'!$A$5:$P$54,12+B172,FALSE))","v":""}]
[43,2,0,{"$f":"VLOOKUP($A173,'LMS Training Import'!$A$5:$O$54,2,FALSE)","v":""},{"$f":"VLOOKUP($A173,'LMS Training Import'!$A$5:$O$54,3,FALSE)","v":""},{"$f":"VLOOKUP($A173,'LMS Training Import'!$A$5:$O$54,4,FALSE)","v":""},{"$f":"VLOOKUP(A173,'LMS Training Import'!$A$5:$O$54,8+B173,FALSE)","v":""},null,0,{"$f":"VLOOKUP($A173,'LMS Training Import'!$A$5:$O$54,2,FALSE)","v":""},{"$f":"VLOOKUP($A173,'LMS Training Import'!$A$5:$O$54,3,FALSE)","v":""},{"$f":"VLOOKUP($A173,'LMS Training Import'!$A$5:$O$54,4,FALSE)","v":""},{"$f":"IF(LEN(J173)<1,\"\",VLOOKUP(0,'LMS Training Import'!$A$4:$P$4,12+$B173,FALSE))","v":""},{"$f":"IF(LEN(J173)<1,\"\",VLOOKUP(A173,'LMS Training Import'!$A$5:$P$54,12+B173,FALSE))","v":""}]
[43,3,0,{"$f":"VLOOKUP($A174,'LMS Training Import'!$A$5:$O$54,2,FALSE)","v":""},{"$f":"VLOOKUP($A174,'LMS Training Import'!$A$5:$O$54,3,FALSE)","v":""},{"$f":"VLOOKUP($A174,'LMS Training Import'!$A$5:$O$54,4,FALSE)","v":""},{"$f":"VLOOKUP(A174,'LMS Training Import'!$A$5:$O$54,8+B174,FALSE)","v":""},null,0,{"$f":"VLOOKUP($A174,'LMS Training Import'!$A$5:$O$54,2,FALSE)","v":""},{"$f":"VLOOKUP($A174,'LMS Training Import'!$A$5:$O$54,3,FALSE)","v":""},{"$f":"VLOOKUP($A174,'LMS Training Import'!$A$5:$O$54,4,FALSE)","v":""},{"$f":"IF(LEN(J174)<1,\"\",VLOOKUP(0,'LMS Training Import'!$A$4:$P$4,12+$B174,FALSE))","v":""},{"$f":"IF(LEN(J174)<1,\"\",VLOOKUP(A174,'LMS Training Import'!$A$5:$P$54,12+B174,FALSE))","v":""}]
[43,4,0,{"$f":"VLOOKUP($A175,'LMS Training Import'!$A$5:$O$54,2,FALSE)","v":""},{"$f":"VLOOKUP($A175,'LMS Training Import'!$A$5:$O$54,3,FALSE)","v":""},{"$f":"VLOOKUP($A175,'LMS Training Import'!$A$5:$O$54,4,FALSE)","v":""},{"$f":"VLOOKUP(A175,'LMS Training Import'!$A$5:$O$54,8+B175,FALSE)","v":""},null,0,{"$f":"VLOOKUP($A175,'LMS Training Import'!$A$5:$O$54,2,FALSE)","v":""},{"$f":"VLOOKUP($A175,'LMS Training Import'!$A$5:$O$54,3,FALSE)","v":""},{"$f":"VLOOKUP($A175,'LMS Training Import'!$A$5:$O$54,4,FALSE)","v":""},{"$f":"IF(LEN(J175)<1,\"\",VLOOKUP(0,'LMS Training Import'!$A$4:$P$4,12+$B175,FALSE))","v":""},{"$f":"IF(LEN(J175)<1,\"\",VLOOKUP(A175,'LMS Training Import'!$A$5:$P$54,12+B175,FALSE))","v":""}]
[44,1,0,{"$f":"VLOOKUP($A176,'LMS Training Import'!$A$5:$O$54,2,FALSE)","v":""},{"$f":"VLOOKUP($A176,'LMS Training Import'!$A$5:$O$54,3,FALSE)","v":""},{"$f":"VLOOKUP($A176,'LMS Training Import'!$A$5:$O$54,4,FALSE)","v":""},{"$f":"VLOOKUP(A176,'LMS Training Import'!$A$5:$O$54,8+B176,FALSE)","v":""},null,0,{"$f":"VLOOKUP($A176,'LMS Training Import'!$A$5:$O$54,2,FALSE)","v":""},{"$f":"VLOOKUP($A176,'LMS Training Import'!$A$5:$O$54,3,FALSE)","v":""},{"$f":"VLOOKUP($A176,'LMS Training Import'!$A$5:$O$54,4,FALSE)","v":""},{"$f":"IF(LEN(J176)<1,\"\",VLOOKUP(0,'LMS Training Import'!$A$4:$P$4,12+$B176,FALSE))","v":""},{"$f":"IF(LEN(J176)<1,\"\",VLOOKUP(A176,'LMS Training Import'!$A$5:$P$54,12+B176,FALSE))","v":""}]
[44,2,0,{"$f":"VLOOKUP($A177,'LMS Training Import'!$A$5:$O$54,2,FALSE)","v":""},{"$f":"VLOOKUP($A177,'LMS Training Import'!$A$5:$O$54,3,FALSE)","v":""},{"$f":"VLOOKUP($A177,'LMS Training Import'!$A$5:$O$54,4,FALSE)","v":""},{"$f":"VLOOKUP(A177,'LMS Training Import'!$A$5:$O$54,8+B177,FALSE)","v":""},null,0,{"$f":"VLOOKUP($A177,'LMS Training Import'!$A$5:$O$54,2,FALSE)","v":""},{"$f":"VLOOKUP($A177,'LMS Training Import'!$A$5:$O$54,3,FALSE)","v":""},{"$f":"VLOOKUP($A177,'LMS Training Import'!$A$5:$O$54,4,FALSE)","v":""},{"$f":"IF(LEN(J177)<1,\"\",VLOOKUP(0,'LMS Training Import'!$A$4:$P$4,12+$B177,FALSE))","v":""},{"$f":"IF(LEN(J177)<1,\"\",VLOOKUP(A177,'LMS Training Import'!$A$5:$P$54,12+B177,FALSE))","v":""}]
[44,3,0,{"$f":"VLOOKUP($A178,'LMS Training Import'!$A$5:$O$54,2,FALSE)","v":""},{"$f":"VLOOKUP($A178,'LMS Training Import'!$A$5:$O$54,3,FALSE)","v":""},{"$f":"VLOOKUP($A178,'LMS Training Import'!$A$5:$O$54,4,FALSE)","v":""},{"$f":"VLOOKUP(A178,'LMS Training Import'!$A$5:$O$54,8+B178,FALSE)","v":""},null,0,{"$f":"VLOOKUP($A178,'LMS Training Import'!$A$5:$O$54,2,FALSE)","v":""},{"$f":"VLOOKUP($A178,'LMS Training Import'!$A$5:$O$54,3,FALSE)","v":""},{"$f":"VLOOKUP($A178,'LMS Training Import'!$A$5:$O$54,4,FALSE)","v":""},{"$f":"IF(LEN(J178)<1,\"\",VLOOKUP(0,'LMS Training Import'!$A$4:$P$4,12+$B178,FALSE))","v":""},{"$f":"IF(LEN(J178)<1,\"\",VLOOKUP(A178,'LMS Training Import'!$A$5:$P$54,12+B178,FALSE))","v":""}]
[44,4,0,{"$f":"VLOOKUP($A179,'LMS Training Import'!$A$5:$O$54,2,FALSE)","v":""},{"$f":"VLOOKUP($A179,'LMS Training Import'!$A$5:$O$54,3,FALSE)","v":""},{"$f":"VLOOKUP($A179,'LMS Training Import'!$A$5:$O$54,4,FALSE)","v":""},{"$f":"VLOOKUP(A179,'LMS Training Import'!$A$5:$O$54,8+B179,FALSE)","v":""},null,0,{"$f":"VLOOKUP($A179,'LMS Training Import'!$A$5:$O$54,2,FALSE)","v":""},{"$f":"VLOOKUP($A179,'LMS Training Import'!$A$5:$O$54,3,FALSE)","v":""},{"$f":"VLOOKUP($A179,'LMS Training Import'!$A$5:$O$54,4,FALSE)","v":""},{"$f":"IF(LEN(J179)<1,\"\",VLOOKUP(0,'LMS Training Import'!$A$4:$P$4,12+$B179,FALSE))","v":""},{"$f":"IF(LEN(J179)<1,\"\",VLOOKUP(A179,'LMS Training Import'!$A$5:$P$54,12+B179,FALSE))","v":""}]
[45,1,0,{"$f":"VLOOKUP($A180,'LMS Training Import'!$A$5:$O$54,2,FALSE)","v":""},{"$f":"VLOOKUP($A180,'LMS Training Import'!$A$5:$O$54,3,FALSE)","v":""},{"$f":"VLOOKUP($A180,'LMS Training Import'!$A$5:$O$54,4,FALSE)","v":""},{"$f":"VLOOKUP(A180,'LMS Training Import'!$A$5:$O$54,8+B180,FALSE)","v":""},null,0,{"$f":"VLOOKUP($A180,'LMS Training Import'!$A$5:$O$54,2,FALSE)","v":""},{"$f":"VLOOKUP($A180,'LMS Training Import'!$A$5:$O$54,3,FALSE)","v":""},{"$f":"VLOOKUP($A180,'LMS Training Import'!$A$5:$O$54,4,FALSE)","v":""},{"$f":"IF(LEN(J180)<1,\"\",VLOOKUP(0,'LMS Training Import'!$A$4:$P$4,12+$B180,FALSE))","v":""},{"$f":"IF(LEN(J180)<1,\"\",VLOOKUP(A180,'LMS Training Import'!$A$5:$P$54,12+B180,FALSE))","v":""}]
[45,2,0,{"$f":"VLOOKUP($A181,'LMS Training Import'!$A$5:$O$54,2,FALSE)","v":""},{"$f":"VLOOKUP($A181,'LMS Training Import'!$A$5:$O$54,3,FALSE)","v":""},{"$f":"VLOOKUP($A181,'LMS Training Import'!$A$5:$O$54,4,FALSE)","v":""},{"$f":"VLOOKUP(A181,'LMS Training Import'!$A$5:$O$54,8+B181,FALSE)","v":""},null,0,{"$f":"VLOOKUP($A181,'LMS Training Import'!$A$5:$O$54,2,FALSE)","v":""},{"$f":"VLOOKUP($A181,'LMS Training Import'!$A$5:$O$54,3,FALSE)","v":""},{"$f":"VLOOKUP($A181,'LMS Training Import'!$A$5:$O$54,4,FALSE)","v":""},{"$f":"IF(LEN(J181)<1,\"\",VLOOKUP(0,'LMS Training Import'!$A$4:$P$4,12+$B181,FALSE))","v":""},{"$f":"IF(LEN(J181)<1,\"\",VLOOKUP(A181,'LMS Training Import'!$A$5:$P$54,12+B181,FALSE))","v":""}]
[45,3,0,{"$f":"VLOOKUP($A182,'LMS Training Import'!$A$5:$O$54,2,FALSE)","v":""},{"$f":"VLOOKUP($A182,'LMS Training Import'!$A$5:$O$54,3,FALSE)","v":""},{"$f":"VLOOKUP($A182,'LMS Training Import'!$A$5:$O$54,4,FALSE)","v":""},{"$f":"VLOOKUP(A182,'LMS Training Import'!$A$5:$O$54,8+B182,FALSE)","v":""},null,0,{"$f":"VLOOKUP($A182,'LMS Training Import'!$A$5:$O$54,2,FALSE)","v":""},{"$f":"VLOOKUP($A182,'LMS Training Import'!$A$5:$O$54,3,FALSE)","v":""},{"$f":"VLOOKUP($A182,'LMS Training Import'!$A$5:$O$54,4,FALSE)","v":""},{"$f":"IF(LEN(J182)<1,\"\",VLOOKUP(0,'LMS Training Import'!$A$4:$P$4,12+$B182,FALSE))","v":""},{"$f":"IF(LEN(J182)<1,\"\",VLOOKUP(A182,'LMS Training Import'!$A$5:$P$54,12+B182,FALSE))","v":""}]
[45,4,0,{"$f":"VLOOKUP($A183,'LMS Training Import'!$A$5:$O$54,2,FALSE)","v":""},{"$f":"VLOOKUP($A183,'LMS Training Import'!$A$5:$O$54,3,FALSE)","v":""},{"$f":"VLOOKUP($A183,'LMS Training Import'!$A$5:$O$54,4,FALSE)","v":""},{"$f":"VLOOKUP(A183,'LMS Training Import'!$A$5:$O$54,8+B183,FALSE)","v":""},null,0,{"$f":"VLOOKUP($A183,'LMS Training Import'!$A$5:$O$54,2,FALSE)","v":""},{"$f":"VLOOKUP($A183,'LMS Training Import'!$A$5:$O$54,3,FALSE)","v":""},{"$f":"VLOOKUP($A183,'LMS Training Import'!$A$5:$O$54,4,FALSE)","v":""},{"$f":"IF(LEN(J183)<1,\"\",VLOOKUP(0,'LMS Training Import'!$A$4:$P$4,12+$B183,FALSE))","v":""},{"$f":"IF(LEN(J183)<1,\"\",VLOOKUP(A183,'LMS Training Import'!$A$5:$P$54,12+B183,FALSE))","v":""}]
[46,1,0,{"$f":"VLOOKUP($A184,'LMS Training Import'!$A$5:$O$54,2,FALSE)","v":""},{"$f":"VLOOKUP($A184,'LMS Training Import'!$A$5:$O$54,3,FALSE)","v":""},{"$f":"VLOOKUP($A184,'LMS Training Import'!$A$5:$O$54,4,FALSE)","v":""},{"$f":"VLOOKUP(A184,'LMS Training Import'!$A$5:$O$54,8+B184,FALSE)","v":""},null,0,{"$f":"VLOOKUP($A184,'LMS Training Import'!$A$5:$O$54,2,FALSE)","v":""},{"$f":"VLOOKUP($A184,'LMS Training Import'!$A$5:$O$54,3,FALSE)","v":""},{"$f":"VLOOKUP($A184,'LMS Training Import'!$A$5:$O$54,4,FALSE)","v":""},{"$f":"IF(LEN(J184)<1,\"\",VLOOKUP(0,'LMS Training Import'!$A$4:$P$4,12+$B184,FALSE))","v":""},{"$f":"IF(LEN(J184)<1,\"\",VLOOKUP(A184,'LMS Training Import'!$A$5:$P$54,12+B184,FALSE))","v":""}]
[46,2,0,{"$f":"VLOOKUP($A185,'LMS Training Import'!$A$5:$O$54,2,FALSE)","v":""},{"$f":"VLOOKUP($A185,'LMS Training Import'!$A$5:$O$54,3,FALSE)","v":""},{"$f":"VLOOKUP($A185,'LMS Training Import'!$A$5:$O$54,4,FALSE)","v":""},{"$f":"VLOOKUP(A185,'LMS Training Import'!$A$5:$O$54,8+B185,FALSE)","v":""},null,0,{"$f":"VLOOKUP($A185,'LMS Training Import'!$A$5:$O$54,2,FALSE)","v":""},{"$f":"VLOOKUP($A185,'LMS Training Import'!$A$5:$O$54,3,FALSE)","v":""},{"$f":"VLOOKUP($A185,'LMS Training Import'!$A$5:$O$54,4,FALSE)","v":""},{"$f":"IF(LEN(J185)<1,\"\",VLOOKUP(0,'LMS Training Import'!$A$4:$P$4,12+$B185,FALSE))","v":""},{"$f":"IF(LEN(J185)<1,\"\",VLOOKUP(A185,'LMS Training Import'!$A$5:$P$54,12+B185,FALSE))","v":""}]
[46,3,0,{"$f":"VLOOKUP($A186,'LMS Training Import'!$A$5:$O$54,2,FALSE)","v":""},{"$f":"VLOOKUP($A186,'LMS Training Import'!$A$5:$O$54,3,FALSE)","v":""},{"$f":"VLOOKUP($A186,'LMS Training Import'!$A$5:$O$54,4,FALSE)","v":""},{"$f":"VLOOKUP(A186,'LMS Training Import'!$A$5:$O$54,8+B186,FALSE)","v":""},null,0,{"$f":"VLOOKUP($A186,'LMS Training Import'!$A$5:$O$54,2,FALSE)","v":""},{"$f":"VLOOKUP($A186,'LMS Training Import'!$A$5:$O$54,3,FALSE)","v":""},{"$f":"VLOOKUP($A186,'LMS Training Import'!$A$5:$O$54,4,FALSE)","v":""},{"$f":"IF(LEN(J186)<1,\"\",VLOOKUP(0,'LMS Training Import'!$A$4:$P$4,12+$B186,FALSE))","v":""},{"$f":"IF(LEN(J186)<1,\"\",VLOOKUP(A186,'LMS Training Import'!$A$5:$P$54,12+B186,FALSE))","v":""}]
[46,4,0,{"$f":"VLOOKUP($A187,'LMS Training Import'!$A$5:$O$54,2,FALSE)","v":""},{"$f":"VLOOKUP($A187,'LMS Training Import'!$A$5:$O$54,3,FALSE)","v":""},{"$f":"VLOOKUP($A187,'LMS Training Import'!$A$5:$O$54,4,FALSE)","v":""},{"$f":"VLOOKUP(A187,'LMS Training Import'!$A$5:$O$54,8+B187,FALSE)","v":""},null,0,{"$f":"VLOOKUP($A187,'LMS Training Import'!$A$5:$O$54,2,FALSE)","v":""},{"$f":"VLOOKUP($A187,'LMS Training Import'!$A$5:$O$54,3,FALSE)","v":""},{"$f":"VLOOKUP($A187,'LMS Training Import'!$A$5:$O$54,4,FALSE)","v":""},{"$f":"IF(LEN(J187)<1,\"\",VLOOKUP(0,'LMS Training Import'!$A$4:$P$4,12+$B187,FALSE))","v":""},{"$f":"IF(LEN(J187)<1,\"\",VLOOKUP(A187,'LMS Training Import'!$A$5:$P$54,12+B187,FALSE))","v":""}]
[47,1,0,{"$f":"VLOOKUP($A188,'LMS Training Import'!$A$5:$O$54,2,FALSE)","v":""},{"$f":"VLOOKUP($A188,'LMS Training Import'!$A$5:$O$54,3,FALSE)","v":""},{"$f":"VLOOKUP($A188,'LMS Training Import'!$A$5:$O$54,4,FALSE)","v":""},{"$f":"VLOOKUP(A188,'LMS Training Import'!$A$5:$O$54,8+B188,FALSE)","v":""},null,0,{"$f":"VLOOKUP($A188,'LMS Training Import'!$A$5:$O$54,2,FALSE)","v":""},{"$f":"VLOOKUP($A188,'LMS Training Import'!$A$5:$O$54,3,FALSE)","v":""},{"$f":"VLOOKUP($A188,'LMS Training Import'!$A$5:$O$54,4,FALSE)","v":""},{"$f":"IF(LEN(J188)<1,\"\",VLOOKUP(0,'LMS Training Import'!$A$4:$P$4,12+$B188,FALSE))","v":""},{"$f":"IF(LEN(J188)<1,\"\",VLOOKUP(A188,'LMS Training Import'!$A$5:$P$54,12+B188,FALSE))","v":""}]
[47,2,0,{"$f":"VLOOKUP($A189,'LMS Training Import'!$A$5:$O$54,2,FALSE)","v":""},{"$f":"VLOOKUP($A189,'LMS Training Import'!$A$5:$O$54,3,FALSE)","v":""},{"$f":"VLOOKUP($A189,'LMS Training Import'!$A$5:$O$54,4,FALSE)","v":""},{"$f":"VLOOKUP(A189,'LMS Training Import'!$A$5:$O$54,8+B189,FALSE)","v":""},null,0,{"$f":"VLOOKUP($A189,'LMS Training Import'!$A$5:$O$54,2,FALSE)","v":""},{"$f":"VLOOKUP($A189,'LMS Training Import'!$A$5:$O$54,3,FALSE)","v":""},{"$f":"VLOOKUP($A189,'LMS Training Import'!$A$5:$O$54,4,FALSE)","v":""},{"$f":"IF(LEN(J189)<1,\"\",VLOOKUP(0,'LMS Training Import'!$A$4:$P$4,12+$B189,FALSE))","v":""},{"$f":"IF(LEN(J189)<1,\"\",VLOOKUP(A189,'LMS Training Import'!$A$5:$P$54,12+B189,FALSE))","v":""}]
[47,3,0,{"$f":"VLOOKUP($A190,'LMS Training Import'!$A$5:$O$54,2,FALSE)","v":""},{"$f":"VLOOKUP($A190,'LMS Training Import'!$A$5:$O$54,3,FALSE)","v":""},{"$f":"VLOOKUP($A190,'LMS Training Import'!$A$5:$O$54,4,FALSE)","v":""},{"$f":"VLOOKUP(A190,'LMS Training Import'!$A$5:$O$54,8+B190,FALSE)","v":""},null,0,{"$f":"VLOOKUP($A190,'LMS Training Import'!$A$5:$O$54,2,FALSE)","v":""},{"$f":"VLOOKUP($A190,'LMS Training Import'!$A$5:$O$54,3,FALSE)","v":""},{"$f":"VLOOKUP($A190,'LMS Training Import'!$A$5:$O$54,4,FALSE)","v":""},{"$f":"IF(LEN(J190)<1,\"\",VLOOKUP(0,'LMS Training Import'!$A$4:$P$4,12+$B190,FALSE))","v":""},{"$f":"IF(LEN(J190)<1,\"\",VLOOKUP(A190,'LMS Training Import'!$A$5:$P$54,12+B190,FALSE))","v":""}]
[47,4,0,{"$f":"VLOOKUP($A191,'LMS Training Import'!$A$5:$O$54,2,FALSE)","v":""},{"$f":"VLOOKUP($A191,'LMS Training Import'!$A$5:$O$54,3,FALSE)","v":""},{"$f":"VLOOKUP($A191,'LMS Training Import'!$A$5:$O$54,4,FALSE)","v":""},{"$f":"VLOOKUP(A191,'LMS Training Import'!$A$5:$O$54,8+B191,FALSE)","v":""},null,0,{"$f":"VLOOKUP($A191,'LMS Training Import'!$A$5:$O$54,2,FALSE)","v":""},{"$f":"VLOOKUP($A191,'LMS Training Import'!$A$5:$O$54,3,FALSE)","v":""},{"$f":"VLOOKUP($A191,'LMS Training Import'!$A$5:$O$54,4,FALSE)","v":""},{"$f":"IF(LEN(J191)<1,\"\",VLOOKUP(0,'LMS Training Import'!$A$4:$P$4,12+$B191,FALSE))","v":""},{"$f":"IF(LEN(J191)<1,\"\",VLOOKUP(A191,'LMS Training Import'!$A$5:$P$54,12+B191,FALSE))","v":""}]
[48,1,0,{"$f":"VLOOKUP($A192,'LMS Training Import'!$A$5:$O$54,2,FALSE)","v":""},{"$f":"VLOOKUP($A192,'LMS Training Import'!$A$5:$O$54,3,FALSE)","v":""},{"$f":"VLOOKUP($A192,'LMS Training Import'!$A$5:$O$54,4,FALSE)","v":""},{"$f":"VLOOKUP(A192,'LMS Training Import'!$A$5:$O$54,8+B192,FALSE)","v":""},null,0,{"$f":"VLOOKUP($A192,'LMS Training Import'!$A$5:$O$54,2,FALSE)","v":""},{"$f":"VLOOKUP($A192,'LMS Training Import'!$A$5:$O$54,3,FALSE)","v":""},{"$f":"VLOOKUP($A192,'LMS Training Import'!$A$5:$O$54,4,FALSE)","v":""},{"$f":"IF(LEN(J192)<1,\"\",VLOOKUP(0,'LMS Training Import'!$A$4:$P$4,12+$B192,FALSE))","v":""},{"$f":"IF(LEN(J192)<1,\"\",VLOOKUP(A192,'LMS Training Import'!$A$5:$P$54,12+B192,FALSE))","v":""}]
[48,2,0,{"$f":"VLOOKUP($A193,'LMS Training Import'!$A$5:$O$54,2,FALSE)","v":""},{"$f":"VLOOKUP($A193,'LMS Training Import'!$A$5:$O$54,3,FALSE)","v":""},{"$f":"VLOOKUP($A193,'LMS Training Import'!$A$5:$O$54,4,FALSE)","v":""},{"$f":"VLOOKUP(A193,'LMS Training Import'!$A$5:$O$54,8+B193,FALSE)","v":""},null,0,{"$f":"VLOOKUP($A193,'LMS Training Import'!$A$5:$O$54,2,FALSE)","v":""},{"$f":"VLOOKUP($A193,'LMS Training Import'!$A$5:$O$54,3,FALSE)","v":""},{"$f":"VLOOKUP($A193,'LMS Training Import'!$A$5:$O$54,4,FALSE)","v":""},{"$f":"IF(LEN(J193)<1,\"\",VLOOKUP(0,'LMS Training Import'!$A$4:$P$4,12+$B193,FALSE))","v":""},{"$f":"IF(LEN(J193)<1,\"\",VLOOKUP(A193,'LMS Training Import'!$A$5:$P$54,12+B193,FALSE))","v":""}]
[48,3,0,{"$f":"VLOOKUP($A194,'LMS Training Import'!$A$5:$O$54,2,FALSE)","v":""},{"$f":"VLOOKUP($A194,'LMS Training Import'!$A$5:$O$54,3,FALSE)","v":""},{"$f":"VLOOKUP($A194,'LMS Training Import'!$A$5:$O$54,4,FALSE)","v":""},{"$f":"VLOOKUP(A194,'LMS Training Import'!$A$5:$O$54,8+B194,FALSE)","v":""},null,0,{"$f":"VLOOKUP($A194,'LMS Training Import'!$A$5:$O$54,2,FALSE)","v":""},{"$f":"VLOOKUP($A194,'LMS Training Import'!$A$5:$O$54,3,FALSE)","v":""},{"$f":"VLOOKUP($A194,'LMS Training Import'!$A$5:$O$54,4,FALSE)","v":""},{"$f":"IF(LEN(J194)<1,\"\",VLOOKUP(0,'LMS Training Import'!$A$4:$P$4,12+$B194,FALSE))","v":""},{"$f":"IF(LEN(J194)<1,\"\",VLOOKUP(A194,'LMS Training Import'!$A$5:$P$54,12+B194,FALSE))","v":""}]
[48,4,0,{"$f":"VLOOKUP($A195,'LMS Training Import'!$A$5:$O$54,2,FALSE)","v":""},{"$f":"VLOOKUP($A195,'LMS Training Import'!$A$5:$O$54,3,FALSE)","v":""},{"$f":"VLOOKUP($A195,'LMS Training Import'!$A$5:$O$54,4,FALSE)","v":""},{"$f":"VLOOKUP(A195,'LMS Training Import'!$A$5:$O$54,8+B195,FALSE)","v":""},null,0,{"$f":"VLOOKUP($A195,'LMS Training Import'!$A$5:$O$54,2,FALSE)","v":""},{"$f":"VLOOKUP($A195,'LMS Training Import'!$A$5:$O$54,3,FALSE)","v":""},{"$f":"VLOOKUP($A195,'LMS Training Import'!$A$5:$O$54,4,FALSE)","v":""},{"$f":"IF(LEN(J195)<1,\"\",VLOOKUP(0,'LMS Training Import'!$A$4:$P$4,12+$B195,FALSE))","v":""},{"$f":"IF(LEN(J195)<1,\"\",VLOOKUP(A195,'LMS Training Import'!$A$5:$P$54,12+B195,FALSE))","v":""}]
[49,1,0,{"$f":"VLOOKUP($A196,'LMS Training Import'!$A$5:$O$54,2,FALSE)","v":""},{"$f":"VLOOKUP($A196,'LMS Training Import'!$A$5:$O$54,3,FALSE)","v":""},{"$f":"VLOOKUP($A196,'LMS Training Import'!$A$5:$O$54,4,FALSE)","v":""},{"$f":"VLOOKUP(A196,'LMS Training Import'!$A$5:$O$54,8+B196,FALSE)","v":""},null,0,{"$f":"VLOOKUP($A196,'LMS Training Import'!$A$5:$O$54,2,FALSE)","v":""},{"$f":"VLOOKUP($A196,'LMS Training Import'!$A$5:$O$54,3,FALSE)","v":""},{"$f":"VLOOKUP($A196,'LMS Training Import'!$A$5:$O$54,4,FALSE)","v":""},{"$f":"IF(LEN(J196)<1,\"\",VLOOKUP(0,'LMS Training Import'!$A$4:$P$4,12+$B196,FALSE))","v":""},{"$f":"IF(LEN(J196)<1,\"\",VLOOKUP(A196,'LMS Training Import'!$A$5:$P$54,12+B196,FALSE))","v":""}]
[49,2,{"$f":"IF(LEN(G197)>1,C196+1,C196)","v":0},{"$f":"VLOOKUP($A197,'LMS Training Import'!$A$5:$O$54,2,FALSE)","v":""},{"$f":"VLOOKUP($A197,'LMS Training Import'!$A$5:$O$54,3,FALSE)","v":""},{"$f":"VLOOKUP($A197,'LMS Training Import'!$A$5:$O$54,4,FALSE)","v":""},{"$f":"VLOOKUP(A197,'LMS Training Import'!$A$5:$O$54,8+B197,FALSE)","v":""},null,{"$f":"IF(LEN(N197)>1,I196+1,I196)","v":0},{"$f":"VLOOKUP($A197,'LMS Training Import'!$A$5:$O$54,2,FALSE)","v":""},{"$f":"VLOOKUP($A197,'LMS Training Import'!$A$5:$O$54,3,FALSE)","v":""},{"$f":"VLOOKUP($A197,'LMS Training Import'!$A$5:$O$54,4,FALSE)","v":""},{"$f":"IF(LEN(J197)<1,\"\",VLOOKUP(0,'LMS Training Import'!$A$4:$P$4,12+$B197,FALSE))","v":""},{"$f":"IF(LEN(J197)<1,\"\",VLOOKUP(A197,'LMS Training Import'!$A$5:$P$54,12+B197,FALSE))","v":""}]
[49,3,0,{"$f":"VLOOKUP($A198,'LMS Training Import'!$A$5:$O$54,2,FALSE)","v":""},{"$f":"VLOOKUP($A198,'LMS Training Import'!$A$5:$O$54,3,FALSE)","v":""},{"$f":"VLOOKUP($A198,'LMS Training Import'!$A$5:$O$54,4,FALSE)","v":""},{"$f":"VLOOKUP(A198,'LMS Training Import'!$A$5:$O$54,8+B198,FALSE)","v":""},null,0,{"$f":"VLOOKUP($A198,'LMS Training Import'!$A$5:$O$54,2,FALSE)","v":""},{"$f":"VLOOKUP($A198,'LMS Training Import'!$A$5:$O$54,3,FALSE)","v":""},{"$f":"VLOOKUP($A198,'LMS Training Import'!$A$5:$O$54,4,FALSE)","v":""},{"$f":"IF(LEN(J198)<1,\"\",VLOOKUP(0,'LMS Training Import'!$A$4:$P$4,12+$B198,FALSE))","v":""},{"$f":"IF(LEN(J198)<1,\"\",VLOOKUP(A198,'LMS Training Import'!$A$5:$P$54,12+B198,FALSE))","v":""}]
[49,4,0,{"$f":"VLOOKUP($A199,'LMS Training Import'!$A$5:$O$54,2,FALSE)","v":""},{"$f":"VLOOKUP($A199,'LMS Training Import'!$A$5:$O$54,3,FALSE)","v":""},{"$f":"VLOOKUP($A199,'LMS Training Import'!$A$5:$O$54,4,FALSE)","v":""},{"$f":"VLOOKUP(A199,'LMS Training Import'!$A$5:$O$54,8+B199,FALSE)","v":""},null,0,{"$f":"VLOOKUP($A199,'LMS Training Import'!$A$5:$O$54,2,FALSE)","v":""},{"$f":"VLOOKUP($A199,'LMS Training Import'!$A$5:$O$54,3,FALSE)","v":""},{"$f":"VLOOKUP($A199,'LMS Training Import'!$A$5:$O$54,4,FALSE)","v":""},{"$f":"IF(LEN(J199)<1,\"\",VLOOKUP(0,'LMS Training Import'!$A$4:$P$4,12+$B199,FALSE))","v":""},{"$f":"IF(LEN(J199)<1,\"\",VLOOKUP(A199,'LMS Training Import'!$A$5:$P$54,12+B199,FALSE))","v":""}]
[50,1,0,{"$f":"VLOOKUP($A200,'LMS Training Import'!$A$5:$O$54,2,FALSE)","v":""},{"$f":"VLOOKUP($A200,'LMS Training Import'!$A$5:$O$54,3,FALSE)","v":""},{"$f":"VLOOKUP($A200,'LMS Training Import'!$A$5:$O$54,4,FALSE)","v":""},{"$f":"VLOOKUP(A200,'LMS Training Import'!$A$5:$O$54,8+B200,FALSE)","v":""},null,0,{"$f":"VLOOKUP($A200,'LMS Training Import'!$A$5:$O$54,2,FALSE)","v":""},{"$f":"VLOOKUP($A200,'LMS Training Import'!$A$5:$O$54,3,FALSE)","v":""},{"$f":"VLOOKUP($A200,'LMS Training Import'!$A$5:$O$54,4,FALSE)","v":""},{"$f":"IF(LEN(J200)<1,\"\",VLOOKUP(0,'LMS Training Import'!$A$4:$P$4,12+$B200,FALSE))","v":""},{"$f":"IF(LEN(J200)<1,\"\",VLOOKUP(A200,'LMS Training Import'!$A$5:$P$54,12+B200,FALSE))","v":""}]
[50,2,0,{"$f":"VLOOKUP($A201,'LMS Training Import'!$A$5:$O$54,2,FALSE)","v":""},{"$f":"VLOOKUP($A201,'LMS Training Import'!$A$5:$O$54,3,FALSE)","v":""},{"$f":"VLOOKUP($A201,'LMS Training Import'!$A$5:$O$54,4,FALSE)","v":""},{"$f":"VLOOKUP(A201,'LMS Training Import'!$A$5:$O$54,8+B201,FALSE)","v":""},null,0,{"$f":"VLOOKUP($A201,'LMS Training Import'!$A$5:$O$54,2,FALSE)","v":""},{"$f":"VLOOKUP($A201,'LMS Training Import'!$A$5:$O$54,3,FALSE)","v":""},{"$f":"VLOOKUP($A201,'LMS Training Import'!$A$5:$O$54,4,FALSE)","v":""},{"$f":"IF(LEN(J201)<1,\"\",VLOOKUP(0,'LMS Training Import'!$A$4:$P$4,12+$B201,FALSE))","v":""},{"$f":"IF(LEN(J201)<1,\"\",VLOOKUP(A201,'LMS Training Import'!$A$5:$P$54,12+B201,FALSE))","v":""}]
[50,3,0,{"$f":"VLOOKUP($A202,'LMS Training Import'!$A$5:$O$54,2,FALSE)","v":""},{"$f":"VLOOKUP($A202,'LMS Training Import'!$A$5:$O$54,3,FALSE)","v":""},{"$f":"VLOOKUP($A202,'LMS Training Import'!$A$5:$O$54,4,FALSE)","v":""},{"$f":"VLOOKUP(A202,'LMS Training Import'!$A$5:$O$54,8+B202,FALSE)","v":""},null,0,{"$f":"VLOOKUP($A202,'LMS Training Import'!$A$5:$O$54,2,FALSE)","v":""},{"$f":"VLOOKUP($A202,'LMS Training Import'!$A$5:$O$54,3,FALSE)","v":""},{"$f":"VLOOKUP($A202,'LMS Training Import'!$A$5:$O$54,4,FALSE)","v":""},{"$f":"IF(LEN(J202)<1,\"\",VLOOKUP(0,'LMS Training Import'!$A$4:$P$4,12+$B202,FALSE))","v":""},{"$f":"IF(LEN(J202)<1,\"\",VLOOKUP(A202,'LMS Training Import'!$A$5:$P$54,12+B202,FALSE))","v":""}]
[50,4,0,{"$f":"VLOOKUP($A203,'LMS Training Import'!$A$5:$O$54,2,FALSE)","v":""},{"$f":"VLOOKUP($A203,'LMS Training Import'!$A$5:$O$54,3,FALSE)","v":""},{"$f":"VLOOKUP($A203,'LMS Training Import'!$A$5:$O$54,4,FALSE)","v":""},{"$f":"VLOOKUP(A203,'LMS Training Import'!$A$5:$O$54,8+B203,FALSE)","v":""},null,0,{"$f":"VLOOKUP($A203,'LMS Training Import'!$A$5:$O$54,2,FALSE)","v":""},{"$f":"VLOOKUP($A203,'LMS Training Import'!$A$5:$O$54,3,FALSE)","v":""},{"$f":"VLOOKUP($A203,'LMS Training Import'!$A$5:$O$54,4,FALSE)","v":""},{"$f":"IF(LEN(J203)<1,\"\",VLOOKUP(0,'LMS Training Import'!$A$4:$P$4,12+$B203,FALSE))","v":""},{"$f":"IF(LEN(J203)<1,\"\",VLOOKUP(A203,'LMS Training Import'!$A$5:$P$54,12+B203,FALSE))","v":""}]